{"text_format":"1","workbook":"xlsx","n_sheets":11,"sheets":["Quick Start Guide","Travel App Inputs","Summary","HH Travel Model","Traffic Safety Elasticities","County Crash Rates","Running Emissions","StartStop Emissions","By Speed","By Population","ChangeLog"],"not_rendered":{"charts":13,"images":2,"macros":1,"external_links":3,"defined_names":1278,"comments":2,"pivot_tables":0},"unopened":[],"bounds":{"document_bytes":16777216,"sheet_cells":100000,"rows_first":2000,"rows_last":500,"rows_between":2000,"halvings":0,"cell_chars":16384,"cell_head_chars":4096},"cells_cut":0,"cells_raw":0,"read":"whole","date_system":"1900"}

{"sheet":"Quick Start Guide","index":0,"n_rows":48,"n_cols":4,"rows_kept":48,"cut":false,"hidden":false,"merged":[[28,1,28,5],[47,1,47,5],[50,1,51,5],[12,1,12,5],[13,1,13,5],[16,1,16,5],[23,1,23,5],[24,1,24,5],[25,1,25,5],[17,1,17,3],[18,1,18,3],[31,1,31,4]]}
[]
[]
[]
[]
[]
[]
[]
[]
[null,"Envision Tomorrow™ Regional 7D Household Travel App"]
[null,{"$f":"\"Version \"&ChangeLog!B2","v":"Version 3.4.0"}]
[]
[null,"What is the Regional 7D Household Travel App?"]
[null,"Do you want to examine redevelopment potential in your city? Do you want to study the relationship between land use regulations and the current development market?"]
[null,"When travel impacts are needed for an area larger than a district level, then the City or Regional Travel Model can be used.  The model requires more input variables across a larger area, so preparing the data can be time consuming.  However, the Envision Tomorrow tool library includes several wizards automate the processing of several steps. "]
[]
[null,"Quick Start Guide"]
[null,"Once you have preprocessed your scenario data, a few quick and easy steps will get you started testing the travel behavior outcomes of different land use scenarios."]
[null,"A step-by-step guide to pre-processing scenario data for this app can be found here: "]
[null,"http://www.envisiontomorrow.org/cityregional-travel-model/"]
[]
[null,"1. Save this file with a new name. "]
[]
[null,"2. Gather data for use in the Travel App Inputs Tab"]
[null,"- Intersection density and % of intersections that are 4-way"]
[null,"- Vehicle speed and cost of ownership"]
[null,"- Percent of trips by purpose"]
[]
[null,"3. Load in your scenario spreadsheet"]
[null,"Use the macro button on the Travel App Inputs tab to load in your Envision Tomorrow scenario spreadsheet."]
[]
[null,"4. Close the spreadsheet and run the \"7D Model Calculator\" in the Envision Tomorrow GIS add-in."]
[null,"More detailed instructions can be found in the link above at EnvisionTomorrow.org"]
[]
[null,null,"TAB Color Definition"]
[null,null,"Input Tab"]
[null,null,"Output Tab"]
[null,null,"Reference and Parameter Tab"]
[]
[null,null,"CELL Color Definition"]
[null,null,"Input Cell"]
[null,null,"Header Cell"]
[null,null,"Scenario Macro Input Cell"]
[null,null,"Subheader Cell"]
[null,null,"Information cell","[Click for info ◊]"]
[null,null,"Output Cell","[white]"]
[]
[null,"4. View results in \"Summary\" tab"]
[null,"Once the \"7D Model Calculator\" has completed it will write the total trips and VMT to the \"HH Travel Model\" tab.  Final results will be displayed in the \"Summary\" tab."]

{"sheet":"Travel App Inputs","index":1,"n_rows":98,"n_cols":13,"rows_kept":98,"cut":false,"hidden":false,"merged":[[97,2,97,9],[2,2,2,12],[91,1,91,9],[94,2,94,9],[95,2,95,9],[96,2,96,9]]}
[]
[null,"HH Travel App Inputs","Existing",null,"Scenario 1",null,"Scenario 2",null,"Scenario 3",null,"Scenario 4",null,"Scenario 5"]
[null,"Select Project County (or nearest location)","Multnomah County, Oregon"]
[null,"Land Use Characteristics"]
[null,"Employees in Region",200000,null,{"$f":"$C5","v":200000},null,{"$f":"$C5","v":200000},null,{"$f":"$C5","v":200000},null,{"$f":"$C5","v":200000},null,{"$f":"$C5","v":200000}]
[null,"Employees in Study Area"]
[null,"LN Employees in Study Area",{"$f":"IFERROR(LN(C6),0)","v":0},null,{"$f":"IFERROR(LN(E6),0)","v":0},null,{"$f":"IFERROR(LN(G6),0)","v":0},null,0,null,0,null,0]
[null,"Employment Density",{"$f":"IFERROR(TA_TOT_Emp_EX/C15,0)","v":0},null,{"$f":"IFERROR(TA_TOT_Emp_1/E15,0)","v":0},null,{"$f":"IFERROR(TA_TOT_Emp_2/G15,0)","v":0},null,{"$f":"IFERROR(TA_TOT_Emp_3/I15,0)","v":0},null,{"$f":"IFERROR(TA_TOT_Emp_4/K15,0)","v":0},null,{"$f":"IFERROR(TA_TOT_Emp_5/M15,0)","v":0}]
[null,"% Change in Employment Density",null,null,{"$f":"IFERROR((TA_EMP_Den_1-TA_EMP_Den_EX)/TA_EMP_Den_1,0)","v":0},null,{"$f":"IFERROR((TA_EMP_Den_2-TA_EMP_Den_EX)/TA_EMP_Den_2,0)","v":0},null,{"$f":"IFERROR((TA_EMP_Den_3-TA_EMP_Den_EX)/TA_EMP_Den_3,0)","v":0},null,{"$f":"IFERROR((TA_EMP_Den_4-TA_EMP_Den_EX)/TA_EMP_Den_4,0)","v":0},null,{"$f":"IFERROR((TA_EMP_Den_5-TA_EMP_Den_EX)/TA_EMP_Den_5,0)","v":0}]
[null,"New Employees in Study Area"]
[null,"Population in Study Area"]
[null,"JobPop",{"$f":"IFERROR(1-(ABS(C6-0.2*C11)/(C6+0.2*C11)),0)","v":0},null,{"$f":"IFERROR(1-(ABS(E6-0.2*E11)/(E6+0.2*E11)),0)","v":0},null,{"$f":"IFERROR(1-(ABS(G6-0.2*G11)/(G6+0.2*G11)),0)","v":0},null,0,null,0,null,0]
[null,"LN JobPop",{"$f":"IFERROR(LN(C12),0)","v":0},null,{"$f":"IFERROR(LN(E12),0)","v":0},null,{"$f":"IFERROR(LN(G12),0)","v":0},null,0,null,0,null,0]
[null,"Area (acres)"]
[null,"Area (square miles)",{"$f":"C14/640","v":0},null,{"$f":"E14/640","v":0},null,{"$f":"G14/640","v":0},null,0,null,0,null,0]
[null,"LN Area (square miles)",{"$f":"IFERROR(LN(C15),0)","v":0},null,{"$f":"IFERROR(LN(E15),0)","v":0},null,{"$f":"IFERROR(LN(G15),0)","v":0},null,0,null,0,null,0]
[null,"Activity Density",{"$f":"IFERROR((C6+C11)/C15,0)","v":0},null,{"$f":"IFERROR((E6+E11)/E15,0)","v":0},null,{"$f":"IFERROR((G6+G11)/G15,0)","v":0},null,0,null,0,null,0]
[null,"LN Activity Density",{"$f":"IFERROR(LN(C17),0)","v":0},null,{"$f":"IFERROR(LN(E17),0)","v":0},null,{"$f":"IFERROR(LN(G17),0)","v":0},null,0,null,0,null,0]
[null,"Developed Land Area Mix (Sq Ft)"]
[null,"Residential Land Area Amount (sq ft)"]
[null,"Commercial Land Area (sq ft)"]
[null,"Public/Institutional Land Area (sq ft)"]
[null,"Total Land Area (sq ft)",{"$f":"SUM(C20:C22)","v":0},null,{"$f":"SUM(E20:E22)","v":0},null,{"$f":"SUM(G20:G22)","v":0},null,{"$f":"SUM(I20:I22)","v":0},null,{"$f":"SUM(K20:K22)","v":0},null,{"$f":"SUM(M20:M22)","v":0}]
[null,"Land Use Mix (Entropy)",{"$f":"-(IFERROR((C20/C23),0)*IFERROR(LN(C20/C23),0)+IFERROR((C21/C23),0)*IFERROR(LN(C21/C23),0)+IFERROR((C22/C23),0)*IFERROR(LN(C22/C23),0))/LN(5)","v":0},null,{"$f":"-(IFERROR((E20/E23),0)*IFERROR(LN(E20/E23),0)+IFERROR((E21/E23),0)*IFERROR(LN(E21/E23),0)+IFERROR((E22/E23),0)*IFERROR(LN(E22/E23),0))/LN(5)","v":0},null,{"$f":"-(IFERROR((G20/G23),0)*IFERROR(LN(G20/G23),0)+IFERROR((G21/G23),0)*IFERROR(LN(G21/G23),0)+IFERROR((G22/G23),0)*IFERROR(LN(G22/G23),0))/LN(5)","v":0},null,{"$f":"-(IFERROR((I20/I23),0)*IFERROR(LN(I20/I23),0)+IFERROR((I21/I23),0)*IFERROR(LN(I21/I23),0)+IFERROR((I22/I23),0)*IFERROR(LN(I22/I23),0))/LN(5)","v":0},null,{"$f":"-(IFERROR((K20/K23),0)*IFERROR(LN(K20/K23),0)+IFERROR((K21/K23),0)*IFERROR(LN(K21/K23),0)+IFERROR((K22/K23),0)*IFERROR(LN(K22/K23),0))/LN(5)","v":0},null,{"$f":"-(IFERROR((M20/M23),0)*IFERROR(LN(M20/M23),0)+IFERROR((M21/M23),0)*IFERROR(LN(M21/M23),0)+IFERROR((M22/M23),0)*IFERROR(LN(M22/M23),0))/LN(5)","v":0}]
[null,"LN Land Use Mix (Entropy)",{"$f":"IFERROR(LN(C24),0)","v":0},null,{"$f":"IFERROR(LN(E24),0)","v":0},null,{"$f":"IFERROR(LN(G24),0)","v":0},null,0,null,0,null,0]
[null,"Residential Unit Mix"]
[null,"Single Family Residential (du)"]
[null,"Townhouse Residential (du)"]
[null,"Multi-Family Residential (du)"]
[null,"Mobile Home Residential (du)"]
[null,"Total Residential Amount (du)",{"$f":"SUM(C27:C30)","v":0},null,{"$f":"SUM(E27:E30)","v":0},null,{"$f":"SUM(G27:G30)","v":0},null,{"$f":"SUM(I27:I30)","v":0},null,{"$f":"SUM(K27:K30)","v":0},null,{"$f":"SUM(M27:M30)","v":0}]
[null,"Proportion of Detached Housing",{"$f":"IFERROR(C27/C31,0)","v":0},null,{"$f":"IFERROR(E27/E31,0)","v":0},null,{"$f":"IFERROR(G27/G31,0)","v":0},null,0,null,0,null,0]
[null,"Build Environment (Design)"]
[null,"Average Intersection Density (per Sq Mi)",119.60651328702788,null,119.60651328702788,null,119.60651328702788,null,119.60651328702788,null,119.60651328702788,null,119.60651328702788]
[null,"% change in Intersection Density",null,null,{"$f":"IFERROR((TA_Int_Den_1-TA_Int_Den_EX)/TA_Int_Den_EX,0)","v":0},null,{"$f":"IFERROR((TA_Int_Den_2-TA_Int_Den_EX)/TA_Int_Den_EX,0)","v":0},null,{"$f":"IFERROR((TA_Int_Den_3-TA_Int_Den_EX)/TA_Int_Den_EX,0)","v":0},null,{"$f":"IFERROR((TA_Int_Den_4-TA_Int_Den_EX)/TA_Int_Den_EX,0)","v":0},null,{"$f":"IFERROR((TA_Int_Den_5-TA_Int_Den_EX)/TA_Int_Den_EX,0)","v":0}]
[null,"LN Intersection Density",{"$f":"IFERROR(LN(C34),0)","v":4.7842072989553355},null,{"$f":"IFERROR(LN(E34),0)","v":4.7842072989553355},null,{"$f":"IFERROR(LN(G34),0)","v":4.7842072989553355},null,4.7842072989553355,null,4.7842072989553355,null,4.7842072989553355]
[null,"% Intersection that are 4-Way",0.5,null,0.5,null,0.5,null,0.5,null,0.5,null,0.5]
[null,"% change in 4-way",null,null,{"$f":"IFERROR((E37-$C37),0)","v":0},null,{"$f":"IFERROR((G37-$C37),0)","v":0},null,{"$f":"IFERROR((I37-$C37),0)","v":0},null,{"$f":"IFERROR((K37-$C37),0)","v":0},null,{"$f":"IFERROR((M37-$C37),0)","v":0}]
[null,"Household Characteristics (Demographics)"]
[null,"Household Size (Avg.)",{"$f":"IFERROR(C11/C31,0)","v":0},null,{"$f":"IFERROR(E11/E31,0)","v":0},null,{"$f":"IFERROR(G11/G31,0)","v":0},null,{"$f":"IFERROR(I11/I31,0)","v":0},null,{"$f":"IFERROR(K11/K31,0)","v":0},null,{"$f":"IFERROR(M11/M31,0)","v":0}]
[null,"LN Household Size",{"$f":"IFERROR(LN(C40),0)","v":0},null,{"$f":"IFERROR(LN(E40),0)","v":0},null,{"$f":"IFERROR(LN(G40),0)","v":0},null,0,null,0,null,0]
[null,"Household Size (SF)"]
[null,"LN Household Size (SF)",{"$f":"IFERROR(LN(C42),0)","v":0},null,{"$f":"IFERROR(LN(E42),0)","v":0},null,{"$f":"IFERROR(LN(G42),0)","v":0},null,0,null,0,null,0]
[null,"Household Size (Other)"]
[null,"LN Household Size (Other)",{"$f":"IFERROR(LN(C44),0)","v":0},null,{"$f":"IFERROR(LN(E44),0)","v":0},null,{"$f":"IFERROR(LN(G44),0)","v":0},null,0,null,0,null,0]
[null,"Median Household Income (SF)"]
[null,"Median Household Income (SF) (modify to 1982 CPI)",{"$f":"C46*0.444","v":0},null,{"$f":"E46*0.444","v":0},null,{"$f":"G46*0.444","v":0},null,0,null,0,null,0]
[null,"LN Median Household Income (SF) (modify to 1982 CPI)",{"$f":"IFERROR(LN(C47),0)","v":0},null,{"$f":"IFERROR(LN(E47),0)","v":0},null,{"$f":"IFERROR(LN(G47),0)","v":0},null,0,null,0,null,0]
[null,"Median Household Income (Other)"]
[null,"Median Household Income (Other) (modify to 1982 CPI)",{"$f":"C49*0.444","v":0},null,{"$f":"E49*0.444","v":0},null,{"$f":"G49*0.444","v":0},null,0,null,0,null,0]
[null,"LN Median Household Income (Other) (modify to 1982 CPI)",{"$f":"IFERROR(LN(C50),0)","v":0},null,{"$f":"IFERROR(LN(E50),0)","v":0},null,{"$f":"IFERROR(LN(G50),0)","v":0},null,0,null,0,null,0]
[null,"Vehicles Per SF HH",{"$f":"IF(C40>0,EXP((-1.42478)+(0.33331*C43)+(0.220001*C48)+(-0.09165*C36)+(-0.01382*-3.51)),0)","v":0},null,{"$f":"IF(E40>0,EXP((-1.42478)+(0.33331*E43)+(0.220001*E48)+(-0.09165*E36)+(-0.01382*-3.51)),0)","v":0},null,{"$f":"IF(G40>0,EXP((-1.42478)+(0.33331*G43)+(0.220001*G48)+(-0.09165*G36)+(-0.01382*-3.51)),0)","v":0},null,{"$f":"IF(I40>0,EXP((-1.42478)+(0.33331*I43)+(0.220001*I48)+(-0.09165*I36)+(-0.01382*-3.51)),0)","v":0},null,{"$f":"IF(K40>0,EXP((-1.42478)+(0.33331*K43)+(0.220001*K48)+(-0.09165*K36)+(-0.01382*-3.51)),0)","v":0},null,{"$f":"IF(M40>0,EXP((-1.42478)+(0.33331*M43)+(0.220001*M48)+(-0.09165*M36)+(-0.01382*-3.51)),0)","v":0}]
[null,"LN Vehicles Per SF HH",{"$f":"IFERROR(LN(C52),0)","v":0},null,{"$f":"IFERROR(LN(E52),0)","v":0},null,{"$f":"IFERROR(LN(G52),0)","v":0},null,{"$f":"IFERROR(LN(I52),0)","v":0},null,{"$f":"IFERROR(LN(K52),0)","v":0},null,{"$f":"IFERROR(LN(M52),0)","v":0}]
[null,"Vehicles Per Other HH",{"$f":"IF(C40>0,(EXP((-2.27444)+(0.390903*C45)+(0.315116*C51)+(-0.1513*C36)+(-0.02201*-0.69))),0)","v":0},null,{"$f":"IF(E40>0,(EXP((-2.27444)+(0.390903*E45)+(0.315116*E51)+(-0.1513*E36)+(-0.02201*-0.69))),0)","v":0},null,{"$f":"IF(G40>0,(EXP((-2.27444)+(0.390903*G45)+(0.315116*G51)+(-0.1513*G36)+(-0.02201*-0.69))),0)","v":0},null,{"$f":"IF(I40>0,(EXP((-2.27444)+(0.390903*I45)+(0.315116*I51)+(-0.1513*I36)+(-0.02201*-0.69))),0)","v":0},null,{"$f":"IF(K40>0,(EXP((-2.27444)+(0.390903*K45)+(0.315116*K51)+(-0.1513*K36)+(-0.02201*-0.69))),0)","v":0},null,{"$f":"IF(M40>0,(EXP((-2.27444)+(0.390903*M45)+(0.315116*M51)+(-0.1513*M36)+(-0.02201*-0.69))),0)","v":0}]
[null,"LN Vehicles Per Other HH",{"$f":"IFERROR(LN(C54),0)","v":0},null,{"$f":"IFERROR(LN(E54),0)","v":0},null,{"$f":"IFERROR(LN(G54),0)","v":0},null,{"$f":"IFERROR(LN(I54),0)","v":0},null,{"$f":"IFERROR(LN(K54),0)","v":0},null,{"$f":"IFERROR(LN(M54),0)","v":0}]
[null,"Vehicles Per Capita",{"$f":"IFERROR(((C52*C27)+(C54*(C28+C29+C30)))/C11,0)","v":0},null,{"$f":"IFERROR(((E52*E27)+(E54*(E28+E29+E30)))/E11,0)","v":0},null,{"$f":"IFERROR(((G52*G27)+(G54*(G28+G29+G30)))/G11,0)","v":0},null,{"$f":"IFERROR(((I52*I27)+(I54*(I28+I29+I30)))/I11,0)","v":0},null,{"$f":"IFERROR(((K52*K27)+(K54*(K28+K29+K30)))/K11,0)","v":0},null,{"$f":"IFERROR(((M52*M27)+(M54*(M28+M29+M30)))/M11,0)","v":0}]
[null,"LN Vehicles Per Capita",{"$f":"IFERROR(LN(C56),0)","v":0},null,{"$f":"IFERROR(LN(E56),0)","v":0},null,{"$f":"IFERROR(LN(G56),0)","v":0},null,{"$f":"IFERROR(LN(I56),0)","v":0},null,{"$f":"IFERROR(LN(K56),0)","v":0},null,{"$f":"IFERROR(LN(M56),0)","v":0}]
[null,"Average Vehicle Travel Speed (MPH)",25,null,25,null,25,null,25,null,25,null,25]
[null,"Travel Costs"]
[null,"Fuel Efficency (Average Miles per Gallon)",20,null,20,null,20,null,20,null,20,null,20]
[null,"Fuel Cost per Gallon",3,null,3,null,3,null,3,null,3,null,3]
[null,"Fuel Cost per Mile",{"$f":"C61/C60","v":0.15},null,{"$f":"E61/E60","v":0.15},null,{"$f":"G61/G60","v":0.15},null,{"$f":"I61/I60","v":0.15},null,{"$f":"K61/K60","v":0.15},null,{"$f":"M61/M60","v":0.15}]
[null,"Auto Maintenance per Mile",4.4699999999999997E-2,null,4.4699999999999997E-2,null,4.4699999999999997E-2,null,4.4699999999999997E-2,null,4.4699999999999997E-2,null,4.4699999999999997E-2]
[null,"Auto Tire Costs per Mile",0.01,null,0.01,null,0.01,null,0.01,null,0.01,null,0.01]
[null,"Total Auto Travel Cost per Mile",{"$f":"SUM(C62:C64)","v":0.20469999999999999},null,{"$f":"SUM(E62:E64)","v":0.20469999999999999},null,{"$f":"SUM(G62:G64)","v":0.20469999999999999},null,{"$f":"SUM(I62:I64)","v":0.20469999999999999},null,{"$f":"SUM(K62:K64)","v":0.20469999999999999},null,{"$f":"SUM(M62:M64)","v":0.20469999999999999}]
[null,"Transit Trip Cost per Trip",1.23,null,1.23,null,1.23,null,1.23,null,1.23,null,1.23]
[null,"Vehicle Ownership Costs (per Year)"]
[null,"Full-Coverage Insurance",1001]
[null,"License, Registration, Taxes",610]
[null,"Depreciation (15,000 Miles Annually)",3544]
[null,"Finance Charge",846]
[null,"Total Cost per Year",{"$f":"SUM(C68:C71)","v":6001}]
[null,"Total Cost per Month",{"$f":"AutoCost_Yr/(365/12)","v":197.2931506849315}]
[null,"Compactness"]
[null,"Density Factor",{"$f":"LOOKUP(County_Select,Crash_County_State,'County Crash Rates'!$N$2:$N$2293)","v":120.53}]
[null,"Centering Factor",{"$f":"LOOKUP(County_Select,Crash_County_State,'County Crash Rates'!$O$2:$O$2293)","v":142.82}]
[null,"Street Factor",{"$f":"LOOKUP(County_Select,Crash_County_State,'County Crash Rates'!$P$2:$P$2293)","v":150.58000000000001}]
[null,"Compactness Index",{"$f":"LOOKUP(County_Select,Crash_County_State,'County Crash Rates'!$Q$2:$Q$2293)","v":166.68}]
[]
[null,"Trips by Purpose"]
[null,"Percentage of Trips by Purpose"]
[null,"Land Use",null,null,"HBW",null,"HBO",null,"NHB"]
[null,"Residential",null,null,0.25,null,0.75,null,0]
[null,"Commercial (Retail)",null,null,0.05,null,0.45,null,0.5]
[null,"Office / Industrial",null,null,0.65,null,0.05,null,0.3]
[]
[null,"VMT Scaling Factors"]
[null,"Median VMT Scaling Factor",1.5049999999999999]
[null,"Network Distance Scaling Factor",1.36]
[]
[null,"Note"]
[null,"Information from NCHRP 365 and the Nationwide Personal Transportation Survey (NPTS)."]
[]
[null,"Key:"]
[null,null,"= Direct User Input"]
[null,null,"= Data from ET Link"]
[null,null,"= Background Data (GIS, etc.)"]
[null,null,"= Data input from other sources"]

{"sheet":"Summary","index":2,"n_rows":206,"n_cols":13,"rows_kept":206,"cut":false,"hidden":false,"merged":[[0,1,0,2],[0,11,0,12],[0,3,0,4],[0,5,0,6],[0,7,0,8],[0,9,0,10]]}
[null,"Existing",null,"Scenario 1",null,"Scenario 2",null,"Scenario 3",null,"Scenario 4",null,"Scenario 5"]
["External Trips"]
["Vehicle Trips",{"$f":"AUTO_TRIPS_EX","v":0},{"$f":"IFERROR(B3/SUM(B$3:B$6),0)","v":0},{"$f":"AUTO_TRIPS_1","v":0},{"$f":"IFERROR(D3/SUM(D$3:D$6),0)","v":0},{"$f":"AUTO_TRIPS_2","v":0},{"$f":"IFERROR(F3/SUM(F$3:F$6),0)","v":0},{"$f":"AUTO_TRIPS_3","v":0},{"$f":"IFERROR(H3/SUM(H$3:H$6),0)","v":0},{"$f":"AUTO_TRIPS_4","v":0},{"$f":"IFERROR(J3/SUM(J$3:J$6),0)","v":0},{"$f":"AUTO_TRIPS_5","v":0},{"$f":"IFERROR(L3/SUM(L$3:L$6),0)","v":0}]
["Walk",{"$f":"WALK_TRIPS_EX","v":0},{"$f":"IFERROR(B4/SUM(B$3:B$6),0)","v":0},{"$f":"WALK_TRIPS_1","v":0},{"$f":"IFERROR(D4/SUM(D$3:D$6),0)","v":0},{"$f":"WALK_TRIPS_2","v":0},{"$f":"IFERROR(F4/SUM(F$3:F$6),0)","v":0},{"$f":"WALK_TRIPS_3","v":0},{"$f":"IFERROR(H4/SUM(H$3:H$6),0)","v":0},{"$f":"WALK_TRIPS_4","v":0},{"$f":"IFERROR(J4/SUM(J$3:J$6),0)","v":0},{"$f":"WALK_TRIPS_5","v":0},{"$f":"IFERROR(L4/SUM(L$3:L$6),0)","v":0}]
["Bicycle",{"$f":"BIKE_TRIPS_EX","v":0},{"$f":"IFERROR(B5/SUM(B$3:B$6),0)","v":0},{"$f":"BIKE_TRIPS_1","v":0},{"$f":"IFERROR(D5/SUM(D$3:D$6),0)","v":0},{"$f":"BIKE_TRIPS_2","v":0},{"$f":"IFERROR(F5/SUM(F$3:F$6),0)","v":0},{"$f":"BIKE_TRIPS_3","v":0},{"$f":"IFERROR(H5/SUM(H$3:H$6),0)","v":0},{"$f":"BIKE_TRIPS_4","v":0},{"$f":"IFERROR(J5/SUM(J$3:J$6),0)","v":0},{"$f":"BIKE_TRIPS_5","v":0},{"$f":"IFERROR(L5/SUM(L$3:L$6),0)","v":0}]
["Transit",{"$f":"TRANSIT_TRIPS_EX","v":0},{"$f":"IFERROR(B6/SUM(B$3:B$6),0)","v":0},{"$f":"TRANSIT_TRIPS_1","v":0},{"$f":"IFERROR(D6/SUM(D$3:D$6),0)","v":0},{"$f":"TRANSIT_TRIPS_2","v":0},{"$f":"IFERROR(F6/SUM(F$3:F$6),0)","v":0},{"$f":"TRANSIT_TRIPS_3","v":0},{"$f":"IFERROR(H6/SUM(H$3:H$6),0)","v":0},{"$f":"TRANSIT_TRIPS_4","v":0},{"$f":"IFERROR(J6/SUM(J$3:J$6),0)","v":0},{"$f":"TRANSIT_TRIPS_5","v":0},{"$f":"IFERROR(L6/SUM(L$3:L$6),0)","v":0}]
["Total",{"$f":"SUM(B3:B6)","v":0},null,{"$f":"SUM(D3:D6)","v":0},{"$f":"IF(D7=0,0,IFERROR((D7-$B7)/$B7,0))","v":0},{"$f":"SUM(F3:F6)","v":0},{"$f":"IF(F7=0,0,IFERROR((F7-$B7)/$B7,0))","v":0},{"$f":"SUM(H3:H6)","v":0},{"$f":"IF(H7=0,0,IFERROR((H7-$B7)/$B7,0))","v":0},{"$f":"SUM(J3:J6)","v":0},{"$f":"IF(J7=0,0,IFERROR((J7-$B7)/$B7,0))","v":0},{"$f":"SUM(L3:L6)","v":0},{"$f":"IF(L7=0,0,IFERROR((L7-$B7)/$B7,0))","v":0}]
[]
[]
[]
[]
[]
[]
[]
[]
[]
[]
[]
[]
[]
[]
[]
[]
[]
[]
[]
[]
[]
[]
[]
[]
[]
[]
[]
["Vehicle Miles Traveled (VMT)","Miles","% Change","Miles","% Change","Miles","% Change","Miles","% Change","Miles","% Change","Miles","% Change"]
["Total",{"$f":"VMT_EX","v":0},null,{"$f":"VMT_1","v":0},null,{"$f":"VMT_2","v":0},null,{"$f":"VMT_3","v":0},null,{"$f":"VMT_4","v":0},null,{"$f":"VMT_5","v":0}]
["Total VMT per Capita",{"$f":"IFERROR(VMT_EX/TA_TOT_Pop_EX,0)","v":0},null,{"$f":"IFERROR(VMT_1/TA_TOT_Pop_1,0)","v":0},{"$f":"IF(D37=0,0,IFERROR((D37-$B37)/$B37,0))","v":0},{"$f":"IFERROR(VMT_2/TA_TOT_Pop_2,0)","v":0},{"$f":"IF(F37=0,0,IFERROR((F37-$B37)/$B37,0))","v":0},{"$f":"IFERROR(VMT_3/TA_TOT_Pop_3,0)","v":0},{"$f":"IF(H37=0,0,IFERROR((H37-$B37)/$B37,0))","v":0},{"$f":"IFERROR(VMT_4/TA_TOT_Pop_4,0)","v":0},{"$f":"IF(J37=0,0,IFERROR((J37-$B37)/$B37,0))","v":0},{"$f":"IFERROR(VMT_5/TA_TOT_Pop_5,0)","v":0},{"$f":"IF(L37=0,0,IFERROR((L37-$B37)/$B37,0))","v":0}]
[]
[]
[]
[]
[]
[]
[]
[]
[]
[]
[]
[]
[]
[]
[]
[]
[]
[]
[]
[]
[]
[]
[]
[]
[]
[]
[]
[]
[]
[]
[]
[]
[]
[]
[]
[]
[]
[]
[]
[]
["Traffic Accidents",null,null,null,"% Change",null,"% Change",null,"% Change",null,"% Change",null,"% Change"]
["Injury Crashes",{"$f":"(TA_TOT_Pop_EX*(IFERROR(LOOKUP(County_Select,Crash_County_State,Injury_Crash_Rate),0)/100000))","v":0},null,{"$f":"IF(VMT_1=0,0,TA_TOT_Pop_1*((IFERROR(LOOKUP(County_Select,Crash_County_State,Injury_Crash_Rate),0)/100000)*(1+Injury_Crash_Elast_VMTcap*E37)))","v":0},null,{"$f":"IF(VMT_2=0,0,TA_TOT_Pop_2*((IFERROR(LOOKUP(County_Select,Crash_County_State,Injury_Crash_Rate),0)/100000)*(1+Injury_Crash_Elast_VMTcap*G37)))","v":0},null,{"$f":"IF(VMT_3=0,0,TA_TOT_Pop_3*((IFERROR(LOOKUP(County_Select,Crash_County_State,Injury_Crash_Rate),0)/100000)*(1+Injury_Crash_Elast_VMTcap*I37)))","v":0},null,{"$f":"IF(VMT_4=0,0,TA_TOT_Pop_4*((IFERROR(LOOKUP(County_Select,Crash_County_State,Injury_Crash_Rate),0)/100000)*(1+Injury_Crash_Elast_VMTcap*K37)))","v":0},null,{"$f":"IF(VMT_5=0,0,TA_TOT_Pop_5*((IFERROR(LOOKUP(County_Select,Crash_County_State,Injury_Crash_Rate),0)/100000)*(1+Injury_Crash_Elast_VMTcap*M37)))","v":0}]
["Fatal Crashes",{"$f":"(TA_TOT_Pop_EX*(IFERROR(LOOKUP(County_Select,Crash_County_State,Fatal_Crash_Rate),0)/100000))","v":0},null,{"$f":"IF(VMT_1=0,0,TA_TOT_Pop_1*((IFERROR(LOOKUP(County_Select,Crash_County_State,Fatal_Crash_Rate),0)/100000)*(1+Fatal_Crash_Elast_VMTcap*E37)*(1+Fatal_Crash_Elast_Emp_Den*TA_EMP_DEN_pctchng_1)*(1+Fatal_Crash_Elast_Pct_4way*TA_Pct_4way_chng_1)))","v":0},null,{"$f":"IF(VMT_2=0,0,TA_TOT_Pop_2*((IFERROR(LOOKUP(County_Select,Crash_County_State,Fatal_Crash_Rate),0)/100000)*(1+Fatal_Crash_Elast_VMTcap*G37)*(1+Fatal_Crash_Elast_Emp_Den*TA_EMP_DEN_pctchng_2)*(1+Fatal_Crash_Elast_Pct_4way*TA_Pct_4way_chng_2)))","v":0},null,{"$f":"IF(VMT_3=0,0,TA_TOT_Pop_3*((IFERROR(LOOKUP(County_Select,Crash_County_State,Fatal_Crash_Rate),0)/100000)*(1+Fatal_Crash_Elast_VMTcap*I37)*(1+Fatal_Crash_Elast_Emp_Den*TA_EMP_DEN_pctchng_3)*(1+Fatal_Crash_Elast_Pct_4way*TA_Pct_4way_chng_3)))","v":0},null,{"$f":"IF(VMT_4=0,0,TA_TOT_Pop_4*((IFERROR(LOOKUP(County_Select,Crash_County_State,Fatal_Crash_Rate),0)/100000)*(1+Fatal_Crash_Elast_VMTcap*K37)*(1+Fatal_Crash_Elast_Emp_Den*TA_EMP_DEN_pctchng_4)*(1+Fatal_Crash_Elast_Pct_4way*TA_Pct_4way_chng_4)))","v":0},null,{"$f":"IF(VMT_5=0,0,TA_TOT_Pop_5*((IFERROR(LOOKUP(County_Select,Crash_County_State,Fatal_Crash_Rate),0)/100000)*(1+Fatal_Crash_Elast_VMTcap*M37)*(1+Fatal_Crash_Elast_Emp_Den*TA_EMP_DEN_pctchng_5)*(1+Fatal_Crash_Elast_Pct_4way*TA_Pct_4way_chng_5)))","v":0}]
["Total Crashes",{"$f":"(TA_TOT_Pop_EX*(IFERROR(LOOKUP(County_Select,Crash_County_State,Total_Crash_Rate),0)/100000))","v":0},null,{"$f":"IF(VMT_1=0,0,TA_TOT_Pop_1*((IFERROR(LOOKUP(County_Select,Crash_County_State,Total_Crash_Rate),0)/100000)*(1+Tot_Crash_Elast_VMTcap*E37)*(1+Tot_Crash_Elast_Emp_Den*TA_EMP_DEN_pctchng_1)*(1+Tot_Crash_Elast_Int_Den*TA_Int_Den_pctchng_1)))","v":0},{"$f":"IF(VMT_1=0,0,IFERROR((D81-$B81)/$B81,0))","v":0},{"$f":"IF(VMT_2=0,0,TA_TOT_Pop_2*((IFERROR(LOOKUP(County_Select,Crash_County_State,Total_Crash_Rate),0)/100000)*(1+Tot_Crash_Elast_VMTcap*G37)*(1+Tot_Crash_Elast_Emp_Den*TA_EMP_DEN_pctchng_2)*(1+Tot_Crash_Elast_Int_Den*TA_Int_Den_pctchng_2)))","v":0},{"$f":"IF(VMT_2=0,0,IFERROR((F81-$B81)/$B81,0))","v":0},{"$f":"IF(VMT_3=0,0,TA_TOT_Pop_3*((IFERROR(LOOKUP(County_Select,Crash_County_State,Total_Crash_Rate),0)/100000)*(1+Tot_Crash_Elast_VMTcap*I37)*(1+Tot_Crash_Elast_Emp_Den*TA_EMP_DEN_pctchng_3)*(1+Tot_Crash_Elast_Int_Den*TA_Int_Den_pctchng_3)))","v":0},{"$f":"IF(VMT_3=0,0,IFERROR((H81-$B81)/$B81,0))","v":0},{"$f":"IF(VMT_4=0,0,TA_TOT_Pop_4*((IFERROR(LOOKUP(County_Select,Crash_County_State,Total_Crash_Rate),0)/100000)*(1+Tot_Crash_Elast_VMTcap*K37)*(1+Tot_Crash_Elast_Emp_Den*TA_EMP_DEN_pctchng_4)*(1+Tot_Crash_Elast_Int_Den*TA_Int_Den_pctchng_4)))","v":0},{"$f":"IF(VMT_4=0,0,IFERROR((J81-$B81)/$B81,0))","v":0},{"$f":"IF(VMT_5=0,0,TA_TOT_Pop_5*((IFERROR(LOOKUP(County_Select,Crash_County_State,Total_Crash_Rate),0)/100000)*(1+Tot_Crash_Elast_VMTcap*M37)*(1+Tot_Crash_Elast_Emp_Den*TA_EMP_DEN_pctchng_5)*(1+Tot_Crash_Elast_Int_Den*TA_Int_Den_pctchng_5)))","v":0},{"$f":"IF(VMT_5=0,0,IFERROR((L81-$B81)/$B81,0))","v":0}]
["Crashes per Capita",{"$f":"IFERROR(B81/TA_TOT_Pop_EX,0)","v":0},null,{"$f":"IFERROR(D81/TA_TOT_Pop_1,0)","v":0},{"$f":"IF(VMT_1=0,0,IFERROR((D82-$B82)/$B82,0))","v":0},{"$f":"IFERROR(F81/TA_TOT_Pop_2,0)","v":0},{"$f":"IF(VMT_2=0,0,IFERROR((F82-$B82)/$B82,0))","v":0},{"$f":"IFERROR(H81/TA_TOT_Pop_3,0)","v":0},{"$f":"IF(VMT_3=0,0,IFERROR((H82-$B82)/$B82,0))","v":0},{"$f":"IFERROR(J81/TA_TOT_Pop_4,0)","v":0},{"$f":"IF(VMT_4=0,0,IFERROR((J82-$B82)/$B82,0))","v":0},{"$f":"IFERROR(L81/TA_TOT_Pop_5,0)","v":0},{"$f":"IF(VMT_5=0,0,IFERROR((L82-$B82)/$B82,0))","v":0}]
[]
[]
[]
[]
[]
[]
[]
[]
[]
[]
[]
[]
[]
[]
[]
[]
[]
[]
[]
[]
[]
[]
[]
[]
[]
[]
[]
["Public Health (Daily METs)",null,null,null,"% Change",null,"% Change",null,"% Change",null,"% Change",null,"% Change"]
["Walking",{"$f":"WALK_TRIPS_EX*14.73*3.5","v":0},null,{"$f":"WALK_TRIPS_1*14.73*3.5","v":0},null,{"$f":"WALK_TRIPS_2*14.73*3.5","v":0},null,{"$f":"WALK_TRIPS_3*14.73*3.5","v":0},null,{"$f":"WALK_TRIPS_4*14.73*3.5","v":0},null,{"$f":"WALK_TRIPS_5*14.73*3.5","v":0}]
["Biking",{"$f":"BIKE_TRIPS_EX*19.24*6.8","v":0},null,{"$f":"BIKE_TRIPS_1*19.24*6.8","v":0},null,{"$f":"BIKE_TRIPS_2*19.24*6.8","v":0},null,{"$f":"BIKE_TRIPS_3*19.24*6.8","v":0},null,{"$f":"BIKE_TRIPS_4*19.24*6.8","v":0},null,{"$f":"BIKE_TRIPS_5*19.24*6.8","v":0}]
["Transit",{"$f":"TRANSIT_TRIPS_EX*16.39*3.5","v":0},null,{"$f":"TRANSIT_TRIPS_1*16.39*3.5","v":0},null,{"$f":"TRANSIT_TRIPS_2*16.39*3.5","v":0},null,{"$f":"TRANSIT_TRIPS_3*16.39*3.5","v":0},null,{"$f":"TRANSIT_TRIPS_4*16.39*3.5","v":0},null,{"$f":"TRANSIT_TRIPS_5*16.39*3.5","v":0}]
["Total Daily METs",{"$f":"SUM(B111:B113)","v":0},null,{"$f":"SUM(D111:D113)","v":0},{"$f":"IF(D114=0,0,IFERROR((D114-$B114)/$B114,0))","v":0},{"$f":"SUM(F111:F113)","v":0},{"$f":"IF(F114=0,0,IFERROR((F114-$B114)/$B114,0))","v":0},{"$f":"SUM(H111:H113)","v":0},{"$f":"IF(H114=0,0,IFERROR((H114-$B114)/$B114,0))","v":0},{"$f":"SUM(J111:J113)","v":0},{"$f":"IF(J114=0,0,IFERROR((J114-$B114)/$B114,0))","v":0},{"$f":"SUM(L111:L113)","v":0},{"$f":"IF(L114=0,0,IFERROR((L114-$B114)/$B114,0))","v":0}]
["Daily METs per Capita",{"$f":"IFERROR(B114/TA_TOT_Pop_EX,0)","v":0},null,{"$f":"IFERROR(D114/TA_TOT_Pop_1,0)","v":0},{"$f":"IF(D115=0,0,IFERROR((D115-$B115)/$B115,0))","v":0},{"$f":"IFERROR(F114/TA_TOT_Pop_2,0)","v":0},{"$f":"IF(F115=0,0,IFERROR((F115-$B115)/$B115,0))","v":0},{"$f":"IFERROR(H114/TA_TOT_Pop_3,0)","v":0},{"$f":"IF(H115=0,0,IFERROR((H115-$B115)/$B115,0))","v":0},{"$f":"IFERROR(J114/TA_TOT_Pop_4,0)","v":0},{"$f":"IF(J115=0,0,IFERROR((J115-$B115)/$B115,0))","v":0},{"$f":"IFERROR(L114/TA_TOT_Pop_5,0)","v":0},{"$f":"IF(L115=0,0,IFERROR((L115-$B115)/$B115,0))","v":0}]
[]
[]
[]
[]
[]
[]
[]
[]
[]
[]
[]
[]
[]
[]
[]
[]
[]
[]
[]
[]
[]
[]
[]
[]
[]
[]
[]
[]
[]
[]
[]
[]
[]
[]
[]
[]
[]
[]
[]
[]
["Affordability (H + T + E)",null,null,null,"% Change",null,"% Change",null,"% Change",null,"% Change",null,"% Change"]
["Transportation Cost / Mo",{"$f":"IFERROR(((SUM(TA_SF_EX,TA_MH_EX)*Vehicles_per_SF_HH_Ex*(AutoCost_Mo))+(SUM(TA_MF_EX,TA_TH_EX)*Vehicles_per_Oth_HH_EX*(AutoCost_Mo))+(VMT_EX*(365/12)*AutoTravelCost_EX)+(TRANSIT_TRIPS_EX*(365/12)*Transit_Trip_Cost_EX))/TA_HU_EX,0)","v":0},null,{"$f":"IF(VMT_1=0,0,IFERROR(((SUM(TA_SF_1,TA_MH_1)*Vehicles_per_SF_HH_1*(AutoCost_Mo))+(SUM(TA_MF_1,TA_TH_1)*Vehicles_per_Oth_HH_1*(AutoCost_Mo))+(VMT_1*(365/12)*AutoTravelCost_1)+(TRANSIT_TRIPS_1*(365/12)*Transit_Trip_Cost_1))/TA_HU_1,0))","v":0},{"$f":"IF(D157=0,0,IFERROR((D157-$B157)/$B157,0))","v":0},{"$f":"IF(VMT_2=0,0,IFERROR(((SUM(TA_SF_2,TA_MH_2)*Vehicles_per_SF_HH_2*(AutoCost_Mo))+(SUM(TA_MF_2,TA_TH_2)*Vehicles_per_Oth_HH_2*(AutoCost_Mo))+(VMT_2*(365/12)*AutoTravelCost_2)+(TRANSIT_TRIPS_2*(365/12)*Transit_Trip_Cost_2))/TA_HU_2,0))","v":0},{"$f":"IF(F157=0,0,IFERROR((F157-$B157)/$B157,0))","v":0},{"$f":"IF(VMT_3=0,0,IFERROR(((SUM(TA_SF_3,TA_MH_3)*Vehicles_per_SF_HH_3*(AutoCost_Mo))+(SUM(TA_MF_3,TA_TH_3)*Vehicles_per_Oth_HH_3*(AutoCost_Mo))+(VMT_3*(365/12)*AutoTravelCost_3)+(TRANSIT_TRIPS_3*(365/12)*Transit_Trip_Cost_3))/TA_HU_3,0))","v":0},{"$f":"IF(H157=0,0,IFERROR((H157-$B157)/$B157,0))","v":0},{"$f":"IF(VMT_4=0,0,IFERROR(((SUM(TA_SF_4,TA_MH_4)*Vehicles_per_SF_HH_4*(AutoCost_Mo))+(SUM(TA_MF_4,TA_TH_4)*Vehicles_per_Oth_HH_4*(AutoCost_Mo))+(VMT_4*(365/12)*AutoTravelCost_4)+(TRANSIT_TRIPS_4*(365/12)*Transit_Trip_Cost_4))/TA_HU_4,0))","v":0},{"$f":"IF(J157=0,0,IFERROR((J157-$B157)/$B157,0))","v":0},{"$f":"IF(VMT_5=0,0,IFERROR(((SUM(TA_SF_5,TA_MH_5)*Vehicles_per_SF_HH_5*(AutoCost_Mo))+(SUM(TA_MF_5,TA_TH_5)*Vehicles_per_Oth_HH_5*(AutoCost_Mo))+(VMT_5*(365/12)*AutoTravelCost_5)+(TRANSIT_TRIPS_5*(365/12)*Transit_Trip_Cost_5))/TA_HU_5,0))","v":0},{"$f":"IF(L157=0,0,IFERROR((L157-$B157)/$B157,0))","v":0}]
[]
[]
[]
[]
[]
[]
[]
[]
[]
[]
[]
[]
[]
[]
[]
[]
[]
[]
[]
[]
[]
[]
[]
[]
[]
[]
[]
["Vehicle Ownership per Household"]
["Vehicles per Household",null,null,{"$f":"IF(#REF!=0,0,#REF!/#REF!)","v":{"$error":"#REF!"}},null,{"$f":"IF(#REF!=0,0,#REF!/#REF!)","v":{"$error":"#REF!"}},null,{"$f":"IF(#REF!=0,0,#REF!/#REF!)","v":{"$error":"#REF!"}},null,{"$f":"IF(#REF!=0,0,#REF!/#REF!)","v":{"$error":"#REF!"}},null,{"$f":"IF(#REF!=0,0,#REF!/#REF!)","v":{"$error":"#REF!"}}]
[]
["Vehicle Miles Traveled per Household"]
["Vehicles per Household",null,null,{"$f":"IF(#REF!=0,0,#REF!/#REF!)","v":{"$error":"#REF!"}},null,{"$f":"IF(#REF!=0,0,#REF!/#REF!)","v":{"$error":"#REF!"}},null,{"$f":"IF(#REF!=0,0,#REF!/#REF!)","v":{"$error":"#REF!"}},null,{"$f":"IF(#REF!=0,0,#REF!/#REF!)","v":{"$error":"#REF!"}},null,{"$f":"IF(#REF!=0,0,#REF!/#REF!)","v":{"$error":"#REF!"}}]
[]
["Travel Mode Split"]
["Drive Alone Trip",null,null,{"$f":"#REF!","v":{"$error":"#REF!"}},{"$f":"#REF!","v":{"$error":"#REF!"}},{"$f":"#REF!","v":{"$error":"#REF!"}},{"$f":"#REF!","v":{"$error":"#REF!"}},{"$f":"#REF!","v":{"$error":"#REF!"}},{"$f":"#REF!","v":{"$error":"#REF!"}},{"$f":"#REF!","v":{"$error":"#REF!"}},{"$f":"#REF!","v":{"$error":"#REF!"}},{"$f":"#REF!","v":{"$error":"#REF!"}},{"$f":"#REF!","v":{"$error":"#REF!"}}]
["Auto-Passenger Trip",null,null,{"$f":"#REF!","v":{"$error":"#REF!"}},{"$f":"#REF!","v":{"$error":"#REF!"}},{"$f":"#REF!","v":{"$error":"#REF!"}},{"$f":"#REF!","v":{"$error":"#REF!"}},{"$f":"#REF!","v":{"$error":"#REF!"}},{"$f":"#REF!","v":{"$error":"#REF!"}},{"$f":"#REF!","v":{"$error":"#REF!"}},{"$f":"#REF!","v":{"$error":"#REF!"}},{"$f":"#REF!","v":{"$error":"#REF!"}},{"$f":"#REF!","v":{"$error":"#REF!"}}]
["Transit Trip",null,null,{"$f":"#REF!","v":{"$error":"#REF!"}},{"$f":"#REF!","v":{"$error":"#REF!"}},{"$f":"#REF!","v":{"$error":"#REF!"}},{"$f":"#REF!","v":{"$error":"#REF!"}},{"$f":"#REF!","v":{"$error":"#REF!"}},{"$f":"#REF!","v":{"$error":"#REF!"}},{"$f":"#REF!","v":{"$error":"#REF!"}},{"$f":"#REF!","v":{"$error":"#REF!"}},{"$f":"#REF!","v":{"$error":"#REF!"}},{"$f":"#REF!","v":{"$error":"#REF!"}}]
["Non-Auto Trip",null,null,{"$f":"#REF!","v":{"$error":"#REF!"}},{"$f":"#REF!","v":{"$error":"#REF!"}},{"$f":"#REF!","v":{"$error":"#REF!"}},{"$f":"#REF!","v":{"$error":"#REF!"}},{"$f":"#REF!","v":{"$error":"#REF!"}},{"$f":"#REF!","v":{"$error":"#REF!"}},{"$f":"#REF!","v":{"$error":"#REF!"}},{"$f":"#REF!","v":{"$error":"#REF!"}},{"$f":"#REF!","v":{"$error":"#REF!"}},{"$f":"#REF!","v":{"$error":"#REF!"}}]
[]
["Greenhouse Gas Emissions per Household (Tons)",null,null,{"$f":"IF(#REF!=0,0,((#REF!/1000)*0.482)/#REF!)","v":{"$error":"#REF!"}},null,{"$f":"IF(#REF!=0,0,((#REF!/1000)*0.482)/#REF!)","v":{"$error":"#REF!"}},null,{"$f":"IF(#REF!=0,0,((#REF!/1000)*0.482)/#REF!)","v":{"$error":"#REF!"}},null,{"$f":"IF(#REF!=0,0,((#REF!/1000)*0.482)/#REF!)","v":{"$error":"#REF!"}},null,{"$f":"IF(#REF!=0,0,((#REF!/1000)*0.482)/#REF!)","v":{"$error":"#REF!"}}]
["Daily Air Pollutant Emissions","(g/day)","% Change","(g/day)","% Change","(g/day)","% Change","(g/day)","% Change","(g/day)","% Change","(g/day)","% Change"]
["Volatile Organic Compounds (VOCs)",{"$f":"ROG_RUNEX_TOT_EX+ROG_STSTOP_TOT_EX","v":0},null,{"$f":"ROG_RUNEX_TOT_1+ROG_STSTOP_TOT_1","v":0},{"$f":"IF(D199=0,0,IFERROR((D199-$B199)/$B199,0))","v":0},{"$f":"ROG_RUNEX_TOT_2+ROG_STSTOP_TOT_2","v":0},{"$f":"IF(F199=0,0,IFERROR((F199-$B199)/$B199,0))","v":0},{"$f":"ROG_RUNEX_TOT_3+ROG_STSTOP_TOT_3","v":0},{"$f":"IF(H199=0,0,IFERROR((H199-$B199)/$B199,0))","v":0},{"$f":"ROG_RUNEX_TOT_4+ROG_STSTOP_TOT_4","v":0},{"$f":"IF(J199=0,0,IFERROR((J199-$B199)/$B199,0))","v":0},{"$f":"ROG_RUNEX_TOT_5+ROG_STSTOP_TOT_5","v":0},{"$f":"IF(L199=0,0,IFERROR((L199-$B199)/$B199,0))","v":0}]
["Carbon Monoxide (CO)",{"$f":"CO_RUNEX_TOT_EX+CO_STSTOP_TOT_EX","v":0},null,{"$f":"CO_RUNEX_TOT_1+CO_STSTOP_TOT_1","v":0},{"$f":"IF(D200=0,0,IFERROR((D200-$B200)/$B200,0))","v":0},{"$f":"CO_RUNEX_TOT_2+CO_STSTOP_TOT_2","v":0},0,{"$f":"CO_RUNEX_TOT_3+CO_STSTOP_TOT_3","v":0},0,{"$f":"CO_RUNEX_TOT_4+CO_STSTOP_TOT_4","v":0},0,{"$f":"CO_RUNEX_TOT_5+CO_STSTOP_TOT_5","v":0},0]
["Carbon Dioxide (CO2)",{"$f":"CO2_RUNEX_TOT_EX+CO2_STSTOP_TOT_EX","v":0},null,{"$f":"CO2_RUNEX_TOT_1+CO2_STSTOP_TOT_1","v":0},0,{"$f":"CO2_RUNEX_TOT_2+CO2_STSTOP_TOT_2","v":0},0,{"$f":"CO2_RUNEX_TOT_3+CO2_STSTOP_TOT_3","v":0},0,{"$f":"CO2_RUNEX_TOT_4+CO2_STSTOP_TOT_4","v":0},0,{"$f":"CO2_RUNEX_TOT_5+CO2_STSTOP_TOT_5","v":0},0]
["Nitrogen Oxides (NOx)",{"$f":"NOX_RUNEX_TOT_EX+NOX_STSTOP_TOT_EX","v":0},null,{"$f":"NOX_RUNEX_TOT_1+NOX_STSTOP_TOT_1","v":0},0,{"$f":"NOX_RUNEX_TOT_2+NOX_STSTOP_TOT_2","v":0},0,{"$f":"NOX_RUNEX_TOT_3+NOX_STSTOP_TOT_3","v":0},0,{"$f":"NOX_RUNEX_TOT_4+NOX_STSTOP_TOT_4","v":0},0,{"$f":"NOX_RUNEX_TOT_5+NOX_STSTOP_TOT_5","v":0},0]
["Particulate Matter 10 (PM10)",{"$f":"PM10_RUNEX_TOT_EX+PM10_STSTOP_TOT_EX","v":0},null,{"$f":"PM10_RUNEX_TOT_1+PM10_STSTOP_TOT_1","v":0},0,{"$f":"PM10_RUNEX_TOT_2+PM10_STSTOP_TOT_2","v":0},0,{"$f":"PM10_RUNEX_TOT_3+PM10_STSTOP_TOT_3","v":0},0,{"$f":"PM10_RUNEX_TOT_4+PM10_STSTOP_TOT_4","v":0},0,{"$f":"PM10_RUNEX_TOT_5+PM10_STSTOP_TOT_5","v":0},0]
["Particulate Matter 2.5 (PM2.5)",{"$f":"PM2_5_RUNEX_TOT_EX+PM2_5_STSTOP_TOT_EX","v":0},null,{"$f":"PM2_5_RUNEX_TOT_1+PM2_5_STSTOP_TOT_1","v":0},0,{"$f":"PM2_5_RUNEX_TOT_2+PM2_5_STSTOP_TOT_2","v":0},0,{"$f":"PM2_5_RUNEX_TOT_3+PM2_5_STSTOP_TOT_3","v":0},0,{"$f":"PM2_5_RUNEX_TOT_4+PM2_5_STSTOP_TOT_4","v":0},0,{"$f":"PM2_5_RUNEX_TOT_5+PM2_5_STSTOP_TOT_5","v":0},0]
["Oxides of Sulfur (SOx)",{"$f":"SOX_RUNEX_TOT_EX+SOX_STSTOP_TOT_EX","v":0},null,{"$f":"SOX_RUNEX_TOT_1+SOX_STSTOP_TOT_1","v":0},0,{"$f":"SOX_RUNEX_TOT_2+SOX_STSTOP_TOT_2","v":0},0,{"$f":"SOX_RUNEX_TOT_3+SOX_STSTOP_TOT_3","v":0},0,{"$f":"SOX_RUNEX_TOT_4+SOX_STSTOP_TOT_4","v":0},0,{"$f":"SOX_RUNEX_TOT_5+SOX_STSTOP_TOT_5","v":0},0]
["Total Organic Gases",{"$f":" TOG_RUNEX_TOT_EX+TOG_STSTOP_TOT_EX","v":0},null,{"$f":" TOG_RUNEX_TOT_1+TOG_STSTOP_TOT_1","v":0},0,{"$f":" TOG_RUNEX_TOT_2+TOG_STSTOP_TOT_2","v":0},0,{"$f":" TOG_RUNEX_TOT_3+TOG_STSTOP_TOT_3","v":0},0,{"$f":" TOG_RUNEX_TOT_4+TOG_STSTOP_TOT_4","v":0},0,{"$f":" TOG_RUNEX_TOT_5+TOG_STSTOP_TOT_5","v":0},0]

{"sheet":"HH Travel Model","index":3,"n_rows":37,"n_cols":12,"rows_kept":37,"cut":false,"hidden":false,"merged":[[35,0,36,0],[0,2,1,2],[2,0,7,0],[9,0,11,0],[12,0,34,0],[12,1,14,1],[15,1,17,1],[18,1,20,1],[21,1,23,1],[25,1,27,1],[28,1,30,1],[31,1,33,1],[0,0,1,0],[0,1,1,1]]}
["Variable Type","Variable","GIS Root Field Name","Probability of VMT","VMT","Vehicle Trips","Probability of Walk Trips","Walk Trips","Probability of Bike Trips","Bike Trips","Probability of Transit Trips","Transit"]
[null,null,null,"VMT_Prob","VMT","Auto_Trips","Walk_Trips_prob","Walk_Trips","Bike_Trips_prob","Bike_Trips","Trans_Trips_prob","Trans_Trips"]
["Output","Existing"]
[null,"Scenario 1"]
[null,"Scenario 2"]
[null,"Scenario 3"]
[null,"Scenario 4"]
[null,"Scenario 5"]
["Constant","Constant",null,"3.202","2.846","1.289","-4.957","0.325","-6.689","0.714","-4.865","0.525"]
["Household Variables ","Household Size ","AVG_HH_SIZE","0.385","0.168","0.305","0.419","0.164","0.386","0.109","0.104","0.092"]
[null,"Number of Employed Workers in the Household ","AVG_HH_WORKERS","0.277","0.189","0.007",null,"-0.06","0.181",null,"0.321","-0.018"]
[null,"Household Income ","AVG_HH_INC","0.0426+","0.0026+","0.0015+",null,"-0.0009+",null,null,"-0.0081+","-0.0027+"]
["Accessibility Variables ","Activity Density within ¼, ½, and 1 miles (Pop + Emp / Developed Sq Mi)","ActDenQtrMi",null,null,null,null,"0.00095+"]
[null,null,"ActDenHalfMi",null,null,"-0.0043+"]
[null,null,"ActDen1Mi","-0.0144+","-0.0064+",null,"0.017+"]
[null,"Job-Population Balance within ¼, ½, and 1 miles ","JobPopBalQtrMi",null,"-0.044"]
[null,null,"JobPopBalHalfMi",null,null,null,null,null,"0.362"]
[null,null,"JobPopBal1Mi",null,null,"0.022",null,null,null,null,"0.246","0.187"]
[null,"Land Use Entropy (Mix) within ¼, ½, and 1 miles ","LU_MIX_QTRMi","-0.891",null,"-0.065","0.497",null,null,null,"0.625"]
[null,null,"LU_MIX_HALFMi",null,null,null,null,"0.282",null,null,null,"0.188"]
[null,null,"LU_MIX_1Mi",null,"-0.219"]
[null,"Percent of Regional Employees/Jobs Accessible within a 10, 20 and 30 Minute Auto Trip ","PctRegEmp10MinA","-0.0193!","-0.0065!"]
[null,null,"PctRegEmp20MinA",null,null,"0.00104!"]
[null,null,"PctRegEmp30MinA"]
[null,"Percent of Regional Employees/Jobs Accessible within a 30 Minute Transit Trip ","PctRegEmp30MinT",null,"-0.0034!",null,"0.009!","0.0031!",null,null,"0.011!","0.0021!"]
[null,"Intersection Density within ¼, ½, and 1 miles (Intersections / Developed Sq Mi)","IntDenQtrMi"]
[null,null,"IntDenHalfMi",null,null,null,"0.0019"]
[null,null,"IntDen1Mi","-0.0027","-0.0018",null,null,null,"0.0032"]
[null,"Percent of 4-way Intersections within ¼, ½, and 1 miles (4-Way Intersections / Intersections by Neighborhood)","Pct4WayIntQtrMi",null,null,null,null,"0.0012!"]
[null,null,"Pct4WayIntHalfMi"]
[null,null,"Pct4WayInt1Mi","-0.0114!","-0.0024!",null,"0.0088!",null,"0.0158!","0.0041!","0.0075!"]
[null,"Transit Stop Density within ¼, ½, and 1 miles (Transit Stops / Developed Sq Mi)","TransStopDenQtrMi","-0.0033",null,null,null,null,null,null,null,"0.00048"]
[null,null,"TransStopDenHalfMi",null,null,"0.0007","0.0048","0.0018"]
[null,null,"TransStopDen1Mi",null,null,null,null,null,null,"0.0028","0.014"]
[null,"Rail Stops within a ½ mile (Rail Stops / Developed Sq Mi)","RailTransStopHalfMi"]
["Regional Variables","Regional Population","Regpop","-0.000253+",null,null,null,null,null,"-0.000039+",null,"0.000066+"]
[null,"Regional Compactness Index","Compact",-2.5999999999999998E-4,null,null,"0.0146","0.00328","0.01",null,"0.01"]

{"sheet":"Traffic Safety Elasticities","index":4,"n_rows":11,"n_cols":2,"rows_kept":11,"cut":false,"hidden":false,"merged":[]}
["Independent Variable","Elasticity"]
["Total Crash Rate"]
["VMT per Capita",0.54]
["Employment Density",0.18]
["Intersection Density",-0.53]
["Injury Crash Rate"]
["VMT per Capita",0.66]
["Fatal Crash Rate"]
["VMT per Capita",0.89]
["Employment Density",-0.28999999999999998]
["Percentage 4-Way Intersections",0.39]

{"sheet":"County Crash Rates","index":5,"n_rows":2293,"n_cols":17,"rows_kept":2293,"cut":false,"hidden":false,"merged":[]}
["State ID","County FIPS","County","State","County, State","Injury Crashes","Fatal Crashes","Total Crashes","Population 2010","Injury Crash Rate (per 100,000 residents)","Fatal Crash Rate (per 100,000 residents)","Total Crash Rate (per 100,000 residents)","MSA","densityfactor","centeringfactor","streetfactor","compositeindex2010"]
[45,45001,"Abbeville County","South Carolina",{"$f":"CONCATENATE(C2,\", \",D2)","v":"Abbeville County, South Carolina"},140,5,320,25417,550.81244800000002,19.671873000000001,1258.9998820000001,{"$error":"#N/A"},{"$error":"#N/A"},{"$error":"#N/A"},{"$error":"#N/A"},{"$error":"#N/A"}]
[16,16001,"Ada County","Idaho","Ada County, Idaho",2274,9,5369,392365,579.56239700000003,2.2937829999999999,1368.3687379999999,14260,103.58,124.6,102.02,108.68]
[29,29001,"Adair County","Missouri","Adair County, Missouri",109,2,398,25607,425.66485699999998,7.8103639999999999,1554.262506,{"$error":"#N/A"},{"$error":"#N/A"},{"$error":"#N/A"},{"$error":"#N/A"},{"$error":"#N/A"}]
[40,40001,"Adair County","Oklahoma","Adair County, Oklahoma",97,0,221,22683,427.63302900000002,0,974.29793199999995,{"$error":"#N/A"},{"$error":"#N/A"},{"$error":"#N/A"},{"$error":"#N/A"},{"$error":"#N/A"}]
[8,8001,"Adams County","Colorado","Adams County, Colorado",814,26,9343,441603,184.32845800000001,5.8876410000000003,2115.7012070000001,19740,106.63,122.25,82.26,122.37]
[16,16003,"Adams County","Idaho","Adams County, Idaho",18,3,45,3976,452.71629799999999,75.452715999999995,1131.7907439999999,{"$error":"#N/A"},{"$error":"#N/A"},{"$error":"#N/A"},{"$error":"#N/A"},{"$error":"#N/A"}]
[17,17001,"Adams County","Illinois","Adams County, Illinois",285,7,1461,67103,424.72020600000002,10.431724000000001,2177.2498989999999,{"$error":"#N/A"},{"$error":"#N/A"},{"$error":"#N/A"},{"$error":"#N/A"},{"$error":"#N/A"}]
[31,31001,"Adams County","Nebraska","Adams County, Nebraska",118,4,595,31364,376.22752200000002,12.753475,1897.0794539999999,{"$error":"#N/A"},{"$error":"#N/A"},{"$error":"#N/A"},{"$error":"#N/A"},{"$error":"#N/A"}]
[39,39001,"Adams County","Ohio","Adams County, Ohio",204,6,672,28550,714.53590199999996,21.015761999999999,2353.765324,{"$error":"#N/A"},{"$error":"#N/A"},{"$error":"#N/A"},{"$error":"#N/A"},{"$error":"#N/A"}]
[42,42001,"Adams County","Pennsylvania","Adams County, Pennsylvania",357,12,927,101407,352.04670299999998,11.833503,914.13807699999995,{"$error":"#N/A"},{"$error":"#N/A"},{"$error":"#N/A"},{"$error":"#N/A"},{"$error":"#N/A"}]
[53,53001,"Adams County","Washington","Adams County, Washington",125,7,390,18728,667.44980799999996,37.377189000000001,2082.4434000000001,{"$error":"#N/A"},{"$error":"#N/A"},{"$error":"#N/A"},{"$error":"#N/A"},{"$error":"#N/A"}]
[55,55001,"Adams County","Wisconsin","Adams County, Wisconsin",106,4,428,20875,507.78443099999998,19.161677000000001,2050.2994010000002,{"$error":"#N/A"},{"$error":"#N/A"},{"$error":"#N/A"},{"$error":"#N/A"},{"$error":"#N/A"}]
[45,45003,"Aiken County","South Carolina","Aiken County, South Carolina",960,26,3386,160099,599.62897999999996,16.239951999999999,2114.9413800000002,12260,93.29,79.37,103.25,96.65]
[12,12001,"Alachua County","Florida","Alachua County, Florida",3115,26,5138,247336,1259.420384,10.512015999999999,2077.3360929999999,23540,100.66,110.17,115.43,107.74]
[37,37001,"Alamance County","North Carolina","Alamance County, North Carolina",1035,15,3290,151131,684.83633399999997,9.9251640000000005,2176.9193610000002,15500,95.78,102.85,94.52,96.28]
[6,6001,"Alameda County","California","Alameda County, California",6295,62,19316,1510271,416.812612,4.1052229999999996,1278.97576,41860,137.65,143.4,115.28,151.09]
[36,36001,"Albany County","New York","Albany County, New York",2561,20,12775,304204,841.86927200000002,6.5745360000000002,4199.4845560000003,10580,107.1,128.38999999999999,135.96,104.63]
[56,56001,"Albany County","Wyoming","Albany County, Wyoming",266,7,1115,36299,732.80255699999998,19.284278,3071.7099640000001,{"$error":"#N/A"},{"$error":"#N/A"},{"$error":"#N/A"},{"$error":"#N/A"},{"$error":"#N/A"}]
[51,51003,"Albemarle County","Virginia","Albemarle County, Virginia",552,0,1824,98970,557.74477100000001,0,1842.982722,16820,95.3,102.67,87.34,78.58]
[26,26001,"Alcona County","Michigan","Alcona County, Michigan",38,0,646,10942,347.28568799999999,0,5903.8566989999999,{"$error":"#N/A"},{"$error":"#N/A"},{"$error":"#N/A"},{"$error":"#N/A"},{"$error":"#N/A"}]
[2,2013,"Aleutians East Borough","Alaska","Aleutians East Borough, Alaska",1,0,2,3141,31.836995000000002,0,63.673988999999999,{"$error":"#N/A"},{"$error":"#N/A"},{"$error":"#N/A"},{"$error":"#N/A"},{"$error":"#N/A"}]
[17,17003,"Alexander County","Illinois","Alexander County, Illinois",34,1,171,8238,412.72153400000002,12.138869,2075.7465400000001,16020,89.05,"NA",70.12,121.33]
[37,37003,"Alexander County","North Carolina","Alexander County, North Carolina",158,5,406,37198,424.75401900000003,13.441583,1091.4565299999999,25860,91.03,78.52,79.959999999999994,55.54]
[51,51510,"Alexandria city","Virginia","Alexandria city, Virginia",465,0,1628,139966,332.22354000000001,0,1163.1396199999999,47900,176.94,154.32,115.16,173.76]
[40,40003,"Alfalfa County","Oklahoma","Alfalfa County, Oklahoma",0,2,37,5642,0,35.448422999999998,655.79581700000006,{"$error":"#N/A"},{"$error":"#N/A"},{"$error":"#N/A"},{"$error":"#N/A"},{"$error":"#N/A"}]
[26,26003,"Alger County","Michigan","Alger County, Michigan",42,1,285,9601,437.454432,10.415582000000001,2968.440787,{"$error":"#N/A"},{"$error":"#N/A"},{"$error":"#N/A"},{"$error":"#N/A"},{"$error":"#N/A"}]
[26,26005,"Allegan County","Michigan","Allegan County, Michigan",522,14,3297,111408,468.54804000000001,12.566423,2959.392503,{"$error":"#N/A"},{"$error":"#N/A"},{"$error":"#N/A"},{"$error":"#N/A"},{"$error":"#N/A"}]
[24,24001,"Allegany County","Maryland","Allegany County, Maryland",277,5,648,75087,368.90540299999998,6.6589419999999997,862.998921,19060,94.56,117.81,106.32,116.79]
[36,36003,"Allegany County","New York","Allegany County, New York",251,2,1343,48946,512.81003599999997,4.0861359999999998,2743.84015,{"$error":"#N/A"},{"$error":"#N/A"},{"$error":"#N/A"},{"$error":"#N/A"},{"$error":"#N/A"}]
[37,37005,"Alleghany County","North Carolina","Alleghany County, North Carolina",47,1,157,11155,421.33572400000003,8.9645899999999994,1407.4406100000001,{"$error":"#N/A"},{"$error":"#N/A"},{"$error":"#N/A"},{"$error":"#N/A"},{"$error":"#N/A"}]
[42,42003,"Allegheny County","Pennsylvania","Allegheny County, Pennsylvania",4426,57,10641,1223348,361.79402800000003,4.6593450000000001,869.82608400000004,38300,109.54,133.88999999999999,145.4,135.69999999999999]
[18,18003,"Allen County","Indiana","Allen County, Indiana",309,5,2678,355329,86.961661000000007,1.4071469999999999,753.66772800000001,23060,100.69,113.3,110.06,100.51]
[20,20001,"Allen County","Kansas","Allen County, Kansas",61,2,294,13371,456.21120300000001,14.957744,2198.788423,{"$error":"#N/A"},{"$error":"#N/A"},{"$error":"#N/A"},{"$error":"#N/A"},{"$error":"#N/A"}]
[39,39003,"Allen County","Ohio","Allen County, Ohio",756,12,3195,106331,710.98738800000001,11.285513999999999,3004.7681299999999,30620,95.85,114.27,117.83,118.07]
[45,45005,"Allendale County","South Carolina","Allendale County, South Carolina",62,2,137,10419,595.06670499999996,19.195699999999999,1314.9054610000001,{"$error":"#N/A"},{"$error":"#N/A"},{"$error":"#N/A"},{"$error":"#N/A"},{"$error":"#N/A"}]
[26,26007,"Alpena County","Michigan","Alpena County, Michigan",119,3,851,29598,402.054193,10.135820000000001,2875.19427,{"$error":"#N/A"},{"$error":"#N/A"},{"$error":"#N/A"},{"$error":"#N/A"},{"$error":"#N/A"}]
[6,6003,"Alpine County","California","Alpine County, California",33,1,85,1175,2808.5106380000002,85.106382999999994,7234.0425530000002,{"$error":"#N/A"},{"$error":"#N/A"},{"$error":"#N/A"},{"$error":"#N/A"},{"$error":"#N/A"}]
[6,6005,"Amador County","California","Amador County, California",242,6,514,38091,635.32067900000004,15.751752,1349.4001209999999,{"$error":"#N/A"},{"$error":"#N/A"},{"$error":"#N/A"},{"$error":"#N/A"},{"$error":"#N/A"}]
[51,51009,"Amherst County","Virginia","Amherst County, Virginia",149,0,470,32353,460.54461700000002,0,1452.724631,31340,89.69,70.62,84.6,75.08]
[2,2020,"Anchorage Municipality","Alaska","Anchorage Municipality, Alaska",2279,22,7643,291826,780.94480999999996,7.5387389999999996,2619.026406,{"$error":"#N/A"},{"$error":"#N/A"},{"$error":"#N/A"},{"$error":"#N/A"},{"$error":"#N/A"}]
[20,20003,"Anderson County","Kansas","Anderson County, Kansas",30,4,194,8102,370.27894300000003,49.370525999999998,2394.4705009999998,{"$error":"#N/A"},{"$error":"#N/A"},{"$error":"#N/A"},{"$error":"#N/A"},{"$error":"#N/A"}]
[45,45007,"Anderson County","South Carolina","Anderson County, South Carolina",1125,32,4056,187126,601.19919200000004,17.100777000000001,2167.5234869999999,11340,92.29,82.54,110.42,81.7]
[47,47001,"Anderson County","Tennessee","Anderson County, Tennessee",509,8,2011,75129,677.50136399999997,10.648351999999999,2676.7293589999999,28940,92.32,81.099999999999994,121.37,89.51]
[48,48001,"Anderson County","Texas","Anderson County, Texas",314,11,896,58458,537.13777400000004,18.816928000000001,1532.7243490000001,{"$error":"#N/A"},{"$error":"#N/A"},{"$error":"#N/A"},{"$error":"#N/A"},{"$error":"#N/A"}]
[29,29003,"Andrew County","Missouri","Andrew County, Missouri",72,2,231,17291,416.40159599999998,11.566711,1335.955121,41140,88.73,86.17,72.599999999999994,76.11]
[48,48003,"Andrews County","Texas","Andrews County, Texas",82,12,266,14786,554.57865500000003,81.157852000000005,1798.999053,{"$error":"#N/A"},{"$error":"#N/A"},{"$error":"#N/A"},{"$error":"#N/A"},{"$error":"#N/A"}]
[23,23001,"Androscoggin County","Maine","Androscoggin County, Maine",713,12,2802,107702,662.01184799999999,11.141854,2601.6229969999999,30340,94.76,103.78,136.26,91.39]
[48,48005,"Angelina County","Texas","Angelina County, Texas",535,15,1563,86771,616.56544199999996,17.286881999999999,1801.2930590000001,{"$error":"#N/A"},{"$error":"#N/A"},{"$error":"#N/A"},{"$error":"#N/A"},{"$error":"#N/A"}]
[24,24003,"Anne Arundel County","Maryland","Anne Arundel County, Maryland",2935,39,8584,537656,545.88807699999995,7.2537089999999997,1596.559882,12580,105.04,115.29,100.72,118.53]
[27,27003,"Anoka County","Minnesota","Anoka County, Minnesota",1082,11,3032,330844,327.04235199999999,3.32483,916.44400399999995,33460,101.07,111.72,98.03,105.23]
[37,37007,"Anson County","North Carolina","Anson County, North Carolina",196,5,627,26948,727.32670299999995,18.554252999999999,2326.7032800000002,16740,89.44,65.319999999999993,80.36,52.48]
[31,31003,"Antelope County","Nebraska","Antelope County, Nebraska",15,0,103,6685,224.382947,0,1540.7629019999999,{"$error":"#N/A"},{"$error":"#N/A"},{"$error":"#N/A"},{"$error":"#N/A"},{"$error":"#N/A"}]
[26,26009,"Antrim County","Michigan","Antrim County, Michigan",113,1,858,23580,479.21967799999999,4.240882,3638.676845,{"$error":"#N/A"},{"$error":"#N/A"},{"$error":"#N/A"},{"$error":"#N/A"},{"$error":"#N/A"}]
[13,13001,"Appling County","Georgia","Appling County, Georgia",133,12,608,18236,729.32660699999997,65.803904000000003,3334.064488,{"$error":"#N/A"},{"$error":"#N/A"},{"$error":"#N/A"},{"$error":"#N/A"},{"$error":"#N/A"}]
[51,51011,"Appomattox County","Virginia","Appomattox County, Virginia",56,0,184,14973,374.00654500000002,0,1228.8786480000001,31340,89.68,39.869999999999997,90.05,58.37]
[48,48007,"Aransas County","Texas","Aransas County, Texas",80,3,251,23158,345.45297499999998,12.954487,1083.85871,18580,91.9,104.27,84.03,122.27]
[8,8005,"Arapahoe County","Colorado","Arapahoe County, Colorado",1088,26,10907,572003,190.20879300000001,4.5454309999999998,1906.8081810000001,19740,114.44,124.3,102.43,134.19999999999999]
[48,48009,"Archer County","Texas","Archer County, Texas",40,0,123,9054,441.79368199999999,0,1358.5155729999999,{"$error":"#N/A"},{"$error":"#N/A"},{"$error":"#N/A"},{"$error":"#N/A"},{"$error":"#N/A"}]
[26,26011,"Arenac County","Michigan","Arenac County, Michigan",96,2,735,15899,603.81155999999999,12.579408000000001,4622.9322599999996,{"$error":"#N/A"},{"$error":"#N/A"},{"$error":"#N/A"},{"$error":"#N/A"},{"$error":"#N/A"}]
[51,51013,"Arlington County","Virginia","Arlington County, Virginia",811,0,2488,207627,390.60430500000001,0,1198.3027259999999,47900,174.41,153.19999999999999,95.54,177.13]
[42,42005,"Armstrong County","Pennsylvania","Armstrong County, Pennsylvania",180,10,451,68941,261.09281800000002,14.505157000000001,654.18256199999996,38300,92.89,85.75,101.54,84.86]
[48,48011,"Armstrong County","Texas","Armstrong County, Texas",15,3,53,1901,789.05839000000003,157.811678,2788.006312,{"$error":"#N/A"},{"$error":"#N/A"},{"$error":"#N/A"},{"$error":"#N/A"},{"$error":"#N/A"}]
[31,31005,"Arthur County","Nebraska","Arthur County, Nebraska",2,0,9,460,434.78260899999998,0,1956.521739,{"$error":"#N/A"},{"$error":"#N/A"},{"$error":"#N/A"},{"$error":"#N/A"},{"$error":"#N/A"}]
[22,22005,"Ascension Parish","Louisiana","Ascension Parish, Louisiana",1133,15,3585,107215,1056.755118,13.99058,3343.7485430000002,12940,92.32,90.2,93.22,86.92]
[37,37009,"Ashe County","North Carolina",{"$f":"CONCATENATE(C66,\", \",D66)","v":"Ashe County, North Carolina"},148,4,472,27281,542.50210800000002,14.662219,1730.1418570000001,{"$error":"#N/A"},{"$error":"#N/A"},{"$error":"#N/A"},{"$error":"#N/A"},{"$error":"#N/A"}]
[39,39005,"Ashland County","Ohio","Ashland County, Ohio",333,9,1517,53139,626.65838599999995,16.936713000000001,2854.777094,{"$error":"#N/A"},{"$error":"#N/A"},{"$error":"#N/A"},{"$error":"#N/A"},{"$error":"#N/A"}]
[55,55003,"Ashland County","Wisconsin","Ashland County, Wisconsin",50,1,260,16157,309.46339,6.1892680000000002,1609.2096309999999,{"$error":"#N/A"},{"$error":"#N/A"},{"$error":"#N/A"},{"$error":"#N/A"},{"$error":"#N/A"}]
[39,39007,"Ashtabula County","Ohio","Ashtabula County, Ohio",636,16,2364,101497,626.619506,15.764013,2329.132881,{"$error":"#N/A"},{"$error":"#N/A"},{"$error":"#N/A"},{"$error":"#N/A"},{"$error":"#N/A"}]
[53,53003,"Asotin County","Washington","Asotin County, Washington",47,2,208,21623,217.361143,9.2494099999999992,961.93867599999999,30300,106.62,134.33000000000001,77,134.97]
[48,48013,"Atascosa County","Texas","Atascosa County, Texas",202,11,694,44911,449.77845100000002,24.492885999999999,1545.27844,41700,89.05,79.5,85.77,94.63]
[20,20005,"Atchison County","Kansas","Atchison County, Kansas",30,4,244,16924,177.263058,23.635073999999999,1441.7395409999999,{"$error":"#N/A"},{"$error":"#N/A"},{"$error":"#N/A"},{"$error":"#N/A"},{"$error":"#N/A"}]
[29,29005,"Atchison County","Missouri","Atchison County, Missouri",31,1,110,5685,545.29463499999997,17.590150000000001,1934.9164470000001,{"$error":"#N/A"},{"$error":"#N/A"},{"$error":"#N/A"},{"$error":"#N/A"},{"$error":"#N/A"}]
[39,39009,"Athens County","Ohio","Athens County, Ohio",309,6,1211,64757,477.16849100000002,9.2654080000000008,1870.0681010000001,{"$error":"#N/A"},{"$error":"#N/A"},{"$error":"#N/A"},{"$error":"#N/A"},{"$error":"#N/A"}]
[13,13003,"Atkinson County","Georgia","Atkinson County, Georgia",44,2,116,8375,525.37313400000005,23.880597000000002,1385.074627,{"$error":"#N/A"},{"$error":"#N/A"},{"$error":"#N/A"},{"$error":"#N/A"},{"$error":"#N/A"}]
[34,34001,"Atlantic County","New Jersey","Atlantic County, New Jersey",2478,41,9388,274549,902.57112600000005,14.933581999999999,3419.4260410000002,12100,103,114.8,142.81,120.73]
[40,40005,"Atoka County","Oklahoma","Atoka County, Oklahoma",103,4,309,14182,726.27274,28.204767,2178.8182200000001,{"$error":"#N/A"},{"$error":"#N/A"},{"$error":"#N/A"},{"$error":"#N/A"},{"$error":"#N/A"}]
[29,29007,"Audrain County","Missouri","Audrain County, Missouri",107,1,443,25529,419.13118400000002,3.9171140000000002,1735.2814450000001,{"$error":"#N/A"},{"$error":"#N/A"},{"$error":"#N/A"},{"$error":"#N/A"},{"$error":"#N/A"}]
[39,39011,"Auglaize County","Ohio","Auglaize County, Ohio",215,5,1071,45949,467.91007400000001,10.881629999999999,2330.8450670000002,{"$error":"#N/A"},{"$error":"#N/A"},{"$error":"#N/A"},{"$error":"#N/A"},{"$error":"#N/A"}]
[48,48015,"Austin County","Texas","Austin County, Texas",118,9,391,28417,415.24439599999999,31.671182999999999,1375.9369389999999,26420,88.89,64.78,86.07,82.34]
[1,1001,"Autauga County","Alabama","Autauga County, Alabama",289,9,1189,54571,529.58531100000005,16.492276,2178.812923,{"$error":"#N/A"},{"$error":"#N/A"},{"$error":"#N/A"},{"$error":"#N/A"},{"$error":"#N/A"}]
[37,37011,"Avery County","North Carolina","Avery County, North Carolina",107,4,304,17797,601.22492599999998,22.475698000000001,1708.1530600000001,{"$error":"#N/A"},{"$error":"#N/A"},{"$error":"#N/A"},{"$error":"#N/A"},{"$error":"#N/A"}]
[13,13005,"Bacon County","Georgia","Bacon County, Georgia",73,3,239,11096,657.89473699999996,27.036770000000001,2153.9293440000001,{"$error":"#N/A"},{"$error":"#N/A"},{"$error":"#N/A"},{"$error":"#N/A"},{"$error":"#N/A"}]
[48,48017,"Bailey County","Texas","Bailey County, Texas",24,0,87,7165,334.96161899999998,0,1214.2358690000001,{"$error":"#N/A"},{"$error":"#N/A"},{"$error":"#N/A"},{"$error":"#N/A"},{"$error":"#N/A"}]
[12,12003,"Baker County","Florida","Baker County, Florida",296,12,421,27115,1091.64669,44.255946999999999,1552.646137,27260,89.21,63.21,89.68,61.02]
[13,13007,"Baker County","Georgia","Baker County, Georgia",18,2,48,3451,521.58794599999999,57.954216000000002,1390.901188,{"$error":"#N/A"},{"$error":"#N/A"},{"$error":"#N/A"},{"$error":"#N/A"},{"$error":"#N/A"}]
[41,41001,"Baker County","Oregon","Baker County, Oregon",99,3,236,16134,613.61100799999997,18.594273000000001,1462.7494730000001,{"$error":"#N/A"},{"$error":"#N/A"},{"$error":"#N/A"},{"$error":"#N/A"},{"$error":"#N/A"}]
[1,1003,"Baldwin County","Alabama","Baldwin County, Alabama",810,24,3773,182265,444.40786800000001,13.167641,2070.062821,{"$error":"#N/A"},{"$error":"#N/A"},{"$error":"#N/A"},{"$error":"#N/A"},{"$error":"#N/A"}]
[13,13009,"Baldwin County","Georgia","Baldwin County, Georgia",473,6,1885,45720,1034.55818,13.12336,4122.9221349999998,{"$error":"#N/A"},{"$error":"#N/A"},{"$error":"#N/A"},{"$error":"#N/A"},{"$error":"#N/A"}]
[24,24510,"Baltimore city","Maryland","Baltimore city, Maryland",4654,23,19541,620961,749.48346200000003,3.7039360000000001,3146.8965039999998,12580,163.61000000000001,143.97,183.84,196.44]
[24,24005,"Baltimore County","Maryland","Baltimore County, Maryland",4347,70,12438,805029,539.980547,8.6953390000000006,1545.0375079999999,12580,109.47,130.43,100.71,118.19]
[45,45009,"Bamberg County","South Carolina","Bamberg County, South Carolina",83,4,204,15987,519.17182700000001,25.020329,1276.0367799999999,{"$error":"#N/A"},{"$error":"#N/A"},{"$error":"#N/A"},{"$error":"#N/A"},{"$error":"#N/A"}]
[48,48019,"Bandera County","Texas","Bandera County, Texas",103,5,266,20485,502.80693200000002,24.408103000000001,1298.5111059999999,41700,89.19,38.15,69.25,101.83]
[13,13011,"Banks County","Georgia","Banks County, Georgia",124,9,498,18395,674.09622200000001,48.926338999999999,2707.2574070000001,{"$error":"#N/A"},{"$error":"#N/A"},{"$error":"#N/A"},{"$error":"#N/A"},{"$error":"#N/A"}]
[31,31007,"Banner County","Nebraska","Banner County, Nebraska",6,0,27,690,869.56521699999996,0,3913.0434780000001,{"$error":"#N/A"},{"$error":"#N/A"},{"$error":"#N/A"},{"$error":"#N/A"},{"$error":"#N/A"}]
[16,16005,"Bannock County","Idaho","Bannock County, Idaho",483,7,1518,82839,583.05870400000003,8.4501259999999991,1832.4702130000001,38540,101.28,123.06,128.18,124.04]
[26,26013,"Baraga County","Michigan","Baraga County, Michigan",48,2,424,8860,541.76072199999999,22.573363000000001,4785.5530470000003,{"$error":"#N/A"},{"$error":"#N/A"},{"$error":"#N/A"},{"$error":"#N/A"},{"$error":"#N/A"}]
[20,20007,"Barber County","Kansas","Barber County, Kansas",20,3,158,4861,411.43797599999999,61.715696000000001,3250.3600080000001,{"$error":"#N/A"},{"$error":"#N/A"},{"$error":"#N/A"},{"$error":"#N/A"},{"$error":"#N/A"}]
[1,1005,"Barbour County","Alabama","Barbour County, Alabama",107,2,464,27457,389.70025900000002,7.2841170000000002,1689.9151400000001,{"$error":"#N/A"},{"$error":"#N/A"},{"$error":"#N/A"},{"$error":"#N/A"},{"$error":"#N/A"}]
[25,25001,"Barnstable County","Massachusetts","Barnstable County, Massachusetts",953,18,3502,215888,441.43259499999999,8.3376570000000001,1622.1374049999999,12700,"NA","NA","NA",119.45]
[45,45011,"Barnwell County","South Carolina","Barnwell County, South Carolina",117,3,308,22621,517.21851400000003,13.262013,1361.5666859999999,{"$error":"#N/A"},{"$error":"#N/A"},{"$error":"#N/A"},{"$error":"#N/A"},{"$error":"#N/A"}]
[55,55005,"Barron County","Wisconsin","Barron County, Wisconsin",198,3,653,45870,431.65467599999999,6.540222,1423.5884020000001,{"$error":"#N/A"},{"$error":"#N/A"},{"$error":"#N/A"},{"$error":"#N/A"},{"$error":"#N/A"}]
[13,13013,"Barrow County","Georgia","Barrow County, Georgia",445,12,1622,69367,641.51541799999995,17.299292000000001,2338.2876580000002,12060,92.36,70.78,85.3,72.180000000000007]
[26,26015,"Barry County","Michigan","Barry County, Michigan",217,8,1680,59173,366.72130900000002,13.519679999999999,2839.132713,24340,90.18,57.23,87.88,75.47]
[29,29009,"Barry County","Missouri","Barry County, Missouri",184,8,583,35597,516.89749099999995,22.473804000000001,1637.778464,{"$error":"#N/A"},{"$error":"#N/A"},{"$error":"#N/A"},{"$error":"#N/A"},{"$error":"#N/A"}]
[18,18005,"Bartholomew County","Indiana","Bartholomew County, Indiana",82,0,530,76794,106.779175,0,690.15808500000003,18020,96.38,101.42,108.25,114.65]
[20,20009,"Barton County","Kansas","Barton County, Kansas",98,6,565,27674,354.12300399999998,21.681000000000001,2041.62752,{"$error":"#N/A"},{"$error":"#N/A"},{"$error":"#N/A"},{"$error":"#N/A"},{"$error":"#N/A"}]
[29,29011,"Barton County","Missouri","Barton County, Missouri",51,3,186,12402,411.223996,24.189647000000001,1499.758104,{"$error":"#N/A"},{"$error":"#N/A"},{"$error":"#N/A"},{"$error":"#N/A"},{"$error":"#N/A"}]
[13,13015,"Bartow County","Georgia","Bartow County, Georgia",989,13,3160,100157,987.449704,12.979622000000001,3155.0465770000001,12060,90.76,77.69,86.6,80.47]
[48,48021,"Bastrop County","Texas","Bastrop County, Texas",342,15,1031,74171,461.096655,20.223538000000001,1390.031144,12420,89.76,76.25,87.26,96.1]
[29,29013,"Bates County","Missouri","Bates County, Missouri",56,4,242,17049,328.465013,23.461787000000001,1419.4380900000001,28140,89.22,111.73,80.53,106.69]
[12,12005,"Bay County","Florida","Bay County, Florida",2288,18,3785,168852,1355.0328099999999,10.660223,2241.6080350000002,37460,99.21,105.55,93.7,115.16]
[26,26017,"Bay County","Michigan","Bay County, Michigan",595,14,2900,107771,552.09657500000003,12.990508,2690.8908700000002,13020,96.11,112.33,108.4,104.1]
[55,55007,"Bayfield County","Wisconsin","Bayfield County, Wisconsin",68,5,301,15014,452.910617,33.302250999999998,2004.7955239999999,{"$error":"#N/A"},{"$error":"#N/A"},{"$error":"#N/A"},{"$error":"#N/A"},{"$error":"#N/A"}]
[48,48023,"Baylor County","Texas","Baylor County, Texas",19,1,54,3726,509.93022000000002,26.838432999999998,1449.2753620000001,{"$error":"#N/A"},{"$error":"#N/A"},{"$error":"#N/A"},{"$error":"#N/A"},{"$error":"#N/A"}]
[16,16007,"Bear Lake County","Idaho","Bear Lake County, Idaho",26,1,90,5986,434.34680900000001,16.705646999999999,1503.508186,{"$error":"#N/A"},{"$error":"#N/A"},{"$error":"#N/A"},{"$error":"#N/A"},{"$error":"#N/A"}]
[37,37013,"Beaufort County","North Carolina","Beaufort County, North Carolina",279,8,965,47759,584.183086,16.750768999999998,2020.5615700000001,{"$error":"#N/A"},{"$error":"#N/A"},{"$error":"#N/A"},{"$error":"#N/A"},{"$error":"#N/A"}]
[45,45013,"Beaufort County","South Carolina","Beaufort County, South Carolina",789,23,2696,162233,486.33755200000002,14.17714,1661.8073999999999,{"$error":"#N/A"},{"$error":"#N/A"},{"$error":"#N/A"},{"$error":"#N/A"},{"$error":"#N/A"}]
[40,40007,"Beaver County","Oklahoma","Beaver County, Oklahoma",0,0,0,5636,0,0,0,{"$error":"#N/A"},{"$error":"#N/A"},{"$error":"#N/A"},{"$error":"#N/A"},{"$error":"#N/A"}]
[42,42007,"Beaver County","Pennsylvania","Beaver County, Pennsylvania",472,24,1214,170539,276.76953700000001,14.073027,711.86063000000001,38300,95.17,110.16,84.42,111.13]
[49,49001,"Beaver County","Utah","Beaver County, Utah",61,1,264,6629,920.19912499999998,15.085232,3982.501131,{"$error":"#N/A"},{"$error":"#N/A"},{"$error":"#N/A"},{"$error":"#N/A"},{"$error":"#N/A"}]
[40,40009,"Beckham County","Oklahoma","Beckham County, Oklahoma",128,6,371,22119,578.68800599999997,27.126000000000001,1677.291017,{"$error":"#N/A"},{"$error":"#N/A"},{"$error":"#N/A"},{"$error":"#N/A"},{"$error":"#N/A"}]
[51,51515,"Bedford city","Virginia","Bedford city, Virginia",21,0,79,6222,337.51205399999998,0,1269.6882029999999,31340,94.78,123.63,72.040000000000006,113.62]
[42,42009,"Bedford County","Pennsylvania","Bedford County, Pennsylvania",210,15,642,49762,422.00876199999999,30.143483,1290.1410719999999,{"$error":"#N/A"},{"$error":"#N/A"},{"$error":"#N/A"},{"$error":"#N/A"},{"$error":"#N/A"}]
[47,47003,"Bedford County","Tennessee","Bedford County, Tennessee",294,4,1060,45058,652.49234300000001,8.8774470000000001,2352.5234139999998,{"$error":"#N/A"},{"$error":"#N/A"},{"$error":"#N/A"},{"$error":"#N/A"},{"$error":"#N/A"}]
[51,51019,"Bedford County","Virginia","Bedford County, Virginia",390,0,874,68676,567.88397699999996,0,1272.6425529999999,31340,89.97,55.41,91.02,73.510000000000005]
[48,48025,"Bee County","Texas","Bee County, Texas",141,3,436,31861,442.54731500000003,9.4159000000000006,1368.4441790000001,{"$error":"#N/A"},{"$error":"#N/A"},{"$error":"#N/A"},{"$error":"#N/A"},{"$error":"#N/A"}]
[48,48027,"Bell County","Texas","Bell County, Texas",1731,44,4983,310235,557.96412399999997,14.182797000000001,1606.2017499999999,28660,99.9,110.3,106.9,110.75]
[39,39013,"Belmont County","Ohio","Belmont County, Ohio",447,10,1820,70400,634.94318199999998,14.204545,2585.227273,48540,92.89,98.58,83.73,112.11]
[13,13017,"Ben Hill County","Georgia",{"$f":"CONCATENATE(C130,\", \",D130)","v":"Ben Hill County, Georgia"},101,1,303,17634,572.75717399999996,5.6708629999999998,1718.2715209999999,{"$error":"#N/A"},{"$error":"#N/A"},{"$error":"#N/A"},{"$error":"#N/A"},{"$error":"#N/A"}]
[16,16009,"Benewah County","Idaho","Benewah County, Idaho",55,1,172,9285,592.35325799999998,10.770059,1852.450188,{"$error":"#N/A"},{"$error":"#N/A"},{"$error":"#N/A"},{"$error":"#N/A"},{"$error":"#N/A"}]
[5,5007,"Benton County","Arkansas","Benton County, Arkansas",1154,19,3856,221339,521.37219400000004,8.5841180000000001,1742.1240720000001,22220,95.22,95.05,104.81,89.33]
[19,19011,"Benton County","Iowa","Benton County, Iowa",89,9,267,26076,341.31001700000002,34.514496000000001,1023.930051,16300,88.87,108.97,90.6,97.81]
[27,27009,"Benton County","Minnesota","Benton County, Minnesota",176,3,544,38451,457.72541699999999,7.8021380000000002,1414.787652,41060,99.34,111.8,83.26,89.21]
[29,29015,"Benton County","Missouri","Benton County, Missouri",92,5,335,19056,482.78757300000001,26.238454999999998,1757.97649,{"$error":"#N/A"},{"$error":"#N/A"},{"$error":"#N/A"},{"$error":"#N/A"},{"$error":"#N/A"}]
[41,41003,"Benton County","Oregon","Benton County, Oregon",374,5,817,85579,437.023101,5.8425549999999999,954.67345999999998,18700,100.72,123.18,126.52,95.34]
[47,47005,"Benton County","Tennessee","Benton County, Tennessee",113,3,349,16489,685.30535499999996,18.193947000000001,2116.5625570000002,{"$error":"#N/A"},{"$error":"#N/A"},{"$error":"#N/A"},{"$error":"#N/A"},{"$error":"#N/A"}]
[53,53005,"Benton County","Washington","Benton County, Washington",780,14,2481,175177,445.26393300000001,7.9919169999999999,1416.2818179999999,28420,98.56,118.73,109.61,97.28]
[26,26019,"Benzie County","Michigan","Benzie County, Michigan",80,1,544,17525,456.49072799999999,5.7061339999999996,3104.136947,{"$error":"#N/A"},{"$error":"#N/A"},{"$error":"#N/A"},{"$error":"#N/A"},{"$error":"#N/A"}]
[34,34003,"Bergen County","New Jersey","Bergen County, New Jersey",6869,29,32733,905116,758.90824999999995,3.2040090000000001,3616.4425329999999,35620,128.56,150.29,86.86,143.25]
[45,45015,"Berkeley County","South Carolina","Berkeley County, South Carolina",950,26,3314,177843,534.17902300000003,14.619636,1863.4413500000001,16700,98.3,88.34,80.72,78.849999999999994]
[54,54003,"Berkeley County","West Virginia","Berkeley County, West Virginia",745,18,2472,104169,715.18398000000002,17.279613000000001,2373.0668430000001,25180,94.85,90.23,97.7,94.03]
[42,42011,"Berks County","Pennsylvania","Berks County, Pennsylvania",1702,41,4087,411442,413.66705400000001,9.9649529999999995,993.33563400000003,39740,108.58,126.11,116,110.71]
[25,25003,"Berkshire County","Massachusetts","Berkshire County, Massachusetts",554,13,2355,131219,422.19495699999999,9.9071020000000001,1794.7096079999999,38340,"NA","NA","NA",95.18]
[35,35001,"Bernalillo County","New Mexico","Bernalillo County, New Mexico",5174,55,18716,662564,780.90569400000004,8.3010850000000005,2824.783719,10740,110.26,122.46,113.45,131.01]
[13,13019,"Berrien County","Georgia","Berrien County, Georgia",104,2,255,19286,539.25126999999998,10.370217,1322.202634,{"$error":"#N/A"},{"$error":"#N/A"},{"$error":"#N/A"},{"$error":"#N/A"},{"$error":"#N/A"}]
[26,26021,"Berrien County","Michigan","Berrien County, Michigan",756,21,4198,156813,482.10288700000001,13.391747000000001,2677.0739669999998,35660,94.04,108.26,90.63,99.01]
[37,37015,"Bertie County","North Carolina","Bertie County, North Carolina",146,4,424,21282,686.02574900000002,18.795226,1992.2939570000001,{"$error":"#N/A"},{"$error":"#N/A"},{"$error":"#N/A"},{"$error":"#N/A"},{"$error":"#N/A"}]
[48,48029,"Bexar County","Texas","Bexar County, Texas",12478,148,39709,1714773,727.67649100000006,8.6308799999999994,2315.700096,41700,107.69,116.02,115.57,118.94]
[1,1007,"Bibb County","Alabama","Bibb County, Alabama",85,8,271,22915,370.93606799999998,34.911630000000002,1182.6314640000001,{"$error":"#N/A"},{"$error":"#N/A"},{"$error":"#N/A"},{"$error":"#N/A"},{"$error":"#N/A"}]
[13,13021,"Bibb County","Georgia","Bibb County, Georgia",1722,38,6493,155547,1107.060888,24.429915000000001,4174.301015,31420,98.07,113.15,103.59,112.7]
[56,56003,"Big Horn County","Wyoming","Big Horn County, Wyoming",31,10,142,11668,265.683922,85.704491000000004,1217.0037709999999,{"$error":"#N/A"},{"$error":"#N/A"},{"$error":"#N/A"},{"$error":"#N/A"},{"$error":"#N/A"}]
[16,16011,"Bingham County","Idaho","Bingham County, Idaho",162,4,543,45607,355.20863000000003,8.7705830000000002,1190.6067049999999,{"$error":"#N/A"},{"$error":"#N/A"},{"$error":"#N/A"},{"$error":"#N/A"},{"$error":"#N/A"}]
[19,19013,"Black Hawk County","Iowa","Black Hawk County, Iowa",724,9,2302,131090,552.29231800000002,6.8655119999999998,1756.0454649999999,47940,99.1,129.91,94.2,118.5]
[37,37017,"Bladen County","North Carolina","Bladen County, North Carolina",315,7,844,35190,895.14066500000001,19.892015000000001,2398.4086390000002,{"$error":"#N/A"},{"$error":"#N/A"},{"$error":"#N/A"},{"$error":"#N/A"},{"$error":"#N/A"}]
[16,16013,"Blaine County","Idaho","Blaine County, Idaho",70,2,217,21376,327.47005999999999,9.356287,1015.157186,{"$error":"#N/A"},{"$error":"#N/A"},{"$error":"#N/A"},{"$error":"#N/A"},{"$error":"#N/A"}]
[31,31009,"Blaine County","Nebraska","Blaine County, Nebraska",2,0,8,478,418.41004199999998,0,1673.640167,{"$error":"#N/A"},{"$error":"#N/A"},{"$error":"#N/A"},{"$error":"#N/A"},{"$error":"#N/A"}]
[40,40011,"Blaine County","Oklahoma","Blaine County, Oklahoma",70,0,166,11943,586.117391,0,1389.9355270000001,{"$error":"#N/A"},{"$error":"#N/A"},{"$error":"#N/A"},{"$error":"#N/A"},{"$error":"#N/A"}]
[42,42013,"Blair County","Pennsylvania","Blair County, Pennsylvania",501,12,1189,127089,394.21193,9.442202,935.56484,11020,97.22,121.95,124.31,123.01]
[48,48031,"Blanco County","Texas","Blanco County, Texas",47,4,130,10497,447.74697500000002,38.106126000000003,1238.449081,{"$error":"#N/A"},{"$error":"#N/A"},{"$error":"#N/A"},{"$error":"#N/A"},{"$error":"#N/A"}]
[13,13023,"Bleckley County","Georgia","Bleckley County, Georgia",45,5,175,13063,344.484422,38.276046999999998,1339.66164,{"$error":"#N/A"},{"$error":"#N/A"},{"$error":"#N/A"},{"$error":"#N/A"},{"$error":"#N/A"}]
[47,47007,"Bledsoe County","Tennessee","Bledsoe County, Tennessee",35,3,100,12876,271.82354800000002,23.299161000000002,776.63870799999995,{"$error":"#N/A"},{"$error":"#N/A"},{"$error":"#N/A"},{"$error":"#N/A"},{"$error":"#N/A"}]
[1,1009,"Blount County","Alabama","Blount County, Alabama",253,10,856,57322,441.36631699999998,17.445309000000002,1493.3184470000001,13820,90.36,37.85,74.28,60.14]
[47,47009,"Blount County","Tennessee","Blount County, Tennessee",927,17,3446,123010,753.59726899999998,13.820015,2801.3982599999999,28940,94.52,79.63,87.08,89.16]
[27,27013,"Blue Earth County","Minnesota","Blue Earth County, Minnesota",347,6,1186,64013,542.07739100000003,9.3730960000000003,1852.74866,31860,97.06,"NA",81.38,83.73]
[16,16015,"Boise County","Idaho","Boise County, Idaho",73,3,171,7028,1038.7023340000001,42.686396999999999,2433.124644,{"$error":"#N/A"},{"$error":"#N/A"},{"$error":"#N/A"},{"$error":"#N/A"},{"$error":"#N/A"}]
[29,29017,"Bollinger County","Missouri","Bollinger County, Missouri",49,0,150,12363,396.343929,0,1213.2977430000001,{"$error":"#N/A"},{"$error":"#N/A"},{"$error":"#N/A"},{"$error":"#N/A"},{"$error":"#N/A"}]
[17,17005,"Bond County","Illinois","Bond County, Illinois",66,3,361,17768,371.45429999999999,16.884285999999999,2031.7424579999999,41180,91.76,87.79,129.58000000000001,109.49]
[16,16017,"Bonner County","Idaho","Bonner County, Idaho",168,7,497,40877,410.98906499999998,17.124544,1215.84265,{"$error":"#N/A"},{"$error":"#N/A"},{"$error":"#N/A"},{"$error":"#N/A"},{"$error":"#N/A"}]
[16,16019,"Bonneville County","Idaho","Bonneville County, Idaho",491,9,1461,"#NULL!","#NULL!","#NULL!","#NULL!",26820,98.84,118.52,99.62,109.57]
[17,17007,"Boone County","Illinois","Boone County, Illinois",212,8,807,54165,391.396658,14.769685000000001,1489.8919969999999,40420,96.36,95.37,81.63,85.74]
[18,18011,"Boone County","Indiana","Boone County, Indiana",35,0,342,56640,61.793785,0,603.81355900000005,26900,94.39,103.9,79.83,90.61]
[21,21015,"Boone County","Kentucky","Boone County, Kentucky",635,8,4384,118811,534.46229700000004,6.7333829999999999,3689.894033,17140,99.7,101.93,95.37,84.83]
[29,29019,"Boone County","Missouri","Boone County, Missouri",747,8,2289,162642,459.29095799999999,4.9187789999999998,1407.385546,17860,98.98,107.9,126.76,103.07]
[31,31011,"Boone County","Nebraska","Boone County, Nebraska",7,1,76,5505,127.15713,18.165303999999999,1380.563124,{"$error":"#N/A"},{"$error":"#N/A"},{"$error":"#N/A"},{"$error":"#N/A"},{"$error":"#N/A"}]
[54,54005,"Boone County","West Virginia","Boone County, West Virginia",234,9,652,24629,950.09947599999998,36.542287999999999,2647.2857199999999,16620,90.83,61.03,"NA",123.52]
[48,48033,"Borden County","Texas","Borden County, Texas",7,0,19,641,1092.043682,0,2964.1185650000002,{"$error":"#N/A"},{"$error":"#N/A"},{"$error":"#N/A"},{"$error":"#N/A"},{"$error":"#N/A"}]
[48,48035,"Bosque County","Texas","Bosque County, Texas",62,4,177,18212,340.43487800000003,21.963540999999999,971.88666799999999,{"$error":"#N/A"},{"$error":"#N/A"},{"$error":"#N/A"},{"$error":"#N/A"},{"$error":"#N/A"}]
[22,22015,"Bossier Parish","Louisiana","Bossier Parish, Louisiana",1166,8,3887,116979,996.76010199999996,6.8388340000000003,3322.8186260000002,43340,95.13,94.84,83.39,90.35]
[51,51023,"Botetourt County","Virginia","Botetourt County, Virginia",195,0,642,33148,588.27078600000004,0,1936.7684320000001,40220,89.85,72,83.63,88.06]
[8,8013,"Boulder County","Colorado","Boulder County, Colorado",589,17,5479,294567,199.95451,5.7711829999999997,1860.018264,14500,107.71,122,111.33,115.52]
[16,16021,"Boundary County","Idaho","Boundary County, Idaho",57,3,173,10972,519.50419199999999,27.342326,1576.7407949999999,{"$error":"#N/A"},{"$error":"#N/A"},{"$error":"#N/A"},{"$error":"#N/A"},{"$error":"#N/A"}]
[20,20011,"Bourbon County","Kansas","Bourbon County, Kansas",52,4,292,15173,342.71403199999997,26.362618000000001,1924.4711,{"$error":"#N/A"},{"$error":"#N/A"},{"$error":"#N/A"},{"$error":"#N/A"},{"$error":"#N/A"}]
[21,21017,"Bourbon County","Kentucky","Bourbon County, Kentucky",98,3,564,19985,490.36777599999999,15.011258,2822.116587,30460,97.22,93.99,80.83,92.96]
[48,48037,"Bowie County","Texas","Bowie County, Texas",724,16,1979,92565,782.15308200000004,17.285150999999999,2137.9571110000002,45500,93.73,106.36,80.75,99.24]
[31,31013,"Box Butte County","Nebraska","Box Butte County, Nebraska",26,0,208,11308,229.92571599999999,0,1839.4057299999999,{"$error":"#N/A"},{"$error":"#N/A"},{"$error":"#N/A"},{"$error":"#N/A"},{"$error":"#N/A"}]
[49,49003,"Box Elder County","Utah","Box Elder County, Utah",256,12,1015,49975,512.25612799999999,24.012006,2031.015508,{"$error":"#N/A"},{"$error":"#N/A"},{"$error":"#N/A"},{"$error":"#N/A"},{"$error":"#N/A"}]
[21,21019,"Boyd County","Kentucky","Boyd County, Kentucky",306,6,1694,49542,617.65774499999998,12.110936000000001,3419.32098,26580,94.45,98.55,126.68,104.55]
[31,31015,"Boyd County","Nebraska","Boyd County, Nebraska",5,0,14,2099,238.20867100000001,0,666.98427800000002,{"$error":"#N/A"},{"$error":"#N/A"},{"$error":"#N/A"},{"$error":"#N/A"},{"$error":"#N/A"}]
[12,12007,"Bradford County","Florida","Bradford County, Florida",285,7,409,28520,999.29873799999996,24.544180000000001,1434.0813459999999,{"$error":"#N/A"},{"$error":"#N/A"},{"$error":"#N/A"},{"$error":"#N/A"},{"$error":"#N/A"}]
[42,42015,"Bradford County","Pennsylvania","Bradford County, Pennsylvania",268,10,734,62622,427.96461299999999,15.968828999999999,1172.1120370000001,{"$error":"#N/A"},{"$error":"#N/A"},{"$error":"#N/A"},{"$error":"#N/A"},{"$error":"#N/A"}]
[47,47011,"Bradley County","Tennessee","Bradley County, Tennessee",685,12,3188,98963,692.17788499999995,12.125743999999999,3221.40598,17420,94.75,85.38,114.48,87.22]
[26,26023,"Branch County","Michigan","Branch County, Michigan",208,3,1765,45248,459.68882600000001,6.6301269999999999,3900.7248939999999,{"$error":"#N/A"},{"$error":"#N/A"},{"$error":"#N/A"},{"$error":"#N/A"},{"$error":"#N/A"}]
[13,13025,"Brantley County","Georgia",{"$f":"CONCATENATE(C194,\", \",D194)","v":"Brantley County, Georgia"},107,1,226,18411,581.17429800000002,5.4315350000000002,1227.527022,{"$error":"#N/A"},{"$error":"#N/A"},{"$error":"#N/A"},{"$error":"#N/A"},{"$error":"#N/A"}]
[48,48039,"Brazoria County","Texas","Brazoria County, Texas",1356,20,4798,313166,432.99719599999997,6.3863890000000003,1532.0948000000001,26420,96.54,96.26,92.15,97.38]
[48,48041,"Brazos County","Texas","Brazos County, Texas",1108,17,3459,194851,568.63962700000002,8.724615,1775.202591,17780,105.72,112.86,101.13,110.13]
[19,19017,"Bremer County","Iowa","Bremer County, Iowa",93,0,388,24276,383.09441399999997,0,1598.2863729999999,47940,89,112.79,82.24,77.7]
[12,12009,"Brevard County","Florida","Brevard County, Florida",4120,65,6267,543376,758.222667,11.962251,1153.3450130000001,37340,102.39,103.2,86.39,110.4]
[48,48043,"Brewster County","Texas","Brewster County, Texas",34,1,138,9232,368.28422899999998,10.831889,1494.8006929999999,{"$error":"#N/A"},{"$error":"#N/A"},{"$error":"#N/A"},{"$error":"#N/A"},{"$error":"#N/A"}]
[48,48045,"Briscoe County","Texas","Briscoe County, Texas",5,0,24,1637,305.43677500000001,0,1466.0965180000001,{"$error":"#N/A"},{"$error":"#N/A"},{"$error":"#N/A"},{"$error":"#N/A"},{"$error":"#N/A"}]
[2,2060,"Bristol Bay Borough","Alaska","Bristol Bay Borough, Alaska",3,0,5,997,300.90270800000002,0,501.50451399999997,{"$error":"#N/A"},{"$error":"#N/A"},{"$error":"#N/A"},{"$error":"#N/A"},{"$error":"#N/A"}]
[51,51520,"Bristol city","Virginia","Bristol city, Virginia",169,0,503,17835,947.57499299999995,0,2820.2971680000001,28700,105,130.6,82.35,145.26]
[25,25005,"Bristol County","Massachusetts","Bristol County, Massachusetts",3500,46,13102,548285,638.35414100000003,8.3897969999999997,2389.6331289999998,39300,"NA",33.82,"NA",120.97]
[44,44001,"Bristol County","Rhode Island","Bristol County, Rhode Island",220,1,1595,49875,441.102757,2.0050129999999999,3197.994987,39300,109.79,144.16,83.56,135.16]
[36,36005,"Bronx County","New York","Bronx County, New York",7301,50,11435,1385108,527.10691199999997,3.6098270000000001,825.56739300000004,35620,336.7,143.94999999999999,100.25,211.61]
[54,54009,"Brooke County","West Virginia","Brooke County, West Virginia",190,3,604,24069,789.39715000000001,12.464166000000001,2509.4519919999998,44600,91.02,93.32,87.28,116.81]
[13,13027,"Brooks County","Georgia","Brooks County, Georgia",109,2,302,16243,671.05830200000003,12.312996,1859.2624519999999,{"$error":"#N/A"},{"$error":"#N/A"},{"$error":"#N/A"},{"$error":"#N/A"},{"$error":"#N/A"}]
[48,48047,"Brooks County","Texas","Brooks County, Texas",40,2,138,7223,553.78651500000001,27.689326000000001,1910.563478,{"$error":"#N/A"},{"$error":"#N/A"},{"$error":"#N/A"},{"$error":"#N/A"},{"$error":"#N/A"}]
[36,36007,"Broome County","New York","Broome County, New York",1303,17,6480,200600,649.55134599999997,8.4745760000000008,3230.3090729999999,13780,99.92,115.8,121.53,93.89]
[8,8014,"Broomfield County","Colorado","Broomfield County, Colorado",99,1,1233,55889,177.13682499999999,1.789261,2206.1586360000001,19740,105.87,113.8,83.11,129.13999999999999]
[12,12011,"Broward County","Florida","Broward County, Florida",20540,179,33224,1748066,1175.012843,10.239888000000001,1900.6147370000001,33100,120.61,133.24,95.43,148.86000000000001]
[17,17009,"Brown County","Illinois","Brown County, Illinois",12,0,183,6937,172.98544000000001,0,2638.0279660000001,{"$error":"#N/A"},{"$error":"#N/A"},{"$error":"#N/A"},{"$error":"#N/A"},{"$error":"#N/A"}]
[18,18013,"Brown County","Indiana","Brown County, Indiana",13,0,91,15242,85.290644,0,597.03450999999995,26900,92.73,36.11,76.3,63.42]
[20,20013,"Brown County","Kansas","Brown County, Kansas",47,2,176,9984,470.75320499999998,20.032050999999999,1762.8205129999999,{"$error":"#N/A"},{"$error":"#N/A"},{"$error":"#N/A"},{"$error":"#N/A"},{"$error":"#N/A"}]
[31,31017,"Brown County","Nebraska","Brown County, Nebraska",3,1,60,3145,95.389506999999995,31.796502,1907.7901429999999,{"$error":"#N/A"},{"$error":"#N/A"},{"$error":"#N/A"},{"$error":"#N/A"},{"$error":"#N/A"}]
[39,39015,"Brown County","Ohio","Brown County, Ohio",294,3,1108,44846,655.576863,6.6895600000000002,2470.6774289999998,17140,90.42,54.19,85.62,78.680000000000007]
[48,48049,"Brown County","Texas","Brown County, Texas",181,6,643,38106,474.990815,15.745552,1687.39831,{"$error":"#N/A"},{"$error":"#N/A"},{"$error":"#N/A"},{"$error":"#N/A"},{"$error":"#N/A"}]
[55,55009,"Brown County","Wisconsin","Brown County, Wisconsin",1053,13,3706,248007,424.58479,5.2417879999999997,1494.3126609999999,24580,99.46,115.4,101.3,91.01]
[37,37019,"Brunswick County","North Carolina","Brunswick County, North Carolina",583,19,1914,107431,542.673902,17.685770000000002,1781.6086600000001,48900,90.81,69.180000000000007,88.65,85.96]
[13,13029,"Bryan County","Georgia","Bryan County, Georgia",171,4,686,30233,565.60711800000001,13.230575999999999,2269.04376,42340,89.84,61.04,81.95,71.540000000000006]
[40,40013,"Bryan County","Oklahoma","Bryan County, Oklahoma",273,11,879,42416,643.625047,25.933610000000002,2072.3311960000001,{"$error":"#N/A"},{"$error":"#N/A"},{"$error":"#N/A"},{"$error":"#N/A"},{"$error":"#N/A"}]
[29,29021,"Buchanan County","Missouri","Buchanan County, Missouri",853,4,2621,89201,956.26730599999996,4.4842550000000001,2938.307867,41140,101.7,120.56,95.28,141.16999999999999]
[42,42017,"Bucks County","Pennsylvania","Bucks County, Pennsylvania",2519,59,5596,625249,402.87949300000002,9.4362410000000008,895.00343099999998,37980,102.39,126.03,79.87,99.58]
[31,31019,"Buffalo County","Nebraska","Buffalo County, Nebraska",155,8,919,46102,336.21100999999999,17.352826,1993.4059259999999,{"$error":"#N/A"},{"$error":"#N/A"},{"$error":"#N/A"},{"$error":"#N/A"},{"$error":"#N/A"}]
[55,55011,"Buffalo County","Wisconsin","Buffalo County, Wisconsin",61,0,248,13587,448.95856300000003,0,1825.2741590000001,{"$error":"#N/A"},{"$error":"#N/A"},{"$error":"#N/A"},{"$error":"#N/A"},{"$error":"#N/A"}]
[21,21029,"Bullitt County","Kentucky","Bullitt County, Kentucky",395,6,1738,74319,531.49261999999999,8.0733060000000005,2338.5675259999998,31140,95.94,83.26,81.17,86.62]
[13,13031,"Bulloch County","Georgia","Bulloch County, Georgia",538,13,1905,70217,766.19622000000004,18.514035,2713.0182150000001,{"$error":"#N/A"},{"$error":"#N/A"},{"$error":"#N/A"},{"$error":"#N/A"},{"$error":"#N/A"}]
[1,1011,"Bullock County","Alabama","Bullock County, Alabama",59,1,137,10914,540.59006799999997,9.1625440000000005,1255.2684630000001,{"$error":"#N/A"},{"$error":"#N/A"},{"$error":"#N/A"},{"$error":"#N/A"},{"$error":"#N/A"}]
[37,37021,"Buncombe County","North Carolina","Buncombe County, North Carolina",1822,22,5234,238318,764.52471100000002,9.231363,2196.2252119999998,11700,95.14,101.18,126.22,94.85]
[17,17011,"Bureau County","Illinois","Bureau County, Illinois",154,3,791,34978,440.27674500000001,8.5768199999999997,2261.4214649999999,{"$error":"#N/A"},{"$error":"#N/A"},{"$error":"#N/A"},{"$error":"#N/A"},{"$error":"#N/A"}]
[13,13033,"Burke County","Georgia","Burke County, Georgia",195,11,856,23316,836.33556399999998,47.177903999999998,3671.298679,{"$error":"#N/A"},{"$error":"#N/A"},{"$error":"#N/A"},{"$error":"#N/A"},{"$error":"#N/A"}]
[37,37023,"Burke County","North Carolina","Burke County, North Carolina",547,12,1604,90912,601.680746,13.199578000000001,1764.343541,25860,90.8,78.73,87.53,75.569999999999993]
[38,38015,"Burleigh County","North Dakota","Burleigh County, North Dakota",498,2,2736,81308,612.48585600000001,2.4597829999999998,3364.982536,13900,96.52,118.46,128.76,90.68]
[48,48051,"Burleson County","Texas","Burleson County, Texas",82,9,302,17187,477.10478899999998,52.365160000000003,1757.142026,17780,89.32,100.91,77.930000000000007,109.68]
[34,34005,"Burlington County","New Jersey","Burlington County, New Jersey",3143,44,12804,448734,700.41494499999999,9.8053640000000009,2853.360788,37980,100.52,120.12,99.61,99.94]
[48,48053,"Burnet County","Texas","Burnet County, Texas",246,13,640,42750,575.43859599999996,30.409357,1497.0760230000001,{"$error":"#N/A"},{"$error":"#N/A"},{"$error":"#N/A"},{"$error":"#N/A"},{"$error":"#N/A"}]
[55,55013,"Burnett County","Wisconsin","Burnett County, Wisconsin",77,4,227,15457,498.15617500000002,25.878243000000001,1468.590283,{"$error":"#N/A"},{"$error":"#N/A"},{"$error":"#N/A"},{"$error":"#N/A"},{"$error":"#N/A"}]
[31,31021,"Burt County","Nebraska","Burt County, Nebraska",8,0,71,6858,116.652085,0,1035.2872560000001,{"$error":"#N/A"},{"$error":"#N/A"},{"$error":"#N/A"},{"$error":"#N/A"},{"$error":"#N/A"}]
[1,1013,"Butler County","Alabama","Butler County, Alabama",138,4,515,20947,658.80555700000002,19.095813,2458.585955,{"$error":"#N/A"},{"$error":"#N/A"},{"$error":"#N/A"},{"$error":"#N/A"},{"$error":"#N/A"}]
[20,20015,"Butler County","Kansas","Butler County, Kansas",299,5,1223,65880,453.85549500000002,7.5895570000000001,1856.4055860000001,48620,95.93,116.69,81.59,76.86]
[29,29023,"Butler County","Missouri","Butler County, Missouri",322,7,1278,42794,752.44193099999995,16.357433,2986.3999629999998,{"$error":"#N/A"},{"$error":"#N/A"},{"$error":"#N/A"},{"$error":"#N/A"},{"$error":"#N/A"}]
[31,31023,"Butler County","Nebraska","Butler County, Nebraska",19,2,77,8395,226.32519400000001,23.823705,917.212627,{"$error":"#N/A"},{"$error":"#N/A"},{"$error":"#N/A"},{"$error":"#N/A"},{"$error":"#N/A"}]
[39,39017,"Butler County","Ohio","Butler County, Ohio",2288,19,8392,368130,621.51957200000004,5.1612200000000001,2279.6294790000002,17140,101.42,116.84,94.22,101.13]
[42,42019,"Butler County","Pennsylvania","Butler County, Pennsylvania",614,16,1608,183862,333.94611200000003,8.7021789999999992,874.56897000000004,38300,93.68,105.26,120.02,79.27]
[6,6007,"Butte County","California","Butte County, California",947,38,2014,220000,430.454545,17.272727,915.45454500000005,17020,99.2,121.87,106.28,91.9]
[16,16023,"Butte County","Idaho","Butte County, Idaho",20,1,71,2891,691.802145,34.590107000000003,2455.8976130000001,{"$error":"#N/A"},{"$error":"#N/A"},{"$error":"#N/A"},{"$error":"#N/A"},{"$error":"#N/A"}]
[13,13035,"Butts County","Georgia","Butts County, Georgia",144,3,445,23655,608.75079300000004,12.682308000000001,1881.2090470000001,12060,91.1,82.26,87.09,67.510000000000005]
[37,37025,"Cabarrus County","North Carolina","Cabarrus County, North Carolina",1339,13,4056,178011,752.20070699999997,7.3029190000000002,2278.5108789999999,16740,96.2,97.46,88.76,88]
[54,54011,"Cabell County","West Virginia","Cabell County, West Virginia",1329,13,3981,96319,1379.7900729999999,13.496817999999999,4133.1409169999997,26580,98.52,112.81,183.48,119.12]
[49,49005,"Cache County","Utah","Cache County, Utah",461,4,1837,112656,409.21033899999998,3.5506319999999998,1630.6277520000001,30860,100.03,120.88,128.97999999999999,82.21]
[40,40015,"Caddo County","Oklahoma","Caddo County, Oklahoma",158,9,375,29600,533.78378399999997,30.405404999999998,1266.8918920000001,{"$error":"#N/A"},{"$error":"#N/A"},{"$error":"#N/A"},{"$error":"#N/A"},{"$error":"#N/A"}]
[22,22017,"Caddo Parish","Louisiana","Caddo Parish, Louisiana",2776,36,10157,254969,1088.75981,14.119363999999999,3983.6215379999999,43340,98.39,108.22,98.44,110.2]
[6,6009,"Calaveras County","California","Calaveras County, California",264,11,565,45578,579.22681999999998,24.134450999999999,1239.6331560000001,{"$error":"#N/A"},{"$error":"#N/A"},{"$error":"#N/A"},{"$error":"#N/A"},{"$error":"#N/A"}]
[22,22019,"Calcasieu Parish","Louisiana","Calcasieu Parish, Louisiana",1862,18,6096,192768,965.927955,9.3376490000000008,3162.350598,29340,95.68,105.58,123.81,94.14]
[29,29025,"Caldwell County","Missouri","Caldwell County, Missouri",28,5,90,9424,297.11375199999998,53.056027,955.00848900000005,{"$error":"#N/A"},{"$error":"#N/A"},{"$error":"#N/A"},{"$error":"#N/A"},{"$error":"#N/A"}]
[37,37027,"Caldwell County","North Carolina","Caldwell County, North Carolina",528,17,1516,83029,635.92238899999995,20.474774,1825.86807,25860,92.41,74.22,123.75,80.599999999999994]
[48,48055,"Caldwell County","Texas","Caldwell County, Texas",179,7,564,38066,470.235906,18.389113999999999,1481.6371569999999,12420,89.63,89.32,84.6,100.93]
[1,1015,"Calhoun County","Alabama",{"$f":"CONCATENATE(C258,\", \",D258)","v":"Calhoun County, Alabama"},825,15,3537,118572,695.77977899999996,12.650541,2982.997672,11500,91.58,86.7,117.7,104.38]
[12,12013,"Calhoun County","Florida","Calhoun County, Florida",102,3,138,14625,697.43589699999995,20.512820999999999,943.589744,{"$error":"#N/A"},{"$error":"#N/A"},{"$error":"#N/A"},{"$error":"#N/A"},{"$error":"#N/A"}]
[13,13037,"Calhoun County","Georgia","Calhoun County, Georgia",13,1,55,6694,194.203765,14.938751,821.63131199999998,{"$error":"#N/A"},{"$error":"#N/A"},{"$error":"#N/A"},{"$error":"#N/A"},{"$error":"#N/A"}]
[17,17013,"Calhoun County","Illinois","Calhoun County, Illinois",16,0,147,5089,314.403616,0,2888.5832190000001,{"$error":"#N/A"},{"$error":"#N/A"},{"$error":"#N/A"},{"$error":"#N/A"},{"$error":"#N/A"}]
[26,26025,"Calhoun County","Michigan","Calhoun County, Michigan",708,12,4739,136146,520.02996800000005,8.8140669999999997,3480.8220590000001,12980,95.5,103.98,103.91,94.09]
[45,45017,"Calhoun County","South Carolina","Calhoun County, South Carolina",94,7,442,15175,619.43986800000005,46.128501,2912.6853379999998,{"$error":"#N/A"},{"$error":"#N/A"},{"$error":"#N/A"},{"$error":"#N/A"},{"$error":"#N/A"}]
[48,48057,"Calhoun County","Texas","Calhoun County, Texas",84,3,301,21381,392.87217600000002,14.031148999999999,1407.7919649999999,47020,97.89,104.62,74.17,145.38999999999999]
[48,48059,"Callahan County","Texas","Callahan County, Texas",54,2,188,13544,398.70053200000001,14.766686,1388.0685169999999,{"$error":"#N/A"},{"$error":"#N/A"},{"$error":"#N/A"},{"$error":"#N/A"},{"$error":"#N/A"}]
[29,29027,"Callaway County","Missouri","Callaway County, Missouri",233,9,1024,44332,525.57971699999996,20.301362000000001,2309.8439050000002,27620,90.4,82.96,97.28,84.65]
[55,55015,"Calumet County","Wisconsin","Calumet County, Wisconsin",150,2,682,48971,306.30373100000003,4.0840500000000004,1392.660963,11540,94.95,80.84,87.75,80.59]
[24,24009,"Calvert County","Maryland","Calvert County, Maryland",420,6,1121,88737,473.30876599999999,6.7615540000000003,1263.2836359999999,47900,95.09,73.94,82.27,107.81]
[16,16025,"Camas County","Idaho","Camas County, Idaho",5,0,30,1117,447.62757399999998,0,2685.7654429999998,{"$error":"#N/A"},{"$error":"#N/A"},{"$error":"#N/A"},{"$error":"#N/A"},{"$error":"#N/A"}]
[42,42021,"Cambria County","Pennsylvania","Cambria County, Pennsylvania",453,17,1137,143679,315.286159,11.831931000000001,791.34737900000005,27780,95.43,107.43,120.16,119.48]
[13,13039,"Camden County","Georgia","Camden County, Georgia",320,7,993,50513,633.50028699999996,13.857818999999999,1965.8305780000001,{"$error":"#N/A"},{"$error":"#N/A"},{"$error":"#N/A"},{"$error":"#N/A"},{"$error":"#N/A"}]
[29,29029,"Camden County","Missouri","Camden County, Missouri",223,5,804,44002,506.79514599999999,11.36312,1827.1896730000001,{"$error":"#N/A"},{"$error":"#N/A"},{"$error":"#N/A"},{"$error":"#N/A"},{"$error":"#N/A"}]
[34,34007,"Camden County","New Jersey","Camden County, New Jersey",4200,42,14653,513657,817.66626399999996,8.1766629999999996,2852.6818480000002,37980,115.67,137.68,105.55,141.06]
[37,37029,"Camden County","North Carolina","Camden County, North Carolina",38,0,140,9980,380.76152300000001,0,1402.805611,{"$error":"#N/A"},{"$error":"#N/A"},{"$error":"#N/A"},{"$error":"#N/A"},{"$error":"#N/A"}]
[42,42023,"Cameron County","Pennsylvania","Cameron County, Pennsylvania",23,0,55,5085,452.31071800000001,0,1081.612586,{"$error":"#N/A"},{"$error":"#N/A"},{"$error":"#N/A"},{"$error":"#N/A"},{"$error":"#N/A"}]
[48,48061,"Cameron County","Texas","Cameron County, Texas",2183,34,7868,406220,537.39353100000005,8.3698490000000003,1936.8814930000001,15180,100.34,102.76,87.93,110.32]
[48,48063,"Camp County","Texas","Camp County, Texas",71,3,194,12401,572.53447300000005,24.191597000000002,1564.3899690000001,{"$error":"#N/A"},{"$error":"#N/A"},{"$error":"#N/A"},{"$error":"#N/A"},{"$error":"#N/A"}]
[21,21037,"Campbell County","Kentucky","Campbell County, Kentucky",382,7,2969,90336,422.865746,7.7488489999999999,3286.618845,17140,102.73,124.27,85.29,109.72]
[47,47013,"Campbell County","Tennessee","Campbell County, Tennessee",305,13,1130,40716,749.09126600000002,31.92848,2775.3217410000002,{"$error":"#N/A"},{"$error":"#N/A"},{"$error":"#N/A"},{"$error":"#N/A"},{"$error":"#N/A"}]
[51,51031,"Campbell County","Virginia","Campbell County, Virginia",330,0,852,54842,601.72860200000002,0,1553.553846,31340,91.88,77.31,83.38,109.02]
[56,56005,"Campbell County","Wyoming","Campbell County, Wyoming",307,14,1236,46133,665.46723599999996,30.34704,2679.21011,{"$error":"#N/A"},{"$error":"#N/A"},{"$error":"#N/A"},{"$error":"#N/A"},{"$error":"#N/A"}]
[40,40017,"Canadian County","Oklahoma","Canadian County, Oklahoma",467,14,1497,115541,404.18552699999998,12.116911,1295.643971,36420,97.03,97.68,82.74,92.01]
[13,13043,"Candler County","Georgia","Candler County, Georgia",76,1,196,10998,691.03473399999996,9.0925619999999991,1782.142208,{"$error":"#N/A"},{"$error":"#N/A"},{"$error":"#N/A"},{"$error":"#N/A"},{"$error":"#N/A"}]
[47,47015,"Cannon County","Tennessee","Cannon County, Tennessee",77,3,285,13801,557.93058499999995,21.737555,2065.0677489999998,{"$error":"#N/A"},{"$error":"#N/A"},{"$error":"#N/A"},{"$error":"#N/A"},{"$error":"#N/A"}]
[16,16027,"Canyon County","Idaho","Canyon County, Idaho",897,10,2177,188923,474.79660999999999,5.2931619999999997,1152.321316,14260,98.64,112.28,90.6,106.1]
[29,29031,"Cape Girardeau County","Missouri","Cape Girardeau County, Missouri",440,6,2646,75674,581.44144600000004,7.9287470000000004,3496.5774240000001,16020,95.78,"NA",114.42,102.52]
[34,34009,"Cape May County","New Jersey","Cape May County, New Jersey",761,8,3392,97265,782.39860199999998,8.224952,3487.3798390000002,36140,97.81,117.44,101.22,145.72999999999999]
[30,30009,"Carbon County","Montana","Carbon County, Montana",48,2,205,10078,476.28497700000003,19.845206999999998,2034.1337570000001,13740,88.78,68.92,85.23,93.01]
[42,42025,"Carbon County","Pennsylvania","Carbon County, Pennsylvania",250,8,600,65249,383.14763399999998,12.260724,919.55432299999995,10900,93.36,98.43,90.96,97.65]
[49,49007,"Carbon County","Utah","Carbon County, Utah",77,1,381,21403,359.76265000000001,4.6722419999999998,1780.124282,{"$error":"#N/A"},{"$error":"#N/A"},{"$error":"#N/A"},{"$error":"#N/A"},{"$error":"#N/A"}]
[56,56007,"Carbon County","Wyoming","Carbon County, Wyoming",230,5,943,15885,1447.9068299999999,31.476234999999999,5936.4180040000001,{"$error":"#N/A"},{"$error":"#N/A"},{"$error":"#N/A"},{"$error":"#N/A"},{"$error":"#N/A"}]
[16,16029,"Caribou County","Idaho","Caribou County, Idaho",41,0,107,6963,588.82665499999996,0,1536.6939540000001,{"$error":"#N/A"},{"$error":"#N/A"},{"$error":"#N/A"},{"$error":"#N/A"},{"$error":"#N/A"}]
[27,27017,"Carlton County","Minnesota","Carlton County, Minnesota",116,6,381,35386,327.81325900000002,16.955857999999999,1076.696999,20260,89.72,89.44,86.19,89.97]
[24,24011,"Caroline County","Maryland","Caroline County, Maryland",130,8,370,33066,393.15308800000003,24.194036000000001,1118.9741730000001,{"$error":"#N/A"},{"$error":"#N/A"},{"$error":"#N/A"},{"$error":"#N/A"},{"$error":"#N/A"}]
[51,51033,"Caroline County","Virginia","Caroline County, Virginia",178,0,539,28545,623.57680900000003,0,1888.2466280000001,40060,89.04,40.799999999999997,74.87,77.09]
[13,13045,"Carroll County","Georgia","Carroll County, Georgia",1096,22,3352,110527,991.61290899999995,19.904639,3032.7431310000002,12060,92.24,80.47,108.64,59.41]
[17,17015,"Carroll County","Illinois","Carroll County, Illinois",50,4,299,15387,324.94963300000001,25.995971000000001,1943.1988040000001,{"$error":"#N/A"},{"$error":"#N/A"},{"$error":"#N/A"},{"$error":"#N/A"},{"$error":"#N/A"}]
[18,18015,"Carroll County","Indiana","Carroll County, Indiana",12,1,116,20155,59.538575999999999,4.9615479999999996,575.53956800000003,29140,89.42,86.26,86.24,85.98]
[24,24013,"Carroll County","Maryland","Carroll County, Maryland",667,13,1749,167134,399.08097700000002,7.7781900000000004,1046.4657099999999,12580,95.33,95.07,100.64,94.25]
[29,29033,"Carroll County","Missouri","Carroll County, Missouri",41,3,121,9295,441.09736400000003,32.275416999999997,1301.7751479999999,{"$error":"#N/A"},{"$error":"#N/A"},{"$error":"#N/A"},{"$error":"#N/A"},{"$error":"#N/A"}]
[39,39019,"Carroll County","Ohio","Carroll County, Ohio",157,3,495,28836,544.45831599999997,10.403662000000001,1716.604245,15940,89.77,69.05,94.41,68.25]
[47,47017,"Carroll County","Tennessee","Carroll County, Tennessee",158,5,519,28522,553.958348,17.530327,1819.647991,{"$error":"#N/A"},{"$error":"#N/A"},{"$error":"#N/A"},{"$error":"#N/A"},{"$error":"#N/A"}]
[32,32510,"Carson City","Nevada","Carson City, Nevada",207,1,734,55274,374.49795599999999,1.809169,1327.9299490000001,16180,104.88,133.53,80.099999999999994,118.62]
[48,48065,"Carson County","Texas","Carson County, Texas",35,3,98,6182,566.15981899999997,48.527983999999996,1585.2474930000001,{"$error":"#N/A"},{"$error":"#N/A"},{"$error":"#N/A"},{"$error":"#N/A"},{"$error":"#N/A"}]
[29,29035,"Carter County","Missouri","Carter County, Missouri",36,2,129,6265,574.62090999999998,31.923383999999999,2059.0582599999998,{"$error":"#N/A"},{"$error":"#N/A"},{"$error":"#N/A"},{"$error":"#N/A"},{"$error":"#N/A"}]
[40,40019,"Carter County","Oklahoma","Carter County, Oklahoma",305,10,1119,47557,641.33565999999996,21.027398999999999,2352.9659150000002,{"$error":"#N/A"},{"$error":"#N/A"},{"$error":"#N/A"},{"$error":"#N/A"},{"$error":"#N/A"}]
[47,47019,"Carter County","Tennessee","Carter County, Tennessee",363,8,1518,57424,632.13987199999997,13.931457,2643.494009,27740,93.3,77.41,129.08000000000001,96.48]
[37,37031,"Carteret County","North Carolina","Carteret County, North Carolina",366,7,1042,66469,550.63262599999996,10.531224999999999,1567.6480770000001,{"$error":"#N/A"},{"$error":"#N/A"},{"$error":"#N/A"},{"$error":"#N/A"},{"$error":"#N/A"}]
[27,27019,"Carver County","Minnesota","Carver County, Minnesota",236,6,881,91042,259.22101900000001,6.5903650000000003,967.68524400000001,33460,94.8,100.1,82.7,100.41]
[30,30013,"Cascade County","Montana","Cascade County, Montana",458,8,2154,81327,563.15860699999996,9.8368319999999994,2648.5668970000002,24500,97.85,123.74,127.17,118.61]
[17,17017,"Cass County","Illinois","Cass County, Illinois",45,3,275,13642,329.86365599999999,21.99091,2015.8334560000001,{"$error":"#N/A"},{"$error":"#N/A"},{"$error":"#N/A"},{"$error":"#N/A"},{"$error":"#N/A"}]
[26,26027,"Cass County","Michigan","Cass County, Michigan",185,4,1255,52293,353.77584000000002,7.6492069999999996,2399.9388060000001,43780,89.45,65.94,94.7,73.69]
[29,29037,"Cass County","Missouri","Cass County, Missouri",401,7,1636,99478,403.10420399999998,7.0367319999999998,1644.584732,28140,94.15,94.94,79.62,83.45]
[31,31025,"Cass County","Nebraska","Cass County, Nebraska",68,7,356,25241,269.40295600000002,27.732657,1410.4037080000001,36540,89.1,86.96,86.25,95.22]
[38,38017,"Cass County","North Dakota","Cass County, North Dakota",739,10,3012,149778,493.39689399999997,6.6765480000000004,2010.9762450000001,22020,99.52,125.9,113.31,97.15]
[48,48067,"Cass County","Texas","Cass County, Texas",182,10,488,30464,597.42647099999999,32.825629999999997,1601.890756,{"$error":"#N/A"},{"$error":"#N/A"},{"$error":"#N/A"},{"$error":"#N/A"},{"$error":"#N/A"}]
[16,16031,"Cassia County","Idaho","Cassia County, Idaho",139,5,458,22952,605.61171100000001,21.784593999999998,1995.4688040000001,{"$error":"#N/A"},{"$error":"#N/A"},{"$error":"#N/A"},{"$error":"#N/A"},{"$error":"#N/A"}]
[48,48069,"Castro County","Texas","Castro County, Texas",28,1,89,8062,347.30835999999999,12.40387,1103.9444309999999,{"$error":"#N/A"},{"$error":"#N/A"},{"$error":"#N/A"},{"$error":"#N/A"},{"$error":"#N/A"}]
[37,37033,"Caswell County","North Carolina","Caswell County, North Carolina",131,6,425,23719,552.29984400000001,25.296175999999999,1791.812471,{"$error":"#N/A"},{"$error":"#N/A"},{"$error":"#N/A"},{"$error":"#N/A"},{"$error":"#N/A"}]
[37,37035,"Catawba County","North Carolina","Catawba County, North Carolina",1213,16,3720,154358,785.83552499999996,10.365513999999999,2409.9819900000002,25860,93.56,91.54,85.36,88.36]
[13,13047,"Catoosa County","Georgia","Catoosa County, Georgia",555,9,1869,63942,867.97410200000002,14.075256,2922.9614339999998,16860,93.34,79.45,88.25,78.55]
[36,36009,"Cattaraugus County","New York",{"$f":"CONCATENATE(C322,\", \",D322)","v":"Cattaraugus County, New York"},428,12,2348,80317,532.88842999999997,14.940797,2923.4159639999998,{"$error":"#N/A"},{"$error":"#N/A"},{"$error":"#N/A"},{"$error":"#N/A"},{"$error":"#N/A"}]
[36,36011,"Cayuga County","New York","Cayuga County, New York",498,6,2378,80026,622.29775299999994,7.4975630000000004,2971.534251,{"$error":"#N/A"},{"$error":"#N/A"},{"$error":"#N/A"},{"$error":"#N/A"},{"$error":"#N/A"}]
[24,24015,"Cecil County","Maryland","Cecil County, Maryland",605,19,1565,101108,598.37005999999997,18.791786999999999,1547.8498239999999,37980,93.63,88.61,89.42,100.5]
[29,29039,"Cedar County","Missouri","Cedar County, Missouri",64,0,150,13982,457.73136899999997,0,1072.807896,{"$error":"#N/A"},{"$error":"#N/A"},{"$error":"#N/A"},{"$error":"#N/A"},{"$error":"#N/A"}]
[31,31027,"Cedar County","Nebraska","Cedar County, Nebraska",19,2,106,8852,214.640759,22.593764,1197.4694979999999,{"$error":"#N/A"},{"$error":"#N/A"},{"$error":"#N/A"},{"$error":"#N/A"},{"$error":"#N/A"}]
[42,42027,"Centre County","Pennsylvania","Centre County, Pennsylvania",474,18,1155,153990,307.81219599999997,11.689071,750.04870400000004,44300,110.1,115.7,149.49,91.83]
[1,1017,"Chambers County","Alabama","Chambers County, Alabama",187,7,850,34215,546.54391299999997,20.458863000000001,2484.290516,{"$error":"#N/A"},{"$error":"#N/A"},{"$error":"#N/A"},{"$error":"#N/A"},{"$error":"#N/A"}]
[48,48071,"Chambers County","Texas","Chambers County, Texas",255,8,829,35096,726.57852700000001,22.794619999999998,2362.0925459999999,26420,88.91,43.66,75.63,77.45]
[17,17019,"Champaign County","Illinois","Champaign County, Illinois",680,12,3083,201081,338.17217900000003,5.9677439999999997,1533.212984,16580,109.28,127.58,141.54,107.66]
[39,39021,"Champaign County","Ohio","Champaign County, Ohio",165,6,622,40097,411.50210700000002,14.963713,1551.238247,{"$error":"#N/A"},{"$error":"#N/A"},{"$error":"#N/A"},{"$error":"#N/A"},{"$error":"#N/A"}]
[29,29041,"Chariton County","Missouri","Chariton County, Missouri",22,0,83,7831,280.93474700000002,0,1059.8901800000001,{"$error":"#N/A"},{"$error":"#N/A"},{"$error":"#N/A"},{"$error":"#N/A"},{"$error":"#N/A"}]
[24,24017,"Charles County","Maryland","Charles County, Maryland",843,21,2403,146551,575.22637199999997,14.329483,1639.7022199999999,47900,97.94,88.84,83.65,107.96]
[45,45019,"Charleston County","South Carolina","Charleston County, South Carolina",3116,47,11756,350209,889.75440400000002,13.420557000000001,3356.8526219999999,16700,103.2,119.32,138.47999999999999,116.56]
[26,26029,"Charlevoix County","Michigan","Charlevoix County, Michigan",150,2,1001,25949,578.05695800000001,7.7074259999999999,3857.5667659999999,{"$error":"#N/A"},{"$error":"#N/A"},{"$error":"#N/A"},{"$error":"#N/A"},{"$error":"#N/A"}]
[12,12015,"Charlotte County","Florida","Charlotte County, Florida",1358,21,2015,159978,848.86671899999999,13.126804999999999,1259.548188,39460,94.98,97.96,103.74,114.83]
[51,51540,"Charlottesville city","Virginia","Charlottesville city, Virginia",254,0,772,43475,584.24381800000003,0,1775.7331799999999,16820,128.80000000000001,148.33000000000001,210.83,152.37]
[13,13049,"Charlton County","Georgia","Charlton County, Georgia",60,5,177,12171,492.97510499999999,41.081259000000003,1454.2765589999999,{"$error":"#N/A"},{"$error":"#N/A"},{"$error":"#N/A"},{"$error":"#N/A"},{"$error":"#N/A"}]
[20,20017,"Chase County","Kansas","Chase County, Kansas",17,3,92,2790,609.31899599999997,107.526882,3297.491039,{"$error":"#N/A"},{"$error":"#N/A"},{"$error":"#N/A"},{"$error":"#N/A"},{"$error":"#N/A"}]
[31,31029,"Chase County","Nebraska","Chase County, Nebraska",4,0,29,3966,100.857287,0,731.21532999999999,{"$error":"#N/A"},{"$error":"#N/A"},{"$error":"#N/A"},{"$error":"#N/A"},{"$error":"#N/A"}]
[13,13051,"Chatham County","Georgia","Chatham County, Georgia",2728,40,12583,265128,1028.936966,15.087052,4746.0094749999998,42340,99.64,117.03,126.17,126.88]
[37,37037,"Chatham County","North Carolina","Chatham County, North Carolina",293,5,1206,63505,461.38099399999999,7.8733959999999996,1899.0630659999999,20500,91.14,56.42,79.760000000000005,62.63]
[13,13053,"Chattahoochee County","Georgia","Chattahoochee County, Georgia",18,0,56,11267,159.75858700000001,0,497.02671500000002,17980,97.14,100.48,70.87,98.62]
[13,13055,"Chattooga County","Georgia","Chattooga County, Georgia",206,6,481,26015,791.85085500000002,23.063617000000001,1848.9333079999999,{"$error":"#N/A"},{"$error":"#N/A"},{"$error":"#N/A"},{"$error":"#N/A"},{"$error":"#N/A"}]
[20,20019,"Chautauqua County","Kansas","Chautauqua County, Kansas",15,3,57,3669,408.83074399999998,81.766148999999999,1553.5568270000001,{"$error":"#N/A"},{"$error":"#N/A"},{"$error":"#N/A"},{"$error":"#N/A"},{"$error":"#N/A"}]
[36,36013,"Chautauqua County","New York","Chautauqua County, New York",804,14,3738,134905,595.97494500000005,10.377673,2770.8387379999999,{"$error":"#N/A"},{"$error":"#N/A"},{"$error":"#N/A"},{"$error":"#N/A"},{"$error":"#N/A"}]
[47,47021,"Cheatham County","Tennessee","Cheatham County, Tennessee",209,7,991,39105,534.45850900000005,17.900524000000001,2534.2027870000002,34980,93.65,56.61,86.41,61.81]
[26,26031,"Cheboygan County","Michigan","Cheboygan County, Michigan",130,4,987,26152,497.09391299999999,15.295197,3774.0899359999999,{"$error":"#N/A"},{"$error":"#N/A"},{"$error":"#N/A"},{"$error":"#N/A"},{"$error":"#N/A"}]
[53,53007,"Chelan County","Washington","Chelan County, Washington",334,8,1014,72453,460.98850299999998,11.041641,1399.5279700000001,48300,97.97,126.31,120.3,99.04]
[36,36015,"Chemung County","New York","Chemung County, New York",476,14,3125,88830,535.85500400000001,15.760441,3517.9556459999999,21300,98.96,117.49,130.79,99.06]
[36,36017,"Chenango County","New York","Chenango County, New York",296,7,1768,50477,586.40569000000005,13.867702,3502.5853360000001,{"$error":"#N/A"},{"$error":"#N/A"},{"$error":"#N/A"},{"$error":"#N/A"},{"$error":"#N/A"}]
[1,1019,"Cherokee County","Alabama","Cherokee County, Alabama",162,4,464,25989,623.340644,15.391126999999999,1785.3707340000001,{"$error":"#N/A"},{"$error":"#N/A"},{"$error":"#N/A"},{"$error":"#N/A"},{"$error":"#N/A"}]
[13,13057,"Cherokee County","Georgia","Cherokee County, Georgia",1068,15,4603,214346,498.25982299999998,6.9980310000000001,2147.4625139999998,12060,97.06,94.58,80.91,83.44]
[20,20021,"Cherokee County","Kansas","Cherokee County, Kansas",64,4,486,21603,296.25515000000001,18.515947000000001,2249.687543,{"$error":"#N/A"},{"$error":"#N/A"},{"$error":"#N/A"},{"$error":"#N/A"},{"$error":"#N/A"}]
[37,37039,"Cherokee County","North Carolina","Cherokee County, North Carolina",131,6,344,27444,477.33566500000001,21.862701999999999,1253.461595,{"$error":"#N/A"},{"$error":"#N/A"},{"$error":"#N/A"},{"$error":"#N/A"},{"$error":"#N/A"}]
[40,40021,"Cherokee County","Oklahoma","Cherokee County, Oklahoma",303,8,765,46987,644.85921599999995,17.025986,1628.109903,{"$error":"#N/A"},{"$error":"#N/A"},{"$error":"#N/A"},{"$error":"#N/A"},{"$error":"#N/A"}]
[45,45021,"Cherokee County","South Carolina","Cherokee County, South Carolina",441,7,1308,55342,796.86314200000004,12.648621,2363.4852369999999,{"$error":"#N/A"},{"$error":"#N/A"},{"$error":"#N/A"},{"$error":"#N/A"},{"$error":"#N/A"}]
[48,48073,"Cherokee County","Texas","Cherokee County, Texas",283,15,894,50845,556.593569,29.501425999999999,1758.2849839999999,{"$error":"#N/A"},{"$error":"#N/A"},{"$error":"#N/A"},{"$error":"#N/A"},{"$error":"#N/A"}]
[31,31031,"Cherry County","Nebraska","Cherry County, Nebraska",11,4,106,5713,192.54332199999999,70.015754000000001,1855.417469,{"$error":"#N/A"},{"$error":"#N/A"},{"$error":"#N/A"},{"$error":"#N/A"},{"$error":"#N/A"}]
[51,51550,"Chesapeake city","Virginia","Chesapeake city, Virginia",1001,0,2275,222209,450.47680300000002,0,1023.810917,47260,103.4,108.24,88.28,109.52]
[42,42029,"Chester County","Pennsylvania","Chester County, Pennsylvania",1418,35,4060,498886,284.233272,7.015631,813.813176,37980,98.81,117.12,91.2,89.11]
[45,45023,"Chester County","South Carolina","Chester County, South Carolina",267,10,630,33140,805.67290300000002,30.175014999999998,1901.0259510000001,{"$error":"#N/A"},{"$error":"#N/A"},{"$error":"#N/A"},{"$error":"#N/A"},{"$error":"#N/A"}]
[47,47023,"Chester County","Tennessee","Chester County, Tennessee",101,2,353,17131,589.57445600000005,11.674742,2060.5919090000002,27180,91.73,79.08,69.11,55.42]
[45,45025,"Chesterfield County","South Carolina","Chesterfield County, South Carolina",245,13,575,46734,524.24359100000004,27.817007,1230.367612,{"$error":"#N/A"},{"$error":"#N/A"},{"$error":"#N/A"},{"$error":"#N/A"},{"$error":"#N/A"}]
[51,51041,"Chesterfield County","Virginia","Chesterfield County, Virginia",1714,0,5476,316236,542.00027799999998,0,1731.6181590000001,40060,100.63,98.15,114.36,102.77]
[20,20023,"Cheyenne County","Kansas","Cheyenne County, Kansas",9,1,46,2726,330.15407199999999,36.683785999999998,1687.4541449999999,{"$error":"#N/A"},{"$error":"#N/A"},{"$error":"#N/A"},{"$error":"#N/A"},{"$error":"#N/A"}]
[31,31033,"Cheyenne County","Nebraska","Cheyenne County, Nebraska",24,0,213,9998,240.04801,0,2130.4260850000001,{"$error":"#N/A"},{"$error":"#N/A"},{"$error":"#N/A"},{"$error":"#N/A"},{"$error":"#N/A"}]
[48,48075,"Childress County","Texas","Childress County, Texas",8,1,66,7041,113.62022399999999,14.202527999999999,937.366851,{"$error":"#N/A"},{"$error":"#N/A"},{"$error":"#N/A"},{"$error":"#N/A"},{"$error":"#N/A"}]
[1,1021,"Chilton County","Alabama","Chilton County, Alabama",256,18,853,43643,586.57745799999998,41.243727999999997,1954.4944210000001,13820,89.98,52.55,81.61,62.37]
[26,26033,"Chippewa County","Michigan","Chippewa County, Michigan",160,4,1046,38520,415.36864000000003,10.384216,2715.4724820000001,{"$error":"#N/A"},{"$error":"#N/A"},{"$error":"#N/A"},{"$error":"#N/A"},{"$error":"#N/A"}]
[55,55017,"Chippewa County","Wisconsin","Chippewa County, Wisconsin",243,8,1196,62415,389.32948800000003,12.817432,1916.20604,20740,92.19,85.15,89.4,88.5]
[27,27025,"Chisago County","Minnesota","Chisago County, Minnesota",241,3,586,53887,447.23217099999999,5.5672050000000004,1087.4607980000001,33460,91.23,72.569999999999993,80.16,79.33]
[50,50007,"Chittenden County","Vermont","Chittenden County, Vermont",541,5,4375,156545,345.58753100000001,3.1939700000000002,2794.7235620000001,15540,101.56,121.65,152.59,89.97]
[1,1023,"Choctaw County","Alabama","Choctaw County, Alabama",48,2,141,13859,346.34533499999998,14.431056,1017.389422,{"$error":"#N/A"},{"$error":"#N/A"},{"$error":"#N/A"},{"$error":"#N/A"},{"$error":"#N/A"}]
[40,40023,"Choctaw County","Oklahoma","Choctaw County, Oklahoma",72,6,185,15205,473.52844499999998,39.460704,1216.705031,{"$error":"#N/A"},{"$error":"#N/A"},{"$error":"#N/A"},{"$error":"#N/A"},{"$error":"#N/A"}]
[37,37041,"Chowan County","North Carolina","Chowan County, North Carolina",65,2,251,14793,439.39701200000002,13.519907999999999,1696.748462,{"$error":"#N/A"},{"$error":"#N/A"},{"$error":"#N/A"},{"$error":"#N/A"},{"$error":"#N/A"}]
[17,17021,"Christian County","Illinois","Christian County, Illinois",133,4,587,34800,382.18390799999997,11.494253,1686.7816089999999,{"$error":"#N/A"},{"$error":"#N/A"},{"$error":"#N/A"},{"$error":"#N/A"},{"$error":"#N/A"}]
[21,21047,"Christian County","Kentucky","Christian County, Kentucky",340,10,1905,73955,459.73903000000001,13.521736000000001,2575.8907439999998,17300,97.34,94.37,87.11,104.06]
[29,29043,"Christian County","Missouri","Christian County, Missouri",328,8,1186,77422,423.65219200000001,10.332979999999999,1531.8643279999999,44180,91.93,89.25,81.099999999999994,90.63]
[32,32001,"Churchill County","Nevada","Churchill County, Nevada",85,8,364,24877,341.68107099999997,32.158217999999998,1463.1989390000001,{"$error":"#N/A"},{"$error":"#N/A"},{"$error":"#N/A"},{"$error":"#N/A"},{"$error":"#N/A"}]
[40,40025,"Cimarron County","Oklahoma","Cimarron County, Oklahoma",0,0,36,2475,0,0,1454.5454549999999,{"$error":"#N/A"},{"$error":"#N/A"},{"$error":"#N/A"},{"$error":"#N/A"},{"$error":"#N/A"}]
[12,12017,"Citrus County","Florida","Citrus County, Florida",851,25,1245,141236,602.53759700000001,17.700869000000001,881.50329899999997,{"$error":"#N/A"},{"$error":"#N/A"},{"$error":"#N/A"},{"$error":"#N/A"},{"$error":"#N/A"}]
[41,41005,"Clackamas County","Oregon","Clackamas County, Oregon",2279,31,4434,375992,606.12991799999998,8.2448560000000004,1179.2804100000001,38900,101.8,126.17,90.03,96.25]
[47,47025,"Claiborne County","Tennessee","Claiborne County, Tennessee",161,7,550,32213,499.79821800000002,21.730357000000001,1707.385217,{"$error":"#N/A"},{"$error":"#N/A"},{"$error":"#N/A"},{"$error":"#N/A"},{"$error":"#N/A"}]
[53,53009,"Clallam County","Washington","Clallam County, Washington",281,9,825,71404,393.53537599999999,12.604336,1155.397457,{"$error":"#N/A"},{"$error":"#N/A"},{"$error":"#N/A"},{"$error":"#N/A"},{"$error":"#N/A"}]
[26,26035,"Clare County","Michigan",{"$f":"CONCATENATE(C386,\", \",D386)","v":"Clare County, Michigan"},133,5,1162,30926,430.05885000000001,16.167625999999998,3757.3562700000002,{"$error":"#N/A"},{"$error":"#N/A"},{"$error":"#N/A"},{"$error":"#N/A"},{"$error":"#N/A"}]
[45,45027,"Clarendon County","South Carolina","Clarendon County, South Carolina",197,7,584,34971,563.32389699999999,20.016584999999999,1669.9551059999999,{"$error":"#N/A"},{"$error":"#N/A"},{"$error":"#N/A"},{"$error":"#N/A"},{"$error":"#N/A"}]
[42,42031,"Clarion County","Pennsylvania","Clarion County, Pennsylvania",156,7,384,39988,390.11703499999999,17.505251999999999,960.28808600000002,{"$error":"#N/A"},{"$error":"#N/A"},{"$error":"#N/A"},{"$error":"#N/A"},{"$error":"#N/A"}]
[16,16033,"Clark County","Idaho","Clark County, Idaho",13,2,61,982,1323.828921,203.665988,6211.8126270000002,{"$error":"#N/A"},{"$error":"#N/A"},{"$error":"#N/A"},{"$error":"#N/A"},{"$error":"#N/A"}]
[17,17023,"Clark County","Illinois","Clark County, Illinois",67,1,415,16335,410.16222800000003,6.1218240000000002,2540.5570859999998,{"$error":"#N/A"},{"$error":"#N/A"},{"$error":"#N/A"},{"$error":"#N/A"},{"$error":"#N/A"}]
[18,18019,"Clark County","Indiana","Clark County, Indiana",91,0,864,110232,82.553161000000003,0,783.80143699999996,31140,97.57,113.96,86.06,107.2]
[20,20025,"Clark County","Kansas","Clark County, Kansas",21,0,89,2215,948.08126400000003,0,4018.0586910000002,{"$error":"#N/A"},{"$error":"#N/A"},{"$error":"#N/A"},{"$error":"#N/A"},{"$error":"#N/A"}]
[21,21049,"Clark County","Kentucky","Clark County, Kentucky",164,6,945,35613,460.50599499999998,16.84778,2653.5253980000002,30460,93.45,102,79.27,98.84]
[29,29045,"Clark County","Missouri","Clark County, Missouri",26,4,94,7139,364.19666599999999,56.030256000000001,1316.711024,{"$error":"#N/A"},{"$error":"#N/A"},{"$error":"#N/A"},{"$error":"#N/A"},{"$error":"#N/A"}]
[32,32003,"Clark County","Nevada","Clark County, Nevada",15724,111,40801,1951269,805.83456200000001,5.6886060000000001,2090.9982169999998,29820,119.01,116.44,140.44999999999999,122.06]
[39,39023,"Clark County","Ohio","Clark County, Ohio",1004,11,3382,138333,725.78488100000004,7.9518259999999996,2444.8251679999998,44220,96.98,111.55,97.15,102.52]
[53,53011,"Clark County","Washington","Clark County, Washington",1485,16,3939,425363,349.11358100000001,3.7614930000000002,926.03258900000003,38900,102.63,123.4,89.55,105.28]
[55,55019,"Clark County","Wisconsin","Clark County, Wisconsin",119,6,568,34690,343.03834000000001,17.296050999999999,1637.3594700000001,{"$error":"#N/A"},{"$error":"#N/A"},{"$error":"#N/A"},{"$error":"#N/A"},{"$error":"#N/A"}]
[1,1025,"Clarke County","Alabama","Clarke County, Alabama",120,10,387,25833,464.52212300000002,38.710177000000002,1498.083846,{"$error":"#N/A"},{"$error":"#N/A"},{"$error":"#N/A"},{"$error":"#N/A"},{"$error":"#N/A"}]
[13,13059,"Clarke County","Georgia","Clarke County, Georgia",1098,12,4761,116714,940.76117699999998,10.281542999999999,4079.2021519999998,12020,100.91,115.76,98.31,92.89]
[51,51043,"Clarke County","Virginia","Clarke County, Virginia",85,0,253,14034,605.67193999999995,0,1802.7647139999999,47900,89.87,79.72,79.010000000000005,86.65]
[41,41007,"Clatsop County","Oregon","Clatsop County, Oregon",263,5,525,37039,710.06236699999999,13.499285,1417.424876,{"$error":"#N/A"},{"$error":"#N/A"},{"$error":"#N/A"},{"$error":"#N/A"},{"$error":"#N/A"}]
[1,1027,"Clay County","Alabama","Clay County, Alabama",50,1,164,13932,358.88601799999998,7.1777199999999999,1177.1461380000001,{"$error":"#N/A"},{"$error":"#N/A"},{"$error":"#N/A"},{"$error":"#N/A"},{"$error":"#N/A"}]
[12,12019,"Clay County","Florida","Clay County, Florida",1444,14,2076,190865,756.55568100000005,7.3350270000000002,1087.679774,27260,97.16,92.55,98.14,95.4]
[13,13061,"Clay County","Georgia","Clay County, Georgia",10,0,35,3183,314.16902299999998,0,1099.59158,{"$error":"#N/A"},{"$error":"#N/A"},{"$error":"#N/A"},{"$error":"#N/A"},{"$error":"#N/A"}]
[17,17025,"Clay County","Illinois","Clay County, Illinois",40,6,277,13815,289.54035499999998,43.431052999999999,2005.0669559999999,{"$error":"#N/A"},{"$error":"#N/A"},{"$error":"#N/A"},{"$error":"#N/A"},{"$error":"#N/A"}]
[18,18021,"Clay County","Indiana","Clay County, Indiana",29,0,173,26890,107.846783,0,643.36184500000002,45460,91.51,101.15,76.58,109.38]
[20,20027,"Clay County","Kansas","Clay County, Kansas",15,2,178,8535,175.74692400000001,23.432922999999999,2085.53017,{"$error":"#N/A"},{"$error":"#N/A"},{"$error":"#N/A"},{"$error":"#N/A"},{"$error":"#N/A"}]
[27,27027,"Clay County","Minnesota","Clay County, Minnesota",203,2,834,58999,344.07362799999999,3.389888,1413.5832809999999,22020,101.35,118.95,84.41,81.239999999999995]
[29,29047,"Clay County","Missouri","Clay County, Missouri",1153,16,4680,221939,519.51211799999999,7.2091880000000002,2108.6875220000002,28140,97.62,113.96,88.28,98.64]
[31,31035,"Clay County","Nebraska","Clay County, Nebraska",12,0,69,6542,183.43014400000001,0,1054.723326,{"$error":"#N/A"},{"$error":"#N/A"},{"$error":"#N/A"},{"$error":"#N/A"},{"$error":"#N/A"}]
[37,37043,"Clay County","North Carolina","Clay County, North Carolina",54,5,133,10587,510.059507,47.227732000000003,1256.2576750000001,{"$error":"#N/A"},{"$error":"#N/A"},{"$error":"#N/A"},{"$error":"#N/A"},{"$error":"#N/A"}]
[47,47027,"Clay County","Tennessee","Clay County, Tennessee",48,3,126,7861,610.60933699999998,38.163083999999998,1602.84951,{"$error":"#N/A"},{"$error":"#N/A"},{"$error":"#N/A"},{"$error":"#N/A"},{"$error":"#N/A"}]
[48,48077,"Clay County","Texas","Clay County, Texas",39,6,167,10752,362.72321399999998,55.803570999999998,1553.1994050000001,48660,88.03,67.28,76.56,111.02]
[13,13063,"Clayton County","Georgia","Clayton County, Georgia",2387,30,9521,259424,920.11533199999997,11.564080000000001,3670.0536569999999,12060,106.35,106.15,84.62,98.1]
[8,8019,"Clear Creek County","Colorado","Clear Creek County, Colorado",50,2,681,9088,550.17605600000002,22.007041999999998,7493.3978870000001,19740,90.58,67.38,"NA",117.81]
[42,42033,"Clearfield County","Pennsylvania","Clearfield County, Pennsylvania",308,10,795,81642,377.25680399999999,12.248597999999999,973.76350400000001,{"$error":"#N/A"},{"$error":"#N/A"},{"$error":"#N/A"},{"$error":"#N/A"},{"$error":"#N/A"}]
[16,16035,"Clearwater County","Idaho","Clearwater County, Idaho",16,2,55,8761,182.627554,22.828444000000001,627.78221699999995,{"$error":"#N/A"},{"$error":"#N/A"},{"$error":"#N/A"},{"$error":"#N/A"},{"$error":"#N/A"}]
[1,1029,"Cleburne County","Alabama","Cleburne County, Alabama",78,3,361,14972,520.97248200000001,20.037403000000001,2411.1675129999999,{"$error":"#N/A"},{"$error":"#N/A"},{"$error":"#N/A"},{"$error":"#N/A"},{"$error":"#N/A"}]
[39,39025,"Clermont County","Ohio","Clermont County, Ohio",1417,20,5205,197363,717.96638700000005,10.133611999999999,2637.2724370000001,17140,98.23,97.66,83.05,84.14]
[37,37045,"Cleveland County","North Carolina","Cleveland County, North Carolina",764,8,2255,98078,778.97183900000005,8.1567729999999994,2299.1904399999999,{"$error":"#N/A"},{"$error":"#N/A"},{"$error":"#N/A"},{"$error":"#N/A"},{"$error":"#N/A"}]
[40,40027,"Cleveland County","Oklahoma","Cleveland County, Oklahoma",1404,12,4631,255755,548.96287500000005,4.6919899999999997,1810.7172880000001,36420,101.04,107.98,106.44,102.24]
[13,13065,"Clinch County","Georgia","Clinch County, Georgia",46,4,116,6798,676.66960900000004,58.840836000000003,1706.384231,{"$error":"#N/A"},{"$error":"#N/A"},{"$error":"#N/A"},{"$error":"#N/A"},{"$error":"#N/A"}]
[17,17027,"Clinton County","Illinois","Clinton County, Illinois",102,9,561,37762,270.11281200000002,23.833483000000001,1485.620465,41180,89.17,87.01,82.04,94.5]
[26,26037,"Clinton County","Michigan","Clinton County, Michigan",267,5,2345,75382,354.19596200000001,6.6328829999999996,3110.822212,29620,91.92,77.849999999999994,131.4,63.62]
[29,29049,"Clinton County","Missouri","Clinton County, Missouri",64,5,244,20743,308.53782000000001,24.104517000000001,1176.3004390000001,28140,90.37,103.72,78.89,114.83]
[36,36019,"Clinton County","New York","Clinton County, New York",443,7,3198,82128,539.40190900000005,8.5232810000000008,3893.921683,{"$error":"#N/A"},{"$error":"#N/A"},{"$error":"#N/A"},{"$error":"#N/A"},{"$error":"#N/A"}]
[39,39027,"Clinton County","Ohio","Clinton County, Ohio",254,7,1082,42040,604.18648900000005,16.650808999999999,2573.7392960000002,{"$error":"#N/A"},{"$error":"#N/A"},{"$error":"#N/A"},{"$error":"#N/A"},{"$error":"#N/A"}]
[42,42035,"Clinton County","Pennsylvania","Clinton County, Pennsylvania",143,5,374,39238,364.442632,12.742749,953.15765299999998,{"$error":"#N/A"},{"$error":"#N/A"},{"$error":"#N/A"},{"$error":"#N/A"},{"$error":"#N/A"}]
[20,20029,"Cloud County","Kansas","Cloud County, Kansas",34,1,235,9533,356.65582699999999,10.489877,2465.1211579999999,{"$error":"#N/A"},{"$error":"#N/A"},{"$error":"#N/A"},{"$error":"#N/A"},{"$error":"#N/A"}]
[40,40029,"Coal County","Oklahoma","Coal County, Oklahoma",0,0,44,5925,0,0,742.61603400000001,{"$error":"#N/A"},{"$error":"#N/A"},{"$error":"#N/A"},{"$error":"#N/A"},{"$error":"#N/A"}]
[13,13067,"Cobb County","Georgia","Cobb County, Georgia",4543,60,23127,688078,660.24491399999999,8.7199419999999996,3361.1015029999999,12060,106.99,116.91,91.39,107.76]
[48,48079,"Cochran County","Texas","Cochran County, Texas",12,2,36,3127,383.75439699999998,63.959066,1151.2631919999999,{"$error":"#N/A"},{"$error":"#N/A"},{"$error":"#N/A"},{"$error":"#N/A"},{"$error":"#N/A"}]
[47,47029,"Cocke County","Tennessee","Cocke County, Tennessee",295,5,1049,35662,827.21103700000003,14.020526,2941.5063650000002,{"$error":"#N/A"},{"$error":"#N/A"},{"$error":"#N/A"},{"$error":"#N/A"},{"$error":"#N/A"}]
[4,4005,"Coconino County","Arizona","Coconino County, Arizona",840,38,3430,134421,624.90235900000005,28.269392,2551.6846329999998,22380,95.58,105.89,159.69999999999999,80.11]
[1,1031,"Coffee County","Alabama","Coffee County, Alabama",209,7,1116,49948,418.43517300000002,14.014575000000001,2234.3236969999998,{"$error":"#N/A"},{"$error":"#N/A"},{"$error":"#N/A"},{"$error":"#N/A"},{"$error":"#N/A"}]
[13,13069,"Coffee County","Georgia","Coffee County, Georgia",301,7,878,42356,710.64311999999995,16.526584,2072.9058460000001,{"$error":"#N/A"},{"$error":"#N/A"},{"$error":"#N/A"},{"$error":"#N/A"},{"$error":"#N/A"}]
[47,47031,"Coffee County","Tennessee","Coffee County, Tennessee",376,13,1388,52796,712.17516499999999,24.623078,2628.987044,{"$error":"#N/A"},{"$error":"#N/A"},{"$error":"#N/A"},{"$error":"#N/A"},{"$error":"#N/A"}]
[20,20031,"Coffey County","Kansas","Coffey County, Kansas",45,3,266,8601,523.19497699999999,34.879665000000003,3092.6636440000002,{"$error":"#N/A"},{"$error":"#N/A"},{"$error":"#N/A"},{"$error":"#N/A"},{"$error":"#N/A"}]
[48,48081,"Coke County","Texas","Coke County, Texas",10,0,21,3320,301.20481899999999,0,632.53012000000001,{"$error":"#N/A"},{"$error":"#N/A"},{"$error":"#N/A"},{"$error":"#N/A"},{"$error":"#N/A"}]
[1,1033,"Colbert County","Alabama","Colbert County, Alabama",273,11,1271,54428,501.58006899999998,20.210186,2335.1951199999999,22520,95.11,104.27,76.989999999999995,124.68]
[29,29051,"Cole County","Missouri","Cole County, Missouri",507,6,1799,75990,667.19305199999997,7.8957759999999997,2367.4167649999999,27620,94.77,101.06,122.96,85.07]
[48,48083,"Coleman County","Texas","Coleman County, Texas",57,2,169,8895,640.80944399999998,22.484542000000001,1899.9437889999999,{"$error":"#N/A"},{"$error":"#N/A"},{"$error":"#N/A"},{"$error":"#N/A"},{"$error":"#N/A"}]
[17,17029,"Coles County","Illinois","Coles County, Illinois",204,9,997,53873,378.66834999999998,16.705957000000001,1850.6487480000001,{"$error":"#N/A"},{"$error":"#N/A"},{"$error":"#N/A"},{"$error":"#N/A"},{"$error":"#N/A"}]
[31,31037,"Colfax County","Nebraska","Colfax County, Nebraska",19,1,117,10515,180.69424599999999,9.5102229999999999,1112.696148,{"$error":"#N/A"},{"$error":"#N/A"},{"$error":"#N/A"},{"$error":"#N/A"},{"$error":"#N/A"}]
[45,45029,"Colleton County","South Carolina","Colleton County, South Carolina",343,12,1020,38892,881.92944599999998,30.854673999999999,2622.6473310000001,{"$error":"#N/A"},{"$error":"#N/A"},{"$error":"#N/A"},{"$error":"#N/A"},{"$error":"#N/A"}]
[12,12021,"Collier County","Florida","Collier County, Florida",1675,42,2501,321520,520.96292600000004,13.062951,777.86762899999997,34940,99.42,104.7,83.67,105.06]
[48,48085,"Collin County","Texas","Collin County, Texas",3332,37,9878,782341,425.90123699999998,4.7293950000000002,1262.6207750000001,19100,106.24,114.06,85.45,118.59]
[48,48087,"Collingsworth County","Texas","Collingsworth County, Texas",14,0,26,3057,457.96532500000001,0,850.50703299999998,{"$error":"#N/A"},{"$error":"#N/A"},{"$error":"#N/A"},{"$error":"#N/A"},{"$error":"#N/A"}]
[51,51570,"Colonial Heights city","Virginia",{"$f":"CONCATENATE(C450,\", \",D450)","v":"Colonial Heights city, Virginia"},144,0,347,17411,827.06335100000001,0,1992.9929360000001,40060,108.95,135.66,77.650000000000006,153.6]
[48,48089,"Colorado County","Texas","Colorado County, Texas",122,5,478,20874,584.45913599999994,23.953243000000001,2289.930057,{"$error":"#N/A"},{"$error":"#N/A"},{"$error":"#N/A"},{"$error":"#N/A"},{"$error":"#N/A"}]
[13,13071,"Colquitt County","Georgia","Colquitt County, Georgia",307,6,909,45498,674.75493400000005,13.187393,1997.8900169999999,{"$error":"#N/A"},{"$error":"#N/A"},{"$error":"#N/A"},{"$error":"#N/A"},{"$error":"#N/A"}]
[12,12023,"Columbia County","Florida","Columbia County, Florida",862,25,1308,67531,1276.4508149999999,37.020035,1936.888244,{"$error":"#N/A"},{"$error":"#N/A"},{"$error":"#N/A"},{"$error":"#N/A"},{"$error":"#N/A"}]
[13,13073,"Columbia County","Georgia","Columbia County, Georgia",806,13,3233,124053,649.72229600000003,10.479392000000001,2606.1441479999999,12260,96.83,95.43,80.239999999999995,72.040000000000006]
[36,36021,"Columbia County","New York","Columbia County, New York",376,2,2319,63096,595.91733199999999,3.1697730000000002,3675.3518450000001,{"$error":"#N/A"},{"$error":"#N/A"},{"$error":"#N/A"},{"$error":"#N/A"},{"$error":"#N/A"}]
[41,41009,"Columbia County","Oregon","Columbia County, Oregon",200,5,398,49351,405.26027800000003,10.131506999999999,806.46795399999996,38900,93.28,102.74,80.42,84.73]
[42,42037,"Columbia County","Pennsylvania","Columbia County, Pennsylvania",267,12,724,67295,396.76053200000001,17.831934,1075.860019,{"$error":"#N/A"},{"$error":"#N/A"},{"$error":"#N/A"},{"$error":"#N/A"},{"$error":"#N/A"}]
[53,53013,"Columbia County","Washington","Columbia County, Washington",19,0,50,4078,465.91466400000002,0,1226.0912209999999,{"$error":"#N/A"},{"$error":"#N/A"},{"$error":"#N/A"},{"$error":"#N/A"},{"$error":"#N/A"}]
[55,55021,"Columbia County","Wisconsin","Columbia County, Wisconsin",334,12,1463,56833,587.68673100000001,21.114493,2574.208646,31540,90.01,92.46,87.63,90.9]
[39,39029,"Columbiana County","Ohio","Columbiana County, Ohio",636,12,2365,107841,589.75714200000004,11.127492999999999,2193.0434620000001,{"$error":"#N/A"},{"$error":"#N/A"},{"$error":"#N/A"},{"$error":"#N/A"},{"$error":"#N/A"}]
[37,37047,"Columbus County","North Carolina","Columbus County, North Carolina",478,17,1503,58098,822.74777099999994,29.260904,2587.008159,{"$error":"#N/A"},{"$error":"#N/A"},{"$error":"#N/A"},{"$error":"#N/A"},{"$error":"#N/A"}]
[6,6011,"Colusa County","California","Colusa County, California",106,6,310,21419,494.88771700000001,28.012512000000001,1447.3131330000001,{"$error":"#N/A"},{"$error":"#N/A"},{"$error":"#N/A"},{"$error":"#N/A"},{"$error":"#N/A"}]
[48,48091,"Comal County","Texas","Comal County, Texas",756,19,2170,108472,696.95405300000004,17.516041000000001,2000.5162620000001,41700,93.66,86.53,108.62,88.26]
[20,20033,"Comanche County","Kansas","Comanche County, Kansas",5,2,30,1891,264.41036500000001,105.764146,1586.4621890000001,{"$error":"#N/A"},{"$error":"#N/A"},{"$error":"#N/A"},{"$error":"#N/A"},{"$error":"#N/A"}]
[40,40031,"Comanche County","Oklahoma","Comanche County, Oklahoma",947,12,3309,124098,763.10657700000002,9.6697769999999998,2666.4410389999998,30020,99.03,118.45,98.2,116.33]
[48,48093,"Comanche County","Texas","Comanche County, Texas",53,2,185,13974,379.27579800000001,14.312294,1323.887219,{"$error":"#N/A"},{"$error":"#N/A"},{"$error":"#N/A"},{"$error":"#N/A"},{"$error":"#N/A"}]
[48,48095,"Concho County","Texas","Concho County, Texas",10,1,40,4087,244.678248,24.467825000000001,978.71299199999999,{"$error":"#N/A"},{"$error":"#N/A"},{"$error":"#N/A"},{"$error":"#N/A"},{"$error":"#N/A"}]
[1,1035,"Conecuh County","Alabama","Conecuh County, Alabama",123,4,351,13228,929.84578199999999,30.238886999999998,2653.4623529999999,{"$error":"#N/A"},{"$error":"#N/A"},{"$error":"#N/A"},{"$error":"#N/A"},{"$error":"#N/A"}]
[6,6013,"Contra Costa County","California","Contra Costa County, California",3054,40,9138,1049025,291.127476,3.8130649999999999,871.09458800000004,41860,112.02,128.69999999999999,100.81,121.28]
[56,56009,"Converse County","Wyoming","Converse County, Wyoming",89,5,299,13833,643.38899700000002,36.145448999999999,2161.497867,{"$error":"#N/A"},{"$error":"#N/A"},{"$error":"#N/A"},{"$error":"#N/A"},{"$error":"#N/A"}]
[13,13075,"Cook County","Georgia","Cook County, Georgia",132,5,433,17212,766.90680899999995,29.049499999999998,2515.6867299999999,{"$error":"#N/A"},{"$error":"#N/A"},{"$error":"#N/A"},{"$error":"#N/A"},{"$error":"#N/A"}]
[17,17031,"Cook County","Illinois","Cook County, Illinois",26703,213,133481,5194675,514.04563299999995,4.1003530000000001,2569.5736499999998,16980,151.4,141.34,155.66,170.12]
[48,48097,"Cooke County","Texas","Cooke County, Texas",187,9,527,38437,486.51039400000002,23.414939,1371.074746,{"$error":"#N/A"},{"$error":"#N/A"},{"$error":"#N/A"},{"$error":"#N/A"},{"$error":"#N/A"}]
[29,29053,"Cooper County","Missouri","Cooper County, Missouri",96,1,476,17601,545.42355499999996,5.681495,2704.3917959999999,{"$error":"#N/A"},{"$error":"#N/A"},{"$error":"#N/A"},{"$error":"#N/A"},{"$error":"#N/A"}]
[41,41011,"Coos County","Oregon","Coos County, Oregon",290,13,688,63043,460.00349,20.620846,1091.318624,{"$error":"#N/A"},{"$error":"#N/A"},{"$error":"#N/A"},{"$error":"#N/A"},{"$error":"#N/A"}]
[1,1037,"Coosa County","Alabama","Coosa County, Alabama",97,7,243,11539,840.62743699999999,60.663836000000003,2105.9017250000002,{"$error":"#N/A"},{"$error":"#N/A"},{"$error":"#N/A"},{"$error":"#N/A"},{"$error":"#N/A"}]
[28,28029,"Copiah County","Mississippi","Copiah County, Mississippi","#NULL!","#NULL!","#NULL!",29449,"#NULL!","#NULL!","#NULL!",27140,90.59,89.53,72.41,81.93]
[36,36023,"Cortland County","New York","Cortland County, New York",290,1,2038,49336,587.80606499999999,2.0269170000000001,4130.8577910000004,{"$error":"#N/A"},{"$error":"#N/A"},{"$error":"#N/A"},{"$error":"#N/A"},{"$error":"#N/A"}]
[48,48099,"Coryell County","Texas","Coryell County, Texas",265,11,985,75388,351.51483000000002,14.591182,1306.573991,28660,97.23,77.14,87.93,86.13]
[39,39031,"Coshocton County","Ohio","Coshocton County, Ohio",121,6,573,36901,327.90439300000003,16.259722,1552.803447,{"$error":"#N/A"},{"$error":"#N/A"},{"$error":"#N/A"},{"$error":"#N/A"},{"$error":"#N/A"}]
[48,48101,"Cottle County","Texas","Cottle County, Texas",8,2,32,1505,531.56146200000001,132.890365,2126.2458470000001,{"$error":"#N/A"},{"$error":"#N/A"},{"$error":"#N/A"},{"$error":"#N/A"},{"$error":"#N/A"}]
[40,40033,"Cotton County","Oklahoma","Cotton County, Oklahoma",0,0,74,6193,0,0,1194.897465,{"$error":"#N/A"},{"$error":"#N/A"},{"$error":"#N/A"},{"$error":"#N/A"},{"$error":"#N/A"}]
[1,1039,"Covington County","Alabama","Covington County, Alabama",153,7,636,37765,405.13703199999998,18.535681,1684.099033,{"$error":"#N/A"},{"$error":"#N/A"},{"$error":"#N/A"},{"$error":"#N/A"},{"$error":"#N/A"}]
[13,13077,"Coweta County","Georgia","Coweta County, Georgia",1060,14,3730,127317,832.56752800000004,10.996174999999999,2929.69517,12060,92.69,85.33,81.739999999999995,72.61]
[20,20035,"Cowley County","Kansas","Cowley County, Kansas",154,5,803,36311,424.11390499999999,13.769932000000001,2211.4510749999999,{"$error":"#N/A"},{"$error":"#N/A"},{"$error":"#N/A"},{"$error":"#N/A"},{"$error":"#N/A"}]
[53,53015,"Cowlitz County","Washington","Cowlitz County, Washington",485,6,1498,102410,473.58656400000001,5.858803,1462.747779,31020,96.07,103.4,128.01,99]
[40,40035,"Craig County","Oklahoma","Craig County, Oklahoma",80,0,231,15029,532.30421200000001,0,1537.0284119999999,{"$error":"#N/A"},{"$error":"#N/A"},{"$error":"#N/A"},{"$error":"#N/A"},{"$error":"#N/A"}]
[5,5031,"Craighead County","Arkansas","Craighead County, Arkansas",831,19,3092,96443,861.64885000000004,19.700755999999998,3206.0387999999998,27860,95.83,97.46,113.68,76.680000000000007]
[48,48103,"Crane County","Texas","Crane County, Texas",23,0,56,4375,525.71428600000002,0,1280,{"$error":"#N/A"},{"$error":"#N/A"},{"$error":"#N/A"},{"$error":"#N/A"},{"$error":"#N/A"}]
[37,37049,"Craven County","North Carolina","Craven County, North Carolina",490,20,1776,103505,473.407082,19.322738000000001,1715.8591369999999,{"$error":"#N/A"},{"$error":"#N/A"},{"$error":"#N/A"},{"$error":"#N/A"},{"$error":"#N/A"}]
[5,5033,"Crawford County","Arkansas","Crawford County, Arkansas",348,8,1187,61948,561.76147700000001,12.914057,1916.1232,22900,92.25,90.19,82.88,80.03]
[13,13079,"Crawford County","Georgia","Crawford County, Georgia",66,4,250,12630,522.56532100000004,31.670625000000001,1979.4140930000001,{"$error":"#N/A"},{"$error":"#N/A"},{"$error":"#N/A"},{"$error":"#N/A"},{"$error":"#N/A"}]
[17,17033,"Crawford County","Illinois","Crawford County, Illinois",59,3,510,19817,297.724176,15.138517,2573.5479639999999,{"$error":"#N/A"},{"$error":"#N/A"},{"$error":"#N/A"},{"$error":"#N/A"},{"$error":"#N/A"}]
[20,20037,"Crawford County","Kansas","Crawford County, Kansas",139,3,746,39134,355.18986000000001,7.6659680000000003,1906.2707620000001,{"$error":"#N/A"},{"$error":"#N/A"},{"$error":"#N/A"},{"$error":"#N/A"},{"$error":"#N/A"}]
[26,26039,"Crawford County","Michigan","Crawford County, Michigan",90,2,526,14074,639.47704999999996,14.210601,3737.3880920000001,{"$error":"#N/A"},{"$error":"#N/A"},{"$error":"#N/A"},{"$error":"#N/A"},{"$error":"#N/A"}]
[29,29055,"Crawford County","Missouri","Crawford County, Missouri",127,8,525,24696,514.25332000000003,32.393909999999998,2125.85034,41180,89.11,"NA",71.959999999999994,88.13]
[39,39033,"Crawford County","Ohio","Crawford County, Ohio",217,5,1061,43784,495.61483600000003,11.419696999999999,2423.259638,{"$error":"#N/A"},{"$error":"#N/A"},{"$error":"#N/A"},{"$error":"#N/A"},{"$error":"#N/A"}]
[42,42039,"Crawford County","Pennsylvania","Crawford County, Pennsylvania",302,12,750,88765,340.22418699999997,13.518841999999999,844.92761800000005,{"$error":"#N/A"},{"$error":"#N/A"},{"$error":"#N/A"},{"$error":"#N/A"},{"$error":"#N/A"}]
[55,55023,"Crawford County","Wisconsin","Crawford County, Wisconsin",78,2,291,16644,468.63734699999998,12.016342,1748.377794,{"$error":"#N/A"},{"$error":"#N/A"},{"$error":"#N/A"},{"$error":"#N/A"},{"$error":"#N/A"}]
[40,40037,"Creek County","Oklahoma","Creek County, Oklahoma",293,7,728,69967,418.76884799999999,10.004716999999999,1040.490517,46140,90.09,85.48,84.46,104.69]
[1,1041,"Crenshaw County","Alabama","Crenshaw County, Alabama",66,4,224,13906,474.615274,28.764562000000002,1610.8154750000001,{"$error":"#N/A"},{"$error":"#N/A"},{"$error":"#N/A"},{"$error":"#N/A"},{"$error":"#N/A"}]
[13,13081,"Crisp County","Georgia","Crisp County, Georgia",268,3,778,23439,1143.393489,12.799181000000001,3319.254234,{"$error":"#N/A"},{"$error":"#N/A"},{"$error":"#N/A"},{"$error":"#N/A"},{"$error":"#N/A"}]
[5,5035,"Crittenden County","Arkansas","Crittenden County, Arkansas",413,9,1523,50902,811.36301100000003,17.681034,2992.0238890000001,32820,96.93,115.43,79.239999999999995,89.18]
[47,47033,"Crockett County","Tennessee","Crockett County, Tennessee",78,4,232,14586,534.75935800000002,27.423556999999999,1590.566296,{"$error":"#N/A"},{"$error":"#N/A"},{"$error":"#N/A"},{"$error":"#N/A"},{"$error":"#N/A"}]
[48,48105,"Crockett County","Texas","Crockett County, Texas",53,6,122,3719,1425.114278,161.33369200000001,3280.4517340000002,{"$error":"#N/A"},{"$error":"#N/A"},{"$error":"#N/A"},{"$error":"#N/A"},{"$error":"#N/A"}]
[41,41013,"Crook County","Oregon","Crook County, Oregon",88,1,206,20978,419.48708199999999,4.7668990000000004,981.98112300000003,{"$error":"#N/A"},{"$error":"#N/A"},{"$error":"#N/A"},{"$error":"#N/A"},{"$error":"#N/A"}]
[56,56011,"Crook County","Wyoming","Crook County, Wyoming",77,2,244,7083,1087.1099819999999,28.236623000000002,3444.8679940000002,{"$error":"#N/A"},{"$error":"#N/A"},{"$error":"#N/A"},{"$error":"#N/A"},{"$error":"#N/A"}]
[48,48107,"Crosby County","Texas","Crosby County, Texas",20,3,44,6059,330.08747299999999,49.513120999999998,726.19244100000003,{"$error":"#N/A"},{"$error":"#N/A"},{"$error":"#N/A"},{"$error":"#N/A"},{"$error":"#N/A"}]
[48,48109,"Culberson County","Texas","Culberson County, Texas",33,4,101,2398,1376.1467889999999,166.80567099999999,4211.8432030000004,{"$error":"#N/A"},{"$error":"#N/A"},{"$error":"#N/A"},{"$error":"#N/A"},{"$error":"#N/A"}]
[1,1043,"Cullman County","Alabama","Cullman County, Alabama",449,16,2071,80406,558.41603899999996,19.899013,2575.6784320000002,{"$error":"#N/A"},{"$error":"#N/A"},{"$error":"#N/A"},{"$error":"#N/A"},{"$error":"#N/A"}]
[17,17035,"Cumberland County","Illinois","Cumberland County, Illinois",64,3,359,11048,579.29036900000006,27.154236000000001,3249.4569150000002,{"$error":"#N/A"},{"$error":"#N/A"},{"$error":"#N/A"},{"$error":"#N/A"},{"$error":"#N/A"}]
[23,23005,"Cumberland County","Maine","Cumberland County, Maine",1855,25,8157,281674,658.56273599999997,8.8755089999999992,2895.9009350000001,38860,98.75,114.38,138.88999999999999,90.26]
[34,34011,"Cumberland County","New Jersey","Cumberland County, New Jersey",1268,22,4449,156898,808.168364,14.021849,2835.600199,47220,99.51,113.21,119.51,98.78]
[37,37051,"Cumberland County","North Carolina",{"$f":"CONCATENATE(C514,\", \",D514)","v":"Cumberland County, North Carolina"},2763,45,8124,319431,864.97553500000004,14.087548999999999,2543.2722560000002,22180,100.01,104.64,91.45,90.81]
[42,42041,"Cumberland County","Pennsylvania","Cumberland County, Pennsylvania",748,22,2119,235406,317.74891000000002,9.3455560000000002,900.14697999999999,25420,98.59,111.24,85.52,112.72]
[47,47035,"Cumberland County","Tennessee","Cumberland County, Tennessee",431,18,1696,56053,768.91513399999997,32.112465,3025.7078120000001,{"$error":"#N/A"},{"$error":"#N/A"},{"$error":"#N/A"},{"$error":"#N/A"},{"$error":"#N/A"}]
[31,31039,"Cuming County","Nebraska","Cuming County, Nebraska",11,1,116,9139,120.36327799999999,10.942116,1269.28548,{"$error":"#N/A"},{"$error":"#N/A"},{"$error":"#N/A"},{"$error":"#N/A"},{"$error":"#N/A"}]
[37,37053,"Currituck County","North Carolina","Currituck County, North Carolina",115,5,339,23547,488.38493199999999,21.234127000000001,1439.6738439999999,47260,90.42,69.81,77.63,76.98]
[41,41015,"Curry County","Oregon","Curry County, Oregon",70,3,160,22364,313.003041,13.414415999999999,715.43552099999999,{"$error":"#N/A"},{"$error":"#N/A"},{"$error":"#N/A"},{"$error":"#N/A"},{"$error":"#N/A"}]
[16,16037,"Custer County","Idaho","Custer County, Idaho",23,1,54,4368,526.55677700000001,22.893772999999999,1236.2637360000001,{"$error":"#N/A"},{"$error":"#N/A"},{"$error":"#N/A"},{"$error":"#N/A"},{"$error":"#N/A"}]
[31,31041,"Custer County","Nebraska","Custer County, Nebraska",19,1,181,10939,173.69046499999999,9.1416029999999999,1654.630222,{"$error":"#N/A"},{"$error":"#N/A"},{"$error":"#N/A"},{"$error":"#N/A"},{"$error":"#N/A"}]
[40,40039,"Custer County","Oklahoma","Custer County, Oklahoma",151,6,520,27469,549.71058300000004,21.842804999999998,1893.0430670000001,{"$error":"#N/A"},{"$error":"#N/A"},{"$error":"#N/A"},{"$error":"#N/A"},{"$error":"#N/A"}]
[39,39035,"Cuyahoga County","Ohio","Cuyahoga County, Ohio",8422,56,31984,1280122,657.90604299999995,4.3745830000000003,2498.511861,17460,112.92,133.63999999999999,119.54,109.64]
[13,13083,"Dade County","Georgia","Dade County, Georgia",128,4,433,16633,769.55449999999996,24.048577999999999,2603.2585819999999,16860,89.57,56.36,80.64,69.91]
[29,29057,"Dade County","Missouri","Dade County, Missouri",27,0,56,7883,342.50919699999997,0,710.38944600000002,{"$error":"#N/A"},{"$error":"#N/A"},{"$error":"#N/A"},{"$error":"#N/A"},{"$error":"#N/A"}]
[49,49009,"Daggett County","Utah","Daggett County, Utah",7,1,30,1059,661.000944,94.428706000000005,2832.8611900000001,{"$error":"#N/A"},{"$error":"#N/A"},{"$error":"#N/A"},{"$error":"#N/A"},{"$error":"#N/A"}]
[27,27037,"Dakota County","Minnesota","Dakota County, Minnesota",1477,14,4661,398552,370.59154100000001,3.5127160000000002,1169.48353,33460,104.83,115.9,86.85,107.32]
[31,31043,"Dakota County","Nebraska","Dakota County, Nebraska",48,1,261,21006,228.50614100000001,4.7605449999999996,1242.502142,43580,98.92,114.43,75.16,122.4]
[1,1045,"Dale County","Alabama","Dale County, Alabama",212,9,858,50251,421.88215200000002,17.910091000000001,1707.4287079999999,{"$error":"#N/A"},{"$error":"#N/A"},{"$error":"#N/A"},{"$error":"#N/A"},{"$error":"#N/A"}]
[48,48111,"Dallam County","Texas","Dallam County, Texas",24,1,133,6703,358.04863499999999,14.918692999999999,1984.186185,{"$error":"#N/A"},{"$error":"#N/A"},{"$error":"#N/A"},{"$error":"#N/A"},{"$error":"#N/A"}]
[1,1047,"Dallas County","Alabama","Dallas County, Alabama",273,11,970,43820,623.00319500000001,25.102692999999999,2213.601095,{"$error":"#N/A"},{"$error":"#N/A"},{"$error":"#N/A"},{"$error":"#N/A"},{"$error":"#N/A"}]
[19,19049,"Dallas County","Iowa","Dallas County, Iowa",241,4,768,66135,364.406139,6.048235,1161.2610569999999,19780,95.45,106.94,79.89,91.67]
[29,29059,"Dallas County","Missouri","Dallas County, Missouri",69,1,186,16777,411.27734400000003,5.9605410000000001,1108.660666,{"$error":"#N/A"},{"$error":"#N/A"},{"$error":"#N/A"},{"$error":"#N/A"},{"$error":"#N/A"}]
[48,48113,"Dallas County","Texas","Dallas County, Texas",15784,173,38494,2368139,666.51493000000005,7.3053140000000001,1625.495801,19100,116.03,123.21,125.52,139.21]
[55,55025,"Dane County","Wisconsin","Dane County, Wisconsin",2446,33,9558,488073,501.15454,6.7612839999999998,1958.313613,31540,106.96,126.2,153.66999999999999,106.96]
[51,51590,"Danville city","Virginia","Danville city, Virginia",281,0,899,43055,652.65358300000003,0,2088.026942,19260,99.84,126.2,121.82,120.33]
[37,37055,"Dare County","North Carolina","Dare County, North Carolina",223,7,681,33920,657.42924500000004,20.636792,2007.665094,{"$error":"#N/A"},{"$error":"#N/A"},{"$error":"#N/A"},{"$error":"#N/A"},{"$error":"#N/A"}]
[39,39037,"Darke County","Ohio","Darke County, Ohio",277,6,1171,52959,523.04612999999995,11.329518999999999,2211.1444700000002,{"$error":"#N/A"},{"$error":"#N/A"},{"$error":"#N/A"},{"$error":"#N/A"},{"$error":"#N/A"}]
[45,45031,"Darlington County","South Carolina","Darlington County, South Carolina",472,10,1397,68681,687.23518899999999,14.560067999999999,2034.041438,22500,91.78,86.08,84.55,73.08]
[42,42043,"Dauphin County","Pennsylvania","Dauphin County, Pennsylvania",843,30,2466,268100,314.434912,11.189855,919.80604300000005,25420,104.58,124.71,129.24,125.68]
[37,37057,"Davidson County","North Carolina","Davidson County, North Carolina",1127,25,3013,162878,691.92892800000004,15.348910999999999,1849.850809,{"$error":"#N/A"},{"$error":"#N/A"},{"$error":"#N/A"},{"$error":"#N/A"},{"$error":"#N/A"}]
[47,47037,"Davidson County","Tennessee","Davidson County, Tennessee",6832,69,24832,626681,1090.187831,11.010386,3962.4625609999998,34980,104.68,111.86,121.78,111.57]
[37,37059,"Davie County","North Carolina","Davie County, North Carolina",240,7,704,41240,581.95926299999996,16.973811999999999,1707.080504,49180,91.08,61.13,81.22,60.37]
[21,21059,"Daviess County","Kentucky","Daviess County, Kentucky",521,7,3225,96656,539.02499599999999,7.242178,3336.5750699999999,36980,99.18,109.86,121.56,106.12]
[29,29061,"Daviess County","Missouri","Daviess County, Missouri",30,0,121,8433,355.74528600000002,0,1434.839322,{"$error":"#N/A"},{"$error":"#N/A"},{"$error":"#N/A"},{"$error":"#N/A"},{"$error":"#N/A"}]
[49,49011,"Davis County","Utah","Davis County, Utah",1194,10,3758,306479,389.58623599999999,3.2628659999999998,1226.1851549999999,36260,103.45,125.21,80.47,105.19]
[31,31045,"Dawes County","Nebraska","Dawes County, Nebraska",16,2,164,9182,174.253975,21.781746999999999,1786.103245,{"$error":"#N/A"},{"$error":"#N/A"},{"$error":"#N/A"},{"$error":"#N/A"},{"$error":"#N/A"}]
[13,13085,"Dawson County","Georgia","Dawson County, Georgia",242,8,754,22330,1083.7438420000001,35.826242999999998,3376.6233769999999,12060,89.94,63.53,86.08,69.430000000000007]
[31,31047,"Dawson County","Nebraska","Dawson County, Nebraska",55,6,452,24326,226.09553600000001,24.664967999999998,1858.09422,{"$error":"#N/A"},{"$error":"#N/A"},{"$error":"#N/A"},{"$error":"#N/A"},{"$error":"#N/A"}]
[48,48115,"Dawson County","Texas","Dawson County, Texas",48,2,158,13833,346.99631299999999,14.45818,1142.196197,{"$error":"#N/A"},{"$error":"#N/A"},{"$error":"#N/A"},{"$error":"#N/A"},{"$error":"#N/A"}]
[22,22031,"De Soto Parish","Louisiana","De Soto Parish, Louisiana",271,8,910,26656,1016.656663,30.012004999999998,3413.865546,43340,89.07,61.88,140.34,77.66]
[17,17039,"De Witt County","Illinois","De Witt County, Illinois",56,1,287,16561,338.14383199999997,6.0382829999999998,1732.987138,{"$error":"#N/A"},{"$error":"#N/A"},{"$error":"#N/A"},{"$error":"#N/A"},{"$error":"#N/A"}]
[48,48117,"Deaf Smith County","Texas","Deaf Smith County, Texas",44,4,209,19372,227.13194300000001,20.648358000000002,1078.8767290000001,{"$error":"#N/A"},{"$error":"#N/A"},{"$error":"#N/A"},{"$error":"#N/A"},{"$error":"#N/A"}]
[18,18029,"Dearborn County","Indiana","Dearborn County, Indiana",37,0,399,50047,73.930504999999997,0,797.250584,17140,91.96,82.67,89.51,96.29]
[13,13087,"Decatur County","Georgia","Decatur County, Georgia",270,6,799,27842,969.75792000000001,21.550176,2869.7651030000002,{"$error":"#N/A"},{"$error":"#N/A"},{"$error":"#N/A"},{"$error":"#N/A"},{"$error":"#N/A"}]
[20,20039,"Decatur County","Kansas","Decatur County, Kansas",3,0,27,2961,101.317123,0,911.85410300000001,{"$error":"#N/A"},{"$error":"#N/A"},{"$error":"#N/A"},{"$error":"#N/A"},{"$error":"#N/A"}]
[47,47039,"Decatur County","Tennessee","Decatur County, Tennessee",74,3,258,11757,629.41226500000005,25.516712999999999,2194.4373559999999,{"$error":"#N/A"},{"$error":"#N/A"},{"$error":"#N/A"},{"$error":"#N/A"},{"$error":"#N/A"}]
[39,39039,"Defiance County","Ohio","Defiance County, Ohio",219,4,1070,39037,561.00622499999997,10.246689,2740.9893179999999,{"$error":"#N/A"},{"$error":"#N/A"},{"$error":"#N/A"},{"$error":"#N/A"},{"$error":"#N/A"}]
[1,1049,"DeKalb County","Alabama","DeKalb County, Alabama",276,7,916,71109,388.13652300000001,9.844042,1288.1632420000001,{"$error":"#N/A"},{"$error":"#N/A"},{"$error":"#N/A"},{"$error":"#N/A"},{"$error":"#N/A"}]
[13,13089,"DeKalb County","Georgia","DeKalb County, Georgia",6368,46,27111,691893,920.37352599999997,6.6484269999999999,3918.380443,12060,111.99,120.73,96.18,100.65]
[17,17037,"DeKalb County","Illinois","DeKalb County, Illinois",382,5,1524,105160,363.25599099999999,4.7546600000000003,1449.2202360000001,16980,99.94,111.36,84.27,93.39]
[29,29063,"DeKalb County","Missouri","DeKalb County, Missouri",64,5,209,12892,496.43189599999999,38.783741999999997,1621.16041,{"$error":"#N/A"},{"$error":"#N/A"},{"$error":"#N/A"},{"$error":"#N/A"},{"$error":"#N/A"}]
[47,47041,"DeKalb County","Tennessee","DeKalb County, Tennessee",141,4,417,18723,753.08444199999997,21.364097999999998,2227.2071780000001,{"$error":"#N/A"},{"$error":"#N/A"},{"$error":"#N/A"},{"$error":"#N/A"},{"$error":"#N/A"}]
[6,6015,"Del Norte County","California","Del Norte County, California",166,6,386,28610,580.21670700000004,20.971688,1349.1786090000001,{"$error":"#N/A"},{"$error":"#N/A"},{"$error":"#N/A"},{"$error":"#N/A"},{"$error":"#N/A"}]
[18,18035,"Delaware County","Indiana","Delaware County, Indiana",99,2,918,117671,84.132879000000003,1.699654,780.14124100000004,34620,103.15,118.8,91.63,109.13]
[36,36025,"Delaware County","New York","Delaware County, New York",261,6,1655,47980,543.97665700000005,12.505210999999999,3449.353897,{"$error":"#N/A"},{"$error":"#N/A"},{"$error":"#N/A"},{"$error":"#N/A"},{"$error":"#N/A"}]
[39,39041,"Delaware County","Ohio","Delaware County, Ohio",929,14,3589,174214,533.252207,8.0360940000000003,2060.1099800000002,18140,97.21,109.37,84.07,87.68]
[40,40041,"Delaware County","Oklahoma","Delaware County, Oklahoma",248,0,496,41487,597.77761699999996,0,1195.5552339999999,{"$error":"#N/A"},{"$error":"#N/A"},{"$error":"#N/A"},{"$error":"#N/A"},{"$error":"#N/A"}]
[42,42045,"Delaware County","Pennsylvania","Delaware County, Pennsylvania",1930,19,4059,"#NULL!","#NULL!","#NULL!","#NULL!",37980,119.69,141.69,83.25,137.9]
[26,26041,"Delta County","Michigan","Delta County, Michigan",169,6,1430,37069,455.90655299999997,16.186031,3857.67083,{"$error":"#N/A"},{"$error":"#N/A"},{"$error":"#N/A"},{"$error":"#N/A"},{"$error":"#N/A"}]
[48,48119,"Delta County","Texas","Delta County, Texas",21,1,56,5231,401.452877,19.116803999999998,1070.5410059999999,19100,88.85,80.3,68.73,127.14]
[2,2068,"Denali Borough","Alaska","Denali Borough, Alaska",12,1,45,1826,657.17415100000005,54.764513000000001,2464.4030670000002,{"$error":"#N/A"},{"$error":"#N/A"},{"$error":"#N/A"},{"$error":"#N/A"},{"$error":"#N/A"}]
[29,29065,"Dent County","Missouri","Dent County, Missouri",72,2,270,15657,459.85820999999999,12.773839000000001,1724.4682889999999,{"$error":"#N/A"},{"$error":"#N/A"},{"$error":"#N/A"},{"$error":"#N/A"},{"$error":"#N/A"}]
[48,48121,"Denton County","Texas","Denton County, Texas",2436,27,7491,662614,367.63485200000002,4.0747710000000001,1130.5224459999999,19100,104.96,107.37,91.25,114.16]
[8,8031,"Denver County","Colorado","Denver County, Colorado",1525,31,16969,600158,254.09975399999999,5.1653060000000002,2827.4221120000002,19740,129.34,137.66999999999999,174.54,181.54]
[41,41017,"Deschutes County","Oregon","Deschutes County, Oregon",673,17,1568,157733,426.67038600000001,10.777706999999999,994.08494099999996,13460,95.73,115.65,115.3,80.19]
[12,12027,"DeSoto County","Florida","DeSoto County, Florida",261,4,379,34862,748.66616899999997,11.473811,1087.143595,{"$error":"#N/A"},{"$error":"#N/A"},{"$error":"#N/A"},{"$error":"#N/A"},{"$error":"#N/A"}]
[28,28033,"DeSoto County","Mississippi",{"$f":"CONCATENATE(C578,\", \",D578)","v":"DeSoto County, Mississippi"},"#NULL!","#NULL!","#NULL!",161252,"#NULL!","#NULL!","#NULL!",32820,95.25,88.58,99.48,78.180000000000007]
[31,31049,"Deuel County","Nebraska","Deuel County, Nebraska",7,0,71,1941,360.638846,0,3657.9082950000002,{"$error":"#N/A"},{"$error":"#N/A"},{"$error":"#N/A"},{"$error":"#N/A"},{"$error":"#N/A"}]
[40,40043,"Dewey County","Oklahoma","Dewey County, Oklahoma",0,0,33,4810,0,0,686.07068600000002,{"$error":"#N/A"},{"$error":"#N/A"},{"$error":"#N/A"},{"$error":"#N/A"},{"$error":"#N/A"}]
[48,48123,"DeWitt County","Texas","DeWitt County, Texas",108,2,368,20097,537.393641,9.9517340000000001,1831.119072,{"$error":"#N/A"},{"$error":"#N/A"},{"$error":"#N/A"},{"$error":"#N/A"},{"$error":"#N/A"}]
[48,48125,"Dickens County","Texas","Dickens County, Texas",7,1,25,2444,286.41571199999998,40.916530000000002,1022.913257,{"$error":"#N/A"},{"$error":"#N/A"},{"$error":"#N/A"},{"$error":"#N/A"},{"$error":"#N/A"}]
[20,20041,"Dickinson County","Kansas","Dickinson County, Kansas",102,1,434,19754,516.35111900000004,5.0622660000000002,2197.0233880000001,{"$error":"#N/A"},{"$error":"#N/A"},{"$error":"#N/A"},{"$error":"#N/A"},{"$error":"#N/A"}]
[26,26043,"Dickinson County","Michigan","Dickinson County, Michigan",108,3,993,26168,412.71782300000001,11.464384000000001,3794.7110980000002,{"$error":"#N/A"},{"$error":"#N/A"},{"$error":"#N/A"},{"$error":"#N/A"},{"$error":"#N/A"}]
[47,47043,"Dickson County","Tennessee","Dickson County, Tennessee",390,14,1565,49666,785.24544000000003,28.188298,3151.0490070000001,34980,91.19,65.430000000000007,90.57,73.7]
[45,45033,"Dillon County","South Carolina","Dillon County, South Carolina",308,8,848,32062,960.63876200000004,24.951656,2644.8755540000002,{"$error":"#N/A"},{"$error":"#N/A"},{"$error":"#N/A"},{"$error":"#N/A"},{"$error":"#N/A"}]
[48,48127,"Dimmit County","Texas","Dimmit County, Texas",42,4,74,9996,420.16806700000001,40.016005999999997,740.29611799999998,{"$error":"#N/A"},{"$error":"#N/A"},{"$error":"#N/A"},{"$error":"#N/A"},{"$error":"#N/A"}]
[51,51053,"Dinwiddie County","Virginia","Dinwiddie County, Virginia",134,0,382,28001,478.55433699999998,0,1364.2369920000001,40060,90.02,49.1,78.23,71.08]
[9,11001,"District of Columbia","District of Columbia","District of Columbia, District of Columbia","#NULL!","#NULL!","#NULL!",601723,"#NULL!","#NULL!","#NULL!",47900,193.52,138.05000000000001,219.97,185.15]
[12,12029,"Dixie County","Florida","Dixie County, Florida",85,3,132,16422,517.598344,18.268177000000001,803.79978100000005,{"$error":"#N/A"},{"$error":"#N/A"},{"$error":"#N/A"},{"$error":"#N/A"},{"$error":"#N/A"}]
[31,31051,"Dixon County","Nebraska","Dixon County, Nebraska",9,2,72,6000,150,33.333333000000003,1200,{"$error":"#N/A"},{"$error":"#N/A"},{"$error":"#N/A"},{"$error":"#N/A"},{"$error":"#N/A"}]
[13,13091,"Dodge County","Georgia","Dodge County, Georgia",92,6,309,21796,422.095797,27.527987,1417.6913199999999,{"$error":"#N/A"},{"$error":"#N/A"},{"$error":"#N/A"},{"$error":"#N/A"},{"$error":"#N/A"}]
[27,27039,"Dodge County","Minnesota","Dodge County, Minnesota",55,2,191,20087,273.80893099999997,9.9566879999999998,950.863743,40340,90.15,114.35,78.13,95.81]
[31,31053,"Dodge County","Nebraska","Dodge County, Nebraska",137,2,626,36691,373.38856900000002,5.4509280000000002,1706.1404700000001,{"$error":"#N/A"},{"$error":"#N/A"},{"$error":"#N/A"},{"$error":"#N/A"},{"$error":"#N/A"}]
[55,55027,"Dodge County","Wisconsin","Dodge County, Wisconsin",387,8,1477,88759,436.01212299999997,9.0131700000000006,1664.056603,{"$error":"#N/A"},{"$error":"#N/A"},{"$error":"#N/A"},{"$error":"#N/A"},{"$error":"#N/A"}]
[35,35013,"Doña Ana County","New Mexico","Doña Ana County, New Mexico",1297,24,4137,209233,619.88309700000002,11.470466,1977.2215659999999,29740,99.2,106.04,114.72,103.66]
[20,20043,"Doniphan County","Kansas","Doniphan County, Kansas",21,2,157,7945,264.31718100000001,25.173065000000001,1976.0855879999999,{"$error":"#N/A"},{"$error":"#N/A"},{"$error":"#N/A"},{"$error":"#N/A"},{"$error":"#N/A"}]
[48,48129,"Donley County","Texas","Donley County, Texas",12,1,45,3677,326.353005,27.196083999999999,1223.8237690000001,{"$error":"#N/A"},{"$error":"#N/A"},{"$error":"#N/A"},{"$error":"#N/A"},{"$error":"#N/A"}]
[13,13093,"Dooly County","Georgia","Dooly County, Georgia",108,1,285,14918,723.95763499999998,6.7033110000000002,1910.443759,{"$error":"#N/A"},{"$error":"#N/A"},{"$error":"#N/A"},{"$error":"#N/A"},{"$error":"#N/A"}]
[55,55029,"Door County","Wisconsin","Door County, Wisconsin",131,2,729,27785,471.47741600000001,7.1981279999999996,2623.7178330000002,{"$error":"#N/A"},{"$error":"#N/A"},{"$error":"#N/A"},{"$error":"#N/A"},{"$error":"#N/A"}]
[24,24019,"Dorchester County","Maryland","Dorchester County, Maryland",157,5,397,32618,481.32932699999998,15.328958999999999,1217.1193820000001,{"$error":"#N/A"},{"$error":"#N/A"},{"$error":"#N/A"},{"$error":"#N/A"},{"$error":"#N/A"}]
[45,45035,"Dorchester County","South Carolina","Dorchester County, South Carolina",695,9,2635,136555,508.95243699999997,6.590751,1929.6254260000001,16700,103.61,98.38,81.02,84.79]
[13,13095,"Dougherty County","Georgia","Dougherty County, Georgia",961,14,3386,94565,1016.232221,14.804632,3580.6059319999999,10500,97.65,109.27,95.6,107.9]
[8,8035,"Douglas County","Colorado","Douglas County, Colorado",298,11,4123,285465,104.391081,3.8533620000000002,1444.3101610000001,19740,102.77,97.61,92.17,97.77]
[13,13097,"Douglas County","Georgia","Douglas County, Georgia",1356,18,4541,132403,1024.1459789999999,13.594858,3429.6805960000002,12060,95.83,89.53,103.33,70.959999999999994]
[17,17041,"Douglas County","Illinois","Douglas County, Illinois",54,5,277,19980,270.27026999999998,25.025024999999999,1386.3863859999999,{"$error":"#N/A"},{"$error":"#N/A"},{"$error":"#N/A"},{"$error":"#N/A"},{"$error":"#N/A"}]
[20,20045,"Douglas County","Kansas","Douglas County, Kansas",636,8,2960,110826,573.87255700000003,7.2185230000000002,2670.8534100000002,29940,100.21,127.37,99.68,98.22]
[29,29067,"Douglas County","Missouri","Douglas County, Missouri",54,5,178,13684,394.62145600000002,36.539023999999998,1300.7892429999999,{"$error":"#N/A"},{"$error":"#N/A"},{"$error":"#N/A"},{"$error":"#N/A"},{"$error":"#N/A"}]
[31,31055,"Douglas County","Nebraska","Douglas County, Nebraska",2116,22,8384,517110,409.19726900000001,4.2544139999999997,1621.3184819999999,36540,110.08,132.44999999999999,125.37,138.38]
[32,32005,"Douglas County","Nevada","Douglas County, Nevada",164,13,576,46997,348.95844399999999,27.661339999999999,1225.6101450000001,{"$error":"#N/A"},{"$error":"#N/A"},{"$error":"#N/A"},{"$error":"#N/A"},{"$error":"#N/A"}]
[41,41019,"Douglas County","Oregon","Douglas County, Oregon",621,11,1178,107667,576.77840000000003,10.216687,1094.1142600000001,{"$error":"#N/A"},{"$error":"#N/A"},{"$error":"#N/A"},{"$error":"#N/A"},{"$error":"#N/A"}]
[53,53017,"Douglas County","Washington","Douglas County, Washington",147,2,432,38431,382.50370800000002,5.2041320000000004,1124.092529,48300,103.94,116.98,82.17,91.3]
[55,55031,"Douglas County","Wisconsin","Douglas County, Wisconsin",179,3,744,44159,405.35338200000001,6.7936319999999997,1684.8207609999999,20260,95.01,99.68,81.91,108.53]
[19,19061,"Dubuque County","Iowa","Dubuque County, Iowa",501,7,1976,93653,534.95349899999997,7.4744000000000002,2109.916393,20220,100.57,130.56,115.08,106.99]
[49,49013,"Duchesne County","Utah","Duchesne County, Utah",89,8,423,18607,478.31461300000001,42.994571999999998,2273.3379909999999,{"$error":"#N/A"},{"$error":"#N/A"},{"$error":"#N/A"},{"$error":"#N/A"},{"$error":"#N/A"}]
[31,31057,"Dundy County","Nebraska","Dundy County, Nebraska",5,0,40,2008,249.003984,0,1992.0318729999999,{"$error":"#N/A"},{"$error":"#N/A"},{"$error":"#N/A"},{"$error":"#N/A"},{"$error":"#N/A"}]
[29,29069,"Dunklin County","Missouri","Dunklin County, Missouri",163,4,532,31953,510.12424499999997,12.518386,1664.945389,{"$error":"#N/A"},{"$error":"#N/A"},{"$error":"#N/A"},{"$error":"#N/A"},{"$error":"#N/A"}]
[55,55033,"Dunn County","Wisconsin","Dunn County, Wisconsin",226,4,985,43857,515.31112499999995,9.1205510000000007,2245.9356550000002,{"$error":"#N/A"},{"$error":"#N/A"},{"$error":"#N/A"},{"$error":"#N/A"},{"$error":"#N/A"}]
[17,17043,"DuPage County","Illinois","DuPage County, Illinois",4062,26,18332,916924,443.00290999999999,2.8355679999999999,1999.293289,16980,111.41,135.96,88.41,126.48]
[37,37061,"Duplin County","North Carolina","Duplin County, North Carolina",373,9,1712,58505,637.55234599999994,15.383300999999999,2926.2456200000001,{"$error":"#N/A"},{"$error":"#N/A"},{"$error":"#N/A"},{"$error":"#N/A"},{"$error":"#N/A"}]
[37,37063,"Durham County","North Carolina","Durham County, North Carolina",2015,12,7725,267587,753.02611899999999,4.4845230000000003,2886.9115470000002,20500,102.68,108.43,103.83,103.7]
[36,36027,"Dutchess County","New York","Dutchess County, New York",1992,28,8828,297488,669.60684100000003,9.4121439999999996,2967.5146559999998,39100,97.07,110.29,128.55000000000001,81.19]
[12,12031,"Duval County","Florida","Duval County, Florida",9812,110,16743,864263,1135.3025640000001,12.727607000000001,1937.257525,27260,106.31,113.1,118.71,125.06]
[48,48131,"Duval County","Texas","Duval County, Texas",48,3,119,11782,407.40111999999999,25.462569999999999,1010.015278,{"$error":"#N/A"},{"$error":"#N/A"},{"$error":"#N/A"},{"$error":"#N/A"},{"$error":"#N/A"}]
[47,47045,"Dyer County","Tennessee","Dyer County, Tennessee",255,7,1163,38335,665.18847000000005,18.260076000000002,3033.7811400000001,{"$error":"#N/A"},{"$error":"#N/A"},{"$error":"#N/A"},{"$error":"#N/A"},{"$error":"#N/A"}]
[13,13099,"Early County","Georgia","Early County, Georgia",56,5,147,11008,508.72093000000001,45.421512,1335.3924420000001,{"$error":"#N/A"},{"$error":"#N/A"},{"$error":"#N/A"},{"$error":"#N/A"},{"$error":"#N/A"}]
[22,22033,"East Baton Rouge Parish","Louisiana","East Baton Rouge Parish, Louisiana",4669,46,20084,440171,1060.7241280000001,10.450483999999999,4562.7721949999996,12940,103.91,113.92,97.85,114.04]
[48,48133,"Eastland County","Texas","Eastland County, Texas",73,5,296,18583,392.83215799999999,26.906312,1592.853683,{"$error":"#N/A"},{"$error":"#N/A"},{"$error":"#N/A"},{"$error":"#N/A"},{"$error":"#N/A"}]
[26,26045,"Eaton County","Michigan","Eaton County, Michigan",497,9,3302,107759,461.21437700000001,8.3519710000000007,3064.245214,29620,94.44,101.46,85.64,72.87]
[55,55035,"Eau Claire County","Wisconsin","Eau Claire County, Wisconsin",462,9,2238,98736,467.91443900000002,9.1152160000000002,2266.6504620000001,20740,98.55,115.5,116.85,96.62]
[13,13101,"Echols County","Georgia","Echols County, Georgia",12,1,28,4034,297.47149200000001,24.789290999999999,694.10014899999999,{"$error":"#N/A"},{"$error":"#N/A"},{"$error":"#N/A"},{"$error":"#N/A"},{"$error":"#N/A"}]
[48,48135,"Ector County","Texas","Ector County, Texas",971,25,2484,137130,708.08721700000001,18.230875999999999,1811.419821,36220,101.41,123.37,112.23,111.89]
[17,17045,"Edgar County","Illinois","Edgar County, Illinois",70,4,358,18576,376.83031899999997,21.533161,1927.2179160000001,{"$error":"#N/A"},{"$error":"#N/A"},{"$error":"#N/A"},{"$error":"#N/A"},{"$error":"#N/A"}]
[37,37065,"Edgecombe County","North Carolina","Edgecombe County, North Carolina",365,5,1136,56552,645.42368099999999,8.8414199999999994,2008.7706889999999,40580,91.45,83.77,99.4,93.79]
[45,45037,"Edgefield County","South Carolina","Edgefield County, South Carolina",148,5,350,26985,548.45284400000003,18.528811999999999,1297.0168610000001,12260,89.95,55.96,76.27,60.96]
[17,17047,"Edwards County","Illinois","Edwards County, Illinois",20,1,155,6721,297.57476600000001,14.878738,2306.2044340000002,{"$error":"#N/A"},{"$error":"#N/A"},{"$error":"#N/A"},{"$error":"#N/A"},{"$error":"#N/A"}]
[20,20047,"Edwards County","Kansas","Edwards County, Kansas",20,1,92,3037,658.54461600000002,32.927230999999999,3029.3052349999998,{"$error":"#N/A"},{"$error":"#N/A"},{"$error":"#N/A"},{"$error":"#N/A"},{"$error":"#N/A"}]
[48,48137,"Edwards County","Texas","Edwards County, Texas",14,1,36,2002,699.30069900000001,49.950049999999997,1798.2017980000001,{"$error":"#N/A"},{"$error":"#N/A"},{"$error":"#N/A"},{"$error":"#N/A"},{"$error":"#N/A"}]
[13,13103,"Effingham County","Georgia","Effingham County, Georgia",306,7,1043,52250,585.64593300000001,13.397129,1996.172249,42340,91.03,60.74,84.13,75.900000000000006]
[17,17049,"Effingham County","Illinois","Effingham County, Illinois",171,8,1060,34242,499.38671799999997,23.363121,3095.613574,{"$error":"#N/A"},{"$error":"#N/A"},{"$error":"#N/A"},{"$error":"#N/A"},{"$error":"#N/A"}]
[6,6017,"El Dorado County","California","El Dorado County, California",667,16,1669,181058,368.39024000000001,8.8369470000000003,921.80406300000004,40900,96.18,88.17,84.58,77.8]
[8,8041,"El Paso County","Colorado",{"$f":"CONCATENATE(C642,\", \",D642)","v":"El Paso County, Colorado"},935,40,10102,622263,150.25801000000001,6.4281499999999996,1623.429322,17820,104.62,119.18,95.89,123.96]
[48,48141,"El Paso County","Texas","El Paso County, Texas",726,17,2072,800647,90.676665,2.1232829999999998,258.79070300000001,21340,109.16,113.33,102.45,125.22]
[8,8039,"Elbert County","Colorado","Elbert County, Colorado",30,3,241,23086,129.94888700000001,12.994889000000001,1043.922724,19740,88.27,44.14,72.69,50.26]
[13,13105,"Elbert County","Georgia","Elbert County, Georgia",122,6,395,20166,604.97867699999995,29.753050000000002,1958.742438,{"$error":"#N/A"},{"$error":"#N/A"},{"$error":"#N/A"},{"$error":"#N/A"},{"$error":"#N/A"}]
[20,20049,"Elk County","Kansas","Elk County, Kansas",12,1,75,2882,416.37751600000001,34.698126000000002,2602.359473,{"$error":"#N/A"},{"$error":"#N/A"},{"$error":"#N/A"},{"$error":"#N/A"},{"$error":"#N/A"}]
[42,42047,"Elk County","Pennsylvania","Elk County, Pennsylvania",106,9,260,31946,331.80992900000001,28.172540999999999,813.87341100000003,{"$error":"#N/A"},{"$error":"#N/A"},{"$error":"#N/A"},{"$error":"#N/A"},{"$error":"#N/A"}]
[18,18039,"Elkhart County","Indiana","Elkhart County, Indiana",103,1,1235,197559,52.136324000000002,0.50617800000000002,625.12970800000005,21140,94.95,104.81,89.66,114.82]
[32,32007,"Elko County","Nevada","Elko County, Nevada",205,13,970,48818,419.927076,26.629522000000001,1986.972019,{"$error":"#N/A"},{"$error":"#N/A"},{"$error":"#N/A"},{"$error":"#N/A"},{"$error":"#N/A"}]
[20,20051,"Ellis County","Kansas","Ellis County, Kansas",148,6,839,28452,520.17432899999994,21.088148,2948.8260930000001,{"$error":"#N/A"},{"$error":"#N/A"},{"$error":"#N/A"},{"$error":"#N/A"},{"$error":"#N/A"}]
[40,40045,"Ellis County","Oklahoma","Ellis County, Oklahoma",0,0,21,4151,0,0,505.90219200000001,{"$error":"#N/A"},{"$error":"#N/A"},{"$error":"#N/A"},{"$error":"#N/A"},{"$error":"#N/A"}]
[48,48139,"Ellis County","Texas","Ellis County, Texas",4455,81,16082,149610,2977.7421300000001,54.140765999999999,10749.281465,19100,92.65,86.97,84.65,100.12]
[20,20053,"Ellsworth County","Kansas","Ellsworth County, Kansas",35,3,242,6497,538.71017400000005,46.175158000000003,3724.7960600000001,{"$error":"#N/A"},{"$error":"#N/A"},{"$error":"#N/A"},{"$error":"#N/A"},{"$error":"#N/A"}]
[1,1051,"Elmore County","Alabama","Elmore County, Alabama",426,11,1740,79303,537.18018199999995,13.870850000000001,2194.1162380000001,33860,91.59,60.63,86.59,85.71]
[16,16039,"Elmore County","Idaho","Elmore County, Idaho",180,6,382,27038,665.72971399999994,22.190989999999999,1412.8263919999999,{"$error":"#N/A"},{"$error":"#N/A"},{"$error":"#N/A"},{"$error":"#N/A"},{"$error":"#N/A"}]
[13,13107,"Emanuel County","Georgia","Emanuel County, Georgia",168,7,423,22598,743.42862200000002,30.976192999999999,1871.847066,{"$error":"#N/A"},{"$error":"#N/A"},{"$error":"#N/A"},{"$error":"#N/A"},{"$error":"#N/A"}]
[49,49015,"Emery County","Utah","Emery County, Utah",68,5,268,10976,619.53352800000005,45.553936,2441.6909620000001,{"$error":"#N/A"},{"$error":"#N/A"},{"$error":"#N/A"},{"$error":"#N/A"},{"$error":"#N/A"}]
[26,26047,"Emmet County","Michigan","Emmet County, Michigan",204,4,1275,32694,623.96770000000004,12.234660999999999,3899.7981279999999,{"$error":"#N/A"},{"$error":"#N/A"},{"$error":"#N/A"},{"$error":"#N/A"},{"$error":"#N/A"}]
[48,48143,"Erath County","Texas","Erath County, Texas",246,6,636,37890,649.24782300000004,15.835312999999999,1678.5431510000001,{"$error":"#N/A"},{"$error":"#N/A"},{"$error":"#N/A"},{"$error":"#N/A"},{"$error":"#N/A"}]
[36,36029,"Erie County","New York","Erie County, New York",6939,47,21737,919040,755.02698499999997,5.1140319999999999,2365.1854109999999,15380,109.71,131.44999999999999,111.78,93.59]
[39,39043,"Erie County","Ohio","Erie County, Ohio",610,6,2581,77079,791.39584100000002,7.7842209999999996,3348.512565,41780,96.77,121.77,104.84,102.29]
[42,42049,"Erie County","Pennsylvania","Erie County, Pennsylvania",1103,31,2318,280566,393.13387899999998,11.049094,826.18706499999996,21500,102.74,130.88,122.48,102.4]
[1,1053,"Escambia County","Alabama","Escambia County, Alabama",172,10,646,38319,448.86348800000002,26.096713999999999,1685.8477519999999,{"$error":"#N/A"},{"$error":"#N/A"},{"$error":"#N/A"},{"$error":"#N/A"},{"$error":"#N/A"}]
[12,12033,"Escambia County","Florida","Escambia County, Florida",4020,36,6186,297619,1350.7202159999999,12.096002,2078.496333,37860,99.94,109.08,100.14,116.67]
[32,32009,"Esmeralda County","Nevada","Esmeralda County, Nevada",13,3,32,783,1660.2809709999999,383.14176200000003,4086.8454660000002,{"$error":"#N/A"},{"$error":"#N/A"},{"$error":"#N/A"},{"$error":"#N/A"},{"$error":"#N/A"}]
[25,25009,"Essex County","Massachusetts","Essex County, Massachusetts",3367,30,13313,743159,453.065898,4.0368209999999998,1791.406684,14460,"NA",36.979999999999997,"NA",122.2]
[34,34013,"Essex County","New Jersey","Essex County, New Jersey",6376,42,26222,783969,813.29746499999999,5.3573550000000001,3344.7751119999998,35620,161.02000000000001,146.99,128.46,148.71]
[36,36031,"Essex County","New York","Essex County, New York",235,6,1515,39370,596.90119400000003,15.240030000000001,3848.107696,{"$error":"#N/A"},{"$error":"#N/A"},{"$error":"#N/A"},{"$error":"#N/A"},{"$error":"#N/A"}]
[1,1055,"Etowah County","Alabama","Etowah County, Alabama",682,15,2664,104430,653.06904099999997,14.363689000000001,2550.9910949999999,23460,93.78,91.28,116.86,93.1]
[32,32011,"Eureka County","Nevada","Eureka County, Nevada",24,2,98,1987,1207.851032,100.654253,4932.0583790000001,{"$error":"#N/A"},{"$error":"#N/A"},{"$error":"#N/A"},{"$error":"#N/A"},{"$error":"#N/A"}]
[13,13109,"Evans County","Georgia","Evans County, Georgia",77,4,163,11000,700,36.363636,1481.818182,{"$error":"#N/A"},{"$error":"#N/A"},{"$error":"#N/A"},{"$error":"#N/A"},{"$error":"#N/A"}]
[2,2090,"Fairbanks North Star Borough","Alaska","Fairbanks North Star Borough, Alaska",356,5,1512,97581,364.82512000000003,5.1239480000000004,1549.4819689999999,{"$error":"#N/A"},{"$error":"#N/A"},{"$error":"#N/A"},{"$error":"#N/A"},{"$error":"#N/A"}]
[51,51600,"Fairfax city","Virginia","Fairfax city, Virginia",149,0,648,22565,660.31464700000004,0,2871.703966,47900,116.97,152.84,73,131.05000000000001]
[51,51059,"Fairfax County","Virginia","Fairfax County, Virginia",5656,0,14538,1081726,522.86808299999996,0,1343.9632590000001,47900,117.83,123.7,113.17,114.82]
[9,9001,"Fairfield County","Connecticut","Fairfield County, Connecticut",6477,60,27304,916829,706.45671100000004,6.5442960000000001,2978.0907889999999,14860,110.88,131.47,125.41,101.99]
[39,39045,"Fairfield County","Ohio","Fairfield County, Ohio",745,14,2943,146156,509.72933,9.5788060000000002,2013.601905,18140,95.2,100.29,89.76,89.15]
[45,45039,"Fairfield County","South Carolina","Fairfield County, South Carolina",194,9,465,23956,809.81799999999998,37.568876000000003,1941.0586069999999,17900,89.55,49.53,76.12,74.02]
[51,51610,"Falls Church city","Virginia","Falls Church city, Virginia",96,0,181,12332,778.462536,0,1467.7262410000001,47900,127.12,177.53,72.72,164.07]
[48,48145,"Falls County","Texas","Falls County, Texas",73,0,240,17866,408.59733599999998,0,1343.3337059999999,{"$error":"#N/A"},{"$error":"#N/A"},{"$error":"#N/A"},{"$error":"#N/A"},{"$error":"#N/A"}]
[13,13111,"Fannin County","Georgia","Fannin County, Georgia",183,10,457,23682,772.738789,42.226163,1929.735664,{"$error":"#N/A"},{"$error":"#N/A"},{"$error":"#N/A"},{"$error":"#N/A"},{"$error":"#N/A"}]
[48,48147,"Fannin County","Texas","Fannin County, Texas",127,2,363,33915,374.465576,5.8970960000000003,1070.322866,{"$error":"#N/A"},{"$error":"#N/A"},{"$error":"#N/A"},{"$error":"#N/A"},{"$error":"#N/A"}]
[5,5045,"Faulkner County","Arkansas","Faulkner County, Arkansas",655,13,2360,113237,578.43284400000005,11.480347,2084.1244470000001,30780,95.11,92.1,83.67,74.78]
[51,51061,"Fauquier County","Virginia","Fauquier County, Virginia",747,0,1391,65203,1145.6528069999999,0,2133.3374229999999,47900,90.61,73.98,90.24,80.5]
[1,1057,"Fayette County","Alabama","Fayette County, Alabama",74,5,217,17241,429.20944300000002,29.000637999999999,1258.62769,{"$error":"#N/A"},{"$error":"#N/A"},{"$error":"#N/A"},{"$error":"#N/A"},{"$error":"#N/A"}]
[13,13113,"Fayette County","Georgia","Fayette County, Georgia",627,1,2863,106567,588.36225100000001,0.93837700000000002,2686.5727659999998,12060,93.23,94.36,100.88,78.34]
[17,17051,"Fayette County","Illinois","Fayette County, Illinois",101,0,532,22140,456.18789500000003,0,2402.8906959999999,{"$error":"#N/A"},{"$error":"#N/A"},{"$error":"#N/A"},{"$error":"#N/A"},{"$error":"#N/A"}]
[21,21067,"Fayette County","Kentucky","Fayette County, Kentucky",2214,30,12252,295803,748.47111099999995,10.141885,4141.9458219999997,30460,110.05,128.66,134.26,116.37]
[39,39047,"Fayette County","Ohio","Fayette County, Ohio",106,2,508,29030,365.13951100000003,6.8894250000000001,1749.9138820000001,{"$error":"#N/A"},{"$error":"#N/A"},{"$error":"#N/A"},{"$error":"#N/A"},{"$error":"#N/A"}]
[42,42051,"Fayette County","Pennsylvania","Fayette County, Pennsylvania",433,23,912,136606,316.96997199999998,16.836742000000001,667.613428,38300,93.03,102.25,96.86,108.42]
[47,47047,"Fayette County","Tennessee","Fayette County, Tennessee",200,8,588,38413,520.65706899999998,20.826283,1530.7317840000001,32820,89.34,50.43,89.51,51.46]
[48,48149,"Fayette County","Texas","Fayette County, Texas",161,6,497,24554,655.69764599999996,24.435936999999999,2024.1101249999999,{"$error":"#N/A"},{"$error":"#N/A"},{"$error":"#N/A"},{"$error":"#N/A"},{"$error":"#N/A"}]
[47,47049,"Fentress County","Tennessee","Fentress County, Tennessee",87,3,237,17959,484.43677300000002,16.704716000000001,1319.6725879999999,{"$error":"#N/A"},{"$error":"#N/A"},{"$error":"#N/A"},{"$error":"#N/A"},{"$error":"#N/A"}]
[53,53019,"Ferry County","Washington","Ferry County, Washington",28,1,89,7551,370.81181299999997,13.243278999999999,1178.651834,{"$error":"#N/A"},{"$error":"#N/A"},{"$error":"#N/A"},{"$error":"#N/A"},{"$error":"#N/A"}]
[31,31059,"Fillmore County","Nebraska","Fillmore County, Nebraska",17,2,77,5890,288.62478800000002,33.955857000000002,1307.3005089999999,{"$error":"#N/A"},{"$error":"#N/A"},{"$error":"#N/A"},{"$error":"#N/A"},{"$error":"#N/A"}]
[20,20055,"Finney County","Kansas","Finney County, Kansas",131,6,802,36776,356.21057200000001,16.314988,2180.7700669999999,{"$error":"#N/A"},{"$error":"#N/A"},{"$error":"#N/A"},{"$error":"#N/A"},{"$error":"#N/A"}]
[48,48151,"Fisher County","Texas","Fisher County, Texas",17,1,56,3974,427.780574,25.163563,1409.159537,{"$error":"#N/A"},{"$error":"#N/A"},{"$error":"#N/A"},{"$error":"#N/A"},{"$error":"#N/A"}]
[12,12035,"Flagler County","Florida","Flagler County, Florida",710,23,988,95696,741.93278699999996,24.034441999999999,1032.4360469999999,37380,96.82,82.32,79.959999999999994,99.05]
[45,45041,"Florence County","South Carolina","Florence County, South Carolina",1075,24,3835,136885,785.33075199999996,17.532965999999998,2801.621799,22500,96.07,90.47,109.63,83.71]
[55,55037,"Florence County","Wisconsin","Florence County, Wisconsin",30,0,119,4423,678.27266599999996,0,2690.4815739999999,{"$error":"#N/A"},{"$error":"#N/A"},{"$error":"#N/A"},{"$error":"#N/A"},{"$error":"#N/A"}]
[13,13115,"Floyd County","Georgia","Floyd County, Georgia",894,10,3462,96317,928.18505600000003,10.382383000000001,3594.3810539999999,40660,92.92,90.67,103.37,89.35]
[18,18043,"Floyd County","Indiana","Floyd County, Indiana",63,0,635,74578,84.475313999999997,0,851.45753400000001,31140,101.1,121.02,86.15,99.15]
[48,48153,"Floyd County","Texas","Floyd County, Texas",18,0,61,6446,279.24294099999997,0,946.32330100000001,{"$error":"#N/A"},{"$error":"#N/A"},{"$error":"#N/A"},{"$error":"#N/A"},{"$error":"#N/A"}]
[51,51065,"Fluvanna County","Virginia","Fluvanna County, Virginia",100,0,260,25691,389.24136900000002,0,1012.027558,16820,92.01,71.239999999999995,75.819999999999993,69.22]
[48,48155,"Foard County","Texas","Foard County, Texas",0,1,7,1336,0,74.850299000000007,523.95209599999998,{"$error":"#N/A"},{"$error":"#N/A"},{"$error":"#N/A"},{"$error":"#N/A"},{"$error":"#N/A"}]
[55,55039,"Fond du Lac County","Wisconsin","Fond du Lac County, Wisconsin",487,8,2185,101633,479.175071,7.8714589999999998,2149.8922590000002,22540,95.54,109.78,153.06,94.09]
[17,17053,"Ford County","Illinois",{"$f":"CONCATENATE(C706,\", \",D706)","v":"Ford County, Illinois"},60,2,211,14081,426.10610000000003,14.203537000000001,1498.4731200000001,16580,90,136.47999999999999,78.31,83.16]
[20,20057,"Ford County","Kansas","Ford County, Kansas",113,9,665,33848,333.84542699999997,26.589459000000002,1964.6655639999999,{"$error":"#N/A"},{"$error":"#N/A"},{"$error":"#N/A"},{"$error":"#N/A"},{"$error":"#N/A"}]
[42,42053,"Forest County","Pennsylvania","Forest County, Pennsylvania",24,0,56,7716,311.041991,0,725.76464499999997,{"$error":"#N/A"},{"$error":"#N/A"},{"$error":"#N/A"},{"$error":"#N/A"},{"$error":"#N/A"}]
[55,55041,"Forest County","Wisconsin","Forest County, Wisconsin",38,4,212,9304,408.42648300000002,42.992260999999999,2278.5898539999998,{"$error":"#N/A"},{"$error":"#N/A"},{"$error":"#N/A"},{"$error":"#N/A"},{"$error":"#N/A"}]
[28,28035,"Forrest County","Mississippi","Forrest County, Mississippi","#NULL!","#NULL!","#NULL!",74934,"#NULL!","#NULL!","#NULL!",25620,95.34,105.53,96.31,100.75]
[13,13117,"Forsyth County","Georgia","Forsyth County, Georgia",845,14,3921,175511,481.45130499999999,7.9767080000000004,2234.0480080000002,12060,96.31,91.93,97.11,68.48]
[37,37067,"Forsyth County","North Carolina","Forsyth County, North Carolina",2322,30,7465,350670,662.16100600000004,8.5550519999999999,2128.7820459999998,49180,98.47,107.56,110.15,95.01]
[48,48157,"Fort Bend County","Texas","Fort Bend County, Texas",1632,30,6029,585375,278.79564399999998,5.1249200000000004,1029.9380739999999,26420,104.19,96.2,101.96,111.59]
[1,1059,"Franklin County","Alabama","Franklin County, Alabama",161,6,571,31704,507.82235700000001,18.925056999999999,1801.03457,{"$error":"#N/A"},{"$error":"#N/A"},{"$error":"#N/A"},{"$error":"#N/A"},{"$error":"#N/A"}]
[12,12037,"Franklin County","Florida","Franklin County, Florida",88,6,118,11549,761.970733,51.952550000000002,1021.733483,{"$error":"#N/A"},{"$error":"#N/A"},{"$error":"#N/A"},{"$error":"#N/A"},{"$error":"#N/A"}]
[13,13119,"Franklin County","Georgia","Franklin County, Georgia",203,4,659,22084,919.217533,18.112660999999999,2984.0608590000002,{"$error":"#N/A"},{"$error":"#N/A"},{"$error":"#N/A"},{"$error":"#N/A"},{"$error":"#N/A"}]
[16,16041,"Franklin County","Idaho","Franklin County, Idaho",44,1,138,12786,344.12638800000002,7.8210540000000002,1079.30549,{"$error":"#N/A"},{"$error":"#N/A"},{"$error":"#N/A"},{"$error":"#N/A"},{"$error":"#N/A"}]
[17,17055,"Franklin County","Illinois","Franklin County, Illinois",220,6,943,39561,556.10323300000005,15.166452,2383.660676,{"$error":"#N/A"},{"$error":"#N/A"},{"$error":"#N/A"},{"$error":"#N/A"},{"$error":"#N/A"}]
[18,18047,"Franklin County","Indiana","Franklin County, Indiana",18,0,148,23087,77.965954999999994,0,641.05340699999999,17140,90.85,54.82,78.33,95.48]
[20,20059,"Franklin County","Kansas","Franklin County, Kansas",102,4,440,25992,392.42844000000002,15.389351,1692.828563,28140,89.92,101.1,85.19,101.84]
[25,25011,"Franklin County","Massachusetts","Franklin County, Massachusetts",314,5,1088,71372,439.94843900000001,7.0055480000000001,1524.4073310000001,44140,"NA","NA","NA",83.51]
[29,29071,"Franklin County","Missouri","Franklin County, Missouri",503,15,2262,101492,495.60556500000001,14.779489999999999,2228.7470929999999,41180,91.1,94.49,82.43,93.59]
[31,31061,"Franklin County","Nebraska","Franklin County, Nebraska",5,0,42,3225,155.03876,0,1302.3255810000001,{"$error":"#N/A"},{"$error":"#N/A"},{"$error":"#N/A"},{"$error":"#N/A"},{"$error":"#N/A"}]
[36,36033,"Franklin County","New York","Franklin County, New York",307,6,1791,51599,594.97277099999997,11.628132000000001,3470.9974999999999,{"$error":"#N/A"},{"$error":"#N/A"},{"$error":"#N/A"},{"$error":"#N/A"},{"$error":"#N/A"}]
[37,37069,"Franklin County","North Carolina","Franklin County, North Carolina",273,9,996,60619,450.35384900000003,14.846830000000001,1643.049209,39580,91.13,52.43,78.63,63.74]
[39,39049,"Franklin County","Ohio","Franklin County, Ohio",7682,77,30686,1163414,660.29805399999998,6.6184519999999996,2637.5821500000002,18140,111.37,131.41,124.87,127.88]
[42,42055,"Franklin County","Pennsylvania","Franklin County, Pennsylvania",542,20,1277,149618,362.255878,13.367376,853.50693100000001,{"$error":"#N/A"},{"$error":"#N/A"},{"$error":"#N/A"},{"$error":"#N/A"},{"$error":"#N/A"}]
[47,47051,"Franklin County","Tennessee","Franklin County, Tennessee",287,2,986,41052,699.11332000000004,4.8718700000000004,2401.831823,{"$error":"#N/A"},{"$error":"#N/A"},{"$error":"#N/A"},{"$error":"#N/A"},{"$error":"#N/A"}]
[48,48159,"Franklin County","Texas","Franklin County, Texas",38,1,118,10605,358.32154600000001,9.4295139999999993,1112.682697,{"$error":"#N/A"},{"$error":"#N/A"},{"$error":"#N/A"},{"$error":"#N/A"},{"$error":"#N/A"}]
[50,50011,"Franklin County","Vermont","Franklin County, Vermont",176,8,657,47746,368.61726599999997,16.755330000000001,1376.0315000000001,15540,92.87,95.99,82.45,75.67]
[51,51067,"Franklin County","Virginia","Franklin County, Virginia",362,0,900,56159,644.59837200000004,0,1602.592639,40220,91.3,47.21,88.85,77.48]
[53,53021,"Franklin County","Washington","Franklin County, Washington",301,6,886,78163,385.092691,7.676266,1133.528652,28420,101.59,119.22,82.23,111.14]
[24,24021,"Frederick County","Maryland","Frederick County, Maryland",923,14,2387,233385,395.483857,5.998672,1022.7735290000001,47900,97.32,108.73,104.01,100.82]
[51,51069,"Frederick County","Virginia","Frederick County, Virginia",372,0,1115,78305,475.065449,0,1423.91929,49020,93.79,81.33,87.14,85.85]
[51,51630,"Fredericksburg city","Virginia","Fredericksburg city, Virginia",382,0,792,24286,1572.922671,0,3261.1381040000001,47900,120.16,145.13,97.72,154.28]
[48,48161,"Freestone County","Texas","Freestone County, Texas",111,6,410,19816,560.15341100000001,30.278562999999998,2069.0351230000001,{"$error":"#N/A"},{"$error":"#N/A"},{"$error":"#N/A"},{"$error":"#N/A"},{"$error":"#N/A"}]
[16,16043,"Fremont County","Idaho","Fremont County, Idaho",70,2,259,13242,528.62105399999996,15.103459000000001,1955.897901,{"$error":"#N/A"},{"$error":"#N/A"},{"$error":"#N/A"},{"$error":"#N/A"},{"$error":"#N/A"}]
[56,56013,"Fremont County","Wyoming","Fremont County, Wyoming",206,17,679,40123,513.42123000000004,42.369712999999997,1692.2961889999999,{"$error":"#N/A"},{"$error":"#N/A"},{"$error":"#N/A"},{"$error":"#N/A"},{"$error":"#N/A"}]
[6,6019,"Fresno County","California","Fresno County, California",3041,95,7933,930450,326.83110299999998,10.210113,852.59820500000001,23420,103.35,127.85,104.03,94.25]
[48,48163,"Frio County","Texas","Frio County, Texas",76,5,235,17217,441.42417399999999,29.041063999999999,1364.9300109999999,{"$error":"#N/A"},{"$error":"#N/A"},{"$error":"#N/A"},{"$error":"#N/A"},{"$error":"#N/A"}]
[31,31063,"Frontier County","Nebraska","Frontier County, Nebraska",4,1,46,2756,145.13788099999999,36.284469999999999,1669.0856309999999,{"$error":"#N/A"},{"$error":"#N/A"},{"$error":"#N/A"},{"$error":"#N/A"},{"$error":"#N/A"}]
[13,13121,"Fulton County","Georgia","Fulton County, Georgia",9726,92,44962,920581,1056.5067059999999,9.9936889999999998,4884.0895039999996,12060,107.63,122.6,146.47999999999999,108.57]
[17,17057,"Fulton County","Illinois","Fulton County, Illinois",133,5,892,37069,358.79036400000001,13.48836,2406.323343,{"$error":"#N/A"},{"$error":"#N/A"},{"$error":"#N/A"},{"$error":"#N/A"},{"$error":"#N/A"}]
[36,36035,"Fulton County","New York","Fulton County, New York",328,9,1516,55531,590.66107199999999,16.207163999999999,2730.0066630000001,{"$error":"#N/A"},{"$error":"#N/A"},{"$error":"#N/A"},{"$error":"#N/A"},{"$error":"#N/A"}]
[39,39051,"Fulton County","Ohio","Fulton County, Ohio",253,6,1066,42698,592.53360799999996,14.05218,2496.6040560000001,45780,90.59,113.35,82.43,93.65]
[42,42057,"Fulton County","Pennsylvania","Fulton County, Pennsylvania",76,5,232,14845,511.95688799999999,33.681373999999998,1562.8157630000001,{"$error":"#N/A"},{"$error":"#N/A"},{"$error":"#N/A"},{"$error":"#N/A"},{"$error":"#N/A"}]
[31,31065,"Furnas County","Nebraska","Furnas County, Nebraska",20,0,82,4959,403.307118,0,1653.5591850000001,{"$error":"#N/A"},{"$error":"#N/A"},{"$error":"#N/A"},{"$error":"#N/A"},{"$error":"#N/A"}]
[12,12039,"Gadsden County","Florida","Gadsden County, Florida",571,11,799,46389,1230.8952549999999,23.712517999999999,1722.3910840000001,45220,90.27,57.12,83.72,95.13]
[31,31067,"Gage County","Nebraska","Gage County, Nebraska",62,4,400,22311,277.88983000000002,17.928376,1792.837614,{"$error":"#N/A"},{"$error":"#N/A"},{"$error":"#N/A"},{"$error":"#N/A"},{"$error":"#N/A"}]
[48,48165,"Gaines County","Texas","Gaines County, Texas",54,4,182,17526,308.11365999999998,22.823233999999999,1038.4571490000001,{"$error":"#N/A"},{"$error":"#N/A"},{"$error":"#N/A"},{"$error":"#N/A"},{"$error":"#N/A"}]
[17,17059,"Gallatin County","Illinois","Gallatin County, Illinois",34,2,127,5589,608.337806,35.784576999999999,2272.3206300000002,{"$error":"#N/A"},{"$error":"#N/A"},{"$error":"#N/A"},{"$error":"#N/A"},{"$error":"#N/A"}]
[39,39053,"Gallia County","Ohio","Gallia County, Ohio",244,2,820,30934,788.77610400000003,6.4653780000000003,2650.80494,{"$error":"#N/A"},{"$error":"#N/A"},{"$error":"#N/A"},{"$error":"#N/A"},{"$error":"#N/A"}]
[48,48167,"Galveston County","Texas","Galveston County, Texas",1057,32,4175,291309,362.84495199999998,10.984899,1433.1860670000001,26420,100.94,113.67,106.27,130.51]
[31,31069,"Garden County","Nebraska","Garden County, Nebraska",2,1,31,2057,97.228973999999994,48.614486999999997,1507.0491010000001,{"$error":"#N/A"},{"$error":"#N/A"},{"$error":"#N/A"},{"$error":"#N/A"},{"$error":"#N/A"}]
[31,31071,"Garfield County","Nebraska","Garfield County, Nebraska",1,0,18,2049,48.804295000000003,0,878.477306,{"$error":"#N/A"},{"$error":"#N/A"},{"$error":"#N/A"},{"$error":"#N/A"},{"$error":"#N/A"}]
[40,40047,"Garfield County","Oklahoma","Garfield County, Oklahoma",374,6,1601,60580,617.36546699999997,9.9042589999999997,2642.7863980000002,{"$error":"#N/A"},{"$error":"#N/A"},{"$error":"#N/A"},{"$error":"#N/A"},{"$error":"#N/A"}]
[49,49017,"Garfield County","Utah","Garfield County, Utah",50,2,172,5172,966.74400600000001,38.669759999999997,3325.599381,{"$error":"#N/A"},{"$error":"#N/A"},{"$error":"#N/A"},{"$error":"#N/A"},{"$error":"#N/A"}]
[53,53023,"Garfield County","Washington","Garfield County, Washington",14,0,40,2266,617.82877299999996,0,1765.225066,{"$error":"#N/A"},{"$error":"#N/A"},{"$error":"#N/A"},{"$error":"#N/A"},{"$error":"#N/A"}]
[5,5051,"Garland County","Arkansas","Garland County, Arkansas",968,13,3247,96024,1008.081313,13.538282000000001,3381.4463049999999,26300,92.69,89.51,116.53,103.18]
[24,24023,"Garrett County","Maryland","Garrett County, Maryland",172,8,478,30097,571.48553000000004,26.580722000000002,1588.198159,{"$error":"#N/A"},{"$error":"#N/A"},{"$error":"#N/A"},{"$error":"#N/A"},{"$error":"#N/A"}]
[40,40049,"Garvin County","Oklahoma","Garvin County, Oklahoma",139,5,477,27576,504.06150300000002,18.131709000000001,1729.765013,{"$error":"#N/A"},{"$error":"#N/A"},{"$error":"#N/A"},{"$error":"#N/A"},{"$error":"#N/A"}]
[48,48169,"Garza County","Texas","Garza County, Texas",22,2,75,6461,340.50456600000001,30.954961000000001,1160.8110200000001,{"$error":"#N/A"},{"$error":"#N/A"},{"$error":"#N/A"},{"$error":"#N/A"},{"$error":"#N/A"}]
[29,29073,"Gasconade County","Missouri","Gasconade County, Missouri",68,7,302,15222,446.72185000000002,45.986072999999998,1983.9705690000001,{"$error":"#N/A"},{"$error":"#N/A"},{"$error":"#N/A"},{"$error":"#N/A"},{"$error":"#N/A"}]
[37,37071,"Gaston County","North Carolina","Gaston County, North Carolina",1814,15,4426,206086,880.215056,7.2785149999999996,2147.6470989999998,16740,95.33,103.37,110.64,94.2]
[37,37073,"Gates County","North Carolina","Gates County, North Carolina",81,1,240,12197,664.09772899999996,8.1987369999999995,1967.6969750000001,{"$error":"#N/A"},{"$error":"#N/A"},{"$error":"#N/A"},{"$error":"#N/A"},{"$error":"#N/A"}]
[20,20061,"Geary County","Kansas","Geary County, Kansas",165,1,774,34362,480.18159600000001,2.9101910000000002,2252.488214,31740,96.96,"NA",84.76,128.69]
[39,39055,"Geauga County","Ohio","Geauga County, Ohio",537,7,2026,93389,575.01418799999999,7.4955290000000003,2169.4203809999999,17460,90.84,82.83,86.85,50.2]
[16,16045,"Gem County","Idaho","Gem County, Idaho",48,0,126,16719,287.09851099999997,0,753.63359100000002,14260,92.23,83.41,76.44,113.29]
[26,26049,"Genesee County","Michigan","Genesee County, Michigan",2413,43,10550,425790,566.71128999999996,10.098875,2477.7472459999999,22420,97.37,109.34,123.51,103.52]
[36,36037,"Genesee County","New York",{"$f":"CONCATENATE(C770,\", \",D770)","v":"Genesee County, New York"},421,8,2645,60079,700.74401999999998,13.315801,4402.5366599999998,{"$error":"#N/A"},{"$error":"#N/A"},{"$error":"#N/A"},{"$error":"#N/A"},{"$error":"#N/A"}]
[1,1061,"Geneva County","Alabama","Geneva County, Alabama",93,4,369,26790,347.14445699999999,14.930944,1377.379619,{"$error":"#N/A"},{"$error":"#N/A"},{"$error":"#N/A"},{"$error":"#N/A"},{"$error":"#N/A"}]
[29,29075,"Gentry County","Missouri","Gentry County, Missouri",21,0,77,6738,311.66518300000001,0,1142.772336,{"$error":"#N/A"},{"$error":"#N/A"},{"$error":"#N/A"},{"$error":"#N/A"},{"$error":"#N/A"}]
[28,28039,"George County","Mississippi","George County, Mississippi","#NULL!","#NULL!","#NULL!",22578,"#NULL!","#NULL!","#NULL!",37700,90.76,69.739999999999995,77.91,92.68]
[45,45043,"Georgetown County","South Carolina","Georgetown County, South Carolina",365,12,1108,60158,606.73559599999999,19.947472000000001,1841.81655,{"$error":"#N/A"},{"$error":"#N/A"},{"$error":"#N/A"},{"$error":"#N/A"},{"$error":"#N/A"}]
[18,18051,"Gibson County","Indiana","Gibson County, Indiana",24,1,219,33503,71.635375999999994,2.984807,653.67280500000004,21780,92.92,109.39,77.459999999999994,124.54]
[47,47053,"Gibson County","Tennessee","Gibson County, Tennessee",284,7,1015,49683,571.62409700000001,14.089326,2042.9523180000001,{"$error":"#N/A"},{"$error":"#N/A"},{"$error":"#N/A"},{"$error":"#N/A"},{"$error":"#N/A"}]
[12,12041,"Gilchrist County","Florida","Gilchrist County, Florida",92,4,139,16939,543.12533199999996,23.614145000000001,820.59153400000002,{"$error":"#N/A"},{"$error":"#N/A"},{"$error":"#N/A"},{"$error":"#N/A"},{"$error":"#N/A"}]
[47,47055,"Giles County","Tennessee","Giles County, Tennessee",195,10,931,29485,661.35323000000005,33.915550000000003,3157.5377309999999,{"$error":"#N/A"},{"$error":"#N/A"},{"$error":"#N/A"},{"$error":"#N/A"},{"$error":"#N/A"}]
[48,48171,"Gillespie County","Texas","Gillespie County, Texas",136,2,458,24837,547.57015699999999,8.0525020000000005,1844.0230300000001,{"$error":"#N/A"},{"$error":"#N/A"},{"$error":"#N/A"},{"$error":"#N/A"},{"$error":"#N/A"}]
[41,41021,"Gilliam County","Oregon","Gilliam County, Oregon",16,0,36,1871,855.15767000000005,0,1924.1047570000001,{"$error":"#N/A"},{"$error":"#N/A"},{"$error":"#N/A"},{"$error":"#N/A"},{"$error":"#N/A"}]
[13,13123,"Gilmer County","Georgia","Gilmer County, Georgia",202,5,740,28292,713.98275100000001,17.672840000000001,2615.5803759999999,{"$error":"#N/A"},{"$error":"#N/A"},{"$error":"#N/A"},{"$error":"#N/A"},{"$error":"#N/A"}]
[12,12043,"Glades County","Florida","Glades County, Florida",104,2,159,12884,807.20273199999997,15.523129000000001,1234.088792,{"$error":"#N/A"},{"$error":"#N/A"},{"$error":"#N/A"},{"$error":"#N/A"},{"$error":"#N/A"}]
[26,26051,"Gladwin County","Michigan","Gladwin County, Michigan",98,2,747,25692,381.44169399999998,7.7845240000000002,2907.519851,{"$error":"#N/A"},{"$error":"#N/A"},{"$error":"#N/A"},{"$error":"#N/A"},{"$error":"#N/A"}]
[13,13125,"Glascock County","Georgia","Glascock County, Georgia",12,0,35,3082,389.35755999999998,0,1135.626217,{"$error":"#N/A"},{"$error":"#N/A"},{"$error":"#N/A"},{"$error":"#N/A"},{"$error":"#N/A"}]
[48,48173,"Glasscock County","Texas","Glasscock County, Texas",26,1,77,1226,2120.7177809999998,81.566068999999999,6280.5872760000002,{"$error":"#N/A"},{"$error":"#N/A"},{"$error":"#N/A"},{"$error":"#N/A"},{"$error":"#N/A"}]
[6,6021,"Glenn County","California","Glenn County, California",106,7,313,28122,376.92909500000002,24.891544,1113.0076100000001,{"$error":"#N/A"},{"$error":"#N/A"},{"$error":"#N/A"},{"$error":"#N/A"},{"$error":"#N/A"}]
[34,34015,"Gloucester County","New Jersey","Gloucester County, New Jersey",1912,23,7604,288288,663.22566300000005,7.9781329999999997,2637.6401380000002,37980,100.59,121.22,87.46,104.71]
[51,51073,"Gloucester County","Virginia","Gloucester County, Virginia",177,0,351,36858,480.22138999999999,0,952.30343500000004,47260,92.66,69.239999999999995,89.69,99.14]
[13,13127,"Glynn County","Georgia","Glynn County, Georgia",699,19,2649,79626,877.85396700000001,23.861553000000001,3326.802803,15260,92.87,102,95.73,111.38]
[26,26053,"Gogebic County","Michigan","Gogebic County, Michigan",62,0,305,16427,377.42740600000002,0,1856.6993359999999,{"$error":"#N/A"},{"$error":"#N/A"},{"$error":"#N/A"},{"$error":"#N/A"},{"$error":"#N/A"}]
[48,48175,"Goliad County","Texas","Goliad County, Texas",50,3,107,7210,693.48127599999998,41.608877,1484.049931,{"$error":"#N/A"},{"$error":"#N/A"},{"$error":"#N/A"},{"$error":"#N/A"},{"$error":"#N/A"}]
[48,48177,"Gonzales County","Texas","Gonzales County, Texas",126,6,359,19807,636.13873899999999,30.292321000000001,1812.490534,{"$error":"#N/A"},{"$error":"#N/A"},{"$error":"#N/A"},{"$error":"#N/A"},{"$error":"#N/A"}]
[51,51075,"Goochland County","Virginia","Goochland County, Virginia",173,0,416,21717,796.61095,0,1915.5500300000001,40060,90.23,55.11,75.260000000000005,78.66]
[16,16047,"Gooding County","Idaho","Gooding County, Idaho",89,3,220,15464,575.53026399999999,19.399896999999999,1422.659079,{"$error":"#N/A"},{"$error":"#N/A"},{"$error":"#N/A"},{"$error":"#N/A"},{"$error":"#N/A"}]
[13,13129,"Gordon County","Georgia","Gordon County, Georgia",485,10,1495,55186,878.84608400000002,18.120538,2709.0204039999999,{"$error":"#N/A"},{"$error":"#N/A"},{"$error":"#N/A"},{"$error":"#N/A"},{"$error":"#N/A"}]
[56,56015,"Goshen County","Wyoming","Goshen County, Wyoming",50,3,163,13249,377.38697300000001,22.643218000000001,1230.2815310000001,{"$error":"#N/A"},{"$error":"#N/A"},{"$error":"#N/A"},{"$error":"#N/A"},{"$error":"#N/A"}]
[31,31073,"Gosper County","Nebraska","Gosper County, Nebraska",4,1,53,2044,195.694716,48.923679,2592.9549900000002,{"$error":"#N/A"},{"$error":"#N/A"},{"$error":"#N/A"},{"$error":"#N/A"},{"$error":"#N/A"}]
[20,20063,"Gove County","Kansas","Gove County, Kansas",25,3,111,2695,927.64378499999998,111.31725400000001,4118.7384039999997,{"$error":"#N/A"},{"$error":"#N/A"},{"$error":"#N/A"},{"$error":"#N/A"},{"$error":"#N/A"}]
[13,13131,"Grady County","Georgia","Grady County, Georgia",160,5,480,25011,639.718524,19.991204,1919.1555719999999,{"$error":"#N/A"},{"$error":"#N/A"},{"$error":"#N/A"},{"$error":"#N/A"},{"$error":"#N/A"}]
[40,40051,"Grady County","Oklahoma","Grady County, Oklahoma",274,12,786,52431,522.59159699999998,22.887222999999999,1499.11312,36420,91.37,75.37,86.82,102.85]
[20,20065,"Graham County","Kansas","Graham County, Kansas",10,0,111,2597,385.059684,0,4274.1624949999996,{"$error":"#N/A"},{"$error":"#N/A"},{"$error":"#N/A"},{"$error":"#N/A"},{"$error":"#N/A"}]
[37,37075,"Graham County","North Carolina","Graham County, North Carolina",91,4,149,8861,1026.972125,45.141632000000001,1681.525787,{"$error":"#N/A"},{"$error":"#N/A"},{"$error":"#N/A"},{"$error":"#N/A"},{"$error":"#N/A"}]
[47,47057,"Grainger County","Tennessee","Grainger County, Tennessee",126,5,355,22657,556.11952199999996,22.068235000000001,1566.8446839999999,34100,89.49,45.66,74.08,70.510000000000005]
[49,49019,"Grand County","Utah","Grand County, Utah",71,6,218,9225,769.647696,65.040649999999999,2363.1436309999999,{"$error":"#N/A"},{"$error":"#N/A"},{"$error":"#N/A"},{"$error":"#N/A"},{"$error":"#N/A"}]
[38,38035,"Grand Forks County","North Dakota","Grand Forks County, North Dakota",365,2,1482,66861,545.90867600000001,2.9912800000000002,2216.5387890000002,24220,104.24,124.99,97.01,96.71]
[50,50013,"Grand Isle County","Vermont","Grand Isle County, Vermont",17,0,84,6970,243.90243899999999,0,1205.1649930000001,15540,89.13,86.07,69.37,90.87]
[26,26055,"Grand Traverse County","Michigan","Grand Traverse County, Michigan",521,13,3196,86986,598.946957,14.944934,3674.154462,{"$error":"#N/A"},{"$error":"#N/A"},{"$error":"#N/A"},{"$error":"#N/A"},{"$error":"#N/A"}]
[5,5053,"Grant County","Arkansas","Grant County, Arkansas",63,6,197,17853,352.88186899999999,33.607796999999998,1103.4560019999999,30780,89.11,79.34,77.98,60.72]
[20,20067,"Grant County","Kansas","Grant County, Kansas",25,0,87,7829,319.32558399999999,0,1111.2530340000001,{"$error":"#N/A"},{"$error":"#N/A"},{"$error":"#N/A"},{"$error":"#N/A"},{"$error":"#N/A"}]
[21,21081,"Grant County","Kentucky","Grant County, Kentucky",154,5,807,24662,624.44246199999998,20.274106,3272.2406940000001,17140,90.59,52.57,80.010000000000005,76.95]
[31,31075,"Grant County","Nebraska","Grant County, Nebraska",1,0,5,614,162.86644999999999,0,814.33224800000005,{"$error":"#N/A"},{"$error":"#N/A"},{"$error":"#N/A"},{"$error":"#N/A"},{"$error":"#N/A"}]
[40,40053,"Grant County","Oklahoma","Grant County, Oklahoma",0,0,32,4527,0,0,706.86989200000005,{"$error":"#N/A"},{"$error":"#N/A"},{"$error":"#N/A"},{"$error":"#N/A"},{"$error":"#N/A"}]
[41,41023,"Grant County","Oregon","Grant County, Oregon",43,1,74,7445,577.56883800000003,13.431832999999999,993.95567500000004,{"$error":"#N/A"},{"$error":"#N/A"},{"$error":"#N/A"},{"$error":"#N/A"},{"$error":"#N/A"}]
[53,53025,"Grant County","Washington","Grant County, Washington",375,11,1250,89120,420.78096900000003,12.342908,1402.6032319999999,{"$error":"#N/A"},{"$error":"#N/A"},{"$error":"#N/A"},{"$error":"#N/A"},{"$error":"#N/A"}]
[55,55043,"Grant County","Wisconsin","Grant County, Wisconsin",214,6,1119,51208,417.90345300000001,11.716919000000001,2185.2054370000001,{"$error":"#N/A"},{"$error":"#N/A"},{"$error":"#N/A"},{"$error":"#N/A"},{"$error":"#N/A"}]
[22,22043,"Grant Parish","Louisiana","Grant Parish, Louisiana",115,5,180,22309,515.48702300000002,22.412479000000001,806.84925399999997,10780,88.67,34.229999999999997,66.17,64.67]
[37,37077,"Granville County","North Carolina","Granville County, North Carolina",290,13,987,59916,484.01094899999998,21.697043000000001,1647.306229,{"$error":"#N/A"},{"$error":"#N/A"},{"$error":"#N/A"},{"$error":"#N/A"},{"$error":"#N/A"}]
[26,26057,"Gratiot County","Michigan","Gratiot County, Michigan",200,8,1719,42476,470.854129,18.834164999999999,4046.9912420000001,{"$error":"#N/A"},{"$error":"#N/A"},{"$error":"#N/A"},{"$error":"#N/A"},{"$error":"#N/A"}]
[20,20069,"Gray County","Kansas","Gray County, Kansas",26,1,122,6006,432.90043300000002,16.650016999999998,2031.3020309999999,{"$error":"#N/A"},{"$error":"#N/A"},{"$error":"#N/A"},{"$error":"#N/A"},{"$error":"#N/A"}]
[48,48179,"Gray County","Texas","Gray County, Texas",85,8,423,22535,377.191036,35.500332999999998,1877.0800979999999,{"$error":"#N/A"},{"$error":"#N/A"},{"$error":"#N/A"},{"$error":"#N/A"},{"$error":"#N/A"}]
[53,53027,"Grays Harbor County","Washington","Grays Harbor County, Washington",300,6,1027,72797,412.104894,8.2420980000000004,1410.772422,{"$error":"#N/A"},{"$error":"#N/A"},{"$error":"#N/A"},{"$error":"#N/A"},{"$error":"#N/A"}]
[48,48181,"Grayson County","Texas","Grayson County, Texas",670,18,1549,120877,554.28245200000003,14.891170000000001,1281.467938,43300,93.05,103.96,92.14,102.59]
[20,20071,"Greeley County","Kansas","Greeley County, Kansas",8,0,25,1247,641.53969500000005,0,2004.8115479999999,{"$error":"#N/A"},{"$error":"#N/A"},{"$error":"#N/A"},{"$error":"#N/A"},{"$error":"#N/A"}]
[31,31077,"Greeley County","Nebraska","Greeley County, Nebraska",3,1,18,2538,118.20331,39.401102999999999,709.21985800000004,{"$error":"#N/A"},{"$error":"#N/A"},{"$error":"#N/A"},{"$error":"#N/A"},{"$error":"#N/A"}]
[55,55045,"Green County","Wisconsin","Green County, Wisconsin",184,6,773,36842,499.42999800000001,16.285761000000001,2098.1488519999998,{"$error":"#N/A"},{"$error":"#N/A"},{"$error":"#N/A"},{"$error":"#N/A"},{"$error":"#N/A"}]
[55,55047,"Green Lake County","Wisconsin","Green Lake County, Wisconsin",89,3,578,19051,467.167078,15.747204999999999,3033.961472,{"$error":"#N/A"},{"$error":"#N/A"},{"$error":"#N/A"},{"$error":"#N/A"},{"$error":"#N/A"}]
[1,1063,"Greene County","Alabama","Greene County, Alabama",71,2,259,9045,784.96406899999999,22.111664000000001,2863.4604749999999,{"$error":"#N/A"},{"$error":"#N/A"},{"$error":"#N/A"},{"$error":"#N/A"},{"$error":"#N/A"}]
[13,13133,"Greene County","Georgia","Greene County, Georgia",120,8,463,15994,750.28135599999996,50.018757000000001,2894.8355630000001,{"$error":"#N/A"},{"$error":"#N/A"},{"$error":"#N/A"},{"$error":"#N/A"},{"$error":"#N/A"}]
[17,17061,"Greene County","Illinois","Greene County, Illinois",45,3,229,13886,324.06740600000001,21.604493999999999,1649.143022,{"$error":"#N/A"},{"$error":"#N/A"},{"$error":"#N/A"},{"$error":"#N/A"},{"$error":"#N/A"}]
[18,18055,"Greene County","Indiana","Greene County, Indiana",23,0,168,33165,69.350218999999996,0,506.55811799999998,14020,90.44,93.15,82.02,88.86]
[29,29077,"Greene County","Missouri","Greene County, Missouri",2408,23,8169,275174,875.08267499999999,8.3583479999999994,2968.6670979999999,44180,100.74,119.9,88.95,115.29]
[36,36039,"Greene County","New York","Greene County, New York",318,6,1908,49221,646.06570399999998,12.189919,3876.3942219999999,{"$error":"#N/A"},{"$error":"#N/A"},{"$error":"#N/A"},{"$error":"#N/A"},{"$error":"#N/A"}]
[37,37079,"Greene County","North Carolina","Greene County, North Carolina",116,3,389,21362,543.02031599999998,14.043628999999999,1820.990544,24780,90.47,47.46,83.61,40.96]
[39,39057,"Greene County","Ohio",{"$f":"CONCATENATE(C834,\", \",D834)","v":"Greene County, Ohio"},987,11,3978,161573,610.86938999999995,6.8080679999999996,2462.04502,19380,97.09,114.93,85.08,94.01]
[42,42059,"Greene County","Pennsylvania","Greene County, Pennsylvania",130,9,326,38686,336.03887700000001,23.264230000000001,842.68210699999997,{"$error":"#N/A"},{"$error":"#N/A"},{"$error":"#N/A"},{"$error":"#N/A"},{"$error":"#N/A"}]
[47,47059,"Greene County","Tennessee","Greene County, Tennessee",524,19,2024,68831,761.28488600000003,27.603840999999999,2940.535515,{"$error":"#N/A"},{"$error":"#N/A"},{"$error":"#N/A"},{"$error":"#N/A"},{"$error":"#N/A"}]
[51,51079,"Greene County","Virginia","Greene County, Virginia",76,0,272,18403,412.97614499999997,0,1478.019888,16820,90.55,59.72,70.099999999999994,78.44]
[21,21089,"Greenup County","Kentucky","Greenup County, Kentucky",134,7,697,36910,363.04524500000002,18.965050000000002,1888.3771340000001,26580,94.52,87.52,78.55,112.22]
[45,45045,"Greenville County","South Carolina","Greenville County, South Carolina",2885,48,12137,451225,639.37060199999996,10.637708,2689.788908,24860,98.68,106.59,100.39,91.07]
[20,20073,"Greenwood County","Kansas","Greenwood County, Kansas",25,3,122,6689,373.74794400000002,44.849753,1823.8899690000001,{"$error":"#N/A"},{"$error":"#N/A"},{"$error":"#N/A"},{"$error":"#N/A"},{"$error":"#N/A"}]
[45,45047,"Greenwood County","South Carolina","Greenwood County, South Carolina",572,5,1485,69661,821.11942099999999,7.1776169999999997,2131.7523430000001,{"$error":"#N/A"},{"$error":"#N/A"},{"$error":"#N/A"},{"$error":"#N/A"},{"$error":"#N/A"}]
[40,40055,"Greer County","Oklahoma","Greer County, Oklahoma",0,0,0,6239,0,0,0,{"$error":"#N/A"},{"$error":"#N/A"},{"$error":"#N/A"},{"$error":"#N/A"},{"$error":"#N/A"}]
[48,48183,"Gregg County","Texas","Gregg County, Texas",1274,26,3486,121730,1046.578493,21.358744999999999,2863.7147789999999,30980,96.1,114.14,103.02,99.15]
[48,48185,"Grimes County","Texas","Grimes County, Texas",185,12,510,26604,695.38415299999997,45.105998999999997,1917.004962,{"$error":"#N/A"},{"$error":"#N/A"},{"$error":"#N/A"},{"$error":"#N/A"},{"$error":"#N/A"}]
[17,17063,"Grundy County","Illinois","Grundy County, Illinois",211,5,893,50063,421.46894900000001,9.9874159999999996,1783.7524719999999,16980,92.99,101.16,86.63,110.27]
[29,29079,"Grundy County","Missouri","Grundy County, Missouri",39,1,186,10261,380.07991399999997,9.7456390000000006,1812.6888220000001,{"$error":"#N/A"},{"$error":"#N/A"},{"$error":"#N/A"},{"$error":"#N/A"},{"$error":"#N/A"}]
[47,47061,"Grundy County","Tennessee","Grundy County, Tennessee",86,9,289,13703,627.59979599999997,65.679047999999995,2109.0272199999999,{"$error":"#N/A"},{"$error":"#N/A"},{"$error":"#N/A"},{"$error":"#N/A"},{"$error":"#N/A"}]
[48,48187,"Guadalupe County","Texas","Guadalupe County, Texas",594,10,1983,131533,451.59769799999998,7.6026550000000004,1507.606456,41700,96.53,93.38,84.13,94.73]
[39,39059,"Guernsey County","Ohio","Guernsey County, Ohio",308,5,1200,40087,768.32888500000001,12.472872000000001,2993.489161,{"$error":"#N/A"},{"$error":"#N/A"},{"$error":"#N/A"},{"$error":"#N/A"},{"$error":"#N/A"}]
[37,37081,"Guilford County","North Carolina","Guilford County, North Carolina",4232,39,11298,488406,866.49222199999997,7.9851599999999996,2313.2393950000001,24660,100.36,113.56,102.77,95.45]
[12,12045,"Gulf County","Florida","Gulf County, Florida",92,2,112,15863,579.965959,12.607956,706.04551500000002,{"$error":"#N/A"},{"$error":"#N/A"},{"$error":"#N/A"},{"$error":"#N/A"},{"$error":"#N/A"}]
[13,13135,"Gwinnett County","Georgia","Gwinnett County, Georgia",6064,41,25924,805321,752.99166400000001,5.0911379999999999,3219.0890340000001,12060,106.36,111.94,88.7,89.68]
[13,13137,"Habersham County","Georgia","Habersham County, Georgia",330,6,1036,43041,766.71081100000004,13.940197,2407.0072719999998,{"$error":"#N/A"},{"$error":"#N/A"},{"$error":"#N/A"},{"$error":"#N/A"},{"$error":"#N/A"}]
[2,2100,"Haines Borough","Alaska","Haines Borough, Alaska",3,0,12,2508,119.617225,0,478.46890000000002,{"$error":"#N/A"},{"$error":"#N/A"},{"$error":"#N/A"},{"$error":"#N/A"},{"$error":"#N/A"}]
[1,1065,"Hale County","Alabama","Hale County, Alabama",54,5,201,15760,342.63959399999999,31.725888000000001,1275.380711,{"$error":"#N/A"},{"$error":"#N/A"},{"$error":"#N/A"},{"$error":"#N/A"},{"$error":"#N/A"}]
[48,48189,"Hale County","Texas","Hale County, Texas",150,3,609,36273,413.53072500000002,8.2706149999999994,1678.934745,{"$error":"#N/A"},{"$error":"#N/A"},{"$error":"#N/A"},{"$error":"#N/A"},{"$error":"#N/A"}]
[37,37083,"Halifax County","North Carolina","Halifax County, North Carolina",417,9,1223,54691,762.46548800000005,16.45609,2236.19974,{"$error":"#N/A"},{"$error":"#N/A"},{"$error":"#N/A"},{"$error":"#N/A"},{"$error":"#N/A"}]
[13,13139,"Hall County","Georgia","Hall County, Georgia",1434,24,5440,179684,798.06771900000001,13.356782000000001,3027.5372320000001,23580,94.45,89.1,139.30000000000001,87.59]
[31,31079,"Hall County","Nebraska","Hall County, Nebraska",228,8,1027,58607,389.03202700000003,13.650247,1752.350402,{"$error":"#N/A"},{"$error":"#N/A"},{"$error":"#N/A"},{"$error":"#N/A"},{"$error":"#N/A"}]
[48,48191,"Hall County","Texas","Hall County, Texas",19,1,52,3353,566.65672500000005,29.824038000000002,1550.8499850000001,{"$error":"#N/A"},{"$error":"#N/A"},{"$error":"#N/A"},{"$error":"#N/A"},{"$error":"#N/A"}]
[47,47063,"Hamblen County","Tennessee","Hamblen County, Tennessee",386,6,1871,62544,617.16551500000003,9.5932460000000006,2991.4939880000002,34100,95.73,85,142.29,95.5]
[12,12047,"Hamilton County","Florida","Hamilton County, Florida",158,8,252,14799,1067.639705,54.057707000000001,1702.8177579999999,{"$error":"#N/A"},{"$error":"#N/A"},{"$error":"#N/A"},{"$error":"#N/A"},{"$error":"#N/A"}]
[17,17065,"Hamilton County","Illinois","Hamilton County, Illinois",28,0,163,8457,331.08667400000002,0,1927.397422,{"$error":"#N/A"},{"$error":"#N/A"},{"$error":"#N/A"},{"$error":"#N/A"},{"$error":"#N/A"}]
[18,18057,"Hamilton County","Indiana","Hamilton County, Indiana",142,1,1616,274569,51.717419,0.364207,588.55879600000003,26900,99.85,104.3,81.69,94.95]
[20,20075,"Hamilton County","Kansas","Hamilton County, Kansas",6,0,49,2690,223.048327,0,1821.561338,{"$error":"#N/A"},{"$error":"#N/A"},{"$error":"#N/A"},{"$error":"#N/A"},{"$error":"#N/A"}]
[31,31081,"Hamilton County","Nebraska","Hamilton County, Nebraska",29,1,229,9124,317.843051,10.960105,2509.8640949999999,{"$error":"#N/A"},{"$error":"#N/A"},{"$error":"#N/A"},{"$error":"#N/A"},{"$error":"#N/A"}]
[36,36041,"Hamilton County","New York","Hamilton County, New York",45,1,302,4836,930.52109199999995,20.678246000000001,6244.830438,{"$error":"#N/A"},{"$error":"#N/A"},{"$error":"#N/A"},{"$error":"#N/A"},{"$error":"#N/A"}]
[39,39061,"Hamilton County","Ohio","Hamilton County, Ohio",5697,39,29516,802374,710.01802199999997,4.860576,3678.583803,17140,110.12,134.12,141.56,113.68]
[47,47065,"Hamilton County","Tennessee","Hamilton County, Tennessee",2753,34,13090,336463,818.21775400000001,10.105123000000001,3890.4723549999999,16860,98.48,101.33,119.36,103.4]
[48,48193,"Hamilton County","Texas","Hamilton County, Texas",40,1,120,8517,469.64893699999999,11.741223,1408.9468119999999,{"$error":"#N/A"},{"$error":"#N/A"},{"$error":"#N/A"},{"$error":"#N/A"},{"$error":"#N/A"}]
[25,25013,"Hampden County","Massachusetts","Hampden County, Massachusetts",2180,31,7830,463490,470.34456,6.6883860000000004,1689.3568359999999,44140,"NA",32.99,"NA",112.97]
[25,25015,"Hampshire County","Massachusetts","Hampshire County, Massachusetts",695,6,2644,158080,439.65080999999998,3.795547,1672.5708500000001,44140,"NA","NA","NA",85.5]
[51,51650,"Hampton city","Virginia","Hampton city, Virginia",1093,0,2751,137436,795.27925700000003,0,2001.658954,47260,110.55,123.19,114.92,150.96]
[45,45049,"Hampton County","South Carolina","Hampton County, South Carolina",137,2,331,21090,649.59696499999995,9.4831669999999999,1569.464201,{"$error":"#N/A"},{"$error":"#N/A"},{"$error":"#N/A"},{"$error":"#N/A"},{"$error":"#N/A"}]
[13,13141,"Hancock County","Georgia","Hancock County, Georgia",50,1,157,9429,530.27892699999995,10.605579000000001,1665.07583,{"$error":"#N/A"},{"$error":"#N/A"},{"$error":"#N/A"},{"$error":"#N/A"},{"$error":"#N/A"}]
[17,17067,"Hancock County","Illinois","Hancock County, Illinois",55,3,413,19104,287.89782200000002,15.703518000000001,2161.8509210000002,{"$error":"#N/A"},{"$error":"#N/A"},{"$error":"#N/A"},{"$error":"#N/A"},{"$error":"#N/A"}]
[18,18059,"Hancock County","Indiana","Hancock County, Indiana",54,0,407,70002,77.140653,0,581.41196000000002,26900,93.31,95.1,82.93,84.8]
[28,28045,"Hancock County","Mississippi","Hancock County, Mississippi","#NULL!","#NULL!","#NULL!",43929,"#NULL!","#NULL!","#NULL!",25060,92.04,77.680000000000007,80.989999999999995,112.7]
[39,39063,"Hancock County","Ohio","Hancock County, Ohio",547,9,2507,74782,731.45944199999997,12.034981999999999,3352.411008,{"$error":"#N/A"},{"$error":"#N/A"},{"$error":"#N/A"},{"$error":"#N/A"},{"$error":"#N/A"}]
[47,47067,"Hancock County","Tennessee","Hancock County, Tennessee",32,1,148,6819,469.27701999999999,14.664906999999999,2170.4062180000001,{"$error":"#N/A"},{"$error":"#N/A"},{"$error":"#N/A"},{"$error":"#N/A"},{"$error":"#N/A"}]
[54,54029,"Hancock County","West Virginia","Hancock County, West Virginia",187,2,558,30676,609.59707900000001,6.519755,1819.0116049999999,44600,94.13,110.72,86.79,118.07]
[51,51085,"Hanover County","Virginia","Hanover County, Virginia",583,0,1653,99863,583.79980599999999,0,1655.2677169999999,40060,94.37,84.41,82.56,88.35]
[48,48195,"Hansford County","Texas","Hansford County, Texas",11,1,33,5613,195.97363300000001,17.815785000000002,587.92089799999997,{"$error":"#N/A"},{"$error":"#N/A"},{"$error":"#N/A"},{"$error":"#N/A"},{"$error":"#N/A"}]
[13,13143,"Haralson County","Georgia","Haralson County, Georgia",246,5,618,28780,854.76025000000004,17.373176000000001,2147.3245310000002,12060,90.08,73.41,78.3,82.15]
[12,12049,"Hardee County","Florida","Hardee County, Florida",235,14,378,27731,847.42706699999997,50.485016999999999,1363.0954529999999,{"$error":"#N/A"},{"$error":"#N/A"},{"$error":"#N/A"},{"$error":"#N/A"},{"$error":"#N/A"}]
[47,47069,"Hardeman County","Tennessee","Hardeman County, Tennessee",153,5,402,27253,561.40608399999996,18.346603999999999,1475.066965,{"$error":"#N/A"},{"$error":"#N/A"},{"$error":"#N/A"},{"$error":"#N/A"},{"$error":"#N/A"}]
[48,48197,"Hardeman County","Texas","Hardeman County, Texas",15,2,57,4139,362.40637800000002,48.32085,1377.1442380000001,{"$error":"#N/A"},{"$error":"#N/A"},{"$error":"#N/A"},{"$error":"#N/A"},{"$error":"#N/A"}]
[17,17069,"Hardin County","Illinois","Hardin County, Illinois",14,2,85,4320,324.074074,46.296295999999998,1967.5925930000001,{"$error":"#N/A"},{"$error":"#N/A"},{"$error":"#N/A"},{"$error":"#N/A"},{"$error":"#N/A"}]
[21,21093,"Hardin County","Kentucky","Hardin County, Kentucky",470,10,2882,105543,445.31612699999999,9.4748110000000008,2730.6405920000002,21060,95.48,90.76,131.65,93.87]
[39,39065,"Hardin County","Ohio","Hardin County, Ohio",99,7,689,32058,308.81527199999999,21.835422999999999,2149.2295210000002,{"$error":"#N/A"},{"$error":"#N/A"},{"$error":"#N/A"},{"$error":"#N/A"},{"$error":"#N/A"}]
[47,47071,"Hardin County","Tennessee","Hardin County, Tennessee",195,7,857,26026,749.25074900000004,26.896180999999999,3292.8609849999998,{"$error":"#N/A"},{"$error":"#N/A"},{"$error":"#N/A"},{"$error":"#N/A"},{"$error":"#N/A"}]
[48,48199,"Hardin County","Texas","Hardin County, Texas",284,11,769,54635,519.81330600000001,20.133614000000001,1407.5226500000001,13140,89.38,75.62,84.66,83.17]
[24,24025,"Harford County","Maryland","Harford County, Maryland",1199,24,2970,244826,489.735567,9.80288,1213.1064510000001,12580,100.16,109.82,96.6,99.78]
[31,31083,"Harlan County","Nebraska","Harlan County, Nebraska",6,0,69,3423,175.28483800000001,0,2015.775635,{"$error":"#N/A"},{"$error":"#N/A"},{"$error":"#N/A"},{"$error":"#N/A"},{"$error":"#N/A"}]
[40,40057,"Harmon County","Oklahoma","Harmon County, Oklahoma",0,0,0,2922,0,0,0,{"$error":"#N/A"},{"$error":"#N/A"},{"$error":"#N/A"},{"$error":"#N/A"},{"$error":"#N/A"}]
[37,37085,"Harnett County","North Carolina","Harnett County, North Carolina",669,20,1971,114678,583.37257399999999,17.440137,1718.725475,{"$error":"#N/A"},{"$error":"#N/A"},{"$error":"#N/A"},{"$error":"#N/A"},{"$error":"#N/A"}]
[41,41025,"Harney County","Oregon","Harney County, Oregon",32,3,72,7422,431.15063300000003,40.420372,970.08892500000002,{"$error":"#N/A"},{"$error":"#N/A"},{"$error":"#N/A"},{"$error":"#N/A"},{"$error":"#N/A"}]
[20,20077,"Harper County","Kansas",{"$f":"CONCATENATE(C898,\", \",D898)","v":"Harper County, Kansas"},22,5,192,6034,364.60059699999999,82.863771999999997,3181.9688430000001,{"$error":"#N/A"},{"$error":"#N/A"},{"$error":"#N/A"},{"$error":"#N/A"},{"$error":"#N/A"}]
[40,40059,"Harper County","Oklahoma","Harper County, Oklahoma",0,0,24,3685,0,0,651.28900899999996,{"$error":"#N/A"},{"$error":"#N/A"},{"$error":"#N/A"},{"$error":"#N/A"},{"$error":"#N/A"}]
[13,13145,"Harris County","Georgia","Harris County, Georgia",183,11,465,32024,571.446415,34.349238,1452.035973,17980,89.51,34.28,71.89,62.25]
[48,48201,"Harris County","Texas","Harris County, Texas",22499,365,74005,4092459,549.76726699999995,8.9188430000000007,1808.3259969999999,26420,112.9,122.96,115.12,138.63]
[18,18061,"Harrison County","Indiana","Harrison County, Indiana",30,2,281,39364,76.211766999999995,5.0807840000000004,713.85021800000004,31140,91.11,56.7,85.5,61.31]
[19,19085,"Harrison County","Iowa","Harrison County, Iowa",105,4,379,14928,703.37620600000002,26.795283999999999,2538.8531619999999,36540,89.16,113.13,76.209999999999994,76.790000000000006]
[28,28047,"Harrison County","Mississippi","Harrison County, Mississippi","#NULL!","#NULL!","#NULL!",187105,"#NULL!","#NULL!","#NULL!",25060,97.88,105.23,107.35,113.32]
[29,29081,"Harrison County","Missouri","Harrison County, Missouri",57,2,183,8957,636.373786,22.328904999999999,2043.0947860000001,{"$error":"#N/A"},{"$error":"#N/A"},{"$error":"#N/A"},{"$error":"#N/A"},{"$error":"#N/A"}]
[39,39067,"Harrison County","Ohio","Harrison County, Ohio",98,1,296,15864,617.75088300000004,6.3035800000000002,1865.8598079999999,{"$error":"#N/A"},{"$error":"#N/A"},{"$error":"#N/A"},{"$error":"#N/A"},{"$error":"#N/A"}]
[48,48203,"Harrison County","Texas","Harrison County, Texas",526,16,1377,65631,801.45053399999995,24.378723000000001,2098.0938890000002,{"$error":"#N/A"},{"$error":"#N/A"},{"$error":"#N/A"},{"$error":"#N/A"},{"$error":"#N/A"}]
[51,51660,"Harrisonburg city","Virginia","Harrisonburg city, Virginia",195,0,880,48914,398.65887099999998,0,1799.0759290000001,25500,122.83,143.99,144.41999999999999,131.80000000000001]
[13,13147,"Hart County","Georgia","Hart County, Georgia",154,6,544,25213,610.796018,23.797246999999999,2157.6171020000002,{"$error":"#N/A"},{"$error":"#N/A"},{"$error":"#N/A"},{"$error":"#N/A"},{"$error":"#N/A"}]
[9,9003,"Hartford County","Connecticut","Hartford County, Connecticut",5736,60,22187,894014,641.60069099999998,6.7113040000000002,2481.728474,25540,107.85,126.56,138.02000000000001,92.46]
[48,48205,"Hartley County","Texas","Hartley County, Texas",22,1,114,6062,362.91652900000003,16.496206000000001,1880.5674690000001,{"$error":"#N/A"},{"$error":"#N/A"},{"$error":"#N/A"},{"$error":"#N/A"},{"$error":"#N/A"}]
[20,20079,"Harvey County","Kansas","Harvey County, Kansas",117,9,505,34684,337.33133400000003,25.948564000000001,1456.0027680000001,48620,90.56,115.17,75.64,73.36]
[20,20081,"Haskell County","Kansas","Haskell County, Kansas",15,2,52,4256,352.44360899999998,46.992480999999998,1221.804511,{"$error":"#N/A"},{"$error":"#N/A"},{"$error":"#N/A"},{"$error":"#N/A"},{"$error":"#N/A"}]
[40,40061,"Haskell County","Oklahoma","Haskell County, Oklahoma",66,0,123,12769,516.87681099999998,0,963.27042100000006,{"$error":"#N/A"},{"$error":"#N/A"},{"$error":"#N/A"},{"$error":"#N/A"},{"$error":"#N/A"}]
[48,48207,"Haskell County","Texas","Haskell County, Texas",17,0,54,5899,288.184438,0,915.40939100000003,{"$error":"#N/A"},{"$error":"#N/A"},{"$error":"#N/A"},{"$error":"#N/A"},{"$error":"#N/A"}]
[47,47073,"Hawkins County","Tennessee","Hawkins County, Tennessee",343,7,1235,56833,603.52260100000001,12.316788000000001,2173.033273,28700,90.78,69.010000000000005,90.1,81.510000000000005]
[31,31085,"Hayes County","Nebraska","Hayes County, Nebraska",2,0,10,967,206.825233,0,1034.1261629999999,{"$error":"#N/A"},{"$error":"#N/A"},{"$error":"#N/A"},{"$error":"#N/A"},{"$error":"#N/A"}]
[48,48209,"Hays County","Texas","Hays County, Texas",878,21,2418,157107,558.85479299999997,13.366686,1539.0784619999999,12420,95.58,87.83,131.77000000000001,84.13]
[37,37087,"Haywood County","North Carolina","Haywood County, North Carolina",351,5,939,59036,594.55247599999996,8.4694079999999996,1590.554916,11700,91.09,79.150000000000006,80.84,102.68]
[47,47075,"Haywood County","Tennessee","Haywood County, Tennessee",144,11,569,18787,766.48746500000004,58.551125999999996,3028.6900519999999,{"$error":"#N/A"},{"$error":"#N/A"},{"$error":"#N/A"},{"$error":"#N/A"},{"$error":"#N/A"}]
[13,13149,"Heard County","Georgia","Heard County, Georgia",69,2,191,11834,583.065743,16.900455999999998,1613.9935780000001,{"$error":"#N/A"},{"$error":"#N/A"},{"$error":"#N/A"},{"$error":"#N/A"},{"$error":"#N/A"}]
[48,48211,"Hemphill County","Texas","Hemphill County, Texas",25,3,112,3807,656.68505400000004,78.802205999999998,2941.9490409999999,{"$error":"#N/A"},{"$error":"#N/A"},{"$error":"#N/A"},{"$error":"#N/A"},{"$error":"#N/A"}]
[17,17071,"Henderson County","Illinois","Henderson County, Illinois",33,0,171,7331,450.14322700000002,0,2332.5603599999999,{"$error":"#N/A"},{"$error":"#N/A"},{"$error":"#N/A"},{"$error":"#N/A"},{"$error":"#N/A"}]
[21,21101,"Henderson County","Kentucky","Henderson County, Kentucky",269,5,1507,46250,581.621622,10.810810999999999,3258.3783779999999,21780,99.09,105.95,76.39,103.24]
[37,37089,"Henderson County","North Carolina","Henderson County, North Carolina",624,13,1962,106740,584.59808899999996,12.179126999999999,1838.111298,11700,92.12,98.21,84.83,93.59]
[47,47077,"Henderson County","Tennessee","Henderson County, Tennessee",191,7,861,27769,687.81735000000003,25.207965999999999,3100.5797830000001,{"$error":"#N/A"},{"$error":"#N/A"},{"$error":"#N/A"},{"$error":"#N/A"},{"$error":"#N/A"}]
[48,48213,"Henderson County","Texas","Henderson County, Texas",359,10,871,78532,457.13849099999999,12.733663,1109.102022,{"$error":"#N/A"},{"$error":"#N/A"},{"$error":"#N/A"},{"$error":"#N/A"},{"$error":"#N/A"}]
[18,18063,"Hendricks County","Indiana","Hendricks County, Indiana",94,1,914,145448,64.627908000000005,0.687531,628.403278,26900,95.72,91.32,79.42,89.16]
[12,12051,"Hendry County","Florida","Hendry County, Florida",233,10,331,39140,595.29892700000005,25.549309999999998,845.68216700000005,{"$error":"#N/A"},{"$error":"#N/A"},{"$error":"#N/A"},{"$error":"#N/A"},{"$error":"#N/A"}]
[27,27053,"Hennepin County","Minnesota","Hennepin County, Minnesota",6111,38,19881,1152425,530.27311999999995,3.2973949999999999,1725.1448029999999,33460,114.74,127.82,151.96,129.69]
[51,51087,"Henrico County","Virginia","Henrico County, Virginia",1701,0,5548,306935,554.18899799999997,0,1807.54883,40060,105.97,114.27,86.41,123.03]
[1,1067,"Henry County","Alabama","Henry County, Alabama",65,4,251,17302,375.67911199999998,23.118715000000002,1450.699341,{"$error":"#N/A"},{"$error":"#N/A"},{"$error":"#N/A"},{"$error":"#N/A"},{"$error":"#N/A"}]
[13,13151,"Henry County","Georgia","Henry County, Georgia",1581,31,6438,203922,775.29643699999997,15.201891,3157.0894750000002,12060,95.26,81.75,86.07,74.28]
[17,17073,"Henry County","Illinois","Henry County, Illinois",164,8,782,50486,324.84253100000001,15.845977,1548.944262,19340,90.62,116.08,84.59,81.22]
[21,21103,"Henry County","Kentucky","Henry County, Kentucky",78,2,345,15416,505.967826,12.973534000000001,2237.9346129999999,31140,89.37,76.599999999999994,77.64,85.73]
[29,29083,"Henry County","Missouri","Henry County, Missouri",134,8,458,22272,601.65229899999997,35.919539999999998,2056.3936779999999,{"$error":"#N/A"},{"$error":"#N/A"},{"$error":"#N/A"},{"$error":"#N/A"},{"$error":"#N/A"}]
[39,39069,"Henry County","Ohio","Henry County, Ohio",168,6,763,28215,595.42796399999997,21.265284000000001,2704.2353360000002,{"$error":"#N/A"},{"$error":"#N/A"},{"$error":"#N/A"},{"$error":"#N/A"},{"$error":"#N/A"}]
[47,47079,"Henry County","Tennessee","Henry County, Tennessee",207,12,511,32330,640.27219300000002,37.117229000000002,1580.575317,{"$error":"#N/A"},{"$error":"#N/A"},{"$error":"#N/A"},{"$error":"#N/A"},{"$error":"#N/A"}]
[36,36043,"Herkimer County","New York","Herkimer County, New York",329,7,1948,64519,509.92730799999998,10.849517000000001,3019.2656430000002,46540,96.91,100.82,82.72,80.37]
[12,12053,"Hernando County","Florida","Hernando County, Florida",1574,28,2015,172778,910.99561300000005,16.205767000000002,1166.2364419999999,45300,96.2,80.290000000000006,108.25,102.08]
[37,37091,"Hertford County","North Carolina","Hertford County, North Carolina",127,6,401,24669,514.81616599999995,24.322023999999999,1625.5219099999999,{"$error":"#N/A"},{"$error":"#N/A"},{"$error":"#N/A"},{"$error":"#N/A"},{"$error":"#N/A"}]
[47,47081,"Hickman County","Tennessee","Hickman County, Tennessee",179,3,575,24690,724.98987399999999,12.150668,2328.8780879999999,{"$error":"#N/A"},{"$error":"#N/A"},{"$error":"#N/A"},{"$error":"#N/A"},{"$error":"#N/A"}]
[29,29085,"Hickory County","Missouri","Hickory County, Missouri",41,3,85,9627,425.88553000000002,31.162355999999999,882.93341599999997,{"$error":"#N/A"},{"$error":"#N/A"},{"$error":"#N/A"},{"$error":"#N/A"},{"$error":"#N/A"}]
[48,48215,"Hidalgo County","Texas","Hidalgo County, Texas",4494,47,13386,774769,580.043858,6.0663239999999998,1727.740785,32580,100.21,101.69,104.76,109.1]
[39,39071,"Highland County","Ohio","Highland County, Ohio",237,4,914,43589,543.71515699999998,9.1766269999999999,2096.8592990000002,{"$error":"#N/A"},{"$error":"#N/A"},{"$error":"#N/A"},{"$error":"#N/A"},{"$error":"#N/A"}]
[12,12055,"Highlands County","Florida","Highlands County, Florida",570,19,879,98786,577.00483899999995,19.233495000000001,889.80219899999997,{"$error":"#N/A"},{"$error":"#N/A"},{"$error":"#N/A"},{"$error":"#N/A"},{"$error":"#N/A"}]
[48,48217,"Hill County","Texas","Hill County, Texas",200,9,662,35089,569.979196,25.649063999999999,1886.631138,{"$error":"#N/A"},{"$error":"#N/A"},{"$error":"#N/A"},{"$error":"#N/A"},{"$error":"#N/A"}]
[12,12057,"Hillsborough County","Florida","Hillsborough County, Florida",17123,153,23954,1229226,1392.9903859999999,12.446857,1948.7059340000001,45300,106.16,115.63,127.6,128.18]
[33,33011,"Hillsborough County","New Hampshire","Hillsborough County, New Hampshire",3099,16,15297,400721,773.35602600000004,3.9928029999999999,3817.3691920000001,31700,101.22,116.91,121.07,97.04]
[26,26059,"Hillsdale County","Michigan","Hillsdale County, Michigan",190,3,1668,46688,406.95681999999999,6.4256339999999996,3572.6525019999999,{"$error":"#N/A"},{"$error":"#N/A"},{"$error":"#N/A"},{"$error":"#N/A"},{"$error":"#N/A"}]
[28,28049,"Hinds County","Mississippi","Hinds County, Mississippi","#NULL!","#NULL!","#NULL!",245285,"#NULL!","#NULL!","#NULL!",27140,100.02,107.02,141.59,102.57]
[31,31087,"Hitchcock County","Nebraska","Hitchcock County, Nebraska",3,0,46,2908,103.163686,0,1581.8431909999999,{"$error":"#N/A"},{"$error":"#N/A"},{"$error":"#N/A"},{"$error":"#N/A"},{"$error":"#N/A"}]
[39,39073,"Hocking County","Ohio","Hocking County, Ohio",197,3,728,29380,670.52416600000004,10.211028000000001,2477.8761060000002,{"$error":"#N/A"},{"$error":"#N/A"},{"$error":"#N/A"},{"$error":"#N/A"},{"$error":"#N/A"}]
[48,48219,"Hockley County","Texas","Hockley County, Texas",104,0,331,22935,453.45541700000001,0,1443.209069,{"$error":"#N/A"},{"$error":"#N/A"},{"$error":"#N/A"},{"$error":"#N/A"},{"$error":"#N/A"}]
[20,20083,"Hodgeman County","Kansas","Hodgeman County, Kansas",9,0,50,1916,469.72860100000003,0,2609.6033400000001,{"$error":"#N/A"},{"$error":"#N/A"},{"$error":"#N/A"},{"$error":"#N/A"},{"$error":"#N/A"}]
[37,37093,"Hoke County","North Carolina","Hoke County, North Carolina",277,9,768,46952,589.96421899999996,19.168513000000001,1635.7130689999999,22180,91.51,57.98,83.07,70.19]
[12,12059,"Holmes County","Florida","Holmes County, Florida",158,4,217,19927,792.89406299999996,20.073267000000001,1088.9747580000001,{"$error":"#N/A"},{"$error":"#N/A"},{"$error":"#N/A"},{"$error":"#N/A"},{"$error":"#N/A"}]
[39,39075,"Holmes County","Ohio","Holmes County, Ohio",212,4,776,42366,500.40126500000002,9.4415329999999997,1831.657461,{"$error":"#N/A"},{"$error":"#N/A"},{"$error":"#N/A"},{"$error":"#N/A"},{"$error":"#N/A"}]
[29,29087,"Holt County","Missouri","Holt County, Missouri",36,0,113,4912,732.89902300000006,0,2300.4885989999998,{"$error":"#N/A"},{"$error":"#N/A"},{"$error":"#N/A"},{"$error":"#N/A"},{"$error":"#N/A"}]
[31,31089,"Holt County","Nebraska","Holt County, Nebraska",16,0,139,10435,153.330139,0,1332.055582,{"$error":"#N/A"},{"$error":"#N/A"},{"$error":"#N/A"},{"$error":"#N/A"},{"$error":"#N/A"}]
[48,48221,"Hood County","Texas","Hood County, Texas",272,5,718,51182,531.43683299999998,9.7690590000000004,1402.836935,{"$error":"#N/A"},{"$error":"#N/A"},{"$error":"#N/A"},{"$error":"#N/A"},{"$error":"#N/A"}]
[41,41027,"Hood River County","Oregon",{"$f":"CONCATENATE(C962,\", \",D962)","v":"Hood River County, Oregon"},114,5,292,22346,510.15841799999998,22.375368999999999,1306.7215610000001,{"$error":"#N/A"},{"$error":"#N/A"},{"$error":"#N/A"},{"$error":"#N/A"},{"$error":"#N/A"}]
[31,31091,"Hooker County","Nebraska","Hooker County, Nebraska",2,0,16,736,271.73912999999999,0,2173.913043,{"$error":"#N/A"},{"$error":"#N/A"},{"$error":"#N/A"},{"$error":"#N/A"},{"$error":"#N/A"}]
[51,51670,"Hopewell city","Virginia","Hopewell city, Virginia",204,0,360,22591,903.01447499999995,0,1593.5549559999999,40060,112.29,124.58,79.39,185.81]
[48,48223,"Hopkins County","Texas","Hopkins County, Texas",182,11,642,35161,517.61895300000003,31.284662000000001,1825.886636,{"$error":"#N/A"},{"$error":"#N/A"},{"$error":"#N/A"},{"$error":"#N/A"},{"$error":"#N/A"}]
[45,45051,"Horry County","South Carolina","Horry County, South Carolina",2077,44,7436,269291,771.28459499999997,16.339202,2761.3251089999999,34820,94.78,90.85,112.78,101.88]
[56,56017,"Hot Springs County","Wyoming","Hot Springs County, Wyoming",20,2,74,4812,415.62759799999998,41.562759999999997,1537.8221109999999,{"$error":"#N/A"},{"$error":"#N/A"},{"$error":"#N/A"},{"$error":"#N/A"},{"$error":"#N/A"}]
[26,26061,"Houghton County","Michigan","Houghton County, Michigan",151,3,1042,36628,412.25292100000001,8.190455,2844.8181719999998,{"$error":"#N/A"},{"$error":"#N/A"},{"$error":"#N/A"},{"$error":"#N/A"},{"$error":"#N/A"}]
[1,1069,"Houston County","Alabama","Houston County, Alabama",849,12,3185,101547,836.066058,11.817188,3136.4786749999998,20020,94.83,102.37,98.64,88.97]
[13,13153,"Houston County","Georgia","Houston County, Georgia",686,12,2579,139900,490.35025000000002,8.5775550000000003,1843.4596140000001,47580,99.67,97.7,89.66,91.56]
[27,27055,"Houston County","Minnesota","Houston County, Minnesota",46,1,228,19027,241.761707,5.2556890000000003,1198.297157,29100,89.84,94.39,70.75,100.51]
[47,47083,"Houston County","Tennessee","Houston County, Tennessee",44,3,179,8426,522.19321100000002,35.604083000000003,2124.376929,{"$error":"#N/A"},{"$error":"#N/A"},{"$error":"#N/A"},{"$error":"#N/A"},{"$error":"#N/A"}]
[48,48225,"Houston County","Texas","Houston County, Texas",114,7,298,23732,480.36406499999998,29.496039,1255.6885219999999,{"$error":"#N/A"},{"$error":"#N/A"},{"$error":"#N/A"},{"$error":"#N/A"},{"$error":"#N/A"}]
[18,18067,"Howard County","Indiana","Howard County, Indiana",65,1,589,82752,78.547950999999998,1.2084299999999999,711.76527499999997,29020,98.37,114.28,95.94,109.61]
[24,24027,"Howard County","Maryland","Howard County, Maryland",1080,17,3248,287085,376.19520399999999,5.9215910000000003,1131.3722419999999,12580,104.93,128.35,97.95,107.27]
[29,29089,"Howard County","Missouri","Howard County, Missouri",25,1,127,10144,246.45110399999999,9.8580439999999996,1251.9716089999999,{"$error":"#N/A"},{"$error":"#N/A"},{"$error":"#N/A"},{"$error":"#N/A"},{"$error":"#N/A"}]
[31,31093,"Howard County","Nebraska","Howard County, Nebraska",13,1,97,6274,207.20433499999999,15.938795000000001,1546.063118,{"$error":"#N/A"},{"$error":"#N/A"},{"$error":"#N/A"},{"$error":"#N/A"},{"$error":"#N/A"}]
[48,48227,"Howard County","Texas","Howard County, Texas",191,8,691,35012,545.52724799999999,22.849309000000002,1973.609048,{"$error":"#N/A"},{"$error":"#N/A"},{"$error":"#N/A"},{"$error":"#N/A"},{"$error":"#N/A"}]
[29,29091,"Howell County","Missouri","Howell County, Missouri",203,11,814,40400,502.47524800000002,27.227723000000001,2014.8514849999999,{"$error":"#N/A"},{"$error":"#N/A"},{"$error":"#N/A"},{"$error":"#N/A"},{"$error":"#N/A"}]
[34,34017,"Hudson County","New Jersey","Hudson County, New Jersey",3691,24,19945,634266,581.932502,3.7839010000000002,3144.5797189999998,35620,223.23,156.66999999999999,92.82,176.49]
[48,48229,"Hudspeth County","Texas","Hudspeth County, Texas",52,4,123,3476,1495.9723819999999,115.074799,3538.5500579999998,{"$error":"#N/A"},{"$error":"#N/A"},{"$error":"#N/A"},{"$error":"#N/A"},{"$error":"#N/A"}]
[40,40063,"Hughes County","Oklahoma","Hughes County, Oklahoma",0,4,84,14003,0,28.565307000000001,599.87145599999997,{"$error":"#N/A"},{"$error":"#N/A"},{"$error":"#N/A"},{"$error":"#N/A"},{"$error":"#N/A"}]
[6,6023,"Humboldt County","California","Humboldt County, California",639,16,1972,134623,474.658862,11.885042,1464.831418,{"$error":"#N/A"},{"$error":"#N/A"},{"$error":"#N/A"},{"$error":"#N/A"},{"$error":"#N/A"}]
[32,32013,"Humboldt County","Nevada","Humboldt County, Nevada",53,3,145,16528,320.667957,18.151015999999998,877.29912899999999,{"$error":"#N/A"},{"$error":"#N/A"},{"$error":"#N/A"},{"$error":"#N/A"},{"$error":"#N/A"}]
[47,47085,"Humphreys County","Tennessee","Humphreys County, Tennessee",158,2,517,18538,852.30337699999995,10.788650000000001,2788.866113,{"$error":"#N/A"},{"$error":"#N/A"},{"$error":"#N/A"},{"$error":"#N/A"},{"$error":"#N/A"}]
[48,48231,"Hunt County","Texas","Hunt County, Texas",461,19,1123,86129,535.24364600000001,22.059933000000001,1303.858166,19100,91.85,76.8,100.17,94.77]
[34,34019,"Hunterdon County","New Jersey","Hunterdon County, New Jersey",700,10,3769,128349,545.38796600000001,7.7912569999999999,2936.5246320000001,35620,93.84,90.14,95.2,74]
[42,42061,"Huntingdon County","Pennsylvania","Huntingdon County, Pennsylvania",148,11,343,45913,322.34879000000001,23.958355999999998,747.06510100000003,{"$error":"#N/A"},{"$error":"#N/A"},{"$error":"#N/A"},{"$error":"#N/A"},{"$error":"#N/A"}]
[26,26063,"Huron County","Michigan","Huron County, Michigan",158,4,1628,33118,477.08194900000001,12.078023999999999,4915.7557820000002,{"$error":"#N/A"},{"$error":"#N/A"},{"$error":"#N/A"},{"$error":"#N/A"},{"$error":"#N/A"}]
[39,39077,"Huron County","Ohio","Huron County, Ohio",276,5,1204,59626,462.88531799999998,8.3856040000000007,2019.253346,{"$error":"#N/A"},{"$error":"#N/A"},{"$error":"#N/A"},{"$error":"#N/A"},{"$error":"#N/A"}]
[48,48233,"Hutchinson County","Texas","Hutchinson County, Texas",56,4,260,22150,252.82167000000001,18.058691,1173.8148980000001,{"$error":"#N/A"},{"$error":"#N/A"},{"$error":"#N/A"},{"$error":"#N/A"},{"$error":"#N/A"}]
[37,37095,"Hyde County","North Carolina","Hyde County, North Carolina",19,2,104,5810,327.02237500000001,34.423408000000002,1790.017212,{"$error":"#N/A"},{"$error":"#N/A"},{"$error":"#N/A"},{"$error":"#N/A"},{"$error":"#N/A"}]
[22,22047,"Iberville Parish","Louisiana","Iberville Parish, Louisiana",337,9,814,33387,1009.374906,26.956600000000002,2438.0747000000001,12940,93.41,93.69,84.62,92.02]
[16,16049,"Idaho County","Idaho","Idaho County, Idaho",110,4,281,16267,676.21565099999998,24.589659999999999,1727.423618,{"$error":"#N/A"},{"$error":"#N/A"},{"$error":"#N/A"},{"$error":"#N/A"},{"$error":"#N/A"}]
[6,6025,"Imperial County","California","Imperial County, California",491,24,1292,174528,281.33021600000001,13.751374999999999,740.28236200000003,20940,99.38,132.78,99.61,82.71]
[12,12061,"Indian River County","Florida","Indian River County, Florida",950,26,1380,138028,688.26614900000004,18.836758,999.79714300000001,42680,97.1,101.81,112.72,132.01]
[42,42063,"Indiana County","Pennsylvania","Indiana County, Pennsylvania",284,15,686,88880,319.53195299999999,16.876688000000001,771.82718299999999,{"$error":"#N/A"},{"$error":"#N/A"},{"$error":"#N/A"},{"$error":"#N/A"},{"$error":"#N/A"}]
[26,26065,"Ingham County","Michigan","Ingham County, Michigan",1581,24,8427,280895,562.84376699999996,8.5441179999999992,3000.0534010000001,29620,109.11,118.48,141.88999999999999,104.33]
[6,6027,"Inyo County","California","Inyo County, California",135,6,322,18546,727.91976699999998,32.351990000000001,1736.223444,{"$error":"#N/A"},{"$error":"#N/A"},{"$error":"#N/A"},{"$error":"#N/A"},{"$error":"#N/A"}]
[26,26067,"Ionia County","Michigan","Ionia County, Michigan",236,8,1912,63905,369.29817700000001,12.518582,2991.941163,24340,92.27,71.44,96.34,76.97]
[26,26069,"Iosco County","Michigan","Iosco County, Michigan",125,3,662,25887,482.86784899999998,11.588827999999999,2557.2681269999998,{"$error":"#N/A"},{"$error":"#N/A"},{"$error":"#N/A"},{"$error":"#N/A"},{"$error":"#N/A"}]
[55,55049,"Iowa County","Wisconsin","Iowa County, Wisconsin",121,4,420,23687,510.82872500000002,16.886900000000001,1773.124499,31540,89.19,78,83.48,83.09]
[37,37097,"Iredell County","North Carolina","Iredell County, North Carolina",1103,14,3478,159437,691.809304,8.7808980000000005,2181.4258920000002,{"$error":"#N/A"},{"$error":"#N/A"},{"$error":"#N/A"},{"$error":"#N/A"},{"$error":"#N/A"}]
[48,48235,"Irion County","Texas","Irion County, Texas",20,2,50,1599,1250.781739,125.078174,3126.954346,{"$error":"#N/A"},{"$error":"#N/A"},{"$error":"#N/A"},{"$error":"#N/A"},{"$error":"#N/A"}]
[26,26071,"Iron County","Michigan","Iron County, Michigan",53,3,599,11817,448.50638900000001,25.387153999999999,5068.9684349999998,{"$error":"#N/A"},{"$error":"#N/A"},{"$error":"#N/A"},{"$error":"#N/A"},{"$error":"#N/A"}]
[29,29093,"Iron County","Missouri","Iron County, Missouri",83,4,158,10630,780.809031,37.629351,1486.3593599999999,{"$error":"#N/A"},{"$error":"#N/A"},{"$error":"#N/A"},{"$error":"#N/A"},{"$error":"#N/A"}]
[49,49021,"Iron County","Utah","Iron County, Utah",250,6,859,46163,541.559257,12.997422,1860.7976080000001,{"$error":"#N/A"},{"$error":"#N/A"},{"$error":"#N/A"},{"$error":"#N/A"},{"$error":"#N/A"}]
[55,55051,"Iron County","Wisconsin","Iron County, Wisconsin",28,1,88,5916,473.29276499999997,16.903313000000001,1487.491548,{"$error":"#N/A"},{"$error":"#N/A"},{"$error":"#N/A"},{"$error":"#N/A"},{"$error":"#N/A"}]
[17,17075,"Iroquois County","Illinois","Iroquois County, Illinois",155,10,598,29718,521.56941900000004,33.649639999999998,2012.2484690000001,{"$error":"#N/A"},{"$error":"#N/A"},{"$error":"#N/A"},{"$error":"#N/A"},{"$error":"#N/A"}]
[13,13155,"Irwin County","Georgia","Irwin County, Georgia",62,4,133,9538,650.03145300000006,41.937513000000003,1394.422311,{"$error":"#N/A"},{"$error":"#N/A"},{"$error":"#N/A"},{"$error":"#N/A"},{"$error":"#N/A"}]
[26,26073,"Isabella County","Michigan","Isabella County, Michigan",378,9,2691,70311,537.61146900000006,12.800273000000001,3827.281649,{"$error":"#N/A"},{"$error":"#N/A"},{"$error":"#N/A"},{"$error":"#N/A"},{"$error":"#N/A"}]
[27,27059,"Isanti County","Minnesota","Isanti County, Minnesota",116,2,325,37816,306.74846600000001,5.288767,859.42458199999999,33460,91.07,89.01,80.16,86.9]
[53,53029,"Island County","Washington","Island County, Washington",218,4,669,78506,277.68578200000002,5.0951519999999997,852.16416600000002,{"$error":"#N/A"},{"$error":"#N/A"},{"$error":"#N/A"},{"$error":"#N/A"},{"$error":"#N/A"}]
[51,51093,"Isle of Wight County","Virginia","Isle of Wight County, Virginia",171,0,399,35270,484.831301,0,1131.2730369999999,47260,90.76,75.64,77.650000000000006,79.819999999999993]
[48,48237,"Jack County","Texas","Jack County, Texas",24,2,121,9044,265.36930599999999,22.114108999999999,1337.9035819999999,{"$error":"#N/A"},{"$error":"#N/A"},{"$error":"#N/A"},{"$error":"#N/A"},{"$error":"#N/A"}]
[1,1071,"Jackson County","Alabama","Jackson County, Alabama",285,22,944,53227,535.44253900000001,41.332405999999999,1773.535987,{"$error":"#N/A"},{"$error":"#N/A"},{"$error":"#N/A"},{"$error":"#N/A"},{"$error":"#N/A"}]
[12,12063,"Jackson County","Florida","Jackson County, Florida",444,10,627,49746,892.53407300000003,20.102118999999998,1260.402846,{"$error":"#N/A"},{"$error":"#N/A"},{"$error":"#N/A"},{"$error":"#N/A"},{"$error":"#N/A"}]
[13,13157,"Jackson County","Georgia","Jackson County, Georgia",416,13,1492,60485,687.77382799999998,21.492932,2466.727288,{"$error":"#N/A"},{"$error":"#N/A"},{"$error":"#N/A"},{"$error":"#N/A"},{"$error":"#N/A"}]
[17,17077,"Jackson County","Illinois","Jackson County, Illinois",375,10,1411,60218,622.73738700000001,16.60633,2343.1532099999999,{"$error":"#N/A"},{"$error":"#N/A"},{"$error":"#N/A"},{"$error":"#N/A"},{"$error":"#N/A"}]
[20,20085,"Jackson County","Kansas","Jackson County, Kansas",69,2,283,13462,512.553855,14.856633,2102.2136380000002,45820,88.64,77.77,79.63,44.65]
[26,26075,"Jackson County","Michigan","Jackson County, Michigan",843,13,5262,160248,526.05960800000003,8.1124259999999992,3283.6603260000002,27100,94.83,98.29,137.01,86.66]
[28,28059,"Jackson County","Mississippi","Jackson County, Mississippi","#NULL!","#NULL!","#NULL!",139668,"#NULL!","#NULL!","#NULL!",37700,95.32,88.99,120.77,104.57]
[29,29095,"Jackson County","Missouri","Jackson County, Missouri",5192,68,19813,674158,770.14587100000006,10.086656,2938.9252959999999,28140,105.14,126.53,136.74,127.96]
[37,37099,"Jackson County","North Carolina","Jackson County, North Carolina",245,4,703,40271,608.37823700000001,9.9327059999999996,1745.673065,{"$error":"#N/A"},{"$error":"#N/A"},{"$error":"#N/A"},{"$error":"#N/A"},{"$error":"#N/A"}]
[39,39079,"Jackson County","Ohio","Jackson County, Ohio",249,3,958,33225,749.43566599999997,9.0293449999999993,2883.3709560000002,{"$error":"#N/A"},{"$error":"#N/A"},{"$error":"#N/A"},{"$error":"#N/A"},{"$error":"#N/A"}]
[40,40065,"Jackson County","Oklahoma",{"$f":"CONCATENATE(C1026,\", \",D1026)","v":"Jackson County, Oklahoma"},122,0,461,26446,461.31740100000002,0,1743.174771,{"$error":"#N/A"},{"$error":"#N/A"},{"$error":"#N/A"},{"$error":"#N/A"},{"$error":"#N/A"}]
[41,41029,"Jackson County","Oregon","Jackson County, Oregon",1119,19,2292,203206,550.67271600000004,9.3501180000000002,1127.919451,32780,97.76,122.2,122.65,91.71]
[47,47087,"Jackson County","Tennessee","Jackson County, Tennessee",56,0,220,11638,481.18233400000003,0,1890.359168,{"$error":"#N/A"},{"$error":"#N/A"},{"$error":"#N/A"},{"$error":"#N/A"},{"$error":"#N/A"}]
[48,48239,"Jackson County","Texas","Jackson County, Texas",59,3,193,14075,419.18294800000001,21.314387,1371.2255769999999,{"$error":"#N/A"},{"$error":"#N/A"},{"$error":"#N/A"},{"$error":"#N/A"},{"$error":"#N/A"}]
[55,55053,"Jackson County","Wisconsin","Jackson County, Wisconsin",126,4,532,20449,616.16705000000002,19.560859000000001,2601.5942100000002,{"$error":"#N/A"},{"$error":"#N/A"},{"$error":"#N/A"},{"$error":"#N/A"},{"$error":"#N/A"}]
[51,51095,"James City County","Virginia","James City County, Virginia",390,0,697,67009,582.01137200000005,0,1040.1587850000001,47260,93.7,97.02,79.599999999999994,106.28]
[13,13159,"Jasper County","Georgia","Jasper County, Georgia",72,2,310,13900,517.98561199999995,14.388489,2230.215827,{"$error":"#N/A"},{"$error":"#N/A"},{"$error":"#N/A"},{"$error":"#N/A"},{"$error":"#N/A"}]
[17,17079,"Jasper County","Illinois","Jasper County, Illinois",29,1,218,9698,299.03072800000001,10.311404,2247.8861619999998,{"$error":"#N/A"},{"$error":"#N/A"},{"$error":"#N/A"},{"$error":"#N/A"},{"$error":"#N/A"}]
[18,18073,"Jasper County","Indiana","Jasper County, Indiana",30,0,225,33478,89.611087999999995,0,672.08315900000002,16980,89.52,90.18,73.22,51.82]
[29,29097,"Jasper County","Missouri","Jasper County, Missouri",583,17,2973,117404,496.57592599999998,14.479915999999999,2532.2816939999998,27900,94.9,113.72,88.44,114.86]
[45,45053,"Jasper County","South Carolina","Jasper County, South Carolina",243,15,917,24777,980.74827500000004,60.540016999999999,3701.0130359999998,{"$error":"#N/A"},{"$error":"#N/A"},{"$error":"#N/A"},{"$error":"#N/A"},{"$error":"#N/A"}]
[48,48241,"Jasper County","Texas","Jasper County, Texas",185,8,496,35710,518.06216700000004,22.402688000000001,1388.966676,{"$error":"#N/A"},{"$error":"#N/A"},{"$error":"#N/A"},{"$error":"#N/A"},{"$error":"#N/A"}]
[13,13161,"Jeff Davis County","Georgia","Jeff Davis County, Georgia",85,2,255,15068,564.10937100000001,13.273161999999999,1692.328113,{"$error":"#N/A"},{"$error":"#N/A"},{"$error":"#N/A"},{"$error":"#N/A"},{"$error":"#N/A"}]
[48,48243,"Jeff Davis County","Texas","Jeff Davis County, Texas",13,0,65,2342,555.08112700000004,0,2775.405636,{"$error":"#N/A"},{"$error":"#N/A"},{"$error":"#N/A"},{"$error":"#N/A"},{"$error":"#N/A"}]
[1,1073,"Jefferson County","Alabama","Jefferson County, Alabama",3786,104,22862,658466,574.97274000000004,15.794286,3472.0091849999999,13820,99.01,110.72,122.44,126.81]
[5,5069,"Jefferson County","Arkansas","Jefferson County, Arkansas",636,15,2257,77435,821.334022,19.371085000000001,2914.7026540000002,38220,94.66,97.82,96.55,113.66]
[8,8059,"Jefferson County","Colorado","Jefferson County, Colorado",899,29,10426,534543,168.18104400000001,5.4251950000000004,1950.451133,19740,106.94,125.25,90.89,112.99]
[12,12065,"Jefferson County","Florida","Jefferson County, Florida",130,6,184,14761,880.69914000000006,40.647652999999998,1246.5280130000001,{"$error":"#N/A"},{"$error":"#N/A"},{"$error":"#N/A"},{"$error":"#N/A"},{"$error":"#N/A"}]
[13,13163,"Jefferson County","Georgia","Jefferson County, Georgia",82,3,215,16930,484.34731199999999,17.720023999999999,1269.935027,{"$error":"#N/A"},{"$error":"#N/A"},{"$error":"#N/A"},{"$error":"#N/A"},{"$error":"#N/A"}]
[16,16051,"Jefferson County","Idaho","Jefferson County, Idaho",67,1,251,26140,256.31216499999999,3.825555,960.21423100000004,26820,89.1,69.819999999999993,83.29,88.98]
[17,17081,"Jefferson County","Illinois","Jefferson County, Illinois",262,9,1115,38827,674.78816300000005,23.179746000000002,2871.7129829999999,{"$error":"#N/A"},{"$error":"#N/A"},{"$error":"#N/A"},{"$error":"#N/A"},{"$error":"#N/A"}]
[20,20087,"Jefferson County","Kansas","Jefferson County, Kansas",75,7,372,19126,392.13635900000003,36.599392999999999,1944.9963399999999,{"$error":"#N/A"},{"$error":"#N/A"},{"$error":"#N/A"},{"$error":"#N/A"},{"$error":"#N/A"}]
[21,21111,"Jefferson County","Kentucky","Jefferson County, Kentucky",5165,60,28720,741096,696.94074699999999,8.0961169999999996,3875.3413860000001,31140,109.11,119.34,118.64,123.85]
[29,29099,"Jefferson County","Missouri","Jefferson County, Missouri",1015,22,4219,218733,464.03606200000002,10.057924999999999,1928.8356120000001,41180,96.02,87.54,85.42,99.04]
[31,31095,"Jefferson County","Nebraska","Jefferson County, Nebraska",20,0,222,7547,265.00596300000001,0,2941.5661850000001,{"$error":"#N/A"},{"$error":"#N/A"},{"$error":"#N/A"},{"$error":"#N/A"},{"$error":"#N/A"}]
[36,36045,"Jefferson County","New York","Jefferson County, New York",697,13,4805,116229,599.67822100000001,11.184816,4134.0801350000002,{"$error":"#N/A"},{"$error":"#N/A"},{"$error":"#N/A"},{"$error":"#N/A"},{"$error":"#N/A"}]
[39,39081,"Jefferson County","Ohio","Jefferson County, Ohio",371,3,1512,69709,532.21248300000002,4.3036050000000001,2169.0169129999999,44600,95.1,103.84,109.52,107.8]
[40,40067,"Jefferson County","Oklahoma","Jefferson County, Oklahoma",0,0,29,6472,0,0,448.08405399999998,{"$error":"#N/A"},{"$error":"#N/A"},{"$error":"#N/A"},{"$error":"#N/A"},{"$error":"#N/A"}]
[41,41031,"Jefferson County","Oregon","Jefferson County, Oregon",88,5,187,21720,405.15653800000001,23.020257999999998,860.95764299999996,{"$error":"#N/A"},{"$error":"#N/A"},{"$error":"#N/A"},{"$error":"#N/A"},{"$error":"#N/A"}]
[42,42065,"Jefferson County","Pennsylvania","Jefferson County, Pennsylvania",143,6,371,45200,316.37168100000002,13.274336,820.79646000000002,{"$error":"#N/A"},{"$error":"#N/A"},{"$error":"#N/A"},{"$error":"#N/A"},{"$error":"#N/A"}]
[47,47089,"Jefferson County","Tennessee","Jefferson County, Tennessee",299,13,1133,51407,581.63285199999996,25.288385000000002,2203.9800030000001,34100,91.49,63.63,91.38,79.72]
[48,48245,"Jefferson County","Texas","Jefferson County, Texas",1654,27,4965,252273,655.63893099999996,10.702691,1968.10598,13140,99.99,118.66,127.39,137.41999999999999]
[53,53031,"Jefferson County","Washington","Jefferson County, Washington",137,2,320,29872,458.62346000000002,6.695233,1071.2372789999999,{"$error":"#N/A"},{"$error":"#N/A"},{"$error":"#N/A"},{"$error":"#N/A"},{"$error":"#N/A"}]
[54,54037,"Jefferson County","West Virginia","Jefferson County, West Virginia",391,14,1273,53498,730.86844399999995,26.169203,2379.5282069999998,47900,91.79,75.67,87.64,98.81]
[55,55055,"Jefferson County","Wisconsin","Jefferson County, Wisconsin",352,5,1408,83686,420.619936,5.9747149999999998,1682.479746,{"$error":"#N/A"},{"$error":"#N/A"},{"$error":"#N/A"},{"$error":"#N/A"},{"$error":"#N/A"}]
[22,22051,"Jefferson Parish","Louisiana","Jefferson Parish, Louisiana",3844,18,16097,432552,888.67927999999995,4.1613490000000004,3721.402282,35380,113.17,132.12,84.47,148.19]
[13,13165,"Jenkins County","Georgia","Jenkins County, Georgia",48,3,93,8340,575.53956800000003,35.971223000000002,1115.1079139999999,{"$error":"#N/A"},{"$error":"#N/A"},{"$error":"#N/A"},{"$error":"#N/A"},{"$error":"#N/A"}]
[16,16053,"Jerome County","Idaho","Jerome County, Idaho",152,2,395,22374,679.35997099999997,8.9389470000000006,1765.442031,{"$error":"#N/A"},{"$error":"#N/A"},{"$error":"#N/A"},{"$error":"#N/A"},{"$error":"#N/A"}]
[17,17083,"Jersey County","Illinois","Jersey County, Illinois",94,6,551,22985,408.96236699999997,26.103981000000001,2397.2155750000002,41180,89.46,78.12,85.72,85.66]
[21,21113,"Jessamine County","Kentucky","Jessamine County, Kentucky",240,3,1316,48586,493.96945599999998,6.1746179999999997,2708.599185,30460,94.35,102.5,84.93,91.02]
[20,20089,"Jewell County","Kansas","Jewell County, Kansas",16,2,89,3077,519.98699999999997,64.998374999999996,2892.4276890000001,{"$error":"#N/A"},{"$error":"#N/A"},{"$error":"#N/A"},{"$error":"#N/A"},{"$error":"#N/A"}]
[48,48247,"Jim Hogg County","Texas","Jim Hogg County, Texas",10,2,63,5300,188.67924500000001,37.735849000000002,1188.679245,{"$error":"#N/A"},{"$error":"#N/A"},{"$error":"#N/A"},{"$error":"#N/A"},{"$error":"#N/A"}]
[48,48249,"Jim Wells County","Texas","Jim Wells County, Texas",340,5,988,40838,832.55791199999999,12.243499,2419.3153440000001,{"$error":"#N/A"},{"$error":"#N/A"},{"$error":"#N/A"},{"$error":"#N/A"},{"$error":"#N/A"}]
[17,17085,"Jo Daviess County","Illinois","Jo Daviess County, Illinois",110,4,570,22678,485.05159200000003,17.63824,2513.4491579999999,{"$error":"#N/A"},{"$error":"#N/A"},{"$error":"#N/A"},{"$error":"#N/A"},{"$error":"#N/A"}]
[13,13167,"Johnson County","Georgia","Johnson County, Georgia",41,1,84,9980,410.82164299999999,10.02004,841.68336699999998,{"$error":"#N/A"},{"$error":"#N/A"},{"$error":"#N/A"},{"$error":"#N/A"},{"$error":"#N/A"}]
[17,17087,"Johnson County","Illinois","Johnson County, Illinois",43,2,275,12582,341.75806699999998,15.895724,2185.662057,{"$error":"#N/A"},{"$error":"#N/A"},{"$error":"#N/A"},{"$error":"#N/A"},{"$error":"#N/A"}]
[18,18081,"Johnson County","Indiana","Johnson County, Indiana",70,0,763,139654,50.123877999999998,0,546.35026600000003,26900,98.31,116.23,81.08,102.48]
[19,19103,"Johnson County","Iowa","Johnson County, Iowa",549,7,2164,130882,419.46180500000003,5.3483289999999997,1653.3977170000001,26980,103.02,124.12,157.94999999999999,85.78]
[20,20091,"Johnson County","Kansas","Johnson County, Kansas",2550,22,10947,544179,468.59581100000003,4.0427869999999997,2011.6542529999999,28140,104.45,125.43,86.47,101.88]
[29,29101,"Johnson County","Missouri","Johnson County, Missouri",211,1,1084,52595,401.17881899999998,1.901321,2061.0324179999998,{"$error":"#N/A"},{"$error":"#N/A"},{"$error":"#N/A"},{"$error":"#N/A"},{"$error":"#N/A"}]
[31,31097,"Johnson County","Nebraska","Johnson County, Nebraska",6,1,47,5217,115.00862600000001,19.168104,900.90090099999998,{"$error":"#N/A"},{"$error":"#N/A"},{"$error":"#N/A"},{"$error":"#N/A"},{"$error":"#N/A"}]
[47,47091,"Johnson County","Tennessee","Johnson County, Tennessee",101,3,514,18244,553.60666500000002,16.443762,2817.3646130000002,{"$error":"#N/A"},{"$error":"#N/A"},{"$error":"#N/A"},{"$error":"#N/A"},{"$error":"#N/A"}]
[48,48251,"Johnson County","Texas","Johnson County, Texas",734,16,2269,150934,486.305273,10.60066,1503.3060809999999,19100,94.62,85,88.74,91.72]
[56,56019,"Johnson County","Wyoming","Johnson County, Wyoming",63,5,216,8569,735.20830899999999,58.349865999999999,2520.7142020000001,{"$error":"#N/A"},{"$error":"#N/A"},{"$error":"#N/A"},{"$error":"#N/A"},{"$error":"#N/A"}]
[37,37101,"Johnston County","North Carolina","Johnston County, North Carolina",1106,28,3436,168878,654.91064600000004,16.580016000000001,2034.604863,39580,93.03,70.599999999999994,103.97,64.44]
[40,40069,"Johnston County","Oklahoma","Johnston County, Oklahoma",0,0,95,10957,0,0,867.02564600000005,{"$error":"#N/A"},{"$error":"#N/A"},{"$error":"#N/A"},{"$error":"#N/A"},{"$error":"#N/A"}]
[13,13169,"Jones County","Georgia","Jones County, Georgia",131,5,624,28669,456.93955099999999,17.440441,2176.5670239999999,31420,90.26,80.319999999999993,81.59,59.82]
[19,19105,"Jones County","Iowa","Jones County, Iowa",85,3,324,20638,411.86161399999997,14.536292,1569.919566,16300,89.77,115.53,71.55,95.83]
[37,37103,"Jones County","North Carolina","Jones County, North Carolina",78,1,292,10153,768.24583900000005,9.8493060000000003,2875.9972419999999,{"$error":"#N/A"},{"$error":"#N/A"},{"$error":"#N/A"},{"$error":"#N/A"},{"$error":"#N/A"}]
[48,48253,"Jones County","Texas","Jones County, Texas",57,0,157,20202,282.150282,0,777.15077699999995,{"$error":"#N/A"},{"$error":"#N/A"},{"$error":"#N/A"},{"$error":"#N/A"},{"$error":"#N/A"}]
[41,41033,"Josephine County","Oregon","Josephine County, Oregon",580,13,1097,82713,701.21988099999999,15.716996999999999,1326.2727749999999,{"$error":"#N/A"},{"$error":"#N/A"},{"$error":"#N/A"},{"$error":"#N/A"},{"$error":"#N/A"}]
[49,49023,"Juab County","Utah","Juab County, Utah",93,6,349,10246,907.67128600000001,58.559438,3406.2073,39340,88.62,93.3,78.14,83.59]
[2,2110,"Juneau City and Borough","Alaska","Juneau City and Borough, Alaska",103,3,337,31275,329.33653099999998,9.5923259999999999,1077.5379700000001,{"$error":"#N/A"},{"$error":"#N/A"},{"$error":"#N/A"},{"$error":"#N/A"},{"$error":"#N/A"}]
[55,55057,"Juneau County","Wisconsin","Juneau County, Wisconsin",131,8,694,26664,491.29912999999999,30.003,2602.760276,{"$error":"#N/A"},{"$error":"#N/A"},{"$error":"#N/A"},{"$error":"#N/A"},{"$error":"#N/A"}]
[42,42067,"Juniata County","Pennsylvania",{"$f":"CONCATENATE(C1090,\", \",D1090)","v":"Juniata County, Pennsylvania"},71,2,198,24636,288.19613600000002,8.1182009999999991,803.70190000000002,{"$error":"#N/A"},{"$error":"#N/A"},{"$error":"#N/A"},{"$error":"#N/A"},{"$error":"#N/A"}]
[26,26077,"Kalamazoo County","Michigan","Kalamazoo County, Michigan",1366,24,7800,250331,545.67752299999995,9.5873059999999999,3115.8745819999999,28020,97.5,106.35,113.21,90.33]
[26,26079,"Kalkaska County","Michigan","Kalkaska County, Michigan",93,5,602,17153,542.17921100000001,29.149419999999999,3509.5901589999999,{"$error":"#N/A"},{"$error":"#N/A"},{"$error":"#N/A"},{"$error":"#N/A"},{"$error":"#N/A"}]
[54,54039,"Kanawha County","West Virginia","Kanawha County, West Virginia",2040,40,7238,193063,1056.6499020000001,20.718626,3749.0352889999999,16620,96.1,108.14,147.63999999999999,125.6]
[17,17089,"Kane County","Illinois","Kane County, Illinois",2405,24,9473,515269,466.74649599999998,4.6577609999999998,1838.4571940000001,16980,108.34,120.57,90.86,109.06]
[49,49025,"Kane County","Utah","Kane County, Utah",45,1,198,7125,631.57894699999997,14.035088,2778.9473680000001,{"$error":"#N/A"},{"$error":"#N/A"},{"$error":"#N/A"},{"$error":"#N/A"},{"$error":"#N/A"}]
[17,17091,"Kankakee County","Illinois","Kankakee County, Illinois",562,16,2242,113449,495.376777,14.103253,1976.2183889999999,28100,95.65,119.77,105.98,97.47]
[48,48255,"Karnes County","Texas","Karnes County, Texas",120,4,326,14824,809.49811099999999,26.983270000000001,2199.1365350000001,{"$error":"#N/A"},{"$error":"#N/A"},{"$error":"#N/A"},{"$error":"#N/A"},{"$error":"#N/A"}]
[48,48257,"Kaufman County","Texas","Kaufman County, Texas",451,15,1299,103350,436.38122900000002,14.513788,1256.894049,19100,91.56,77.63,83.06,108.05]
[40,40071,"Kay County","Oklahoma","Kay County, Oklahoma",265,0,677,46562,569.13362800000004,0,1453.9753450000001,{"$error":"#N/A"},{"$error":"#N/A"},{"$error":"#N/A"},{"$error":"#N/A"},{"$error":"#N/A"}]
[31,31099,"Kearney County","Nebraska","Kearney County, Nebraska",10,2,100,6489,154.10695000000001,30.821390000000001,1541.0695020000001,{"$error":"#N/A"},{"$error":"#N/A"},{"$error":"#N/A"},{"$error":"#N/A"},{"$error":"#N/A"}]
[20,20093,"Kearny County","Kansas","Kearny County, Kansas",23,0,92,3977,578.32537100000002,0,2313.3014840000001,{"$error":"#N/A"},{"$error":"#N/A"},{"$error":"#N/A"},{"$error":"#N/A"},{"$error":"#N/A"}]
[31,31101,"Keith County","Nebraska","Keith County, Nebraska",18,3,205,8368,215.105163,35.850859999999997,2449.8087949999999,{"$error":"#N/A"},{"$error":"#N/A"},{"$error":"#N/A"},{"$error":"#N/A"},{"$error":"#N/A"}]
[2,2122,"Kenai Peninsula Borough","Alaska","Kenai Peninsula Borough, Alaska",290,9,956,55400,523.46570399999996,16.245487000000001,1725.6317690000001,{"$error":"#N/A"},{"$error":"#N/A"},{"$error":"#N/A"},{"$error":"#N/A"},{"$error":"#N/A"}]
[17,17093,"Kendall County","Illinois","Kendall County, Illinois",456,7,1583,114736,397.43410999999998,6.100962,1379.6890249999999,16980,94.3,90.54,82.01,95.42]
[48,48259,"Kendall County","Texas","Kendall County, Texas",166,3,647,33410,496.85722800000002,8.9793479999999999,1936.545944,41700,94.46,97.53,79.63,72.72]
[48,48261,"Kenedy County","Texas","Kenedy County, Texas",16,0,63,416,3846.1538460000002,0,15144.230769,{"$error":"#N/A"},{"$error":"#N/A"},{"$error":"#N/A"},{"$error":"#N/A"},{"$error":"#N/A"}]
[55,55059,"Kenosha County","Wisconsin","Kenosha County, Wisconsin",1050,18,3165,166426,630.91103599999997,10.815618000000001,1901.7461209999999,16980,100.8,119.03,123.52,118.9]
[9,10001,"Kent County","Delaware","Kent County, Delaware",916,17,3036,162310,564.35216600000001,10.473784999999999,1870.4947320000001,20100,94.72,97.37,102.26,89.82]
[24,24029,"Kent County","Maryland","Kent County, Maryland",81,1,199,20197,401.04966100000001,4.9512299999999998,985.29484600000001,{"$error":"#N/A"},{"$error":"#N/A"},{"$error":"#N/A"},{"$error":"#N/A"},{"$error":"#N/A"}]
[26,26081,"Kent County","Michigan","Kent County, Michigan",3736,37,18200,602622,619.95745299999999,6.1398359999999998,3020.135342,24340,99.67,119.56,128.07,96.76]
[44,44003,"Kent County","Rhode Island","Kent County, Rhode Island",1291,16,7536,166158,776.971316,9.6293889999999998,4535.4421700000003,39300,103.82,122.09,81.7,122.57]
[48,48263,"Kent County","Texas","Kent County, Texas",9,0,13,808,1113.861386,0,1608.910891,{"$error":"#N/A"},{"$error":"#N/A"},{"$error":"#N/A"},{"$error":"#N/A"},{"$error":"#N/A"}]
[21,21117,"Kenton County","Kentucky","Kenton County, Kentucky",890,11,5557,159720,557.225144,6.8870519999999997,3479.213624,17140,104.06,117.51,88.49,119.32]
[6,6029,"Kern County","California","Kern County, California",3020,96,8528,839631,359.68181299999998,11.433593999999999,1015.684271,12540,102.91,121.33,99.62,92.21]
[48,48265,"Kerr County","Texas","Kerr County, Texas",303,6,831,49625,610.57934499999999,12.090680000000001,1674.5591939999999,{"$error":"#N/A"},{"$error":"#N/A"},{"$error":"#N/A"},{"$error":"#N/A"},{"$error":"#N/A"}]
[45,45055,"Kershaw County","South Carolina","Kershaw County, South Carolina",437,14,1288,61697,708.30024200000003,22.691541000000001,2087.621764,17900,90.43,61.7,129.24,61.49]
[2,2130,"Ketchikan Gateway Borough","Alaska","Ketchikan Gateway Borough, Alaska",77,1,168,13477,571.34377099999995,7.4200489999999997,1246.568227,{"$error":"#N/A"},{"$error":"#N/A"},{"$error":"#N/A"},{"$error":"#N/A"},{"$error":"#N/A"}]
[55,55061,"Kewaunee County","Wisconsin","Kewaunee County, Wisconsin",61,2,254,20574,296.49071600000002,9.7210070000000002,1234.5679009999999,24580,92.15,103.67,77.23,79.489999999999995]
[26,26083,"Keweenaw County","Michigan","Keweenaw County, Michigan",14,2,81,2156,649.35064899999998,92.764377999999994,3756.957328,{"$error":"#N/A"},{"$error":"#N/A"},{"$error":"#N/A"},{"$error":"#N/A"},{"$error":"#N/A"}]
[31,31103,"Keya Paha County","Nebraska","Keya Paha County, Nebraska",1,0,10,824,121.359223,0,1213.5922330000001,{"$error":"#N/A"},{"$error":"#N/A"},{"$error":"#N/A"},{"$error":"#N/A"},{"$error":"#N/A"}]
[31,31105,"Kimball County","Nebraska","Kimball County, Nebraska",10,1,75,3821,261.71159399999999,26.171158999999999,1962.8369540000001,{"$error":"#N/A"},{"$error":"#N/A"},{"$error":"#N/A"},{"$error":"#N/A"},{"$error":"#N/A"}]
[48,48267,"Kimble County","Texas","Kimble County, Texas",30,6,85,4607,651.18298200000004,130.23659599999999,1845.01845,{"$error":"#N/A"},{"$error":"#N/A"},{"$error":"#N/A"},{"$error":"#N/A"},{"$error":"#N/A"}]
[48,48269,"King County","Texas","King County, Texas",8,0,26,286,2797.2027969999999,0,9090.9090909999995,{"$error":"#N/A"},{"$error":"#N/A"},{"$error":"#N/A"},{"$error":"#N/A"},{"$error":"#N/A"}]
[53,53033,"King County","Washington","King County, Washington",11039,72,33851,1931249,571.59900100000004,3.7281569999999999,1752.8034970000001,42660,114.85,128.93,159.34,131.69999999999999]
[51,51101,"King William County","Virginia","King William County, Virginia",60,0,193,15935,376.529652,0,1211.17038,40060,90.95,56.69,79.27,102.1]
[40,40073,"Kingfisher County","Oklahoma","Kingfisher County, Oklahoma",66,0,221,15034,439.00492200000002,0,1470.0013300000001,{"$error":"#N/A"},{"$error":"#N/A"},{"$error":"#N/A"},{"$error":"#N/A"},{"$error":"#N/A"}]
[20,20095,"Kingman County","Kansas","Kingman County, Kansas",43,1,261,7858,547.213031,12.725884000000001,3321.455841,{"$error":"#N/A"},{"$error":"#N/A"},{"$error":"#N/A"},{"$error":"#N/A"},{"$error":"#N/A"}]
[6,6031,"Kings County","California","Kings County, California",499,18,1428,152982,326.182165,11.76609,933.44314999999995,25260,100.77,115.21,108.98,90.98]
[36,36047,"Kings County","New York","Kings County, New York",16166,78,23892,2504700,645.42659800000001,3.1141450000000002,953.88669300000004,35620,355.5,142.16,199.99,225.25]
[48,48271,"Kinney County","Texas","Kinney County, Texas",12,2,25,3598,333.518621,55.586436999999997,694.83046100000001,{"$error":"#N/A"},{"$error":"#N/A"},{"$error":"#N/A"},{"$error":"#N/A"},{"$error":"#N/A"}]
[20,20097,"Kiowa County","Kansas","Kiowa County, Kansas",17,1,100,2553,665.88327500000003,39.169604,3916.960439,{"$error":"#N/A"},{"$error":"#N/A"},{"$error":"#N/A"},{"$error":"#N/A"},{"$error":"#N/A"}]
[40,40075,"Kiowa County","Oklahoma","Kiowa County, Oklahoma",39,0,117,9446,412.87317400000001,0,1238.6195210000001,{"$error":"#N/A"},{"$error":"#N/A"},{"$error":"#N/A"},{"$error":"#N/A"},{"$error":"#N/A"}]
[53,53035,"Kitsap County","Washington","Kitsap County, Washington",902,20,2932,251133,359.17223100000001,7.963908,1167.5088499999999,14740,98.92,107.82,115.62,96.04]
[53,53037,"Kittitas County","Washington","Kittitas County, Washington",323,14,1161,40915,789.44152499999996,34.217280000000002,2837.5901260000001,{"$error":"#N/A"},{"$error":"#N/A"},{"$error":"#N/A"},{"$error":"#N/A"},{"$error":"#N/A"}]
[41,41035,"Klamath County","Oregon","Klamath County, Oregon",395,9,851,66380,595.05875300000002,13.558301,1282.0126540000001,{"$error":"#N/A"},{"$error":"#N/A"},{"$error":"#N/A"},{"$error":"#N/A"},{"$error":"#N/A"}]
[48,48273,"Kleberg County","Texas","Kleberg County, Texas",157,5,547,32061,489.69152600000001,15.595272,1706.1227040000001,{"$error":"#N/A"},{"$error":"#N/A"},{"$error":"#N/A"},{"$error":"#N/A"},{"$error":"#N/A"}]
[53,53039,"Klickitat County","Washington","Klickitat County, Washington",110,3,302,20318,541.39186900000004,14.765233,1486.3667680000001,{"$error":"#N/A"},{"$error":"#N/A"},{"$error":"#N/A"},{"$error":"#N/A"},{"$error":"#N/A"}]
[17,17095,"Knox County","Illinois","Knox County, Illinois",222,6,864,52919,419.50906099999997,11.338082999999999,1632.6839130000001,{"$error":"#N/A"},{"$error":"#N/A"},{"$error":"#N/A"},{"$error":"#N/A"},{"$error":"#N/A"}]
[29,29103,"Knox County","Missouri","Knox County, Missouri",12,0,38,4131,290.48656499999998,0,919.87412200000006,{"$error":"#N/A"},{"$error":"#N/A"},{"$error":"#N/A"},{"$error":"#N/A"},{"$error":"#N/A"}]
[31,31107,"Knox County","Nebraska","Knox County, Nebraska",9,3,57,8701,103.436387,34.478796000000003,655.09711500000003,{"$error":"#N/A"},{"$error":"#N/A"},{"$error":"#N/A"},{"$error":"#N/A"},{"$error":"#N/A"}]
[39,39083,"Knox County","Ohio","Knox County, Ohio",369,8,1486,60921,605.70246699999996,13.131760999999999,2439.2245699999999,{"$error":"#N/A"},{"$error":"#N/A"},{"$error":"#N/A"},{"$error":"#N/A"},{"$error":"#N/A"}]
[47,47093,"Knox County","Tennessee","Knox County, Tennessee",3084,52,13632,432226,713.51561500000003,12.030742999999999,3153.9055960000001,28940,99.46,102.38,136.24,96.83]
[48,48275,"Knox County","Texas","Knox County, Texas",9,1,38,3719,242.00053800000001,26.888949,1021.780048,{"$error":"#N/A"},{"$error":"#N/A"},{"$error":"#N/A"},{"$error":"#N/A"},{"$error":"#N/A"}]
[2,2150,"Kodiak Island Borough","Alaska","Kodiak Island Borough, Alaska",24,0,92,13592,176.574456,0,676.86874599999999,{"$error":"#N/A"},{"$error":"#N/A"},{"$error":"#N/A"},{"$error":"#N/A"},{"$error":"#N/A"}]
[16,16055,"Kootenai County","Idaho","Kootenai County, Idaho",805,9,2110,138494,581.25261699999999,6.4984760000000001,1523.5317050000001,17660,97.55,113.96,122.32,101.44]
[55,55063,"La Crosse County","Wisconsin","La Crosse County, Wisconsin",681,14,2691,114638,594.04386,12.212355000000001,2347.389173,29100,98.49,119.38,88.95,117.4]
[48,48283,"La Salle County","Texas","La Salle County, Texas",306,10,997,6886,4443.7990120000004,145.22219000000001,14478.652338,{"$error":"#N/A"},{"$error":"#N/A"},{"$error":"#N/A"},{"$error":"#N/A"},{"$error":"#N/A"}]
[20,20099,"Labette County","Kansas","Labette County, Kansas",73,4,415,21607,337.85347300000001,18.512519000000001,1920.6738559999999,{"$error":"#N/A"},{"$error":"#N/A"},{"$error":"#N/A"},{"$error":"#N/A"},{"$error":"#N/A"}]
[42,42069,"Lackawanna County","Pennsylvania","Lackawanna County, Pennsylvania",1028,17,2267,214437,479.394881,7.9277360000000003,1057.1869589999999,42540,101.86,133.13,134.53,123.5]
[29,29105,"Laclede County","Missouri","Laclede County, Missouri",246,8,876,35571,691.57459700000004,22.490231000000001,2462.6802729999999,{"$error":"#N/A"},{"$error":"#N/A"},{"$error":"#N/A"},{"$error":"#N/A"},{"$error":"#N/A"}]
[12,12067,"Lafayette County","Florida","Lafayette County, Florida",58,2,84,8870,653.88951499999996,22.547913999999999,947.01240099999995,{"$error":"#N/A"},{"$error":"#N/A"},{"$error":"#N/A"},{"$error":"#N/A"},{"$error":"#N/A"}]
[29,29107,"Lafayette County","Missouri","Lafayette County, Missouri",130,3,654,33381,389.44309600000003,8.9871479999999995,1959.1983459999999,28140,89.16,87.92,74.98,94.53]
[55,55065,"Lafayette County","Wisconsin","Lafayette County, Wisconsin",82,4,475,16836,487.05155600000001,23.758611999999999,2821.3352340000001,{"$error":"#N/A"},{"$error":"#N/A"},{"$error":"#N/A"},{"$error":"#N/A"},{"$error":"#N/A"}]
[22,22055,"Lafayette Parish","Louisiana",{"$f":"CONCATENATE(C1154,\", \",D1154)","v":"Lafayette Parish, Louisiana"},2729,22,10181,221578,1231.6204680000001,9.9287840000000003,4594.7702390000004,29180,99.95,114.45,110.96,106.53]
[22,22057,"Lafourche Parish","Louisiana","Lafourche Parish, Louisiana",727,16,2439,96318,754.79142000000002,16.611640999999999,2532.2369650000001,26380,95.04,99.35,143.72,98.05]
[2,2164,"Lake and Peninsula Borough","Alaska","Lake and Peninsula Borough, Alaska",0,0,2,1631,0,0,122.624157,{"$error":"#N/A"},{"$error":"#N/A"},{"$error":"#N/A"},{"$error":"#N/A"},{"$error":"#N/A"}]
[6,6033,"Lake County","California","Lake County, California",266,15,638,64665,411.35080799999997,23.196473999999998,986.62336700000003,{"$error":"#N/A"},{"$error":"#N/A"},{"$error":"#N/A"},{"$error":"#N/A"},{"$error":"#N/A"}]
[12,12069,"Lake County","Florida","Lake County, Florida",2432,40,3500,297052,818.71187499999996,13.465655999999999,1178.244886,36740,95.53,87.32,121.33,116.84]
[17,17097,"Lake County","Illinois","Lake County, Illinois",3070,27,11922,703462,436.41305399999999,3.8381599999999998,1694.7610529999999,16980,103.98,121.02,97.08,118.15]
[18,18089,"Lake County","Indiana","Lake County, Indiana",287,3,2929,496005,57.862319999999997,0.60483299999999995,590.51824099999999,16980,102.28,124.13,124.4,126.26]
[26,26085,"Lake County","Michigan","Lake County, Michigan",69,0,361,11539,597.97209499999997,0,3128.520669,{"$error":"#N/A"},{"$error":"#N/A"},{"$error":"#N/A"},{"$error":"#N/A"},{"$error":"#N/A"}]
[39,39085,"Lake County","Ohio","Lake County, Ohio",1237,10,5643,230041,537.730231,4.3470510000000004,2453.0409800000002,17460,100.55,123.58,82.99,88.29]
[41,41037,"Lake County","Oregon","Lake County, Oregon",41,1,86,7895,519.31602299999997,12.666244000000001,1089.2970230000001,{"$error":"#N/A"},{"$error":"#N/A"},{"$error":"#N/A"},{"$error":"#N/A"},{"$error":"#N/A"}]
[47,47095,"Lake County","Tennessee","Lake County, Tennessee",19,1,45,7832,242.59448399999999,12.768131,574.56588399999998,{"$error":"#N/A"},{"$error":"#N/A"},{"$error":"#N/A"},{"$error":"#N/A"},{"$error":"#N/A"}]
[1,1075,"Lamar County","Alabama","Lamar County, Alabama",42,1,121,14564,288.38231300000001,6.8662460000000003,830.81570999999997,{"$error":"#N/A"},{"$error":"#N/A"},{"$error":"#N/A"},{"$error":"#N/A"},{"$error":"#N/A"}]
[13,13171,"Lamar County","Georgia","Lamar County, Georgia",120,7,444,18317,655.12911499999996,38.215865000000001,2423.9777260000001,12060,90.01,68.75,79.239999999999995,69.42]
[28,28073,"Lamar County","Mississippi","Lamar County, Mississippi","#NULL!","#NULL!","#NULL!",55658,"#NULL!","#NULL!","#NULL!",25620,90.94,85.24,82.62,69.989999999999995]
[48,48277,"Lamar County","Texas","Lamar County, Texas",49,4,178,49793,98.407407000000006,8.033258,357.47996699999999,{"$error":"#N/A"},{"$error":"#N/A"},{"$error":"#N/A"},{"$error":"#N/A"},{"$error":"#N/A"}]
[48,48279,"Lamb County","Texas","Lamb County, Texas",98,4,280,13977,701.15189199999998,28.618445000000001,2003.291121,{"$error":"#N/A"},{"$error":"#N/A"},{"$error":"#N/A"},{"$error":"#N/A"},{"$error":"#N/A"}]
[48,48281,"Lampasas County","Texas","Lampasas County, Texas",75,4,198,19677,381.155664,20.328302000000001,1006.250953,28660,89.18,74.92,86.25,95.76]
[31,31109,"Lancaster County","Nebraska","Lancaster County, Nebraska",1580,18,5155,285407,553.59539199999995,6.3067830000000002,1806.19256,30700,109.75,133.02000000000001,115.33,121.45]
[42,42071,"Lancaster County","Pennsylvania","Lancaster County, Pennsylvania",2027,48,4737,519445,390.22418199999998,9.2406319999999997,911.93485399999997,29540,102.63,119.9,128.6,94.47]
[45,45057,"Lancaster County","South Carolina","Lancaster County, South Carolina",464,9,1291,76652,605.33319400000005,11.741377,1684.2352450000001,{"$error":"#N/A"},{"$error":"#N/A"},{"$error":"#N/A"},{"$error":"#N/A"},{"$error":"#N/A"}]
[32,32015,"Lander County","Nevada","Lander County, Nevada",16,4,56,5775,277.05627700000002,69.264069000000006,969.69696999999996,{"$error":"#N/A"},{"$error":"#N/A"},{"$error":"#N/A"},{"$error":"#N/A"},{"$error":"#N/A"}]
[20,20101,"Lane County","Kansas","Lane County, Kansas",10,1,30,1750,571.42857100000003,57.142856999999999,1714.2857140000001,{"$error":"#N/A"},{"$error":"#N/A"},{"$error":"#N/A"},{"$error":"#N/A"},{"$error":"#N/A"}]
[41,41039,"Lane County","Oregon","Lane County, Oregon",1765,29,3709,351715,501.82676300000003,8.2453120000000002,1054.5470049999999,21660,101.73,127.48,138.05000000000001,98.88]
[55,55067,"Langlade County","Wisconsin","Langlade County, Wisconsin",105,3,420,19977,525.60444500000006,15.01727,2102.4177800000002,{"$error":"#N/A"},{"$error":"#N/A"},{"$error":"#N/A"},{"$error":"#N/A"},{"$error":"#N/A"}]
[13,13173,"Lanier County","Georgia","Lanier County, Georgia",43,2,123,10078,426.67195900000002,19.845206999999998,1220.4802540000001,{"$error":"#N/A"},{"$error":"#N/A"},{"$error":"#N/A"},{"$error":"#N/A"},{"$error":"#N/A"}]
[26,26087,"Lapeer County","Michigan","Lapeer County, Michigan",435,12,2763,88319,492.53275100000002,13.587109999999999,3128.4321610000002,19820,92.22,70.09,131.99,63.03]
[18,18091,"LaPorte County","Indiana","LaPorte County, Indiana",84,0,645,111467,75.358626000000001,0,578.64659500000005,33140,95.04,104.81,108.11,96.11]
[56,56021,"Laramie County","Wyoming","Laramie County, Wyoming",448,3,1760,91738,488.34724999999997,3.2701820000000001,1918.507053,16940,100.71,112.98,132.63999999999999,114.68]
[8,8069,"Larimer County","Colorado","Larimer County, Colorado",624,22,5570,299630,208.25684999999999,7.3423889999999998,1858.9593829999999,22660,100.68,117.76,111.95,103.05]
[21,21123,"Larue County","Kentucky","Larue County, Kentucky",65,1,251,14193,457.97224,7.0457270000000003,1768.4774179999999,21060,89.43,63.3,84.72,65.930000000000007]
[17,17099,"LaSalle County","Illinois","LaSalle County, Illinois",467,15,2223,113924,409.92240399999997,13.166672999999999,1951.3008669999999,{"$error":"#N/A"},{"$error":"#N/A"},{"$error":"#N/A"},{"$error":"#N/A"},{"$error":"#N/A"}]
[6,6035,"Lassen County","California","Lassen County, California",129,9,427,34895,369.68047000000001,25.791661000000001,1223.6710129999999,{"$error":"#N/A"},{"$error":"#N/A"},{"$error":"#N/A"},{"$error":"#N/A"},{"$error":"#N/A"}]
[16,16057,"Latah County","Idaho","Latah County, Idaho",182,11,500,37244,488.66931599999998,29.534959000000001,1342.4981210000001,{"$error":"#N/A"},{"$error":"#N/A"},{"$error":"#N/A"},{"$error":"#N/A"},{"$error":"#N/A"}]
[40,40077,"Latimer County","Oklahoma","Latimer County, Oklahoma",61,0,133,11154,546.88900799999999,0,1192.397346,{"$error":"#N/A"},{"$error":"#N/A"},{"$error":"#N/A"},{"$error":"#N/A"},{"$error":"#N/A"}]
[1,1077,"Lauderdale County","Alabama","Lauderdale County, Alabama",416,16,2057,92709,448.71587399999999,17.258303000000002,2218.7705620000002,22520,94.46,84.43,105.63,88.5]
[47,47097,"Lauderdale County","Tennessee","Lauderdale County, Tennessee",133,9,390,27815,478.159267,32.356642000000001,1402.1211579999999,{"$error":"#N/A"},{"$error":"#N/A"},{"$error":"#N/A"},{"$error":"#N/A"},{"$error":"#N/A"}]
[13,13175,"Laurens County","Georgia","Laurens County, Georgia",401,6,1374,48434,827.930792,12.387992000000001,2836.8501470000001,{"$error":"#N/A"},{"$error":"#N/A"},{"$error":"#N/A"},{"$error":"#N/A"},{"$error":"#N/A"}]
[45,45059,"Laurens County","South Carolina","Laurens County, South Carolina",546,14,1500,66537,820.59605899999997,21.040925000000001,2254.3847780000001,24860,89.91,59.53,87.21,79.89]
[48,48285,"Lavaca County","Texas","Lavaca County, Texas",66,6,238,19263,342.62575900000002,31.147796,1235.5292529999999,{"$error":"#N/A"},{"$error":"#N/A"},{"$error":"#N/A"},{"$error":"#N/A"},{"$error":"#N/A"}]
[1,1079,"Lawrence County","Alabama","Lawrence County, Alabama",152,14,486,34339,442.64538900000002,40.769970000000001,1415.300387,19460,89.38,51.74,86.98,66.67]
[17,17101,"Lawrence County","Illinois","Lawrence County, Illinois",68,5,355,16833,403.96839499999999,29.703558000000001,2108.9526529999998,{"$error":"#N/A"},{"$error":"#N/A"},{"$error":"#N/A"},{"$error":"#N/A"},{"$error":"#N/A"}]
[29,29109,"Lawrence County","Missouri","Lawrence County, Missouri",170,8,598,38634,440.02691900000002,20.707149000000001,1547.8593980000001,{"$error":"#N/A"},{"$error":"#N/A"},{"$error":"#N/A"},{"$error":"#N/A"},{"$error":"#N/A"}]
[39,39087,"Lawrence County","Ohio","Lawrence County, Ohio",418,8,1099,62450,669.33546799999999,12.810248,1759.8078459999999,26580,93.75,81.53,83.82,104.35]
[42,42073,"Lawrence County","Pennsylvania","Lawrence County, Pennsylvania",280,13,662,91108,307.32756699999999,14.26878,726.61017700000002,{"$error":"#N/A"},{"$error":"#N/A"},{"$error":"#N/A"},{"$error":"#N/A"},{"$error":"#N/A"}]
[47,47099,"Lawrence County","Tennessee","Lawrence County, Tennessee",235,12,910,41869,561.274451,28.660823000000001,2173.4457470000002,{"$error":"#N/A"},{"$error":"#N/A"},{"$error":"#N/A"},{"$error":"#N/A"},{"$error":"#N/A"}]
[40,40079,"Le Flore County","Oklahoma","Le Flore County, Oklahoma",235,0,569,50384,466.41791000000001,0,1129.3267699999999,22900,89.15,67.37,83.45,99.19]
[20,20103,"Leavenworth County","Kansas","Leavenworth County, Kansas",255,11,1274,76227,334.52713599999998,14.430581999999999,1671.323809,28140,95.13,99.39,87.24,93.72]
[42,42075,"Lebanon County","Pennsylvania","Lebanon County, Pennsylvania",529,20,1253,133568,396.05294700000002,14.973646,938.09894599999996,30140,96.31,122.77,84.72,116.98]
[1,1081,"Lee County","Alabama","Lee County, Alabama",726,17,4154,140247,517.65813200000002,12.121471,2961.9171889999998,12220,96.48,87.9,104.17,84.55]
[12,12071,"Lee County","Florida","Lee County, Florida",4546,65,6598,618754,734.70232099999998,10.504982999999999,1066.3365409999999,15980,98.87,104.6,119.36,121.83]
[13,13177,"Lee County","Georgia","Lee County, Georgia",160,5,766,28298,565.41098299999999,17.669093,2706.9050820000002,10500,90.74,63.81,80.13,67.38]
[17,17103,"Lee County","Illinois","Lee County, Illinois",165,8,851,36031,457.93899699999997,22.203102999999999,2361.8550690000002,{"$error":"#N/A"},{"$error":"#N/A"},{"$error":"#N/A"},{"$error":"#N/A"},{"$error":"#N/A"}]
[37,37105,"Lee County","North Carolina","Lee County, North Carolina",468,13,1457,57866,808.76507800000002,22.465696999999999,2517.8861510000002,{"$error":"#N/A"},{"$error":"#N/A"},{"$error":"#N/A"},{"$error":"#N/A"},{"$error":"#N/A"}]
[45,45061,"Lee County","South Carolina","Lee County, South Carolina",107,4,373,19220,556.71175900000003,20.811654999999998,1940.6867850000001,{"$error":"#N/A"},{"$error":"#N/A"},{"$error":"#N/A"},{"$error":"#N/A"},{"$error":"#N/A"}]
[48,48287,"Lee County","Texas","Lee County, Texas",102,6,330,16612,614.01396599999998,36.118468999999997,1986.515772,{"$error":"#N/A"},{"$error":"#N/A"},{"$error":"#N/A"},{"$error":"#N/A"},{"$error":"#N/A"}]
[26,26089,"Leelanau County","Michigan","Leelanau County, Michigan",93,3,590,21708,428.41348799999997,13.819789999999999,2717.8920210000001,{"$error":"#N/A"},{"$error":"#N/A"},{"$error":"#N/A"},{"$error":"#N/A"},{"$error":"#N/A"}]
[42,42077,"Lehigh County","Pennsylvania","Lehigh County, Pennsylvania",1766,23,3963,349497,505.29761300000001,6.5808859999999996,1133.915313,10900,111.48,134.36000000000001,115.73,137.75]
[16,16059,"Lemhi County","Idaho","Lemhi County, Idaho",33,1,118,7936,415.82661300000001,12.600806,1486.8951609999999,{"$error":"#N/A"},{"$error":"#N/A"},{"$error":"#N/A"},{"$error":"#N/A"},{"$error":"#N/A"}]
[26,26091,"Lenawee County","Michigan","Lenawee County, Michigan",465,8,2414,99892,465.50274300000001,8.0086490000000001,2416.6099389999999,{"$error":"#N/A"},{"$error":"#N/A"},{"$error":"#N/A"},{"$error":"#N/A"},{"$error":"#N/A"}]
[37,37107,"Lenoir County","North Carolina","Lenoir County, North Carolina",493,8,1315,59495,828.64106200000003,13.446508,2210.2697710000002,{"$error":"#N/A"},{"$error":"#N/A"},{"$error":"#N/A"},{"$error":"#N/A"},{"$error":"#N/A"}]
[12,12073,"Leon County","Florida","Leon County, Florida",3569,36,6243,275487,1295.523927,13.067767,2266.1686399999999,45220,102.05,106.83,149.96,99.11]
[48,48289,"Leon County","Texas","Leon County, Texas",108,5,322,16801,642.81888000000004,29.760133,1916.552586,{"$error":"#N/A"},{"$error":"#N/A"},{"$error":"#N/A"},{"$error":"#N/A"},{"$error":"#N/A"}]
[12,12075,"Levy County","Florida","Levy County, Florida",362,14,538,40801,887.23315600000001,34.312883999999997,1318.5951319999999,{"$error":"#N/A"},{"$error":"#N/A"},{"$error":"#N/A"},{"$error":"#N/A"},{"$error":"#N/A"}]
[16,16061,"Lewis County","Idaho","Lewis County, Idaho",24,1,52,3821,628.10782500000005,26.171158999999999,1360.900288,{"$error":"#N/A"},{"$error":"#N/A"},{"$error":"#N/A"},{"$error":"#N/A"},{"$error":"#N/A"}]
[29,29111,"Lewis County","Missouri",{"$f":"CONCATENATE(C1218,\", \",D1218)","v":"Lewis County, Missouri"},38,3,129,10211,372.14768400000003,29.38008,1263.343453,{"$error":"#N/A"},{"$error":"#N/A"},{"$error":"#N/A"},{"$error":"#N/A"},{"$error":"#N/A"}]
[36,36049,"Lewis County","New York","Lewis County, New York",120,2,982,27087,443.01694500000002,7.383616,3625.355337,{"$error":"#N/A"},{"$error":"#N/A"},{"$error":"#N/A"},{"$error":"#N/A"},{"$error":"#N/A"}]
[47,47101,"Lewis County","Tennessee","Lewis County, Tennessee",62,1,212,12161,509.82649500000002,8.2230080000000001,1743.277691,{"$error":"#N/A"},{"$error":"#N/A"},{"$error":"#N/A"},{"$error":"#N/A"},{"$error":"#N/A"}]
[53,53041,"Lewis County","Washington","Lewis County, Washington",402,10,1204,75455,532.767875,13.252931999999999,1595.6530379999999,{"$error":"#N/A"},{"$error":"#N/A"},{"$error":"#N/A"},{"$error":"#N/A"},{"$error":"#N/A"}]
[45,45063,"Lexington County","South Carolina","Lexington County, South Carolina",1747,35,6514,262391,665.80027500000006,13.338872,2482.5546610000001,17900,94.92,94.04,88,80.44]
[12,12077,"Liberty County","Florida","Liberty County, Florida",66,1,103,8365,789.00179300000002,11.954573,1231.32098,{"$error":"#N/A"},{"$error":"#N/A"},{"$error":"#N/A"},{"$error":"#N/A"},{"$error":"#N/A"}]
[13,13179,"Liberty County","Georgia","Liberty County, Georgia",493,7,1496,63453,776.95302000000004,11.031787,2357.6505440000001,25980,96.95,85.66,100.72,88.85]
[48,48291,"Liberty County","Texas","Liberty County, Texas",415,18,1290,75643,548.62974799999995,23.795988999999999,1705.379216,26420,89.41,54.79,90.7,83.18]
[39,39089,"Licking County","Ohio","Licking County, Ohio",897,25,3693,166492,538.76462500000002,15.015736,2218.1245950000002,18140,95.01,99.59,98.19,106.48]
[1,1083,"Limestone County","Alabama","Limestone County, Alabama",361,20,1655,82782,436.08513900000003,24.159842000000001,1999.226885,26620,91.62,58.45,89.78,82.64]
[48,48293,"Limestone County","Texas","Limestone County, Texas",99,4,366,23384,423.36640399999999,17.105713000000002,1565.1727679999999,{"$error":"#N/A"},{"$error":"#N/A"},{"$error":"#N/A"},{"$error":"#N/A"},{"$error":"#N/A"}]
[5,5079,"Lincoln County","Arkansas","Lincoln County, Arkansas",33,5,102,14134,233.47955300000001,35.375689999999999,721.66407200000003,38220,88.97,51.59,72.47,62.71]
[13,13181,"Lincoln County","Georgia","Lincoln County, Georgia",46,2,214,7996,575.287644,25.012505999999998,2676.3381690000001,{"$error":"#N/A"},{"$error":"#N/A"},{"$error":"#N/A"},{"$error":"#N/A"},{"$error":"#N/A"}]
[16,16063,"Lincoln County","Idaho","Lincoln County, Idaho",22,1,57,5208,422.42703499999999,19.201229000000001,1094.4700459999999,{"$error":"#N/A"},{"$error":"#N/A"},{"$error":"#N/A"},{"$error":"#N/A"},{"$error":"#N/A"}]
[20,20105,"Lincoln County","Kansas","Lincoln County, Kansas",15,0,89,3241,462.82011699999998,0,2746.0660290000001,{"$error":"#N/A"},{"$error":"#N/A"},{"$error":"#N/A"},{"$error":"#N/A"},{"$error":"#N/A"}]
[29,29113,"Lincoln County","Missouri","Lincoln County, Missouri",229,9,773,52566,435.64281099999999,17.121333,1470.532283,41180,90.59,52.94,85.39,93.02]
[31,31111,"Lincoln County","Nebraska","Lincoln County, Nebraska",157,6,878,36288,432.64991199999997,16.534392,2419.5326279999999,{"$error":"#N/A"},{"$error":"#N/A"},{"$error":"#N/A"},{"$error":"#N/A"},{"$error":"#N/A"}]
[32,32017,"Lincoln County","Nevada","Lincoln County, Nevada",34,2,135,5345,636.10851300000002,37.418148000000002,2525.7249769999999,{"$error":"#N/A"},{"$error":"#N/A"},{"$error":"#N/A"},{"$error":"#N/A"},{"$error":"#N/A"}]
[37,37109,"Lincoln County","North Carolina","Lincoln County, North Carolina",433,9,1201,78265,553.24857899999995,11.499393,1534.5301219999999,{"$error":"#N/A"},{"$error":"#N/A"},{"$error":"#N/A"},{"$error":"#N/A"},{"$error":"#N/A"}]
[40,40081,"Lincoln County","Oklahoma","Lincoln County, Oklahoma",147,0,326,34273,428.90905400000003,0,951.18606499999999,{"$error":"#N/A"},{"$error":"#N/A"},{"$error":"#N/A"},{"$error":"#N/A"},{"$error":"#N/A"}]
[41,41041,"Lincoln County","Oregon","Lincoln County, Oregon",304,6,611,46034,660.38145699999995,13.033844999999999,1327.279837,{"$error":"#N/A"},{"$error":"#N/A"},{"$error":"#N/A"},{"$error":"#N/A"},{"$error":"#N/A"}]
[46,46083,"Lincoln County","South Dakota","Lincoln County, South Dakota",206,4,736,44828,459.53422,8.9229950000000002,1641.8309979999999,43620,92.75,107.03,82.73,77.53]
[47,47103,"Lincoln County","Tennessee","Lincoln County, Tennessee",228,8,960,33361,683.43275100000005,23.980097000000001,2877.611582,{"$error":"#N/A"},{"$error":"#N/A"},{"$error":"#N/A"},{"$error":"#N/A"},{"$error":"#N/A"}]
[53,53043,"Lincoln County","Washington","Lincoln County, Washington",66,3,168,10570,624.40870399999994,28.382214000000001,1589.4039740000001,{"$error":"#N/A"},{"$error":"#N/A"},{"$error":"#N/A"},{"$error":"#N/A"},{"$error":"#N/A"}]
[55,55069,"Lincoln County","Wisconsin","Lincoln County, Wisconsin",137,3,758,28743,476.63779,10.437324,2637.1638309999998,{"$error":"#N/A"},{"$error":"#N/A"},{"$error":"#N/A"},{"$error":"#N/A"},{"$error":"#N/A"}]
[56,56023,"Lincoln County","Wyoming","Lincoln County, Wyoming",84,3,280,18106,463.93460700000003,16.569092999999999,1546.4486910000001,{"$error":"#N/A"},{"$error":"#N/A"},{"$error":"#N/A"},{"$error":"#N/A"},{"$error":"#N/A"}]
[19,19113,"Linn County","Iowa","Linn County, Iowa",1027,17,3617,211226,486.20908400000002,8.0482519999999997,1712.3838920000001,16300,100.19,118.29,121.29,103.21]
[20,20107,"Linn County","Kansas","Linn County, Kansas",25,2,134,9656,258.90637900000002,20.712510000000002,1387.738194,{"$error":"#N/A"},{"$error":"#N/A"},{"$error":"#N/A"},{"$error":"#N/A"},{"$error":"#N/A"}]
[29,29115,"Linn County","Missouri","Linn County, Missouri",49,1,210,12761,383.98244699999998,7.8363759999999996,1645.6390570000001,{"$error":"#N/A"},{"$error":"#N/A"},{"$error":"#N/A"},{"$error":"#N/A"},{"$error":"#N/A"}]
[41,41043,"Linn County","Oregon","Linn County, Oregon",741,10,1455,116672,635.11382300000002,8.5710370000000005,1247.0858479999999,{"$error":"#N/A"},{"$error":"#N/A"},{"$error":"#N/A"},{"$error":"#N/A"},{"$error":"#N/A"}]
[48,48295,"Lipscomb County","Texas","Lipscomb County, Texas",9,1,31,3302,272.56208400000003,30.284676000000001,938.82495500000005,{"$error":"#N/A"},{"$error":"#N/A"},{"$error":"#N/A"},{"$error":"#N/A"},{"$error":"#N/A"}]
[48,48297,"Live Oak County","Texas","Live Oak County, Texas",90,7,287,11531,780.50472600000001,60.705922999999999,2488.9428499999999,{"$error":"#N/A"},{"$error":"#N/A"},{"$error":"#N/A"},{"$error":"#N/A"},{"$error":"#N/A"}]
[17,17105,"Livingston County","Illinois","Livingston County, Illinois",160,8,620,38950,410.78305499999999,20.539152999999999,1591.784339,{"$error":"#N/A"},{"$error":"#N/A"},{"$error":"#N/A"},{"$error":"#N/A"},{"$error":"#N/A"}]
[26,26093,"Livingston County","Michigan","Livingston County, Michigan",716,17,4315,180967,395.65224599999999,9.3939780000000006,2384.412628,19820,92.3,81.87,104.2,80.88]
[29,29117,"Livingston County","Missouri","Livingston County, Missouri",72,2,327,15195,473.840079,13.162224,2152.0236920000002,{"$error":"#N/A"},{"$error":"#N/A"},{"$error":"#N/A"},{"$error":"#N/A"},{"$error":"#N/A"}]
[36,36051,"Livingston County","New York","Livingston County, New York",334,7,2494,65393,510.75803200000001,10.704510000000001,3813.8638689999998,40380,93.13,102.59,78.75,53.09]
[22,22063,"Livingston Parish","Louisiana","Livingston Parish, Louisiana",1077,22,3644,128026,841.23537399999998,17.184009,2846.2968460000002,12940,93.18,62.05,84.88,75.38]
[48,48299,"Llano County","Texas","Llano County, Texas",87,6,246,19301,450.75384700000001,31.086472000000001,1274.5453600000001,{"$error":"#N/A"},{"$error":"#N/A"},{"$error":"#N/A"},{"$error":"#N/A"},{"$error":"#N/A"}]
[17,17107,"Logan County","Illinois","Logan County, Illinois",110,3,603,30305,362.97640699999999,9.8993570000000002,1989.770665,{"$error":"#N/A"},{"$error":"#N/A"},{"$error":"#N/A"},{"$error":"#N/A"},{"$error":"#N/A"}]
[20,20109,"Logan County","Kansas","Logan County, Kansas",13,1,44,2756,471.69811299999998,36.284469999999999,1596.516691,{"$error":"#N/A"},{"$error":"#N/A"},{"$error":"#N/A"},{"$error":"#N/A"},{"$error":"#N/A"}]
[31,31113,"Logan County","Nebraska","Logan County, Nebraska",0,0,13,763,0,0,1703.800786,{"$error":"#N/A"},{"$error":"#N/A"},{"$error":"#N/A"},{"$error":"#N/A"},{"$error":"#N/A"}]
[39,39091,"Logan County","Ohio","Logan County, Ohio",241,9,1295,45858,525.535348,19.625800999999999,2823.9347550000002,{"$error":"#N/A"},{"$error":"#N/A"},{"$error":"#N/A"},{"$error":"#N/A"},{"$error":"#N/A"}]
[40,40083,"Logan County","Oklahoma","Logan County, Oklahoma",140,8,451,41848,334.54406399999999,19.116803999999998,1077.709807,36420,89.7,68.27,90.56,98.34]
[13,13183,"Long County","Georgia","Long County, Georgia",62,4,181,14464,428.650442,27.654866999999999,1251.3827429999999,{"$error":"#N/A"},{"$error":"#N/A"},{"$error":"#N/A"},{"$error":"#N/A"},{"$error":"#N/A"}]
[5,5085,"Lonoke County","Arkansas","Lonoke County, Arkansas",354,12,1269,68356,517.87699699999996,17.555152,1856.4573700000001,30780,91.76,79.64,91.84,75.650000000000006]
[39,39093,"Lorain County","Ohio","Lorain County, Ohio",1742,22,7000,301356,578.05386299999998,7.3003359999999997,2322.8341230000001,17460,98.61,117.13,93.18,95.05]
[6,6037,"Los Angeles County","California","Los Angeles County, California",50153,530,128199,9818605,510.79557599999998,5.3979150000000002,1305.6742790000001,31100,152.55000000000001,145.19999999999999,121.62,141.02000000000001]
[47,47105,"Loudon County","Tennessee","Loudon County, Tennessee",348,9,1454,48556,716.69824500000004,18.535298999999998,2994.4805999999999,28940,90.6,74.459999999999994,83.62,96.59]
[51,51107,"Loudoun County","Virginia","Loudoun County, Virginia",1263,0,4055,312311,404.404584,0,1298.3852629999999,47900,102.68,116.85,81.489999999999995,113.55]
[31,31115,"Loup County","Nebraska","Loup County, Nebraska",0,0,8,632,0,0,1265.8227850000001,{"$error":"#N/A"},{"$error":"#N/A"},{"$error":"#N/A"},{"$error":"#N/A"},{"$error":"#N/A"}]
[40,40085,"Love County","Oklahoma","Love County, Oklahoma",64,0,182,9423,679.18921799999998,0,1931.444338,{"$error":"#N/A"},{"$error":"#N/A"},{"$error":"#N/A"},{"$error":"#N/A"},{"$error":"#N/A"}]
[48,48301,"Loving County","Texas","Loving County, Texas",3,0,8,82,3658.5365849999998,0,9756.0975610000005,{"$error":"#N/A"},{"$error":"#N/A"},{"$error":"#N/A"},{"$error":"#N/A"},{"$error":"#N/A"}]
[1,1085,"Lowndes County","Alabama","Lowndes County, Alabama",58,6,249,11299,513.31976299999997,53.102043999999999,2203.7348440000001,{"$error":"#N/A"},{"$error":"#N/A"},{"$error":"#N/A"},{"$error":"#N/A"},{"$error":"#N/A"}]
[13,13185,"Lowndes County","Georgia","Lowndes County, Georgia",898,17,3251,109233,822.09588699999995,15.563062,2976.2068239999999,46660,95.78,102.08,106.87,91.72]
[48,48303,"Lubbock County","Texas","Lubbock County, Texas",2532,34,6822,278831,908.07693500000005,12.193766,2446.6433069999998,31180,101.82,123.12,97.75,110.77]
[39,39095,"Lucas County","Ohio","Lucas County, Ohio",3873,23,14201,441815,876.61125100000004,5.2057989999999998,3214.2412549999999,45780,105.01,131.81,114.29,116.4]
[26,26095,"Luce County","Michigan","Luce County, Michigan",32,2,189,6631,482.58181300000001,30.161363000000001,2850.2488309999999,{"$error":"#N/A"},{"$error":"#N/A"},{"$error":"#N/A"},{"$error":"#N/A"},{"$error":"#N/A"}]
[13,13187,"Lumpkin County","Georgia","Lumpkin County, Georgia",230,11,827,29966,767.53654100000006,36.708269000000001,2759.7944339999999,{"$error":"#N/A"},{"$error":"#N/A"},{"$error":"#N/A"},{"$error":"#N/A"},{"$error":"#N/A"}]
[42,42079,"Luzerne County","Pennsylvania","Luzerne County, Pennsylvania",1339,38,2953,320918,417.24054100000001,11.841030999999999,920.17275400000005,42540,99.44,121.47,93.27,114.55]
[42,42081,"Lycoming County","Pennsylvania","Lycoming County, Pennsylvania",480,19,1165,116111,413.39752499999997,16.363651999999998,1003.350242,48700,97.09,120.85,113.98,117.91]
[51,51680,"Lynchburg city","Virginia","Lynchburg city, Virginia",379,0,1314,75568,501.53504099999998,0,1738.8312510000001,31340,104.8,130.41999999999999,104.85,132.31]
[48,48305,"Lynn County","Texas","Lynn County, Texas",24,2,73,5915,405.74809800000003,33.812342000000001,1234.1504649999999,{"$error":"#N/A"},{"$error":"#N/A"},{"$error":"#N/A"},{"$error":"#N/A"},{"$error":"#N/A"}]
[20,20111,"Lyon County","Kansas","Lyon County, Kansas",150,8,896,33690,445.235975,23.745919000000001,2659.5428910000001,{"$error":"#N/A"},{"$error":"#N/A"},{"$error":"#N/A"},{"$error":"#N/A"},{"$error":"#N/A"}]
[32,32019,"Lyon County","Nevada","Lyon County, Nevada",101,10,374,51980,194.30550199999999,19.238168999999999,719.50750300000004,{"$error":"#N/A"},{"$error":"#N/A"},{"$error":"#N/A"},{"$error":"#N/A"},{"$error":"#N/A"}]
[26,26097,"Mackinac County","Michigan",{"$f":"CONCATENATE(C1282,\", \",D1282)","v":"Mackinac County, Michigan"},60,2,479,11113,539.90821600000004,17.996941,4310.2672549999997,{"$error":"#N/A"},{"$error":"#N/A"},{"$error":"#N/A"},{"$error":"#N/A"},{"$error":"#N/A"}]
[26,26099,"Macomb County","Michigan","Macomb County, Michigan",4861,46,22410,840978,578.01749900000004,5.4698219999999997,2664.7546069999999,19820,107.83,131.47999999999999,92.09,106.26]
[1,1087,"Macon County","Alabama","Macon County, Alabama",132,5,550,21452,615.32724199999996,23.307849999999998,2563.8635089999998,{"$error":"#N/A"},{"$error":"#N/A"},{"$error":"#N/A"},{"$error":"#N/A"},{"$error":"#N/A"}]
[13,13193,"Macon County","Georgia","Macon County, Georgia",185,9,580,14740,1255.088195,61.058345000000003,3934.871099,{"$error":"#N/A"},{"$error":"#N/A"},{"$error":"#N/A"},{"$error":"#N/A"},{"$error":"#N/A"}]
[17,17115,"Macon County","Illinois","Macon County, Illinois",559,11,2510,110768,504.65838500000001,9.9306660000000004,2265.9974000000002,19500,95.56,114.15,112.75,97.28]
[29,29121,"Macon County","Missouri","Macon County, Missouri",77,3,280,15566,494.667866,19.272773999999998,1798.7922390000001,{"$error":"#N/A"},{"$error":"#N/A"},{"$error":"#N/A"},{"$error":"#N/A"},{"$error":"#N/A"}]
[37,37113,"Macon County","North Carolina","Macon County, North Carolina",202,7,564,33922,595.48375699999997,20.635576,1662.6378159999999,{"$error":"#N/A"},{"$error":"#N/A"},{"$error":"#N/A"},{"$error":"#N/A"},{"$error":"#N/A"}]
[47,47111,"Macon County","Tennessee","Macon County, Tennessee",114,3,457,22248,512.40560900000003,13.484358,2054.1172240000001,34980,90.08,45.11,73.25,47.03]
[17,17117,"Macoupin County","Illinois","Macoupin County, Illinois",145,2,793,47765,303.56955900000003,4.1871660000000004,1660.211452,41180,92.2,111.71,78.099999999999994,115.16]
[6,6039,"Madera County","California","Madera County, California",592,23,1529,150865,392.40380499999998,15.245418000000001,1013.488881,31460,96.68,110.34,104.67,69.69]
[1,1089,"Madison County","Alabama","Madison County, Alabama",2067,36,9464,334811,617.36322900000005,10.752335,2826.6693749999999,26620,97.61,98.59,103.31,114.82]
[5,5087,"Madison County","Arkansas","Madison County, Arkansas",101,9,217,15717,642.61627499999997,57.262836,1380.670611,22220,88.44,61.16,73.67,72.44]
[12,12079,"Madison County","Florida","Madison County, Florida",293,2,417,19224,1524.1364960000001,10.403662000000001,2169.1635460000002,{"$error":"#N/A"},{"$error":"#N/A"},{"$error":"#N/A"},{"$error":"#N/A"},{"$error":"#N/A"}]
[13,13195,"Madison County","Georgia","Madison County, Georgia",50,4,129,28120,177.80938800000001,14.224750999999999,458.748222,12020,89.81,53.09,73.41,61.79]
[16,16065,"Madison County","Idaho","Madison County, Idaho",145,3,457,37536,386.29582299999998,7.9923270000000004,1217.497869,{"$error":"#N/A"},{"$error":"#N/A"},{"$error":"#N/A"},{"$error":"#N/A"},{"$error":"#N/A"}]
[17,17119,"Madison County","Illinois","Madison County, Illinois",1331,20,5461,269282,494.27737500000001,7.4271580000000004,2027.9855319999999,41180,96.83,119.34,103.17,114.28]
[18,18095,"Madison County","Indiana","Madison County, Indiana",97,1,719,131636,73.688049000000007,0.75967099999999999,546.20316600000001,11300,96.4,113.83,107.92,112.32]
[19,19121,"Madison County","Iowa","Madison County, Iowa",75,1,216,15679,478.346833,6.3779579999999996,1377.63888,19780,90.62,124.56,70.25,103.16]
[28,28089,"Madison County","Mississippi","Madison County, Mississippi","#NULL!","#NULL!","#NULL!",95203,"#NULL!","#NULL!","#NULL!",27140,96.21,91.29,91.18,87.79]
[29,29123,"Madison County","Missouri","Madison County, Missouri",62,3,151,12226,507.11598199999997,24.537870000000002,1235.0727959999999,{"$error":"#N/A"},{"$error":"#N/A"},{"$error":"#N/A"},{"$error":"#N/A"},{"$error":"#N/A"}]
[31,31119,"Madison County","Nebraska","Madison County, Nebraska",136,5,628,34876,389.95297599999998,14.336506,1800.6652140000001,{"$error":"#N/A"},{"$error":"#N/A"},{"$error":"#N/A"},{"$error":"#N/A"},{"$error":"#N/A"}]
[36,36053,"Madison County","New York","Madison County, New York",350,6,2508,73442,476.56654200000003,8.1697120000000005,3414.93968,45060,94.67,96.7,85.84,57.89]
[37,37115,"Madison County","North Carolina","Madison County, North Carolina",88,2,258,20764,423.81044100000003,9.6320549999999994,1242.535157,11700,89.4,44.18,77.930000000000007,90.45]
[39,39097,"Madison County","Ohio","Madison County, Ohio",237,6,898,43435,545.64291500000002,13.813745000000001,2067.45712,18140,92.38,85.12,84.52,84.97]
[47,47113,"Madison County","Tennessee","Madison County, Tennessee",865,22,3663,98294,880.01302199999998,22.381834000000001,3726.5753759999998,27180,95.08,104.99,108.51,91.26]
[48,48313,"Madison County","Texas","Madison County, Texas",68,7,213,13664,497.65807999999998,51.229508000000003,1558.840749,{"$error":"#N/A"},{"$error":"#N/A"},{"$error":"#N/A"},{"$error":"#N/A"},{"$error":"#N/A"}]
[39,39099,"Mahoning County","Ohio","Mahoning County, Ohio",1654,25,5989,238823,692.56311200000005,10.468004000000001,2507.714919,49660,98.98,121.53,107.96,102.09]
[40,40093,"Major County","Oklahoma","Major County, Oklahoma",255,0,699,7527,3387.8039060000001,0,9286.5683540000009,{"$error":"#N/A"},{"$error":"#N/A"},{"$error":"#N/A"},{"$error":"#N/A"},{"$error":"#N/A"}]
[41,41045,"Malheur County","Oregon","Malheur County, Oregon",200,3,433,31313,638.712356,9.5806850000000008,1382.8122510000001,{"$error":"#N/A"},{"$error":"#N/A"},{"$error":"#N/A"},{"$error":"#N/A"},{"$error":"#N/A"}]
[51,51683,"Manassas city","Virginia","Manassas city, Virginia",305,0,595,37821,806.43029000000001,0,1573.2000740000001,47900,115.54,140.36000000000001,76.569999999999993,150.36000000000001]
[51,51685,"Manassas Park city","Virginia","Manassas Park city, Virginia",20,0,74,14273,140.12471099999999,0,518.46143099999995,47900,129.66,128.88,82.19,133.5]
[12,12081,"Manatee County","Florida","Manatee County, Florida",3153,44,5027,322833,976.66595400000006,13.629338000000001,1557.15184,35840,102.17,114.33,112.33,129.01]
[26,26101,"Manistee County","Michigan","Manistee County, Michigan",121,3,924,24733,489.22492199999999,12.129543999999999,3735.899406,{"$error":"#N/A"},{"$error":"#N/A"},{"$error":"#N/A"},{"$error":"#N/A"},{"$error":"#N/A"}]
[55,55071,"Manitowoc County","Wisconsin","Manitowoc County, Wisconsin",414,6,1622,81442,508.337222,7.3672060000000004,1991.6013849999999,{"$error":"#N/A"},{"$error":"#N/A"},{"$error":"#N/A"},{"$error":"#N/A"},{"$error":"#N/A"}]
[55,55073,"Marathon County","Wisconsin","Marathon County, Wisconsin",675,15,3060,134063,503.49462599999998,11.188769000000001,2282.5089699999999,48140,94.14,102.58,121.29,83.21]
[1,1091,"Marengo County","Alabama","Marengo County, Alabama",107,8,287,21027,508.86954900000001,38.046320999999999,1364.9117799999999,{"$error":"#N/A"},{"$error":"#N/A"},{"$error":"#N/A"},{"$error":"#N/A"},{"$error":"#N/A"}]
[4,4013,"Maricopa County","Arizona","Maricopa County, Arizona",22772,309,72454,3817117,596.57589700000005,8.0951149999999998,1898.1341150000001,38060,110.5,118.07,118.48,118.04]
[29,29125,"Maries County","Missouri","Maries County, Missouri",42,1,138,9176,457.71578,10.897995,1503.923278,{"$error":"#N/A"},{"$error":"#N/A"},{"$error":"#N/A"},{"$error":"#N/A"},{"$error":"#N/A"}]
[6,6041,"Marin County","California","Marin County, California",976,2,2761,252409,386.67400900000001,0.79236499999999999,1093.859569,41860,109.25,141.52000000000001,96.85,111.15]
[55,55075,"Marinette County","Wisconsin","Marinette County, Wisconsin",230,14,825,41749,550.91139899999996,33.533737000000002,1976.0952360000001,{"$error":"#N/A"},{"$error":"#N/A"},{"$error":"#N/A"},{"$error":"#N/A"},{"$error":"#N/A"}]
[1,1093,"Marion County","Alabama","Marion County, Alabama",176,4,504,30776,571.874188,12.997140999999999,1637.639719,{"$error":"#N/A"},{"$error":"#N/A"},{"$error":"#N/A"},{"$error":"#N/A"},{"$error":"#N/A"}]
[12,12083,"Marion County","Florida","Marion County, Florida",3428,73,4812,331298,1034.7179880000001,22.034542999999999,1452.4687739999999,36100,93.51,83.3,140.38,98.85]
[13,13197,"Marion County","Georgia","Marion County, Georgia",73,7,178,8742,835.04918799999996,80.073210000000003,2036.1473350000001,{"$error":"#N/A"},{"$error":"#N/A"},{"$error":"#N/A"},{"$error":"#N/A"},{"$error":"#N/A"}]
[17,17121,"Marion County","Illinois","Marion County, Illinois",173,3,873,39437,438.67434100000003,7.6070700000000002,2213.6572249999999,{"$error":"#N/A"},{"$error":"#N/A"},{"$error":"#N/A"},{"$error":"#N/A"},{"$error":"#N/A"}]
[18,18097,"Marion County","Indiana","Marion County, Indiana",479,4,5096,903393,53.022328000000002,0.44277499999999997,564.09558200000004,26900,108.62,123.19,125.02,127.04]
[20,20115,"Marion County","Kansas","Marion County, Kansas",49,2,318,12660,387.04581400000001,15.797788000000001,2511.8483409999999,{"$error":"#N/A"},{"$error":"#N/A"},{"$error":"#N/A"},{"$error":"#N/A"},{"$error":"#N/A"}]
[29,29127,"Marion County","Missouri","Marion County, Missouri",152,3,762,28781,528.12619400000005,10.423543,2647.5800009999998,{"$error":"#N/A"},{"$error":"#N/A"},{"$error":"#N/A"},{"$error":"#N/A"},{"$error":"#N/A"}]
[39,39101,"Marion County","Ohio","Marion County, Ohio",415,6,1668,66501,624.05076599999995,9.0224209999999996,2508.2329589999999,{"$error":"#N/A"},{"$error":"#N/A"},{"$error":"#N/A"},{"$error":"#N/A"},{"$error":"#N/A"}]
[41,41047,"Marion County","Oregon","Marion County, Oregon",1728,24,4008,315335,547.98864700000001,7.6109530000000003,1271.029223,41420,101.62,130.36000000000001,123.77,101.1]
[45,45067,"Marion County","South Carolina","Marion County, South Carolina",265,7,630,33062,801.52440899999999,21.172343000000001,1905.5108580000001,{"$error":"#N/A"},{"$error":"#N/A"},{"$error":"#N/A"},{"$error":"#N/A"},{"$error":"#N/A"}]
[47,47115,"Marion County","Tennessee","Marion County, Tennessee",203,11,682,28237,718.91489899999999,38.955979999999997,2415.2707439999999,16860,89.77,69.94,73.16,87.72]
[48,48315,"Marion County","Texas","Marion County, Texas",47,2,144,10546,445.66660300000001,18.964535999999999,1365.4466150000001,{"$error":"#N/A"},{"$error":"#N/A"},{"$error":"#N/A"},{"$error":"#N/A"},{"$error":"#N/A"}]
[6,6043,"Mariposa County","California","Mariposa County, California",90,4,239,18251,493.12366400000002,21.916606999999999,1309.5172869999999,{"$error":"#N/A"},{"$error":"#N/A"},{"$error":"#N/A"},{"$error":"#N/A"},{"$error":"#N/A"}]
[45,45069,"Marlboro County","South Carolina","Marlboro County, South Carolina",210,4,461,28933,725.81481399999996,13.825044,1593.336329,{"$error":"#N/A"},{"$error":"#N/A"},{"$error":"#N/A"},{"$error":"#N/A"},{"$error":"#N/A"}]
[26,26103,"Marquette County","Michigan","Marquette County, Michigan",339,6,1966,67077,505.38932899999998,8.9449439999999996,2930.959942,{"$error":"#N/A"},{"$error":"#N/A"},{"$error":"#N/A"},{"$error":"#N/A"},{"$error":"#N/A"}]
[55,55077,"Marquette County","Wisconsin","Marquette County, Wisconsin",65,3,343,15404,421.96832000000001,19.475460999999999,2226.6943649999998,{"$error":"#N/A"},{"$error":"#N/A"},{"$error":"#N/A"},{"$error":"#N/A"},{"$error":"#N/A"}]
[1,1095,"Marshall County","Alabama","Marshall County, Alabama",489,16,2131,93019,525.69905100000005,17.200786999999998,2290.9298100000001,{"$error":"#N/A"},{"$error":"#N/A"},{"$error":"#N/A"},{"$error":"#N/A"},{"$error":"#N/A"}]
[17,17123,"Marshall County","Illinois","Marshall County, Illinois",47,3,237,12640,371.835443,23.734176999999999,1875,37900,89.56,95.57,68.03,113.51]
[20,20117,"Marshall County","Kansas","Marshall County, Kansas",35,1,267,10117,345.95235700000001,9.8843530000000008,2639.122269,{"$error":"#N/A"},{"$error":"#N/A"},{"$error":"#N/A"},{"$error":"#N/A"},{"$error":"#N/A"}]
[28,28093,"Marshall County","Mississippi","Marshall County, Mississippi","#NULL!","#NULL!","#NULL!",37144,"#NULL!","#NULL!","#NULL!",32820,89.58,45.7,77.069999999999993,80.95]
[40,40095,"Marshall County","Oklahoma","Marshall County, Oklahoma",221,13,603,15840,1395.2020199999999,82.070706999999999,3806.818182,{"$error":"#N/A"},{"$error":"#N/A"},{"$error":"#N/A"},{"$error":"#N/A"},{"$error":"#N/A"}]
[47,47117,"Marshall County","Tennessee","Marshall County, Tennessee",170,6,634,30617,555.24708499999997,19.596955999999999,2070.745011,{"$error":"#N/A"},{"$error":"#N/A"},{"$error":"#N/A"},{"$error":"#N/A"},{"$error":"#N/A"}]
[54,54051,"Marshall County","West Virginia","Marshall County, West Virginia",201,3,813,33107,607.12236099999996,9.0615279999999991,2455.674027,48540,92.36,89.16,137.78,120.37]
[12,12085,"Martin County","Florida","Martin County, Florida",1210,27,1891,146318,826.96592399999997,18.452959,1292.390547,38940,98.62,110.16,106.69,113.84]
[37,37117,"Martin County","North Carolina",{"$f":"CONCATENATE(C1346,\", \",D1346)","v":"Martin County, North Carolina"},165,6,580,24505,673.33197299999995,24.484798999999999,2366.8639050000002,{"$error":"#N/A"},{"$error":"#N/A"},{"$error":"#N/A"},{"$error":"#N/A"},{"$error":"#N/A"}]
[48,48317,"Martin County","Texas","Martin County, Texas",57,5,140,4799,1187.747447,104.188373,2917.2744320000002,{"$error":"#N/A"},{"$error":"#N/A"},{"$error":"#N/A"},{"$error":"#N/A"},{"$error":"#N/A"}]
[17,17125,"Mason County","Illinois","Mason County, Illinois",44,3,245,14666,300.01363700000002,20.455475,1670.530479,{"$error":"#N/A"},{"$error":"#N/A"},{"$error":"#N/A"},{"$error":"#N/A"},{"$error":"#N/A"}]
[26,26105,"Mason County","Michigan","Mason County, Michigan",151,7,1244,28705,526.04075899999998,24.385995000000001,4333.739767,{"$error":"#N/A"},{"$error":"#N/A"},{"$error":"#N/A"},{"$error":"#N/A"},{"$error":"#N/A"}]
[48,48319,"Mason County","Texas","Mason County, Texas",13,1,37,4012,324.027916,24.925224,922.23329999999999,{"$error":"#N/A"},{"$error":"#N/A"},{"$error":"#N/A"},{"$error":"#N/A"},{"$error":"#N/A"}]
[53,53045,"Mason County","Washington","Mason County, Washington",265,7,765,60699,436.58050400000002,11.532315000000001,1260.317303,{"$error":"#N/A"},{"$error":"#N/A"},{"$error":"#N/A"},{"$error":"#N/A"},{"$error":"#N/A"}]
[17,17127,"Massac County","Illinois","Massac County, Illinois",86,4,417,15429,557.39192400000002,25.925205999999999,2702.7027029999999,{"$error":"#N/A"},{"$error":"#N/A"},{"$error":"#N/A"},{"$error":"#N/A"},{"$error":"#N/A"}]
[48,48321,"Matagorda County","Texas","Matagorda County, Texas",182,6,499,36702,495.885783,16.347882999999999,1359.5989320000001,{"$error":"#N/A"},{"$error":"#N/A"},{"$error":"#N/A"},{"$error":"#N/A"},{"$error":"#N/A"}]
[2,2170,"Matanuska-Susitna Borough","Alaska","Matanuska-Susitna Borough, Alaska",466,10,1511,88995,523.62492299999997,11.236586000000001,1697.8481939999999,{"$error":"#N/A"},{"$error":"#N/A"},{"$error":"#N/A"},{"$error":"#N/A"},{"$error":"#N/A"}]
[51,51115,"Mathews County","Virginia","Mathews County, Virginia",45,0,87,8978,501.22521699999999,0,969.03542000000004,47260,92.2,52.08,72.319999999999993,78.22]
[47,47119,"Maury County","Tennessee","Maury County, Tennessee",622,15,2833,80956,768.31859299999996,18.528583000000001,3499.4317900000001,{"$error":"#N/A"},{"$error":"#N/A"},{"$error":"#N/A"},{"$error":"#N/A"},{"$error":"#N/A"}]
[48,48323,"Maverick County","Texas","Maverick County, Texas",220,3,801,54258,405.47016100000002,5.5291389999999998,1476.279996,{"$error":"#N/A"},{"$error":"#N/A"},{"$error":"#N/A"},{"$error":"#N/A"},{"$error":"#N/A"}]
[40,40097,"Mayes County","Oklahoma","Mayes County, Oklahoma",128,0,311,41259,310.235343,0,753.77493400000003,{"$error":"#N/A"},{"$error":"#N/A"},{"$error":"#N/A"},{"$error":"#N/A"},{"$error":"#N/A"}]
[40,40087,"McClain County","Oklahoma","McClain County, Oklahoma",0,0,80,34506,0,0,231.843737,36420,89.63,80.94,81.73,88.92]
[45,45065,"McCormick County","South Carolina","McCormick County, South Carolina",48,2,124,10233,469.07065399999999,19.544611,1211.765856,{"$error":"#N/A"},{"$error":"#N/A"},{"$error":"#N/A"},{"$error":"#N/A"},{"$error":"#N/A"}]
[48,48307,"McCulloch County","Texas","McCulloch County, Texas",43,1,130,8283,519.13557900000001,12.07292,1569.4796570000001,{"$error":"#N/A"},{"$error":"#N/A"},{"$error":"#N/A"},{"$error":"#N/A"},{"$error":"#N/A"}]
[40,40089,"McCurtain County","Oklahoma","McCurtain County, Oklahoma",0,5,121,33151,0,15.082501000000001,364.996531,{"$error":"#N/A"},{"$error":"#N/A"},{"$error":"#N/A"},{"$error":"#N/A"},{"$error":"#N/A"}]
[29,29119,"McDonald County","Missouri","McDonald County, Missouri",136,1,353,23083,589.17818299999999,4.3321930000000002,1529.26396,{"$error":"#N/A"},{"$error":"#N/A"},{"$error":"#N/A"},{"$error":"#N/A"},{"$error":"#N/A"}]
[17,17109,"McDonough County","Illinois","McDonough County, Illinois",97,2,596,32612,297.43652600000001,6.1327119999999997,1827.5481420000001,{"$error":"#N/A"},{"$error":"#N/A"},{"$error":"#N/A"},{"$error":"#N/A"},{"$error":"#N/A"}]
[37,37111,"McDowell County","North Carolina","McDowell County, North Carolina",366,11,1061,44996,813.40563599999996,24.446617,2357.9873769999999,{"$error":"#N/A"},{"$error":"#N/A"},{"$error":"#N/A"},{"$error":"#N/A"},{"$error":"#N/A"}]
[13,13189,"McDuffie County","Georgia","McDuffie County, Georgia",216,3,600,21875,987.42857100000003,13.714286,2742.8571430000002,12260,89.94,68.849999999999994,78.489999999999995,72.180000000000007]
[17,17111,"McHenry County","Illinois","McHenry County, Illinois",1193,14,4783,308760,386.38424700000002,4.5342659999999997,1549.0996239999999,16980,98.53,105.24,83.23,95.57]
[13,13191,"McIntosh County","Georgia","McIntosh County, Georgia",47,3,101,14333,327.914603,20.930719,704.66755000000001,{"$error":"#N/A"},{"$error":"#N/A"},{"$error":"#N/A"},{"$error":"#N/A"},{"$error":"#N/A"}]
[40,40091,"McIntosh County","Oklahoma","McIntosh County, Oklahoma",244,17,578,20252,1204.8192770000001,83.942327000000006,2854.0391070000001,{"$error":"#N/A"},{"$error":"#N/A"},{"$error":"#N/A"},{"$error":"#N/A"},{"$error":"#N/A"}]
[42,42083,"McKean County","Pennsylvania","McKean County, Pennsylvania",118,10,311,43450,271.576525,23.014959999999999,715.76524700000004,{"$error":"#N/A"},{"$error":"#N/A"},{"$error":"#N/A"},{"$error":"#N/A"},{"$error":"#N/A"}]
[17,17113,"McLean County","Illinois","McLean County, Illinois",723,9,3252,169572,426.36756100000002,5.30748,1917.7694429999999,14060,104.94,120.63,110.85,102.41]
[48,48309,"McLennan County","Texas","McLennan County, Texas",1751,43,5074,234906,745.40454499999998,18.305194,2160.012941,47380,96.64,112.13,100.28,109.99]
[47,47107,"McMinn County","Tennessee","McMinn County, Tennessee",377,11,1567,52266,721.31022099999996,21.046187,2998.1249760000001,{"$error":"#N/A"},{"$error":"#N/A"},{"$error":"#N/A"},{"$error":"#N/A"},{"$error":"#N/A"}]
[48,48311,"McMullen County","Texas","McMullen County, Texas",30,2,90,707,4243.2814710000002,282.88543099999998,12729.844413000001,{"$error":"#N/A"},{"$error":"#N/A"},{"$error":"#N/A"},{"$error":"#N/A"},{"$error":"#N/A"}]
[47,47109,"McNairy County","Tennessee","McNairy County, Tennessee",168,5,588,26075,644.29530199999999,19.175454999999999,2255.0335570000002,{"$error":"#N/A"},{"$error":"#N/A"},{"$error":"#N/A"},{"$error":"#N/A"},{"$error":"#N/A"}]
[20,20113,"McPherson County","Kansas","McPherson County, Kansas",122,8,573,29180,418.094585,27.416038,1963.673749,{"$error":"#N/A"},{"$error":"#N/A"},{"$error":"#N/A"},{"$error":"#N/A"},{"$error":"#N/A"}]
[31,31117,"McPherson County","Nebraska","McPherson County, Nebraska",1,0,5,539,185.52875700000001,0,927.64378499999998,{"$error":"#N/A"},{"$error":"#N/A"},{"$error":"#N/A"},{"$error":"#N/A"},{"$error":"#N/A"}]
[20,20119,"Meade County","Kansas","Meade County, Kansas",22,1,76,4575,480.87431700000002,21.857923,1661.202186,{"$error":"#N/A"},{"$error":"#N/A"},{"$error":"#N/A"},{"$error":"#N/A"},{"$error":"#N/A"}]
[21,21163,"Meade County","Kentucky","Meade County, Kentucky",138,4,490,28602,482.48374200000001,13.985035999999999,1713.166911,31140,93.39,46.63,84.9,78.41]
[46,46093,"Meade County","South Dakota","Meade County, South Dakota",117,4,463,25434,460.01415400000002,15.726979999999999,1820.3978930000001,39660,89.23,75.069999999999993,81.400000000000006,103.16]
[37,37119,"Mecklenburg County","North Carolina","Mecklenburg County, North Carolina",8494,65,23621,919628,923.63433899999995,7.0680750000000003,2568.538583,16740,105.91,115.35,135.51,101.84]
[26,26107,"Mecosta County","Michigan","Mecosta County, Michigan",251,5,1930,42798,586.47600399999999,11.682789,4509.5565210000004,{"$error":"#N/A"},{"$error":"#N/A"},{"$error":"#N/A"},{"$error":"#N/A"},{"$error":"#N/A"}]
[39,39103,"Medina County","Ohio","Medina County, Ohio",882,14,3707,172332,511.80279899999999,8.1238539999999997,2151.080473,17460,96.03,105.54,93.2,57.23]
[48,48325,"Medina County","Texas","Medina County, Texas",181,7,650,46006,393.42694399999999,15.215407000000001,1412.8591919999999,41700,88.53,55.51,85.3,81.66]
[39,39105,"Meigs County","Ohio","Meigs County, Ohio",139,4,426,23770,584.77071899999999,16.827933999999999,1792.175011,{"$error":"#N/A"},{"$error":"#N/A"},{"$error":"#N/A"},{"$error":"#N/A"},{"$error":"#N/A"}]
[47,47121,"Meigs County","Tennessee","Meigs County, Tennessee",70,1,158,11753,595.59261500000002,8.5084660000000003,1344.337616,{"$error":"#N/A"},{"$error":"#N/A"},{"$error":"#N/A"},{"$error":"#N/A"},{"$error":"#N/A"}]
[17,17129,"Menard County","Illinois","Menard County, Illinois",18,0,153,12705,141.67650499999999,0,1204.2502950000001,44100,88.81,90.2,83.8,84.09]
[48,48327,"Menard County","Texas","Menard County, Texas",4,3,18,2242,178.41213200000001,133.809099,802.85459400000002,{"$error":"#N/A"},{"$error":"#N/A"},{"$error":"#N/A"},{"$error":"#N/A"},{"$error":"#N/A"}]
[6,6045,"Mendocino County","California","Mendocino County, California",413,19,1124,87841,470.167689,21.629991,1279.5847040000001,{"$error":"#N/A"},{"$error":"#N/A"},{"$error":"#N/A"},{"$error":"#N/A"},{"$error":"#N/A"}]
[26,26109,"Menominee County","Michigan","Menominee County, Michigan",149,1,930,24029,620.08406500000001,4.1616379999999999,3870.323359,{"$error":"#N/A"},{"$error":"#N/A"},{"$error":"#N/A"},{"$error":"#N/A"},{"$error":"#N/A"}]
[55,55078,"Menominee County","Wisconsin","Menominee County, Wisconsin",1,1,27,4232,23.629490000000001,23.629490000000001,637.996219,{"$error":"#N/A"},{"$error":"#N/A"},{"$error":"#N/A"},{"$error":"#N/A"},{"$error":"#N/A"}]
[6,6047,"Merced County","California","Merced County, California",1146,30,3402,255793,448.01851499999998,11.728232999999999,1329.981665,32900,100.54,122.04,112.8,85.94]
[17,17131,"Mercer County","Illinois","Mercer County, Illinois",48,6,223,16434,292.07740100000001,36.509675000000001,1356.9429230000001,19340,88.81,97.3,71.150000000000006,95.19]
[29,29129,"Mercer County","Missouri","Mercer County, Missouri",22,4,48,3785,581.24174400000004,105.680317,1268.163804,{"$error":"#N/A"},{"$error":"#N/A"},{"$error":"#N/A"},{"$error":"#N/A"},{"$error":"#N/A"}]
[34,34021,"Mercer County","New Jersey","Mercer County, New Jersey",2823,21,14067,366513,770.23188800000003,5.7296740000000002,3838.0630430000001,45940,114.81,128.87,109.53,119.34]
[39,39107,"Mercer County","Ohio","Mercer County, Ohio",201,5,784,40814,492.478071,12.250698,1920.909492,{"$error":"#N/A"},{"$error":"#N/A"},{"$error":"#N/A"},{"$error":"#N/A"},{"$error":"#N/A"}]
[42,42085,"Mercer County","Pennsylvania","Mercer County, Pennsylvania",562,19,1189,116638,481.83267899999998,16.289717,1019.393337,49660,95.34,106.25,83.44,87.04]
[13,13199,"Meriwether County","Georgia","Meriwether County, Georgia",151,6,390,21992,686.61331399999995,27.282647999999998,1773.3721350000001,12060,89.17,52.92,79.400000000000006,65.55]
[31,31121,"Merrick County","Nebraska","Merrick County, Nebraska",18,1,125,7845,229.44550699999999,12.746973000000001,1593.371574,{"$error":"#N/A"},{"$error":"#N/A"},{"$error":"#N/A"},{"$error":"#N/A"},{"$error":"#N/A"}]
[8,8077,"Mesa County","Colorado","Mesa County, Colorado",294,17,2392,146723,200.37758199999999,11.586459,1630.2829139999999,24300,101.69,113.73,124.35,107.33]
[20,20121,"Miami County","Kansas","Miami County, Kansas",99,10,546,32787,301.94894299999999,30.499893,1665.294171,28140,89.17,87.98,79.03,102.93]
[39,39109,"Miami County","Ohio","Miami County, Ohio",493,8,2543,102506,480.94745699999999,7.8044209999999996,2480.8303900000001,19380,92.97,103.49,85.25,95.62]
[12,12086,"Miami-Dade County","Florida","Miami-Dade County, Florida",29065,246,53909,2496435,1164.260235,9.8540519999999994,2159.4393610000002,33100,137.38,132.85,131.33000000000001,156.47999999999999]
[9,9007,"Middlesex County","Connecticut","Middlesex County, Connecticut",1281,16,4712,165676,773.195876,9.6574039999999997,2844.1053619999998,25540,95.74,116.02,98.9,81.98]
[25,25017,"Middlesex County","Massachusetts","Middlesex County, Massachusetts",6583,46,26541,1503085,437.96591699999999,3.0603729999999998,1765.768403,14460,"NA",38.770000000000003,"NA",122.51]
[34,34023,"Middlesex County","New Jersey","Middlesex County, New Jersey",6131,55,29300,809858,757.04629699999998,6.7913139999999999,3617.9182030000002,35620,118.29,135.37,114.47,132.03]
[26,26111,"Midland County","Michigan","Midland County, Michigan",459,10,2661,83629,548.85267099999999,11.957575,3181.9105810000001,{"$error":"#N/A"},{"$error":"#N/A"},{"$error":"#N/A"},{"$error":"#N/A"},{"$error":"#N/A"}]
[48,48329,"Midland County","Texas","Midland County, Texas",982,22,3689,136872,717.45864700000004,16.073412000000001,2695.218891,33260,103.45,123.85,110.9,119.62]
[42,42087,"Mifflin County","Pennsylvania","Mifflin County, Pennsylvania",119,7,322,46682,254.91624200000001,14.995073,689.77336000000003,{"$error":"#N/A"},{"$error":"#N/A"},{"$error":"#N/A"},{"$error":"#N/A"},{"$error":"#N/A"}]
[48,48331,"Milam County","Texas",{"$f":"CONCATENATE(C1410,\", \",D1410)","v":"Milam County, Texas"},145,6,482,24757,585.69293500000003,24.235569999999999,1946.9241019999999,{"$error":"#N/A"},{"$error":"#N/A"},{"$error":"#N/A"},{"$error":"#N/A"},{"$error":"#N/A"}]
[49,49027,"Millard County","Utah","Millard County, Utah",123,6,401,12503,983.76389700000004,47.988483000000002,3207.2302650000001,{"$error":"#N/A"},{"$error":"#N/A"},{"$error":"#N/A"},{"$error":"#N/A"},{"$error":"#N/A"}]
[5,5091,"Miller County","Arkansas","Miller County, Arkansas",312,10,1050,43462,717.86848299999997,23.008604999999999,2415.9035479999998,45500,97.29,106.83,82.03,115.58]
[13,13201,"Miller County","Georgia","Miller County, Georgia",25,4,90,6125,408.16326500000002,65.306122000000002,1469.387755,{"$error":"#N/A"},{"$error":"#N/A"},{"$error":"#N/A"},{"$error":"#N/A"},{"$error":"#N/A"}]
[29,29131,"Miller County","Missouri","Miller County, Missouri",140,10,504,24748,565.70227899999998,40.407305999999998,2036.528204,{"$error":"#N/A"},{"$error":"#N/A"},{"$error":"#N/A"},{"$error":"#N/A"},{"$error":"#N/A"}]
[19,19129,"Mills County","Iowa","Mills County, Iowa",92,5,322,15059,610.930341,33.202736000000002,2138.2561919999998,36540,89.93,84.78,77.08,92.04]
[48,48333,"Mills County","Texas","Mills County, Texas",33,1,80,4936,668.55753600000003,20.259319000000001,1620.745543,{"$error":"#N/A"},{"$error":"#N/A"},{"$error":"#N/A"},{"$error":"#N/A"},{"$error":"#N/A"}]
[55,55079,"Milwaukee County","Wisconsin","Milwaukee County, Wisconsin",6079,45,19849,947735,641.42402700000002,4.7481629999999999,2094.361821,33340,128.75,139.35,178.96,155.69]
[32,32021,"Mineral County","Nevada","Mineral County, Nevada",24,1,61,4772,502.93378000000001,20.955573999999999,1278.290025,{"$error":"#N/A"},{"$error":"#N/A"},{"$error":"#N/A"},{"$error":"#N/A"},{"$error":"#N/A"}]
[54,54057,"Mineral County","West Virginia","Mineral County, West Virginia",229,7,586,28212,811.71132899999998,24.812137,2077.1302989999999,19060,90.81,75.55,159.66999999999999,111.67]
[16,16067,"Minidoka County","Idaho","Minidoka County, Idaho",86,4,224,20069,428.52159999999998,19.931236999999999,1116.149285,{"$error":"#N/A"},{"$error":"#N/A"},{"$error":"#N/A"},{"$error":"#N/A"},{"$error":"#N/A"}]
[46,46099,"Minnehaha County","South Dakota","Minnehaha County, South Dakota",1189,10,3719,169468,701.60738300000003,5.9008190000000003,2194.5145990000001,43620,102.86,120.06,105.9,107.25]
[26,26113,"Missaukee County","Michigan","Missaukee County, Michigan",46,0,604,14849,309.78517099999999,0,4067.613981,{"$error":"#N/A"},{"$error":"#N/A"},{"$error":"#N/A"},{"$error":"#N/A"},{"$error":"#N/A"}]
[29,29133,"Mississippi County","Missouri","Mississippi County, Missouri",37,2,164,14358,257.69605799999999,13.929517000000001,1142.2203649999999,{"$error":"#N/A"},{"$error":"#N/A"},{"$error":"#N/A"},{"$error":"#N/A"},{"$error":"#N/A"}]
[30,30063,"Missoula County","Montana","Missoula County, Montana",562,15,2255,109299,514.18585700000006,13.723822,2063.1478790000001,33540,98.92,119.3,111.04,110.74]
[13,13205,"Mitchell County","Georgia","Mitchell County, Georgia",169,4,482,23498,719.21014600000001,17.022725000000001,2051.2384029999998,{"$error":"#N/A"},{"$error":"#N/A"},{"$error":"#N/A"},{"$error":"#N/A"},{"$error":"#N/A"}]
[20,20123,"Mitchell County","Kansas","Mitchell County, Kansas",23,1,227,6373,360.897536,15.691197000000001,3561.901773,{"$error":"#N/A"},{"$error":"#N/A"},{"$error":"#N/A"},{"$error":"#N/A"},{"$error":"#N/A"}]
[37,37121,"Mitchell County","North Carolina","Mitchell County, North Carolina",80,1,244,15579,513.51177900000005,6.4188970000000003,1566.2109250000001,{"$error":"#N/A"},{"$error":"#N/A"},{"$error":"#N/A"},{"$error":"#N/A"},{"$error":"#N/A"}]
[48,48335,"Mitchell County","Texas","Mitchell County, Texas",31,1,131,9403,329.68201599999998,10.634904000000001,1393.1723919999999,{"$error":"#N/A"},{"$error":"#N/A"},{"$error":"#N/A"},{"$error":"#N/A"},{"$error":"#N/A"}]
[1,1097,"Mobile County","Alabama","Mobile County, Alabama",2548,61,12707,412992,616.96110299999998,14.770262000000001,3076.815047,33660,99.06,108.17,93.94,113.78]
[6,6049,"Modoc County","California","Modoc County, California",49,1,133,9686,505.88478199999997,10.324179000000001,1373.1158370000001,{"$error":"#N/A"},{"$error":"#N/A"},{"$error":"#N/A"},{"$error":"#N/A"},{"$error":"#N/A"}]
[4,4015,"Mohave County","Arizona","Mohave County, Arizona",1005,37,2992,200186,502.03310900000002,18.482811000000002,1494.610013,29420,96.2,90.76,97.35,95.37]
[29,29135,"Moniteau County","Missouri","Moniteau County, Missouri",50,1,253,15607,320.36906499999998,6.407381,1621.06747,27620,90.4,117.93,68.41,89.59]
[34,34025,"Monmouth County","New Jersey","Monmouth County, New Jersey",4336,35,20733,630380,687.83908099999996,5.5522070000000001,3288.9685589999999,35620,105.74,133.26,84.28,121.16]
[6,6051,"Mono County","California","Mono County, California",84,5,276,14202,591.46599100000003,35.206308999999997,1943.3882550000001,{"$error":"#N/A"},{"$error":"#N/A"},{"$error":"#N/A"},{"$error":"#N/A"},{"$error":"#N/A"}]
[54,54061,"Monongalia County","West Virginia","Monongalia County, West Virginia",813,11,3023,96189,845.21099100000004,11.435819,3142.7710029999998,34060,98.42,117.16,120.1,115.01]
[1,1099,"Monroe County","Alabama","Monroe County, Alabama",79,3,184,23068,342.46575300000001,13.005029,797.64175499999999,{"$error":"#N/A"},{"$error":"#N/A"},{"$error":"#N/A"},{"$error":"#N/A"},{"$error":"#N/A"}]
[12,12087,"Monroe County","Florida","Monroe County, Florida",1103,21,1599,73090,1509.0983719999999,28.731701000000001,2187.7137779999998,{"$error":"#N/A"},{"$error":"#N/A"},{"$error":"#N/A"},{"$error":"#N/A"},{"$error":"#N/A"}]
[13,13207,"Monroe County","Georgia","Monroe County, Georgia",194,10,827,26424,734.18104800000003,37.844383999999998,3129.730548,31420,89.72,49.47,77.430000000000007,66.44]
[17,17133,"Monroe County","Illinois","Monroe County, Illinois",151,9,633,32957,458.17277100000001,27.308311,1920.684528,41180,89.84,90.63,77.62,91.7]
[18,18105,"Monroe County","Indiana","Monroe County, Indiana",99,1,1028,137974,71.752649000000005,0.72477400000000003,745.06791099999998,14020,104.36,112.59,163.85,98.52]
[26,26115,"Monroe County","Michigan","Monroe County, Michigan",712,24,3743,152021,468.35634599999997,15.787293,2462.1598330000002,33780,92.58,95.56,109.24,75.47]
[29,29137,"Monroe County","Missouri","Monroe County, Missouri",32,4,105,8840,361.99095,45.248868999999999,1187.7828050000001,{"$error":"#N/A"},{"$error":"#N/A"},{"$error":"#N/A"},{"$error":"#N/A"},{"$error":"#N/A"}]
[36,36055,"Monroe County","New York","Monroe County, New York",4956,43,27500,744344,665.82117900000003,5.7768990000000002,3694.5283359999999,40380,106.45,123.67,121.06,93.28]
[39,39111,"Monroe County","Ohio","Monroe County, Ohio",82,0,273,14642,560.032782,0,1864.4993850000001,{"$error":"#N/A"},{"$error":"#N/A"},{"$error":"#N/A"},{"$error":"#N/A"},{"$error":"#N/A"}]
[42,42089,"Monroe County","Pennsylvania","Monroe County, Pennsylvania",812,32,2035,169842,478.09140300000001,18.84104,1198.172419,{"$error":"#N/A"},{"$error":"#N/A"},{"$error":"#N/A"},{"$error":"#N/A"},{"$error":"#N/A"}]
[47,47123,"Monroe County","Tennessee","Monroe County, Tennessee",294,6,851,44519,660.39219200000002,13.477392,1911.5433860000001,{"$error":"#N/A"},{"$error":"#N/A"},{"$error":"#N/A"},{"$error":"#N/A"},{"$error":"#N/A"}]
[55,55081,"Monroe County","Wisconsin","Monroe County, Wisconsin",262,2,1265,44673,586.48400600000002,4.4769769999999998,2831.688044,{"$error":"#N/A"},{"$error":"#N/A"},{"$error":"#N/A"},{"$error":"#N/A"},{"$error":"#N/A"}]
[48,48337,"Montague County","Texas","Montague County, Texas",91,1,306,19719,461.48384800000002,5.0712510000000002,1551.8028300000001,{"$error":"#N/A"},{"$error":"#N/A"},{"$error":"#N/A"},{"$error":"#N/A"},{"$error":"#N/A"}]
[26,26117,"Montcalm County","Michigan","Montcalm County, Michigan",337,6,2374,63342,532.03245900000002,9.4723880000000005,3747.9081809999998,{"$error":"#N/A"},{"$error":"#N/A"},{"$error":"#N/A"},{"$error":"#N/A"},{"$error":"#N/A"}]
[6,6053,"Monterey County","California","Monterey County, California",1439,33,5501,415057,346.69936899999999,7.9507149999999998,1325.3601309999999,41500,109.05,122.36,110.26,101.72]
[1,1101,"Montgomery County","Alabama","Montgomery County, Alabama",1757,30,8404,229363,766.034626,13.079703,3664.0608990000001,33860,102.14,120.67,118.34,105.98]
[13,13209,"Montgomery County","Georgia","Montgomery County, Georgia",18,2,36,9123,197.30351899999999,21.922612999999998,394.60703699999999,{"$error":"#N/A"},{"$error":"#N/A"},{"$error":"#N/A"},{"$error":"#N/A"},{"$error":"#N/A"}]
[17,17135,"Montgomery County","Illinois","Montgomery County, Illinois",134,5,561,30104,445.12357200000002,16.609088,1863.5397290000001,{"$error":"#N/A"},{"$error":"#N/A"},{"$error":"#N/A"},{"$error":"#N/A"},{"$error":"#N/A"}]
[20,20125,"Montgomery County","Kansas","Montgomery County, Kansas",145,6,802,35471,408.78464100000002,16.915227000000002,2261.001945,{"$error":"#N/A"},{"$error":"#N/A"},{"$error":"#N/A"},{"$error":"#N/A"},{"$error":"#N/A"}]
[24,24031,"Montgomery County","Maryland","Montgomery County, Maryland",4420,35,11121,971777,454.836861,3.6016490000000001,1144.398355,47900,117.8,129.94,123.29,116.7]
[29,29139,"Montgomery County","Missouri","Montgomery County, Missouri",78,4,313,12236,637.46322299999997,32.690421999999998,2558.0254989999999,{"$error":"#N/A"},{"$error":"#N/A"},{"$error":"#N/A"},{"$error":"#N/A"},{"$error":"#N/A"}]
[36,36057,"Montgomery County","New York","Montgomery County, New York",289,10,1789,50219,575.47940000000006,19.912782,3562.396702,{"$error":"#N/A"},{"$error":"#N/A"},{"$error":"#N/A"},{"$error":"#N/A"},{"$error":"#N/A"}]
[37,37123,"Montgomery County","North Carolina","Montgomery County, North Carolina",162,6,565,27798,582.77573900000004,21.584287,2032.520325,{"$error":"#N/A"},{"$error":"#N/A"},{"$error":"#N/A"},{"$error":"#N/A"},{"$error":"#N/A"}]
[39,39113,"Montgomery County","Ohio","Montgomery County, Ohio",3347,45,11266,535153,625.42861600000003,8.4088100000000008,2105.1923470000002,19380,102.99,130.21,114.82,117.4]
[42,42091,"Montgomery County","Pennsylvania","Montgomery County, Pennsylvania",3591,42,7687,"#NULL!","#NULL!","#NULL!","#NULL!",37980,107.67,136.32,85.84,109.26]
[47,47125,"Montgomery County","Tennessee","Montgomery County, Tennessee",1715,18,6802,172331,995.17788399999995,10.445016000000001,3947.0553759999998,17300,97.02,80.87,113.11,75.989999999999995]
[48,48339,"Montgomery County","Texas","Montgomery County, Texas",2287,55,7247,455746,501.81460700000002,12.068125999999999,1590.140122,26420,95.68,87.52,111.61,84.05]
[51,51121,"Montgomery County","Virginia","Montgomery County, Virginia",430,0,1471,94392,455.54707999999999,0,1558.394779,13980,95.29,95.57,85.4,102.18]
[26,26119,"Montmorency County","Michigan","Montmorency County, Michigan",28,1,303,9765,286.73835100000002,10.240655,3102.9185870000001,{"$error":"#N/A"},{"$error":"#N/A"},{"$error":"#N/A"},{"$error":"#N/A"},{"$error":"#N/A"}]
[42,42093,"Montour County","Pennsylvania","Montour County, Pennsylvania",94,1,191,18267,514.58915000000002,5.4743529999999998,1045.6013579999999,{"$error":"#N/A"},{"$error":"#N/A"},{"$error":"#N/A"},{"$error":"#N/A"},{"$error":"#N/A"}]
[37,37125,"Moore County","North Carolina","Moore County, North Carolina",564,14,1798,88247,639.11521100000004,15.864561999999999,2037.4630299999999,{"$error":"#N/A"},{"$error":"#N/A"},{"$error":"#N/A"},{"$error":"#N/A"},{"$error":"#N/A"}]
[47,47127,"Moore County","Tennessee","Moore County, Tennessee",42,1,115,6362,660.169758,15.718328,1807.607671,{"$error":"#N/A"},{"$error":"#N/A"},{"$error":"#N/A"},{"$error":"#N/A"},{"$error":"#N/A"}]
[48,48341,"Moore County","Texas","Moore County, Texas",99,1,499,21904,451.97224299999999,4.5653759999999997,2278.1227170000002,{"$error":"#N/A"},{"$error":"#N/A"},{"$error":"#N/A"},{"$error":"#N/A"},{"$error":"#N/A"}]
[1,1103,"Morgan County","Alabama","Morgan County, Alabama",591,16,2925,119490,494.602059,13.390242000000001,2447.9035899999999,19460,96.47,95.35,116.51,101.04]
[13,13211,"Morgan County","Georgia","Morgan County, Georgia",115,5,505,17868,643.60868600000003,27.982986,2826.2816210000001,{"$error":"#N/A"},{"$error":"#N/A"},{"$error":"#N/A"},{"$error":"#N/A"},{"$error":"#N/A"}]
[17,17137,"Morgan County","Illinois","Morgan County, Illinois",136,2,686,35547,382.592061,5.6263540000000001,1929.8393679999999,{"$error":"#N/A"},{"$error":"#N/A"},{"$error":"#N/A"},{"$error":"#N/A"},{"$error":"#N/A"}]
[18,18109,"Morgan County","Indiana","Morgan County, Indiana",50,1,397,68894,72.575260999999998,1.451505,576.247569,26900,94.61,85.99,85.6,99.46]
[29,29141,"Morgan County","Missouri","Morgan County, Missouri",94,6,296,20565,457.08728400000001,29.175784,1439.3386820000001,{"$error":"#N/A"},{"$error":"#N/A"},{"$error":"#N/A"},{"$error":"#N/A"},{"$error":"#N/A"}]
[39,39115,"Morgan County","Ohio",{"$f":"CONCATENATE(C1474,\", \",D1474)","v":"Morgan County, Ohio"},57,3,195,15054,378.63690700000001,19.928258,1295.3367880000001,{"$error":"#N/A"},{"$error":"#N/A"},{"$error":"#N/A"},{"$error":"#N/A"},{"$error":"#N/A"}]
[47,47129,"Morgan County","Tennessee","Morgan County, Tennessee",124,5,375,21987,563.96961799999997,22.74071,1705.553281,{"$error":"#N/A"},{"$error":"#N/A"},{"$error":"#N/A"},{"$error":"#N/A"},{"$error":"#N/A"}]
[49,49029,"Morgan County","Utah","Morgan County, Utah",40,0,174,9469,422.43109099999998,0,1837.5752460000001,{"$error":"#N/A"},{"$error":"#N/A"},{"$error":"#N/A"},{"$error":"#N/A"},{"$error":"#N/A"}]
[54,54065,"Morgan County","West Virginia","Morgan County, West Virginia",104,2,327,17541,592.89664200000004,11.401859,1864.203865,25180,89.5,67.7,90,74.66]
[31,31123,"Morrill County","Nebraska","Morrill County, Nebraska",12,2,111,5042,238.00079299999999,39.666798999999997,2201.5073379999999,{"$error":"#N/A"},{"$error":"#N/A"},{"$error":"#N/A"},{"$error":"#N/A"},{"$error":"#N/A"}]
[20,20127,"Morris County","Kansas","Morris County, Kansas",27,1,157,5923,455.850076,16.883336,2650.683775,{"$error":"#N/A"},{"$error":"#N/A"},{"$error":"#N/A"},{"$error":"#N/A"},{"$error":"#N/A"}]
[34,34027,"Morris County","New Jersey","Morris County, New Jersey",3156,25,16881,492276,641.10377100000005,5.0784520000000004,3429.1738780000001,35620,103,125.29,87.76,100.05]
[48,48343,"Morris County","Texas","Morris County, Texas",73,7,186,12934,564.40389700000003,54.120922,1438.070203,{"$error":"#N/A"},{"$error":"#N/A"},{"$error":"#N/A"},{"$error":"#N/A"},{"$error":"#N/A"}]
[39,39117,"Morrow County","Ohio","Morrow County, Ohio",238,6,968,34827,683.37783899999999,17.228013000000001,2779.4527229999999,18140,89.85,49.6,83.41,46.82]
[41,41049,"Morrow County","Oregon","Morrow County, Oregon",44,3,99,11173,393.80649799999998,26.850442999999999,886.06461999999999,{"$error":"#N/A"},{"$error":"#N/A"},{"$error":"#N/A"},{"$error":"#N/A"},{"$error":"#N/A"}]
[20,20129,"Morton County","Kansas","Morton County, Kansas",5,3,38,3233,154.65511900000001,92.793070999999998,1175.378905,{"$error":"#N/A"},{"$error":"#N/A"},{"$error":"#N/A"},{"$error":"#N/A"},{"$error":"#N/A"}]
[38,38059,"Morton County","North Dakota","Morton County, North Dakota",150,5,745,27471,546.03035899999998,18.201011999999999,2711.9507840000001,13900,91.13,108.21,82.17,85.86]
[48,48345,"Motley County","Texas","Motley County, Texas",4,0,14,1210,330.57851199999999,0,1157.024793,{"$error":"#N/A"},{"$error":"#N/A"},{"$error":"#N/A"},{"$error":"#N/A"},{"$error":"#N/A"}]
[17,17139,"Moultrie County","Illinois","Moultrie County, Illinois",51,3,258,14846,343.52687600000002,20.207463000000001,1737.8418429999999,{"$error":"#N/A"},{"$error":"#N/A"},{"$error":"#N/A"},{"$error":"#N/A"},{"$error":"#N/A"}]
[41,41051,"Multnomah County","Oregon","Multnomah County, Oregon",6596,38,13244,735334,897.00734599999998,5.1677200000000001,1801.086309,38900,120.53,142.82,150.58000000000001,166.68]
[13,13213,"Murray County","Georgia","Murray County, Georgia",288,5,763,39628,726.75885700000003,12.617341,1925.4062779999999,19140,90.63,57.18,84.75,68.86]
[40,40099,"Murray County","Oklahoma","Murray County, Oklahoma",91,0,221,13488,674.67378399999996,0,1638.4934760000001,{"$error":"#N/A"},{"$error":"#N/A"},{"$error":"#N/A"},{"$error":"#N/A"},{"$error":"#N/A"}]
[13,13215,"Muscogee County","Georgia","Muscogee County, Georgia",1665,20,7251,189885,876.84651199999996,10.532691,3818.6270639999998,17980,103.92,119.01,133.97999999999999,108.41]
[26,26121,"Muskegon County","Michigan","Muskegon County, Michigan",828,22,4373,172188,480.86974700000002,12.776732000000001,2539.665947,34740,96.94,110.29,96.74,107.62]
[39,39119,"Muskingum County","Ohio","Muskingum County, Ohio",687,9,2797,86074,798.15042900000003,10.456118999999999,3249.5294749999998,{"$error":"#N/A"},{"$error":"#N/A"},{"$error":"#N/A"},{"$error":"#N/A"},{"$error":"#N/A"}]
[40,40101,"Muskogee County","Oklahoma","Muskogee County, Oklahoma",503,10,1483,70990,708.55050000000006,14.086491000000001,2089.0266230000002,{"$error":"#N/A"},{"$error":"#N/A"},{"$error":"#N/A"},{"$error":"#N/A"},{"$error":"#N/A"}]
[48,48347,"Nacogdoches County","Texas","Nacogdoches County, Texas",425,16,1190,64524,658.66964199999995,24.796975,1844.2749980000001,{"$error":"#N/A"},{"$error":"#N/A"},{"$error":"#N/A"},{"$error":"#N/A"},{"$error":"#N/A"}]
[31,31125,"Nance County","Nebraska","Nance County, Nebraska",4,0,38,3735,107.09504699999999,0,1017.402945,{"$error":"#N/A"},{"$error":"#N/A"},{"$error":"#N/A"},{"$error":"#N/A"},{"$error":"#N/A"}]
[6,6055,"Napa County","California","Napa County, California",624,9,1542,136484,457.19644799999998,6.5941799999999997,1129.8027609999999,34900,102.69,135.44999999999999,131.01,110.28]
[37,37127,"Nash County","North Carolina","Nash County, North Carolina",772,17,2195,95840,805.50918200000001,17.737895999999999,2290.275459,40580,91.58,88.78,88.52,79.45]
[12,12089,"Nassau County","Florida","Nassau County, Florida",471,21,740,73314,642.44209799999999,28.643915,1009.3570120000001,27260,93.25,78.040000000000006,98.01,97.21]
[36,36059,"Nassau County","New York","Nassau County, New York",13394,88,50421,1339532,999.90145800000005,6.5694590000000002,3764.075812,35620,128.97999999999999,149.38,111.6,160.85]
[56,56025,"Natrona County","Wyoming","Natrona County, Wyoming",558,12,2175,75450,739.56262400000003,15.904572999999999,2882.7037770000002,16220,100.14,116.47,136.24,117.49]
[48,48349,"Navarro County","Texas","Navarro County, Texas",303,1,1122,47735,634.75437299999999,2.0948989999999998,2350.4765900000002,{"$error":"#N/A"},{"$error":"#N/A"},{"$error":"#N/A"},{"$error":"#N/A"},{"$error":"#N/A"}]
[21,21179,"Nelson County","Kentucky","Nelson County, Kentucky",199,7,1136,43437,458.13477,16.115293000000001,2615.2819030000001,31140,91.95,66.86,78.239999999999995,89.54]
[20,20131,"Nemaha County","Kansas","Nemaha County, Kansas",38,0,208,10178,373.35429399999998,0,2043.6235019999999,{"$error":"#N/A"},{"$error":"#N/A"},{"$error":"#N/A"},{"$error":"#N/A"},{"$error":"#N/A"}]
[31,31127,"Nemaha County","Nebraska","Nemaha County, Nebraska",14,0,100,7248,193.156733,0,1379.690949,{"$error":"#N/A"},{"$error":"#N/A"},{"$error":"#N/A"},{"$error":"#N/A"},{"$error":"#N/A"}]
[20,20133,"Neosho County","Kansas","Neosho County, Kansas",76,1,400,16512,460.27131800000001,6.0562019999999999,2422.4806199999998,{"$error":"#N/A"},{"$error":"#N/A"},{"$error":"#N/A"},{"$error":"#N/A"},{"$error":"#N/A"}]
[20,20135,"Ness County","Kansas","Ness County, Kansas",11,0,87,3107,354.039266,0,2800.1287419999999,{"$error":"#N/A"},{"$error":"#N/A"},{"$error":"#N/A"},{"$error":"#N/A"},{"$error":"#N/A"}]
[6,6057,"Nevada County","California","Nevada County, California",413,10,1255,98764,418.16856300000001,10.125147,1270.705925,{"$error":"#N/A"},{"$error":"#N/A"},{"$error":"#N/A"},{"$error":"#N/A"},{"$error":"#N/A"}]
[9,10003,"New Castle County","Delaware","New Castle County, Delaware",3185,44,13856,538479,591.480819,8.1711639999999992,2573.1736989999999,37980,108.44,126.15,111.75,121.39]
[37,37129,"New Hanover County","North Carolina","New Hanover County, North Carolina",1525,16,4475,202667,752.465868,7.8947240000000001,2208.0555789999999,48900,102.34,118.86,107.7,121.5]
[9,9009,"New Haven County","Connecticut","New Haven County, Connecticut",7852,75,30179,862477,910.40108899999996,8.6958839999999995,3499.107802,35300,107.16,128.91,137.15,102.88]
[51,51127,"New Kent County","Virginia","New Kent County, Virginia",129,0,399,18429,699.98372099999995,0,2165.0659289999999,40060,89.75,43.95,80.36,72.400000000000006]
[9,9011,"New London County","Connecticut","New London County, Connecticut",1693,28,7288,274055,617.75920900000006,10.216927,2659.320209,35980,96.76,106.51,131.52000000000001,85.24]
[29,29143,"New Madrid County","Missouri","New Madrid County, Missouri",139,6,437,18956,733.277063,31.652246999999999,2305.338679,{"$error":"#N/A"},{"$error":"#N/A"},{"$error":"#N/A"},{"$error":"#N/A"},{"$error":"#N/A"}]
[36,36061,"New York County","New York","New York County, New York",9334,45,15455,1585873,588.57172000000003,2.8375539999999999,974.54209800000001,35620,654.01,144.57,400.25,230.33]
[26,26123,"Newaygo County","Michigan","Newaygo County, Michigan",193,9,1296,48460,398.26661200000001,18.572018,2674.3706149999998,24340,89.64,63.71,82.85,79.680000000000007]
[45,45071,"Newberry County","South Carolina","Newberry County, South Carolina",311,4,952,37508,829.15644699999996,10.664391999999999,2538.1251999999999,{"$error":"#N/A"},{"$error":"#N/A"},{"$error":"#N/A"},{"$error":"#N/A"},{"$error":"#N/A"}]
[44,44005,"Newport County","Rhode Island","Newport County, Rhode Island",454,7,3045,82888,547.72705299999996,8.4451309999999999,3673.6318889999998,39300,99.45,121.07,99.03,118.74]
[51,51700,"Newport News city","Virginia","Newport News city, Virginia",1186,0,2852,180719,656.26746500000002,0,1578.1406489999999,47260,112.21,121.94,86.53,137.18]
[13,13217,"Newton County","Georgia","Newton County, Georgia",694,16,2691,99958,694.29160200000001,16.006723000000001,2692.1306949999998,12060,94.48,61.24,123.65,77.77]
[29,29145,"Newton County","Missouri","Newton County, Missouri",308,14,1055,58114,529.99277300000006,24.090581,1815.3973229999999,27900,92.11,83.25,102.74,93.49]
[48,48351,"Newton County","Texas","Newton County, Texas",63,8,153,14445,436.13707199999999,55.382485000000003,1059.1900310000001,{"$error":"#N/A"},{"$error":"#N/A"},{"$error":"#N/A"},{"$error":"#N/A"},{"$error":"#N/A"}]
[16,16069,"Nez Perce County","Idaho","Nez Perce County, Idaho",230,12,745,39265,585.76340300000004,30.561568999999999,1897.364065,30300,99.34,116.89,92.82,113.12]
[36,36063,"Niagara County","New York","Niagara County, New York",1293,17,5344,216469,597.314165,7.8533179999999998,2468.713765,15380,100.04,115.62,92.59,94.32]
[27,27103,"Nicollet County","Minnesota","Nicollet County, Minnesota",118,4,430,32727,360.55856,12.222324,1313.899838,31860,97.81,"NA",77.599999999999994,107.27]
[56,56027,"Niobrara County","Wyoming","Niobrara County, Wyoming",13,0,47,2484,523.34943599999997,0,1892.1095009999999,{"$error":"#N/A"},{"$error":"#N/A"},{"$error":"#N/A"},{"$error":"#N/A"},{"$error":"#N/A"}]
[39,39121,"Noble County","Ohio","Noble County, Ohio",15,4,94,14645,102.424036,27.313075999999999,641.85728900000004,{"$error":"#N/A"},{"$error":"#N/A"},{"$error":"#N/A"},{"$error":"#N/A"},{"$error":"#N/A"}]
[40,40103,"Noble County","Oklahoma","Noble County, Oklahoma",0,0,105,11561,0,0,908.22593199999994,{"$error":"#N/A"},{"$error":"#N/A"},{"$error":"#N/A"},{"$error":"#N/A"},{"$error":"#N/A"}]
[29,29147,"Nodaway County","Missouri","Nodaway County, Missouri",81,5,392,23370,346.59820300000001,21.394950999999999,1677.3641419999999,{"$error":"#N/A"},{"$error":"#N/A"},{"$error":"#N/A"},{"$error":"#N/A"},{"$error":"#N/A"}]
[48,48353,"Nolan County","Texas","Nolan County, Texas",91,5,309,15216,598.05467899999996,32.860146999999998,2030.757098,{"$error":"#N/A"},{"$error":"#N/A"},{"$error":"#N/A"},{"$error":"#N/A"},{"$error":"#N/A"}]
[51,51710,"Norfolk city","Virginia","Norfolk city, Virginia",1801,0,4208,242803,741.753603,0,1733.0922599999999,47260,129.97999999999999,131.46,210.96,179.44]
[25,25021,"Norfolk County","Massachusetts","Norfolk County, Massachusetts",3146,33,12384,670850,468.95729299999999,4.9191320000000003,1846.0162479999999,14460,"NA",34.74,"NA",117.59]
[2,2185,"North Slope Borough","Alaska","North Slope Borough, Alaska",29,0,67,9430,307.52916199999999,0,710.49840900000004,{"$error":"#N/A"},{"$error":"#N/A"},{"$error":"#N/A"},{"$error":"#N/A"},{"$error":"#N/A"}]
[37,37131,"Northampton County","North Carolina","Northampton County, North Carolina",125,3,383,22099,565.63645399999996,13.575275,1733.110095,{"$error":"#N/A"},{"$error":"#N/A"},{"$error":"#N/A"},{"$error":"#N/A"},{"$error":"#N/A"}]
[42,42095,"Northampton County","Pennsylvania","Northampton County, Pennsylvania",1151,25,2548,297735,386.58538600000003,8.3967290000000006,855.79458199999999,10900,103.88,133.01,101.8,124.28]
[42,42097,"Northumberland County","Pennsylvania","Northumberland County, Pennsylvania",248,11,616,94528,262.35612700000001,11.636763999999999,651.65876800000001,{"$error":"#N/A"},{"$error":"#N/A"},{"$error":"#N/A"},{"$error":"#N/A"},{"$error":"#N/A"}]
[2,2188,"Northwest Arctic Borough","Alaska","Northwest Arctic Borough, Alaska",1,0,1,7523,13.292569,0,13.292569,{"$error":"#N/A"},{"$error":"#N/A"},{"$error":"#N/A"},{"$error":"#N/A"},{"$error":"#N/A"}]
[20,20137,"Norton County","Kansas",{"$f":"CONCATENATE(C1538,\", \",D1538)","v":"Norton County, Kansas"},12,0,222,5671,211.602892,0,3914.6534999999999,{"$error":"#N/A"},{"$error":"#N/A"},{"$error":"#N/A"},{"$error":"#N/A"},{"$error":"#N/A"}]
[40,40105,"Nowata County","Oklahoma","Nowata County, Oklahoma",0,0,85,10536,0,0,806.75778300000002,{"$error":"#N/A"},{"$error":"#N/A"},{"$error":"#N/A"},{"$error":"#N/A"},{"$error":"#N/A"}]
[31,31129,"Nuckolls County","Nebraska","Nuckolls County, Nebraska",8,0,40,4500,177.77777800000001,0,888.88888899999995,{"$error":"#N/A"},{"$error":"#N/A"},{"$error":"#N/A"},{"$error":"#N/A"},{"$error":"#N/A"}]
[48,48355,"Nueces County","Texas","Nueces County, Texas",2915,45,9342,340223,856.79098699999997,13.226618999999999,2745.8461069999998,18580,104.85,127.12,106.59,121.3]
[32,32023,"Nye County","Nevada","Nye County, Nevada",138,15,453,43946,314.02175399999999,34.132798999999999,1030.8105399999999,{"$error":"#N/A"},{"$error":"#N/A"},{"$error":"#N/A"},{"$error":"#N/A"},{"$error":"#N/A"}]
[26,26125,"Oakland County","Michigan","Oakland County, Michigan",7081,61,34820,1202362,588.92413399999998,5.0733470000000001,2895.9664389999998,19820,103.79,122.43,99.39,107.48]
[47,47131,"Obion County","Tennessee","Obion County, Tennessee",163,3,759,31807,512.46580900000004,9.4318860000000004,2386.2671740000001,{"$error":"#N/A"},{"$error":"#N/A"},{"$error":"#N/A"},{"$error":"#N/A"},{"$error":"#N/A"}]
[34,34029,"Ocean County","New Jersey","Ocean County, New Jersey",3738,46,16750,576567,648.32014300000003,7.9782580000000003,2905.126377,35620,105.44,110.28,91.35,129.32]
[26,26127,"Oceana County","Michigan","Oceana County, Michigan",149,0,818,26570,560.78283799999997,0,3078.6601430000001,{"$error":"#N/A"},{"$error":"#N/A"},{"$error":"#N/A"},{"$error":"#N/A"},{"$error":"#N/A"}]
[48,48357,"Ochiltree County","Texas","Ochiltree County, Texas",28,5,153,10223,273.89220399999999,48.909322000000003,1496.6252569999999,{"$error":"#N/A"},{"$error":"#N/A"},{"$error":"#N/A"},{"$error":"#N/A"},{"$error":"#N/A"}]
[13,13219,"Oconee County","Georgia","Oconee County, Georgia",205,5,841,32808,624.84759799999995,15.240185,2563.399171,12020,90.84,85.05,74.86,69.72]
[45,45073,"Oconee County","South Carolina","Oconee County, South Carolina",370,12,1232,74273,498.16218500000002,16.156611000000002,1658.745439,{"$error":"#N/A"},{"$error":"#N/A"},{"$error":"#N/A"},{"$error":"#N/A"},{"$error":"#N/A"}]
[55,55083,"Oconto County","Wisconsin","Oconto County, Wisconsin",158,6,496,37660,419.54328199999998,15.932022999999999,1317.0472649999999,24580,88.82,49.35,77.77,66.91]
[26,26129,"Ogemaw County","Michigan","Ogemaw County, Michigan",125,3,856,21699,576.06341299999997,13.825521999999999,3944.8822530000002,{"$error":"#N/A"},{"$error":"#N/A"},{"$error":"#N/A"},{"$error":"#N/A"},{"$error":"#N/A"}]
[17,17141,"Ogle County","Illinois","Ogle County, Illinois",191,4,799,53497,357.02936599999998,7.477055,1493.541694,{"$error":"#N/A"},{"$error":"#N/A"},{"$error":"#N/A"},{"$error":"#N/A"},{"$error":"#N/A"}]
[13,13221,"Oglethorpe County","Georgia","Oglethorpe County, Georgia",84,6,235,14899,563.79622800000004,40.271158999999997,1577.2870660000001,12020,88.61,22.76,70.81,45.28]
[18,18115,"Ohio County","Indiana","Ohio County, Indiana",4,0,33,6128,65.274151000000003,0,538.51174900000001,17140,91.06,97.13,78.900000000000006,99.39]
[54,54069,"Ohio County","West Virginia","Ohio County, West Virginia",465,7,1972,44443,1046.2840040000001,15.750512000000001,4437.1442070000003,48540,95.76,115.77,150.91,129.79]
[12,12091,"Okaloosa County","Florida","Okaloosa County, Florida",1480,20,2344,180822,818.48447599999997,11.060601,1296.302441,18880,100.2,113.18,109.67,105.87]
[53,53047,"Okanogan County","Washington","Okanogan County, Washington",166,7,472,41120,403.69649800000002,17.023346,1147.8599220000001,{"$error":"#N/A"},{"$error":"#N/A"},{"$error":"#N/A"},{"$error":"#N/A"},{"$error":"#N/A"}]
[12,12093,"Okeechobee County","Florida","Okeechobee County, Florida",300,13,447,39996,750.07500800000003,32.503250000000001,1117.6117609999999,{"$error":"#N/A"},{"$error":"#N/A"},{"$error":"#N/A"},{"$error":"#N/A"},{"$error":"#N/A"}]
[40,40107,"Okfuskee County","Oklahoma","Okfuskee County, Oklahoma",71,0,156,12191,582.39684999999997,0,1279.6325159999999,{"$error":"#N/A"},{"$error":"#N/A"},{"$error":"#N/A"},{"$error":"#N/A"},{"$error":"#N/A"}]
[40,40109,"Oklahoma County","Oklahoma","Oklahoma County, Oklahoma",6105,76,18794,718633,849.52959299999998,10.575635,2615.2431069999998,36420,103.44,120.48,122.5,117.89]
[40,40111,"Okmulgee County","Oklahoma","Okmulgee County, Oklahoma",181,15,454,40069,451.72078199999999,37.435423999999998,1133.0454970000001,46140,89.76,90.51,83.84,122.81]
[21,21185,"Oldham County","Kentucky","Oldham County, Kentucky",179,9,976,60316,296.77034300000003,14.921414,1618.1444389999999,31140,94.48,74.42,80.900000000000006,81.7]
[48,48359,"Oldham County","Texas","Oldham County, Texas",28,2,106,2052,1364.5224169999999,97.465886999999995,5165.692008,{"$error":"#N/A"},{"$error":"#N/A"},{"$error":"#N/A"},{"$error":"#N/A"},{"$error":"#N/A"}]
[27,27109,"Olmsted County","Minnesota","Olmsted County, Minnesota",574,8,1780,144248,397.925794,5.5460039999999999,1233.985913,40340,98.99,108.08,166.15,100.7]
[16,16071,"Oneida County","Idaho","Oneida County, Idaho",22,1,97,4286,513.29911300000003,23.331778,2263.1824550000001,{"$error":"#N/A"},{"$error":"#N/A"},{"$error":"#N/A"},{"$error":"#N/A"},{"$error":"#N/A"}]
[36,36065,"Oneida County","New York","Oneida County, New York",1401,12,8718,234878,596.47987499999999,5.1090350000000004,3711.7141670000001,46540,101.65,107.32,112.12,84.48]
[55,55085,"Oneida County","Wisconsin","Oneida County, Wisconsin",198,4,870,35998,550.03055700000004,11.111727999999999,2416.800933,{"$error":"#N/A"},{"$error":"#N/A"},{"$error":"#N/A"},{"$error":"#N/A"},{"$error":"#N/A"}]
[36,36067,"Onondaga County","New York","Onondaga County, New York",3277,26,18413,467026,701.67399699999999,5.5671419999999996,3942.6070500000001,45060,104.46,122.19,142.75,96.45]
[37,37133,"Onslow County","North Carolina","Onslow County, North Carolina",1219,19,3904,177772,685.70978600000001,10.687847,2196.0713719999999,27340,94.97,82.72,104.59,82.75]
[36,36069,"Ontario County","New York","Ontario County, New York",725,13,4724,107931,671.72545400000001,12.044732,4376.8704079999998,40380,94.36,101.34,91.19,62.58]
[26,26131,"Ontonagon County","Michigan","Ontonagon County, Michigan",40,2,411,6780,589.97050100000001,29.498525000000001,6061.946903,{"$error":"#N/A"},{"$error":"#N/A"},{"$error":"#N/A"},{"$error":"#N/A"},{"$error":"#N/A"}]
[6,6059,"Orange County","California","Orange County, California",13368,100,34694,3010232,444.085373,3.322003,1152.5357509999999,31100,134.15,142.55000000000001,95.13,144.21]
[12,12095,"Orange County","Florida","Orange County, Florida",14898,130,22377,1145956,1300.0499150000001,11.344239999999999,1952.6927740000001,36740,108.01,110.76,118.48,124.47]
[36,36071,"Orange County","New York","Orange County, New York",2962,32,14364,372813,794.50019199999997,8.5833919999999999,3852.8699369999999,39100,101.31,113.59,90.33,87.33]
[37,37135,"Orange County","North Carolina","Orange County, North Carolina",649,12,2471,133801,485.04869200000002,8.9685430000000004,1846.7724459999999,20500,99.4,106.99,120.04,75.56]
[48,48361,"Orange County","Texas","Orange County, Texas",537,20,1567,81837,656.182411,24.438824,1914.7818219999999,13140,90.28,87.97,84.52,104.13]
[45,45075,"Orangeburg County","South Carolina","Orangeburg County, South Carolina",794,31,2290,92501,858.36909900000001,33.513151000000001,2475.6489120000001,{"$error":"#N/A"},{"$error":"#N/A"},{"$error":"#N/A"},{"$error":"#N/A"},{"$error":"#N/A"}]
[29,29149,"Oregon County","Missouri","Oregon County, Missouri",63,4,180,10881,578.99090200000001,36.761327000000001,1654.2597189999999,{"$error":"#N/A"},{"$error":"#N/A"},{"$error":"#N/A"},{"$error":"#N/A"},{"$error":"#N/A"}]
[36,36073,"Orleans County","New York","Orleans County, New York",196,5,1134,42883,457.05757499999999,11.659632,2644.4045430000001,40380,94.19,97.46,78.22,53.47]
[22,22071,"Orleans Parish","Louisiana","Orleans Parish, Louisiana",5253,32,18249,343829,1527.7943399999999,9.3069520000000008,5307.5802219999996,35380,121.91,137.94,153.63,214.43]
[20,20139,"Osage County","Kansas","Osage County, Kansas",66,2,299,16295,405.032218,12.273704,1834.9186870000001,45820,89.37,97.03,68.66,75.02]
[29,29151,"Osage County","Missouri","Osage County, Missouri",85,3,256,13878,612.48018400000001,21.616948000000001,1844.646203,{"$error":"#N/A"},{"$error":"#N/A"},{"$error":"#N/A"},{"$error":"#N/A"},{"$error":"#N/A"}]
[40,40113,"Osage County","Oklahoma","Osage County, Oklahoma",152,14,347,47472,320.18874299999999,29.491067999999999,730.95719599999995,46140,93.63,66.069999999999993,86.07,96.84]
[20,20141,"Osborne County","Kansas","Osborne County, Kansas",14,0,107,3858,362.88232199999999,0,2773.45775,{"$error":"#N/A"},{"$error":"#N/A"},{"$error":"#N/A"},{"$error":"#N/A"},{"$error":"#N/A"}]
[12,12097,"Osceola County","Florida","Osceola County, Florida",2933,34,4267,268685,1091.6128550000001,12.654223,1588.1050299999999,36740,98.45,86.64,87.23,114.77]
[26,26133,"Osceola County","Michigan","Osceola County, Michigan",139,3,1129,23528,590.78544699999998,12.750764999999999,4798.5379119999998,{"$error":"#N/A"},{"$error":"#N/A"},{"$error":"#N/A"},{"$error":"#N/A"},{"$error":"#N/A"}]
[26,26135,"Oscoda County","Michigan","Oscoda County, Michigan",40,2,304,8640,462.962963,23.148147999999999,3518.5185190000002,{"$error":"#N/A"},{"$error":"#N/A"},{"$error":"#N/A"},{"$error":"#N/A"},{"$error":"#N/A"}]
[36,36075,"Oswego County","New York","Oswego County, New York",674,10,3845,122109,551.965867,8.1894050000000007,3148.8260489999998,45060,96.64,90.83,108.43,70.569999999999993]
[31,31131,"Otoe County","Nebraska","Otoe County, Nebraska",26,1,206,15740,165.18424400000001,6.3532400000000004,1308.7674709999999,{"$error":"#N/A"},{"$error":"#N/A"},{"$error":"#N/A"},{"$error":"#N/A"},{"$error":"#N/A"}]
[26,26137,"Otsego County","Michigan","Otsego County, Michigan",147,3,825,24164,608.34298999999999,12.415163,3414.1698390000001,{"$error":"#N/A"},{"$error":"#N/A"},{"$error":"#N/A"},{"$error":"#N/A"},{"$error":"#N/A"}]
[36,36077,"Otsego County","New York","Otsego County, New York",367,2,2327,62259,589.47300800000005,3.2123870000000001,3737.6122329999998,{"$error":"#N/A"},{"$error":"#N/A"},{"$error":"#N/A"},{"$error":"#N/A"},{"$error":"#N/A"}]
[20,20143,"Ottawa County","Kansas","Ottawa County, Kansas",24,2,168,6091,394.02397000000002,32.835330999999996,2758.1677890000001,{"$error":"#N/A"},{"$error":"#N/A"},{"$error":"#N/A"},{"$error":"#N/A"},{"$error":"#N/A"}]
[26,26139,"Ottawa County","Michigan","Ottawa County, Michigan",1286,11,6739,263801,487.488675,4.16981,2554.5771239999999,26100,96.62,104.73,106.96,84.83]
[39,39123,"Ottawa County","Ohio","Ottawa County, Ohio",185,5,883,41428,446.557884,12.069132,2131.4087089999998,45780,93.01,98.23,86.34,94.39]
[40,40115,"Ottawa County","Oklahoma","Ottawa County, Oklahoma",212,11,537,31848,665.66189399999996,34.539060999999997,1686.134137,{"$error":"#N/A"},{"$error":"#N/A"},{"$error":"#N/A"},{"$error":"#N/A"},{"$error":"#N/A"}]
[22,22073,"Ouachita Parish","Louisiana","Ouachita Parish, Louisiana",1557,21,4899,153720,1012.8805620000001,13.661201999999999,3186.9633100000001,33740,95.23,94.61,111.6,108.52]
[55,55087,"Outagamie County","Wisconsin","Outagamie County, Wisconsin",908,10,3401,176695,513.87984900000004,5.6594699999999998,1924.785648,11540,99.06,120.79,164.21,97.96]
[47,47133,"Overton County","Tennessee","Overton County, Tennessee",141,4,527,22083,638.50020400000005,18.113481,2386.4511160000002,{"$error":"#N/A"},{"$error":"#N/A"},{"$error":"#N/A"},{"$error":"#N/A"},{"$error":"#N/A"}]
[18,18119,"Owen County","Indiana","Owen County, Indiana",20,0,111,21575,92.699883999999997,0,514.48435700000005,14020,91.06,35.65,78.62,99.32]
[16,16073,"Owyhee County","Idaho","Owyhee County, Idaho",41,5,117,11526,355.71750800000001,43.380184,1015.096304,{"$error":"#N/A"},{"$error":"#N/A"},{"$error":"#N/A"},{"$error":"#N/A"},{"$error":"#N/A"}]
[29,29153,"Ozark County","Missouri","Ozark County, Missouri",44,4,119,9723,452.53522600000002,41.139566000000002,1223.902088,{"$error":"#N/A"},{"$error":"#N/A"},{"$error":"#N/A"},{"$error":"#N/A"},{"$error":"#N/A"}]
[55,55089,"Ozaukee County","Wisconsin",{"$f":"CONCATENATE(C1602,\", \",D1602)","v":"Ozaukee County, Wisconsin"},308,5,1278,86395,356.50211200000001,5.7873720000000004,1479.2522719999999,33340,95.11,116.53,106.77,87.76]
[53,53049,"Pacific County","Washington","Pacific County, Washington",78,3,275,20920,372.84894800000001,14.340344,1314.531549,{"$error":"#N/A"},{"$error":"#N/A"},{"$error":"#N/A"},{"$error":"#N/A"},{"$error":"#N/A"}]
[12,12099,"Palm Beach County","Florida","Palm Beach County, Florida",12397,123,17979,1320134,939.07133699999997,9.3172359999999994,1361.9072000000001,33100,107.77,125.08,107.06,118.32]
[48,48363,"Palo Pinto County","Texas","Palo Pinto County, Texas",139,8,534,28111,494.46835800000002,28.458611000000001,1899.612251,{"$error":"#N/A"},{"$error":"#N/A"},{"$error":"#N/A"},{"$error":"#N/A"},{"$error":"#N/A"}]
[37,37137,"Pamlico County","North Carolina","Pamlico County, North Carolina",50,2,180,13144,380.401704,15.216068,1369.4461349999999,{"$error":"#N/A"},{"$error":"#N/A"},{"$error":"#N/A"},{"$error":"#N/A"},{"$error":"#N/A"}]
[48,48365,"Panola County","Texas","Panola County, Texas",211,14,669,23796,886.70364800000004,58.833416999999997,2811.3968730000001,{"$error":"#N/A"},{"$error":"#N/A"},{"$error":"#N/A"},{"$error":"#N/A"},{"$error":"#N/A"}]
[56,56029,"Park County","Wyoming","Park County, Wyoming",131,8,426,28205,464.45665700000001,28.363765000000001,1510.370502,{"$error":"#N/A"},{"$error":"#N/A"},{"$error":"#N/A"},{"$error":"#N/A"},{"$error":"#N/A"}]
[48,48367,"Parker County","Texas","Parker County, Texas",534,19,1705,116927,456.69520299999999,16.249455000000001,1458.174759,19100,90.72,77.89,87.88,79]
[48,48369,"Parmer County","Texas","Parmer County, Texas",32,2,100,10269,311.61748999999998,19.476092999999999,973.80465500000003,{"$error":"#N/A"},{"$error":"#N/A"},{"$error":"#N/A"},{"$error":"#N/A"},{"$error":"#N/A"}]
[12,12101,"Pasco County","Florida","Pasco County, Florida",6256,75,8291,464697,1346.2535800000001,16.139548999999999,1784.1733429999999,45300,99.18,100.48,84.02,117.84]
[37,37139,"Pasquotank County","North Carolina","Pasquotank County, North Carolina",250,8,790,40661,614.83977300000004,19.674873000000002,1942.8936819999999,{"$error":"#N/A"},{"$error":"#N/A"},{"$error":"#N/A"},{"$error":"#N/A"},{"$error":"#N/A"}]
[34,34031,"Passaic County","New Jersey","Passaic County, New Jersey",4013,30,19145,501226,800.63683800000001,5.9853240000000003,3819.6342570000002,35620,143.82,148.44999999999999,101.63,135.66]
[13,13223,"Paulding County","Georgia","Paulding County, Georgia",756,17,2623,142324,531.18237299999998,11.944577000000001,1842.9779940000001,12060,93.49,68.19,83.49,74.959999999999994]
[39,39125,"Paulding County","Ohio","Paulding County, Ohio",95,2,469,19614,484.347915,10.196797999999999,2391.149179,{"$error":"#N/A"},{"$error":"#N/A"},{"$error":"#N/A"},{"$error":"#N/A"},{"$error":"#N/A"}]
[20,20145,"Pawnee County","Kansas","Pawnee County, Kansas",35,2,213,6973,501.93603899999999,28.682058999999999,3054.6393229999999,{"$error":"#N/A"},{"$error":"#N/A"},{"$error":"#N/A"},{"$error":"#N/A"},{"$error":"#N/A"}]
[31,31133,"Pawnee County","Nebraska","Pawnee County, Nebraska",6,1,36,2773,216.37216000000001,36.062027,1298.2329609999999,{"$error":"#N/A"},{"$error":"#N/A"},{"$error":"#N/A"},{"$error":"#N/A"},{"$error":"#N/A"}]
[40,40117,"Pawnee County","Oklahoma","Pawnee County, Oklahoma",69,0,155,16577,416.23936800000001,0,935.03046400000005,46140,88.73,75.14,77.53,99.62]
[16,16075,"Payette County","Idaho","Payette County, Idaho",79,1,192,22623,349.20213899999999,4.42028,848.69380699999999,{"$error":"#N/A"},{"$error":"#N/A"},{"$error":"#N/A"},{"$error":"#N/A"},{"$error":"#N/A"}]
[40,40119,"Payne County","Oklahoma","Payne County, Oklahoma",522,11,1403,77350,674.854557,14.221073000000001,1813.833226,{"$error":"#N/A"},{"$error":"#N/A"},{"$error":"#N/A"},{"$error":"#N/A"},{"$error":"#N/A"}]
[13,13225,"Peach County","Georgia","Peach County, Georgia",245,5,888,27695,884.63621599999999,18.053799999999999,3206.3549379999999,{"$error":"#N/A"},{"$error":"#N/A"},{"$error":"#N/A"},{"$error":"#N/A"},{"$error":"#N/A"}]
[48,48371,"Pecos County","Texas","Pecos County, Texas",99,11,361,15507,638.42135800000005,70.935705999999996,2327.980912,{"$error":"#N/A"},{"$error":"#N/A"},{"$error":"#N/A"},{"$error":"#N/A"},{"$error":"#N/A"}]
[29,29155,"Pemiscot County","Missouri","Pemiscot County, Missouri",121,5,372,18296,661.34674199999995,27.328378000000001,2033.231307,{"$error":"#N/A"},{"$error":"#N/A"},{"$error":"#N/A"},{"$error":"#N/A"},{"$error":"#N/A"}]
[53,53051,"Pend Oreille County","Washington","Pend Oreille County, Washington",56,2,154,13001,430.73609699999997,15.383432000000001,1184.524267,{"$error":"#N/A"},{"$error":"#N/A"},{"$error":"#N/A"},{"$error":"#N/A"},{"$error":"#N/A"}]
[37,37141,"Pender County","North Carolina","Pender County, North Carolina",370,12,1342,52217,708.58149600000002,22.981021999999999,2570.044238,48900,91.15,64.41,81.67,60.61]
[46,46103,"Pennington County","South Dakota","Pennington County, South Dakota",683,8,2539,100948,676.58596499999999,7.9248719999999997,2515.1563179999998,39660,96.18,101.49,117.26,95.04]
[23,23019,"Penobscot County","Maine","Penobscot County, Maine",1015,11,3966,153923,659.42061899999999,7.1464299999999996,2576.6129820000001,12620,92.4,98.83,131.29,77.319999999999993]
[17,17143,"Peoria County","Illinois","Peoria County, Illinois",1102,9,4896,186494,590.903729,4.8258929999999998,2625.2855319999999,37900,100.95,120.84,143.87,112.87]
[55,55091,"Pepin County","Wisconsin","Pepin County, Wisconsin",30,1,123,7469,401.66019499999999,13.388673000000001,1646.806801,{"$error":"#N/A"},{"$error":"#N/A"},{"$error":"#N/A"},{"$error":"#N/A"},{"$error":"#N/A"}]
[31,31135,"Perkins County","Nebraska","Perkins County, Nebraska",2,0,29,2970,67.340067000000005,0,976.43097599999999,{"$error":"#N/A"},{"$error":"#N/A"},{"$error":"#N/A"},{"$error":"#N/A"},{"$error":"#N/A"}]
[37,37143,"Perquimans County","North Carolina","Perquimans County, North Carolina",60,2,243,13453,445.99717500000003,14.866573000000001,1806.28856,{"$error":"#N/A"},{"$error":"#N/A"},{"$error":"#N/A"},{"$error":"#N/A"},{"$error":"#N/A"}]
[1,1105,"Perry County","Alabama","Perry County, Alabama",44,4,108,10591,415.44707799999998,37.767916,1019.733736,{"$error":"#N/A"},{"$error":"#N/A"},{"$error":"#N/A"},{"$error":"#N/A"},{"$error":"#N/A"}]
[17,17145,"Perry County","Illinois","Perry County, Illinois",100,3,462,22350,447.42729300000002,13.422819,2067.114094,{"$error":"#N/A"},{"$error":"#N/A"},{"$error":"#N/A"},{"$error":"#N/A"},{"$error":"#N/A"}]
[29,29157,"Perry County","Missouri","Perry County, Missouri",95,6,425,18971,500.76432399999999,31.627220000000001,2240.2614520000002,{"$error":"#N/A"},{"$error":"#N/A"},{"$error":"#N/A"},{"$error":"#N/A"},{"$error":"#N/A"}]
[39,39127,"Perry County","Ohio","Perry County, Ohio",232,2,655,36058,643.40784299999996,5.5466189999999997,1816.517832,{"$error":"#N/A"},{"$error":"#N/A"},{"$error":"#N/A"},{"$error":"#N/A"},{"$error":"#N/A"}]
[42,42099,"Perry County","Pennsylvania","Perry County, Pennsylvania",174,8,430,45969,378.51595600000002,17.403032,935.41299600000002,25420,89.79,63.67,91.33,79.02]
[47,47135,"Perry County","Tennessee","Perry County, Tennessee",65,1,147,7915,821.22552099999996,12.634239000000001,1857.2331019999999,{"$error":"#N/A"},{"$error":"#N/A"},{"$error":"#N/A"},{"$error":"#N/A"},{"$error":"#N/A"}]
[32,32027,"Pershing County","Nevada","Pershing County, Nevada",26,2,94,6753,385.01406800000001,29.616467,1391.9739380000001,{"$error":"#N/A"},{"$error":"#N/A"},{"$error":"#N/A"},{"$error":"#N/A"},{"$error":"#N/A"}]
[37,37145,"Person County","North Carolina","Person County, North Carolina",254,6,884,39464,643.62456899999995,15.20373,2240.0162169999999,20500,91.24,74.11,81.98,61.12]
[51,51730,"Petersburg city","Virginia","Petersburg city, Virginia",254,0,471,32420,783.46699599999999,0,1452.8069089999999,40060,101.48,127,104.35,144.22999999999999]
[29,29159,"Pettis County","Missouri","Pettis County, Missouri",283,5,1283,42201,670.60022300000003,11.84806,3040.212317,{"$error":"#N/A"},{"$error":"#N/A"},{"$error":"#N/A"},{"$error":"#N/A"},{"$error":"#N/A"}]
[29,29161,"Phelps County","Missouri","Phelps County, Missouri",288,10,1336,45156,637.78899799999999,22.145451000000001,2958.6322970000001,{"$error":"#N/A"},{"$error":"#N/A"},{"$error":"#N/A"},{"$error":"#N/A"},{"$error":"#N/A"}]
[31,31137,"Phelps County","Nebraska","Phelps County, Nebraska",22,1,136,9188,239.44275099999999,10.883761,1480.191554,{"$error":"#N/A"},{"$error":"#N/A"},{"$error":"#N/A"},{"$error":"#N/A"},{"$error":"#N/A"}]
[42,42101,"Philadelphia County","Pennsylvania","Philadelphia County, Pennsylvania",6931,83,9189,1526006,454.19218499999999,5.4390349999999996,602.16014900000005,37980,206.38,144.47999999999999,178.43,209.98]
[20,20147,"Phillips County","Kansas","Phillips County, Kansas",24,3,150,5642,425.38107100000002,53.172634000000002,2658.631691,{"$error":"#N/A"},{"$error":"#N/A"},{"$error":"#N/A"},{"$error":"#N/A"},{"$error":"#N/A"}]
[17,17147,"Piatt County","Illinois","Piatt County, Illinois",49,2,229,16729,292.904537,11.955287,1368.8803869999999,16580,88.83,107.89,81.61,83.39]
[39,39129,"Pickaway County","Ohio","Pickaway County, Ohio",369,8,1367,55698,662.50134700000001,14.363173,2454.3071559999998,18140,95.16,82.72,83.74,78.2]
[1,1107,"Pickens County","Alabama","Pickens County, Alabama",84,4,240,19746,425.40261299999997,20.257266999999999,1215.4360380000001,{"$error":"#N/A"},{"$error":"#N/A"},{"$error":"#N/A"},{"$error":"#N/A"},{"$error":"#N/A"}]
[13,13227,"Pickens County","Georgia","Pickens County, Georgia",203,7,658,29431,689.74890400000004,23.784445000000002,2235.7378269999999,12060,90.19,68.61,81.67,61.08]
[45,45077,"Pickens County","South Carolina","Pickens County, South Carolina",656,9,2378,119224,550.22478699999999,7.5488160000000004,1994.5648530000001,24860,92.45,92.02,97.27,82.26]
[47,47137,"Pickett County","Tennessee","Pickett County, Tennessee",21,0,60,5077,413.63009699999998,0,1181.8002759999999,{"$error":"#N/A"},{"$error":"#N/A"},{"$error":"#N/A"},{"$error":"#N/A"},{"$error":"#N/A"}]
[13,13229,"Pierce County","Georgia","Pierce County, Georgia",130,1,360,18758,693.03763700000002,5.3310589999999998,1919.181149,{"$error":"#N/A"},{"$error":"#N/A"},{"$error":"#N/A"},{"$error":"#N/A"},{"$error":"#N/A"}]
[31,31139,"Pierce County","Nebraska","Pierce County, Nebraska",11,1,81,7266,151.39003600000001,13.762731,1114.7811730000001,{"$error":"#N/A"},{"$error":"#N/A"},{"$error":"#N/A"},{"$error":"#N/A"},{"$error":"#N/A"}]
[53,53053,"Pierce County","Washington","Pierce County, Washington",4001,40,10968,795225,503.12804599999998,5.0300229999999999,1379.232293,42660,103.02,117.02,126.32,119.43]
[55,55093,"Pierce County","Wisconsin","Pierce County, Wisconsin",125,7,532,41019,304.736829,17.065262000000001,1296.9599450000001,33460,94.38,92.07,143.31,81.67]
[1,1109,"Pike County","Alabama","Pike County, Alabama",223,6,830,32899,677.83215299999995,18.237635999999998,2522.873036,{"$error":"#N/A"},{"$error":"#N/A"},{"$error":"#N/A"},{"$error":"#N/A"},{"$error":"#N/A"}]
[13,13231,"Pike County","Georgia","Pike County, Georgia",87,6,361,17869,486.87671399999999,33.577703999999997,2020.258548,{"$error":"#N/A"},{"$error":"#N/A"},{"$error":"#N/A"},{"$error":"#N/A"},{"$error":"#N/A"}]
[17,17149,"Pike County","Illinois","Pike County, Illinois",67,3,585,16430,407.79062699999997,18.259281999999999,3560.5599510000002,{"$error":"#N/A"},{"$error":"#N/A"},{"$error":"#N/A"},{"$error":"#N/A"},{"$error":"#N/A"}]
[29,29163,"Pike County","Missouri","Pike County, Missouri",46,4,268,18516,248.433787,21.602938000000002,1447.3968460000001,{"$error":"#N/A"},{"$error":"#N/A"},{"$error":"#N/A"},{"$error":"#N/A"},{"$error":"#N/A"}]
[39,39131,"Pike County","Ohio","Pike County, Ohio",183,5,662,28709,637.43077100000005,17.416141,2305.897105,{"$error":"#N/A"},{"$error":"#N/A"},{"$error":"#N/A"},{"$error":"#N/A"},{"$error":"#N/A"}]
[42,42103,"Pike County","Pennsylvania","Pike County, Pennsylvania",218,8,534,57369,379.99616500000002,13.944813,930.81629499999997,35620,91.08,56.19,144.75,90.61]
[4,4019,"Pima County","Arizona","Pima County, Arizona",4018,94,9578,980263,409.88999899999999,9.5892630000000008,977.08472099999994,46060,102.91,109.55,129.25,101.54]
[4,4021,"Pinal County","Arizona","Pinal County, Arizona",1106,68,3757,375770,294.32897800000001,18.096176,999.813716,38060,96.42,74.63,93.08,100.74]
[12,12103,"Pinellas County","Florida","Pinellas County, Florida",9540,96,16492,916542,1040.868831,10.474152,1799.371987,45300,114.66,132.11000000000001,93.74,163.76]
[37,37147,"Pitt County","North Carolina","Pitt County, North Carolina",1320,17,4290,168148,785.02271800000005,10.110141,2551.3238339999998,24780,98.36,104.23,117.55,87.14]
[40,40121,"Pittsburg County","Oklahoma",{"$f":"CONCATENATE(C1666,\", \",D1666)","v":"Pittsburg County, Oklahoma"},317,6,824,45837,691.58103700000004,13.089862,1797.674368,{"$error":"#N/A"},{"$error":"#N/A"},{"$error":"#N/A"},{"$error":"#N/A"},{"$error":"#N/A"}]
[51,51143,"Pittsylvania County","Virginia","Pittsylvania County, Virginia",261,0,657,63506,410.98478899999998,0,1034.5479170000001,19260,89.61,42.72,80.8,66.849999999999994]
[49,49031,"Piute County","Utah","Piute County, Utah",6,0,36,1556,385.60411299999998,0,2313.624679,{"$error":"#N/A"},{"$error":"#N/A"},{"$error":"#N/A"},{"$error":"#N/A"},{"$error":"#N/A"}]
[6,6061,"Placer County","California","Placer County, California",1396,23,4090,348432,400.652064,6.6010010000000001,1173.8301879999999,40900,101.97,116.93,90.93,98.05]
[22,22075,"Plaquemines Parish","Louisiana","Plaquemines Parish, Louisiana",164,3,506,23042,711.74377200000004,13.019703,2195.9899310000001,35380,90.01,91.73,81.72,104.87]
[29,29165,"Platte County","Missouri","Platte County, Missouri",460,10,2182,89322,514.99070800000004,11.195449999999999,2442.8472270000002,28140,98.15,104.96,79.77,94.12]
[31,31141,"Platte County","Nebraska","Platte County, Nebraska",114,6,719,32237,353.630921,18.612154,2230.3564230000002,{"$error":"#N/A"},{"$error":"#N/A"},{"$error":"#N/A"},{"$error":"#N/A"},{"$error":"#N/A"}]
[56,56031,"Platte County","Wyoming","Platte County, Wyoming",86,4,247,8667,992.26952800000004,46.152070999999999,2849.8903890000001,{"$error":"#N/A"},{"$error":"#N/A"},{"$error":"#N/A"},{"$error":"#N/A"},{"$error":"#N/A"}]
[6,6063,"Plumas County","California","Plumas County, California",92,4,241,20007,459.83905600000003,19.993002000000001,1204.5783980000001,{"$error":"#N/A"},{"$error":"#N/A"},{"$error":"#N/A"},{"$error":"#N/A"},{"$error":"#N/A"}]
[25,25023,"Plymouth County","Massachusetts","Plymouth County, Massachusetts",2891,28,9250,494919,584.13598999999999,5.6574910000000003,1868.992704,14460,"NA","NA","NA",104.2]
[5,5111,"Poinsett County","Arkansas","Poinsett County, Arkansas",167,4,425,24583,679.33124499999997,16.271407,1728.8370010000001,27860,89.31,105.78,77.989999999999995,71.03]
[22,22077,"Pointe Coupee Parish","Louisiana","Pointe Coupee Parish, Louisiana",215,5,461,22802,942.89974600000005,21.927900999999999,2021.7524780000001,12940,91.55,71.09,"NA",98.29]
[12,12105,"Polk County","Florida","Polk County, Florida",5006,85,7361,602095,831.43025599999999,14.117374,1222.564545,29460,96.76,90.29,115.86,120.94]
[13,13233,"Polk County","Georgia","Polk County, Georgia",333,6,968,41475,802.89330900000004,14.466545999999999,2333.9361060000001,{"$error":"#N/A"},{"$error":"#N/A"},{"$error":"#N/A"},{"$error":"#N/A"},{"$error":"#N/A"}]
[19,19153,"Polk County","Iowa","Polk County, Iowa",3319,35,9342,430640,770.71335699999997,8.1274379999999997,2169.3293699999999,19780,102.96,129.31,116.94,112.82]
[27,27119,"Polk County","Minnesota","Polk County, Minnesota",66,6,271,31600,208.860759,18.987342000000002,857.59493699999996,24220,89.65,106.65,85.6,58.59]
[29,29167,"Polk County","Missouri","Polk County, Missouri",141,9,439,31137,452.83746000000002,28.904519000000001,1409.8981920000001,{"$error":"#N/A"},{"$error":"#N/A"},{"$error":"#N/A"},{"$error":"#N/A"},{"$error":"#N/A"}]
[31,31143,"Polk County","Nebraska","Polk County, Nebraska",12,0,91,5406,221.975583,0,1683.3148349999999,{"$error":"#N/A"},{"$error":"#N/A"},{"$error":"#N/A"},{"$error":"#N/A"},{"$error":"#N/A"}]
[37,37149,"Polk County","North Carolina","Polk County, North Carolina",109,5,351,20510,531.44807400000002,24.378352,1711.360312,{"$error":"#N/A"},{"$error":"#N/A"},{"$error":"#N/A"},{"$error":"#N/A"},{"$error":"#N/A"}]
[41,41053,"Polk County","Oregon","Polk County, Oregon",367,2,662,75403,486.71803499999999,2.6524139999999998,877.94915300000002,41420,94.97,105.79,80.13,83.85]
[47,47139,"Polk County","Tennessee","Polk County, Tennessee",110,5,288,16825,653.78900399999998,29.717682,1711.738484,{"$error":"#N/A"},{"$error":"#N/A"},{"$error":"#N/A"},{"$error":"#N/A"},{"$error":"#N/A"}]
[48,48373,"Polk County","Texas","Polk County, Texas",239,16,868,45413,526.28102100000001,35.232202000000001,1911.3469709999999,{"$error":"#N/A"},{"$error":"#N/A"},{"$error":"#N/A"},{"$error":"#N/A"},{"$error":"#N/A"}]
[55,55095,"Polk County","Wisconsin","Polk County, Wisconsin",200,5,611,44205,452.43750699999998,11.310938,1382.196584,{"$error":"#N/A"},{"$error":"#N/A"},{"$error":"#N/A"},{"$error":"#N/A"},{"$error":"#N/A"}]
[40,40123,"Pontotoc County","Oklahoma","Pontotoc County, Oklahoma",123,0,264,37492,328.06998800000002,0,704.15021899999999,{"$error":"#N/A"},{"$error":"#N/A"},{"$error":"#N/A"},{"$error":"#N/A"},{"$error":"#N/A"}]
[17,17151,"Pope County","Illinois","Pope County, Illinois",25,2,105,4470,559.28411600000004,44.742728999999997,2348.993289,{"$error":"#N/A"},{"$error":"#N/A"},{"$error":"#N/A"},{"$error":"#N/A"},{"$error":"#N/A"}]
[51,51735,"Poquoson city","Virginia","Poquoson city, Virginia",21,0,59,12150,172.839506,0,485.59670799999998,47260,97.09,105.92,77.55,104.32]
[39,39133,"Portage County","Ohio","Portage County, Ohio",1075,15,4153,161419,665.96869000000004,9.292586,2572.8074139999999,10420,94.89,103.8,90.32,100.22]
[55,55097,"Portage County","Wisconsin","Portage County, Wisconsin",308,5,1432,70019,439.88060400000001,7.1409190000000002,2045.159171,{"$error":"#N/A"},{"$error":"#N/A"},{"$error":"#N/A"},{"$error":"#N/A"},{"$error":"#N/A"}]
[18,18127,"Porter County","Indiana","Porter County, Indiana",134,4,977,164343,81.536786000000006,2.4339339999999998,594.48835699999995,16980,96.95,108.4,88.88,87.95]
[51,51740,"Portsmouth city","Virginia","Portsmouth city, Virginia",656,0,1413,95535,686.65934000000004,0,1479.039096,47260,111.16,129.35,88.86,163.76]
[18,18129,"Posey County","Indiana","Posey County, Indiana",18,0,128,25910,69.471247000000005,0,494.01775400000002,21780,92.19,75.2,81.37,81.92]
[20,20149,"Pottawatomie County","Kansas","Pottawatomie County, Kansas",99,2,432,21604,458.24847299999999,9.2575450000000004,1999.629698,31740,89,"NA",81.55,95.3]
[40,40125,"Pottawatomie County","Oklahoma","Pottawatomie County, Oklahoma",431,19,1143,69442,620.66184699999997,27.360963000000002,1645.977938,{"$error":"#N/A"},{"$error":"#N/A"},{"$error":"#N/A"},{"$error":"#N/A"},{"$error":"#N/A"}]
[19,19155,"Pottawattamie County","Iowa","Pottawattamie County, Iowa",591,12,1721,93158,634.40606300000002,12.881341000000001,1847.399042,36540,97.53,120.78,95.92,99.22]
[42,42105,"Potter County","Pennsylvania","Potter County, Pennsylvania",40,3,108,17457,229.134445,17.185082999999999,618.66300100000001,{"$error":"#N/A"},{"$error":"#N/A"},{"$error":"#N/A"},{"$error":"#N/A"},{"$error":"#N/A"}]
[48,48375,"Potter County","Texas","Potter County, Texas",814,22,2841,121073,672.32165699999996,18.170856000000001,2346.5182159999999,11100,101.4,118.2,99.33,132.71]
[16,16077,"Power County","Idaho","Power County, Idaho",56,5,145,7817,716.38736100000006,63.963157000000002,1854.9315590000001,{"$error":"#N/A"},{"$error":"#N/A"},{"$error":"#N/A"},{"$error":"#N/A"},{"$error":"#N/A"}]
[51,51145,"Powhatan County","Virginia","Powhatan County, Virginia",109,0,241,28046,388.647222,0,859.30257400000005,40060,94.07,44.51,74.52,65.38]
[20,20151,"Pratt County","Kansas","Pratt County, Kansas",41,6,282,9656,424.60646200000002,62.137531000000003,2920.46396,{"$error":"#N/A"},{"$error":"#N/A"},{"$error":"#N/A"},{"$error":"#N/A"},{"$error":"#N/A"}]
[39,39135,"Preble County","Ohio","Preble County, Ohio",273,5,967,42270,645.848119,11.828720000000001,2287.6744739999999,19380,90.05,70.459999999999994,86.69,100.99]
[48,48377,"Presidio County","Texas","Presidio County, Texas",13,0,56,7818,166.282937,0,716.29572800000005,{"$error":"#N/A"},{"$error":"#N/A"},{"$error":"#N/A"},{"$error":"#N/A"},{"$error":"#N/A"}]
[26,26141,"Presque Isle County","Michigan","Presque Isle County, Michigan",54,0,544,13376,403.70813399999997,0,4066.9856460000001,{"$error":"#N/A"},{"$error":"#N/A"},{"$error":"#N/A"},{"$error":"#N/A"},{"$error":"#N/A"}]
[54,54077,"Preston County","West Virginia","Preston County, West Virginia",215,6,552,33520,641.40811499999995,17.899761000000002,1646.778043,34060,88.93,44.98,90.63,80.67]
[55,55099,"Price County","Wisconsin","Price County, Wisconsin",45,2,165,14159,317.81905499999999,14.125291000000001,1165.3365349999999,{"$error":"#N/A"},{"$error":"#N/A"},{"$error":"#N/A"},{"$error":"#N/A"},{"$error":"#N/A"}]
[51,51149,"Prince George County","Virginia","Prince George County, Virginia",189,0,482,35725,529.04128800000001,0,1349.1952409999999,40060,90.96,66.680000000000007,75.53,81.97]
[24,24033,"Prince George's County","Maryland","Prince George's County, Maryland",4372,97,12828,863420,506.35843499999999,11.234393000000001,1485.71958,47900,112.7,124.13,90.27,125.16]
[51,51153,"Prince William County","Virginia","Prince William County, Virginia",1976,0,5207,402002,491.53984300000002,0,1295.267188,47900,106.28,106.57,94.52,115.14]
[44,44007,"Providence County","Rhode Island","Providence County, Rhode Island",5293,22,25766,626667,844.62720999999999,3.5106359999999999,4111.5935579999996,39300,121.1,142.01,141.75,134.74]
[8,8101,"Pueblo County","Colorado","Pueblo County, Colorado",314,23,3874,159063,197.406059,14.459679,2435.5129729999999,39380,100.43,112.15,112.96,121.67]
[5,5119,"Pulaski County","Arkansas","Pulaski County, Arkansas",3870,51,12388,382748,1011.109137,13.324693999999999,3236.5943130000001,30780,100.95,111.48,116.72,127.01]
[13,13235,"Pulaski County","Georgia","Pulaski County, Georgia",50,3,146,12010,416.31973399999998,24.979184,1215.653622,{"$error":"#N/A"},{"$error":"#N/A"},{"$error":"#N/A"},{"$error":"#N/A"},{"$error":"#N/A"}]
[17,17153,"Pulaski County","Illinois","Pulaski County, Illinois",17,0,135,6161,275.92923200000001,0,2191.2027269999999,{"$error":"#N/A"},{"$error":"#N/A"},{"$error":"#N/A"},{"$error":"#N/A"},{"$error":"#N/A"}]
[29,29169,"Pulaski County","Missouri","Pulaski County, Missouri",237,10,926,52274,453.38026600000001,19.129968999999999,1771.4351300000001,{"$error":"#N/A"},{"$error":"#N/A"},{"$error":"#N/A"},{"$error":"#N/A"},{"$error":"#N/A"}]
[51,51155,"Pulaski County","Virginia","Pulaski County, Virginia",193,0,564,34872,553.45262700000001,0,1617.343427,13980,91.55,84.58,83.02,103.9]
[40,40127,"Pushmataha County","Oklahoma","Pushmataha County, Oklahoma",0,9,92,11572,0,77.773937000000004,795.022468,{"$error":"#N/A"},{"$error":"#N/A"},{"$error":"#N/A"},{"$error":"#N/A"},{"$error":"#N/A"}]
[12,12107,"Putnam County","Florida","Putnam County, Florida",832,22,1110,74364,1118.820935,29.584206999999999,1492.6577380000001,{"$error":"#N/A"},{"$error":"#N/A"},{"$error":"#N/A"},{"$error":"#N/A"},{"$error":"#N/A"}]
[13,13237,"Putnam County","Georgia","Putnam County, Georgia",156,4,683,21218,735.22480900000005,18.851918000000001,3218.9650299999998,{"$error":"#N/A"},{"$error":"#N/A"},{"$error":"#N/A"},{"$error":"#N/A"},{"$error":"#N/A"}]
[17,17155,"Putnam County","Illinois","Putnam County, Illinois",29,1,177,6006,482.850483,16.650016999999998,2947.0529470000001,{"$error":"#N/A"},{"$error":"#N/A"},{"$error":"#N/A"},{"$error":"#N/A"},{"$error":"#N/A"}]
[18,18133,"Putnam County","Indiana","Putnam County, Indiana",29,0,160,37963,76.390169,0,421.46300300000001,26900,91.01,96.03,82.78,73.040000000000006]
[29,29171,"Putnam County","Missouri","Putnam County, Missouri",25,0,69,4979,502.108857,0,1385.8204459999999,{"$error":"#N/A"},{"$error":"#N/A"},{"$error":"#N/A"},{"$error":"#N/A"},{"$error":"#N/A"}]
[36,36079,"Putnam County","New York","Putnam County, New York",657,10,3111,99710,658.910841,10.029083999999999,3120.0481399999999,35620,94.19,95.77,83.82,88.92]
[39,39137,"Putnam County","Ohio","Putnam County, Ohio",96,6,452,34499,278.268935,17.391808000000001,1310.182904,{"$error":"#N/A"},{"$error":"#N/A"},{"$error":"#N/A"},{"$error":"#N/A"},{"$error":"#N/A"}]
[47,47141,"Putnam County","Tennessee","Putnam County, Tennessee",690,10,3632,72321,954.07972800000005,13.827242,5022.0544520000003,{"$error":"#N/A"},{"$error":"#N/A"},{"$error":"#N/A"},{"$error":"#N/A"},{"$error":"#N/A"}]
[54,54079,"Putnam County","West Virginia","Putnam County, West Virginia",491,12,1591,55486,884.90790500000003,21.627077,2867.3899719999999,16620,93.37,87.87,78.209999999999994,99.34]
[24,24035,"Queen Anne's County","Maryland",{"$f":"CONCATENATE(C1730,\", \",D1730)","v":"Queen Anne's County, Maryland"},215,4,666,47798,449.80961500000001,8.3685510000000001,1393.3637389999999,12580,91.01,67.98,77.17,76.61]
[36,36081,"Queens County","New York","Queens County, New York",14172,67,23286,2230722,635.31000300000005,3.0035120000000002,1043.8772739999999,35620,266.33999999999997,147.41999999999999,91.93,224.01]
[13,13239,"Quitman County","Georgia","Quitman County, Georgia",15,0,25,2513,596.89613999999995,0,994.82690000000002,{"$error":"#N/A"},{"$error":"#N/A"},{"$error":"#N/A"},{"$error":"#N/A"},{"$error":"#N/A"}]
[13,13241,"Rabun County","Georgia","Rabun County, Georgia",144,3,465,16276,884.73826499999996,18.432047000000001,2856.967314,{"$error":"#N/A"},{"$error":"#N/A"},{"$error":"#N/A"},{"$error":"#N/A"},{"$error":"#N/A"}]
[55,55101,"Racine County","Wisconsin","Racine County, Wisconsin",1115,19,3378,195408,570.600999,9.7232459999999996,1728.6907389999999,39540,100.48,122.63,111.62,107.68]
[51,51750,"Radford city","Virginia","Radford city, Virginia",44,0,163,16408,268.16187200000002,0,993.41784500000006,13980,105.79,135.4,81.239999999999995,156.21]
[48,48379,"Rains County","Texas","Rains County, Texas",42,1,120,10914,384.82682799999998,9.1625440000000005,1099.5052229999999,{"$error":"#N/A"},{"$error":"#N/A"},{"$error":"#N/A"},{"$error":"#N/A"},{"$error":"#N/A"}]
[29,29173,"Ralls County","Missouri","Ralls County, Missouri",59,2,184,10167,580.30884200000003,19.671486000000002,1809.7767289999999,{"$error":"#N/A"},{"$error":"#N/A"},{"$error":"#N/A"},{"$error":"#N/A"},{"$error":"#N/A"}]
[27,27123,"Ramsey County","Minnesota","Ramsey County, Minnesota",2411,14,10391,508640,474.00912199999999,2.7524380000000002,2042.8987099999999,33460,117.31,135.35,105.13,148.75]
[48,48381,"Randall County","Texas","Randall County, Texas",486,12,1919,120725,402.56781899999999,9.9399460000000008,1589.5630570000001,11100,101.51,122.09,78.97,110.72]
[1,1111,"Randolph County","Alabama","Randolph County, Alabama",107,4,315,22913,466.98380800000001,17.457339000000001,1374.7654170000001,{"$error":"#N/A"},{"$error":"#N/A"},{"$error":"#N/A"},{"$error":"#N/A"},{"$error":"#N/A"}]
[13,13243,"Randolph County","Georgia","Randolph County, Georgia",35,1,100,7719,453.42660999999998,12.955045999999999,1295.5045990000001,{"$error":"#N/A"},{"$error":"#N/A"},{"$error":"#N/A"},{"$error":"#N/A"},{"$error":"#N/A"}]
[17,17157,"Randolph County","Illinois","Randolph County, Illinois",135,9,667,33476,403.27398699999998,26.884931999999999,1992.472219,{"$error":"#N/A"},{"$error":"#N/A"},{"$error":"#N/A"},{"$error":"#N/A"},{"$error":"#N/A"}]
[29,29175,"Randolph County","Missouri","Randolph County, Missouri",126,3,500,25414,495.78972199999998,11.804517000000001,1967.419533,{"$error":"#N/A"},{"$error":"#N/A"},{"$error":"#N/A"},{"$error":"#N/A"},{"$error":"#N/A"}]
[37,37151,"Randolph County","North Carolina","Randolph County, North Carolina",985,19,3045,141752,694.87555699999996,13.403691,2148.1178399999999,24660,92.22,84.74,100.63,57.18]
[28,28121,"Rankin County","Mississippi","Rankin County, Mississippi","#NULL!","#NULL!","#NULL!",141617,"#NULL!","#NULL!","#NULL!",27140,94.27,82.77,81.61,77.7]
[22,22079,"Rapides Parish","Louisiana","Rapides Parish, Louisiana",1550,24,4605,131613,1177.6952120000001,18.235281000000001,3498.8944860000001,10780,93.23,98.11,100.74,101.17]
[20,20153,"Rawlins County","Kansas","Rawlins County, Kansas",16,0,39,2519,635.17268799999999,0,1548.233426,{"$error":"#N/A"},{"$error":"#N/A"},{"$error":"#N/A"},{"$error":"#N/A"},{"$error":"#N/A"}]
[29,29177,"Ray County","Missouri","Ray County, Missouri",91,3,300,23494,387.33293600000002,12.769218,1276.921767,28140,89.65,108.59,73.349999999999994,65.040000000000006]
[48,48383,"Reagan County","Texas","Reagan County, Texas",28,0,53,3367,831.60083199999997,0,1574.101574,{"$error":"#N/A"},{"$error":"#N/A"},{"$error":"#N/A"},{"$error":"#N/A"},{"$error":"#N/A"}]
[48,48385,"Real County","Texas","Real County, Texas",33,4,74,3309,997.28014499999995,120.882442,2236.3251740000001,{"$error":"#N/A"},{"$error":"#N/A"},{"$error":"#N/A"},{"$error":"#N/A"},{"$error":"#N/A"}]
[48,48387,"Red River County","Texas","Red River County, Texas",70,5,180,12860,544.32348400000001,38.880248999999999,1399.688958,{"$error":"#N/A"},{"$error":"#N/A"},{"$error":"#N/A"},{"$error":"#N/A"},{"$error":"#N/A"}]
[31,31145,"Red Willow County","Nebraska","Red Willow County, Nebraska",31,3,216,11055,280.41610100000003,27.137042000000001,1953.8670279999999,{"$error":"#N/A"},{"$error":"#N/A"},{"$error":"#N/A"},{"$error":"#N/A"},{"$error":"#N/A"}]
[48,48389,"Reeves County","Texas","Reeves County, Texas",65,6,272,13783,471.59544399999999,43.531886999999998,1973.445549,{"$error":"#N/A"},{"$error":"#N/A"},{"$error":"#N/A"},{"$error":"#N/A"},{"$error":"#N/A"}]
[48,48391,"Refugio County","Texas","Refugio County, Texas",28,2,152,7383,379.24962799999997,27.089258999999998,2058.783692,{"$error":"#N/A"},{"$error":"#N/A"},{"$error":"#N/A"},{"$error":"#N/A"},{"$error":"#N/A"}]
[20,20155,"Reno County","Kansas","Reno County, Kansas",199,10,1096,64511,308.47452399999997,15.501232,1698.9350649999999,{"$error":"#N/A"},{"$error":"#N/A"},{"$error":"#N/A"},{"$error":"#N/A"},{"$error":"#N/A"}]
[36,36083,"Rensselaer County","New York","Rensselaer County, New York",895,7,3871,159429,561.37841900000001,4.3906689999999999,2428.0400679999998,10580,99.2,109.08,97.62,92.25]
[20,20157,"Republic County","Kansas","Republic County, Kansas",6,2,47,4980,120.481928,40.160643,943.77509999999995,{"$error":"#N/A"},{"$error":"#N/A"},{"$error":"#N/A"},{"$error":"#N/A"},{"$error":"#N/A"}]
[29,29179,"Reynolds County","Missouri","Reynolds County, Missouri",33,1,107,6696,492.83154100000002,14.934289,1597.9689370000001,{"$error":"#N/A"},{"$error":"#N/A"},{"$error":"#N/A"},{"$error":"#N/A"},{"$error":"#N/A"}]
[47,47143,"Rhea County","Tennessee","Rhea County, Tennessee",117,5,438,31809,367.82042799999999,15.718821999999999,1376.9687819999999,{"$error":"#N/A"},{"$error":"#N/A"},{"$error":"#N/A"},{"$error":"#N/A"},{"$error":"#N/A"}]
[20,20159,"Rice County","Kansas","Rice County, Kansas",37,2,217,10083,366.95427899999999,19.835366,2152.1372609999999,{"$error":"#N/A"},{"$error":"#N/A"},{"$error":"#N/A"},{"$error":"#N/A"},{"$error":"#N/A"}]
[49,49033,"Rich County","Utah","Rich County, Utah",19,2,73,2264,839.22261500000002,88.339223000000004,3224.381625,{"$error":"#N/A"},{"$error":"#N/A"},{"$error":"#N/A"},{"$error":"#N/A"},{"$error":"#N/A"}]
[31,31147,"Richardson County","Nebraska","Richardson County, Nebraska",9,3,110,8363,107.616884,35.872295000000001,1315.31747,{"$error":"#N/A"},{"$error":"#N/A"},{"$error":"#N/A"},{"$error":"#N/A"},{"$error":"#N/A"}]
[17,17159,"Richland County","Illinois","Richland County, Illinois",69,0,357,16233,425.06006300000001,0,2199.2238029999999,{"$error":"#N/A"},{"$error":"#N/A"},{"$error":"#N/A"},{"$error":"#N/A"},{"$error":"#N/A"}]
[39,39139,"Richland County","Ohio","Richland County, Ohio",1027,13,3955,124475,825.06527400000004,10.443864,3177.3448480000002,31900,94.98,105.89,118.65,103.59]
[45,45079,"Richland County","South Carolina","Richland County, South Carolina",2707,40,10443,384504,704.02388499999995,10.403013,2715.9665439999999,17900,101.53,109.51,144.33000000000001,110.91]
[55,55103,"Richland County","Wisconsin","Richland County, Wisconsin",109,3,465,18021,604.84989700000006,16.647245000000002,2580.3229569999999,{"$error":"#N/A"},{"$error":"#N/A"},{"$error":"#N/A"},{"$error":"#N/A"},{"$error":"#N/A"}]
[51,51760,"Richmond city","Virginia","Richmond city, Virginia",1774,0,4739,204214,868.69656299999997,0,2320.6048559999999,40060,120.46,133.06,160.69,172.23]
[13,13245,"Richmond County","Georgia","Richmond County, Georgia",1875,37,9147,200549,934.93360700000005,18.449356999999999,4560.9801100000004,12260,99.09,111.4,124.13,104.91]
[36,36085,"Richmond County","New York","Richmond County, New York",3071,14,5434,468730,655.174621,2.9867940000000002,1159.3027970000001,35620,175.08,131.66999999999999,78.94,179.98]
[37,37153,"Richmond County","North Carolina","Richmond County, North Carolina",360,11,859,46639,771.88619000000006,23.585411000000001,1841.806214,{"$error":"#N/A"},{"$error":"#N/A"},{"$error":"#N/A"},{"$error":"#N/A"},{"$error":"#N/A"}]
[20,20161,"Riley County","Kansas","Riley County, Kansas",300,3,1271,71115,421.85192999999998,4.2185189999999997,1787.2460100000001,31740,98.61,"NA",93.38,105.56]
[29,29181,"Ripley County","Missouri","Ripley County, Missouri",114,4,276,14100,808.51063799999997,28.368794000000001,1957.446809,{"$error":"#N/A"},{"$error":"#N/A"},{"$error":"#N/A"},{"$error":"#N/A"},{"$error":"#N/A"}]
[6,6065,"Riverside County","California","Riverside County, California",7632,190,20631,2189641,348.55028700000003,8.6772220000000004,942.209248,40140,105.36,117.55,108.49,98.38]
[47,47145,"Roane County","Tennessee","Roane County, Tennessee",346,10,1133,54181,638.60024699999997,18.456655000000001,2091.1389600000002,{"$error":"#N/A"},{"$error":"#N/A"},{"$error":"#N/A"},{"$error":"#N/A"},{"$error":"#N/A"}]
[51,51770,"Roanoke city","Virginia","Roanoke city, Virginia",496,0,1844,97032,511.17157200000003,0,1900.40399,40220,109.84,129.71,120.97,155.62]
[51,51161,"Roanoke County","Virginia","Roanoke County, Virginia",288,0,1180,92376,311.76929100000001,0,1277.388066,40220,96.03,110.04,80.69,98.89]
[48,48393,"Roberts County","Texas","Roberts County, Texas",9,3,28,929,968.783638,322.92787900000002,3013.9935409999998,{"$error":"#N/A"},{"$error":"#N/A"},{"$error":"#N/A"},{"$error":"#N/A"},{"$error":"#N/A"}]
[47,47147,"Robertson County","Tennessee","Robertson County, Tennessee",417,7,1816,66283,629.120589,10.560777,2739.7673610000002,34980,91.68,72.06,85.62,63.1]
[48,48395,"Robertson County","Texas","Robertson County, Texas",83,8,300,16622,499.33822600000002,48.128985999999998,1804.836963,{"$error":"#N/A"},{"$error":"#N/A"},{"$error":"#N/A"},{"$error":"#N/A"},{"$error":"#N/A"}]
[37,37155,"Robeson County","North Carolina","Robeson County, North Carolina",1299,44,3147,134168,968.18913599999996,32.794705,2345.5667520000002,{"$error":"#N/A"},{"$error":"#N/A"},{"$error":"#N/A"},{"$error":"#N/A"},{"$error":"#N/A"}]
[31,31149,"Rock County","Nebraska","Rock County, Nebraska",2,0,25,1526,131.061599,0,1638.2699869999999,{"$error":"#N/A"},{"$error":"#N/A"},{"$error":"#N/A"},{"$error":"#N/A"},{"$error":"#N/A"}]
[55,55105,"Rock County","Wisconsin","Rock County, Wisconsin",804,18,2890,160331,501.46259900000001,11.226775,1802.521035,27500,97.51,113.9,108.04,98.59]
[17,17161,"Rock Island County","Illinois","Rock Island County, Illinois",706,2,3200,147546,478.49484200000001,1.3555090000000001,2168.815149,19340,101.09,128.28,104.97,116.1]
[13,13247,"Rockdale County","Georgia","Rockdale County, Georgia",762,8,2987,85215,894.20876599999997,9.3880189999999999,3505.2514230000002,12060,95.92,93.91,82.64,86.78]
[33,33015,"Rockingham County","New Hampshire","Rockingham County, New Hampshire",2153,16,11839,295223,729.279223,5.419632,4010.1889080000001,14460,94,101.41,97.51,82.02]
[37,37157,"Rockingham County","North Carolina","Rockingham County, North Carolina",653,13,1927,93643,697.32921799999997,13.882510999999999,2057.8153200000002,24660,90.85,72.36,83.7,76.47]
[51,51165,"Rockingham County","Virginia","Rockingham County, Virginia",299,0,847,76314,391.80229100000003,0,1109.8880939999999,25500,90.09,73.510000000000005,86.01,88.97]
[36,36087,"Rockland County","New York","Rockland County, New York",2360,18,12028,311687,757.16985299999999,5.7750240000000002,3858.9995730000001,35620,117.77,134.18,81.37,105.52]
[48,48397,"Rockwall County","Texas","Rockwall County, Texas",304,4,903,78337,388.06694199999998,5.1061439999999996,1152.7120010000001,19100,97.13,97.42,79.27,94.18]
[40,40129,"Roger Mills County","Oklahoma","Roger Mills County, Oklahoma",0,0,0,3647,0,0,0,{"$error":"#N/A"},{"$error":"#N/A"},{"$error":"#N/A"},{"$error":"#N/A"},{"$error":"#N/A"}]
[40,40131,"Rogers County","Oklahoma","Rogers County, Oklahoma",468,15,1227,86905,538.51907300000005,17.260227,1411.8865430000001,46140,92.33,79.739999999999995,87.59,95.45]
[20,20163,"Rooks County","Kansas","Rooks County, Kansas",13,0,157,5181,250.916811,0,3030.30303,{"$error":"#N/A"},{"$error":"#N/A"},{"$error":"#N/A"},{"$error":"#N/A"},{"$error":"#N/A"}]
[26,26143,"Roscommon County","Michigan","Roscommon County, Michigan",126,1,803,24449,515.35850100000005,4.090147,3284.3879099999999,{"$error":"#N/A"},{"$error":"#N/A"},{"$error":"#N/A"},{"$error":"#N/A"},{"$error":"#N/A"}]
[39,39141,"Ross County","Ohio",{"$f":"CONCATENATE(C1794,\", \",D1794)","v":"Ross County, Ohio"},529,12,2159,78064,677.64910799999996,15.372002,2765.679443,{"$error":"#N/A"},{"$error":"#N/A"},{"$error":"#N/A"},{"$error":"#N/A"},{"$error":"#N/A"}]
[37,37159,"Rowan County","North Carolina","Rowan County, North Carolina",832,18,2668,138428,601.03447300000005,13.00315,1927.3557370000001,{"$error":"#N/A"},{"$error":"#N/A"},{"$error":"#N/A"},{"$error":"#N/A"},{"$error":"#N/A"}]
[48,48399,"Runnels County","Texas","Runnels County, Texas",38,2,121,10501,361.87029799999999,19.045805000000001,1152.2712120000001,{"$error":"#N/A"},{"$error":"#N/A"},{"$error":"#N/A"},{"$error":"#N/A"},{"$error":"#N/A"}]
[20,20165,"Rush County","Kansas","Rush County, Kansas",13,2,147,3307,393.10553399999998,60.477773999999997,4445.1164200000003,{"$error":"#N/A"},{"$error":"#N/A"},{"$error":"#N/A"},{"$error":"#N/A"},{"$error":"#N/A"}]
[48,48401,"Rusk County","Texas","Rusk County, Texas",274,12,814,53330,513.78211099999999,22.501405999999999,1526.345397,30980,89.28,80.540000000000006,82.05,67.69]
[55,55107,"Rusk County","Wisconsin","Rusk County, Wisconsin",52,3,225,14755,352.42290700000001,20.332090999999998,1524.9068110000001,{"$error":"#N/A"},{"$error":"#N/A"},{"$error":"#N/A"},{"$error":"#N/A"},{"$error":"#N/A"}]
[1,1113,"Russell County","Alabama","Russell County, Alabama",552,17,2037,52947,1042.5519859999999,32.107579000000001,3847.2434699999999,17980,94.83,90.91,78.650000000000006,93.54]
[20,20167,"Russell County","Kansas","Russell County, Kansas",62,2,316,6970,889.52654199999995,28.694405,4533.7159250000004,{"$error":"#N/A"},{"$error":"#N/A"},{"$error":"#N/A"},{"$error":"#N/A"},{"$error":"#N/A"}]
[37,37161,"Rutherford County","North Carolina","Rutherford County, North Carolina",468,6,1137,67810,690.16369299999997,8.8482520000000005,1676.743843,{"$error":"#N/A"},{"$error":"#N/A"},{"$error":"#N/A"},{"$error":"#N/A"},{"$error":"#N/A"}]
[47,47149,"Rutherford County","Tennessee","Rutherford County, Tennessee",2307,21,8559,262604,878.50908600000002,7.9968320000000004,3259.2801330000002,34980,97.98,90.6,108.29,83.25]
[48,48403,"Sabine County","Texas","Sabine County, Texas",43,3,109,10834,396.89865200000003,27.690604,1006.091933,{"$error":"#N/A"},{"$error":"#N/A"},{"$error":"#N/A"},{"$error":"#N/A"},{"$error":"#N/A"}]
[6,6067,"Sacramento County","California","Sacramento County, California",7348,118,17539,1418788,517.90683300000001,8.3169579999999996,1236.195964,40900,115.28,128.54,135.69999999999999,129.68]
[23,23023,"Sagadahoc County","Maine","Sagadahoc County, Maine",163,3,635,35293,461.847959,8.5002689999999994,1799.2236419999999,38860,91.37,75.849999999999994,95.72,87.89]
[26,26145,"Saginaw County","Michigan","Saginaw County, Michigan",1025,21,5566,200169,512.06730300000004,10.491135,2780.6503499999999,40980,96.26,111.36,121.05,101.28]
[51,51775,"Salem city","Virginia","Salem city, Virginia",173,0,492,24802,697.52439300000003,0,1983.7109909999999,40220,107.3,128.88,76.930000000000007,140.41]
[34,34033,"Salem County","New Jersey","Salem County, New Jersey",426,11,1693,66083,644.64385700000003,16.645733,2561.9296939999999,37980,94.41,98,80.11,92.91]
[5,5125,"Saline County","Arkansas","Saline County, Arkansas",562,17,2044,107118,524.65505299999995,15.870348999999999,1908.1760300000001,30780,92.78,80.989999999999995,106.43,75.8]
[17,17165,"Saline County","Illinois","Saline County, Illinois",114,3,609,24913,457.592422,12.041906000000001,2444.5068839999999,{"$error":"#N/A"},{"$error":"#N/A"},{"$error":"#N/A"},{"$error":"#N/A"},{"$error":"#N/A"}]
[20,20169,"Saline County","Kansas","Saline County, Kansas",323,5,1168,55606,580.872568,8.991835,2100.492753,{"$error":"#N/A"},{"$error":"#N/A"},{"$error":"#N/A"},{"$error":"#N/A"},{"$error":"#N/A"}]
[29,29195,"Saline County","Missouri","Saline County, Missouri",125,2,568,23370,534.87377000000004,8.5579800000000006,2430.46641,{"$error":"#N/A"},{"$error":"#N/A"},{"$error":"#N/A"},{"$error":"#N/A"},{"$error":"#N/A"}]
[31,31151,"Saline County","Nebraska","Saline County, Nebraska",32,1,207,14200,225.352113,7.0422539999999998,1457.7464789999999,{"$error":"#N/A"},{"$error":"#N/A"},{"$error":"#N/A"},{"$error":"#N/A"},{"$error":"#N/A"}]
[49,49035,"Salt Lake County","Utah","Salt Lake County, Utah",5966,56,19639,1029655,579.41737799999999,5.4387150000000002,1907.3378949999999,41620,112.04,129.1,106.26,116.3]
[45,45081,"Saluda County","South Carolina","Saluda County, South Carolina",119,3,284,19875,598.74213799999995,15.094340000000001,1428.930818,{"$error":"#N/A"},{"$error":"#N/A"},{"$error":"#N/A"},{"$error":"#N/A"},{"$error":"#N/A"}]
[37,37163,"Sampson County","North Carolina","Sampson County, North Carolina",512,16,1544,63431,807.17630199999996,25.224259,2434.1410350000001,{"$error":"#N/A"},{"$error":"#N/A"},{"$error":"#N/A"},{"$error":"#N/A"},{"$error":"#N/A"}]
[48,48405,"San Augustine County","Texas","San Augustine County, Texas",51,5,164,8865,575.296108,56.401578999999998,1849.9717989999999,{"$error":"#N/A"},{"$error":"#N/A"},{"$error":"#N/A"},{"$error":"#N/A"},{"$error":"#N/A"}]
[6,6069,"San Benito County","California","San Benito County, California",186,4,538,55269,336.53585199999998,7.23733,973.42090499999995,41940,103.1,115.79,78.56,105.1]
[6,6071,"San Bernardino County","California","San Bernardino County, California",7915,203,23958,2035210,388.90335599999997,9.9744010000000003,1177.1758199999999,40140,106.82,122.13,95.87,92.42]
[6,6073,"San Diego County","California","San Diego County, California",12637,174,22959,3095313,408.262428,5.6214019999999998,741.73435800000004,41740,118.35,129.63999999999999,121.82,116.14]
[6,6075,"San Francisco County","California","San Francisco County, California",3649,29,6517,805235,453.15963699999998,3.6014330000000001,809.32895399999995,41860,250.84,153.79,258.47000000000003,215.72]
[48,48407,"San Jacinto County","Texas","San Jacinto County, Texas",138,7,339,26384,523.04426899999999,26.531230999999998,1284.8696179999999,{"$error":"#N/A"},{"$error":"#N/A"},{"$error":"#N/A"},{"$error":"#N/A"},{"$error":"#N/A"}]
[6,6077,"San Joaquin County","California","San Joaquin County, California",3057,75,8024,685306,446.078102,10.944016,1170.863818,44700,106.5,132.91999999999999,104.79,118.62]
[35,35045,"San Juan County","New Mexico","San Juan County, New Mexico",784,15,2619,130044,602.87287400000002,11.534558000000001,2013.9337459999999,22140,93.52,88.26,135.96,78.81]
[49,49037,"San Juan County","Utah","San Juan County, Utah",64,2,252,14746,434.01600400000001,13.563000000000001,1708.9380169999999,{"$error":"#N/A"},{"$error":"#N/A"},{"$error":"#N/A"},{"$error":"#N/A"},{"$error":"#N/A"}]
[53,53055,"San Juan County","Washington","San Juan County, Washington",33,1,79,15769,209.271355,6.3415559999999997,500.98294099999998,{"$error":"#N/A"},{"$error":"#N/A"},{"$error":"#N/A"},{"$error":"#N/A"},{"$error":"#N/A"}]
[6,6079,"San Luis Obispo County","California","San Luis Obispo County, California",983,17,3295,269637,364.56421,6.304773,1222.013299,42020,97.52,124.79,111.43,102.74]
[6,6081,"San Mateo County","California","San Mateo County, California",2532,17,7285,718451,352.42487,2.3662019999999999,1013.987036,41860,130.72,144.53,93.82,131.35]
[48,48409,"San Patricio County","Texas","San Patricio County, Texas",306,6,1040,64804,472.19307500000002,9.2586879999999994,1604.839207,18580,93.48,114.78,84.07,111.29]
[48,48411,"San Saba County","Texas","San Saba County, Texas",20,2,52,6131,326.21105899999998,32.621105999999997,848.14875199999994,{"$error":"#N/A"},{"$error":"#N/A"},{"$error":"#N/A"},{"$error":"#N/A"},{"$error":"#N/A"}]
[35,35043,"Sandoval County","New Mexico","Sandoval County, New Mexico",612,20,1964,131561,465.18345099999999,15.202074,1492.8436240000001,10740,97.97,91.24,110.1,85.16]
[39,39143,"Sandusky County","Ohio","Sandusky County, Ohio",379,6,1845,60944,621.882384,9.8451039999999992,3027.3693880000001,{"$error":"#N/A"},{"$error":"#N/A"},{"$error":"#N/A"},{"$error":"#N/A"},{"$error":"#N/A"}]
[17,17167,"Sangamon County","Illinois","Sangamon County, Illinois",1213,20,4869,197465,614.28607599999998,10.128377,2465.7534249999999,44100,97.54,115.25,157.52000000000001,108.44]
[26,26151,"Sanilac County","Michigan","Sanilac County, Michigan",143,4,1582,43114,331.67880500000001,9.2777290000000008,3669.3417450000002,{"$error":"#N/A"},{"$error":"#N/A"},{"$error":"#N/A"},{"$error":"#N/A"},{"$error":"#N/A"}]
[49,49039,"Sanpete County","Utah","Sanpete County, Utah",68,7,222,27822,244.410898,25.159945,797.92969600000004,{"$error":"#N/A"},{"$error":"#N/A"},{"$error":"#N/A"},{"$error":"#N/A"},{"$error":"#N/A"}]
[6,6083,"Santa Barbara County","California","Santa Barbara County, California",1815,29,5567,423895,428.17207100000002,6.8413170000000001,1313.2969250000001,42060,116.62,139.69999999999999,112.02,116.13]
[6,6085,"Santa Clara County","California","Santa Clara County, California",6871,81,15462,1781642,385.65548000000001,4.5463680000000002,867.85111700000004,41940,131.02000000000001,139.68,107.58,132.85]
[6,6087,"Santa Cruz County","California","Santa Cruz County, California",1120,10,3393,262382,426.85854999999998,3.8112370000000002,1293.152732,42100,104.2,138.71,114.16,107.34]
[35,35049,"Santa Fe County","New Mexico","Santa Fe County, New Mexico",1117,20,3511,144170,774.77977399999997,13.872512,2435.3194149999999,42140,99.91,106.29,116.83,88.05]
[12,12113,"Santa Rosa County","Florida","Santa Rosa County, Florida",1502,21,1951,151372,992.25748499999997,13.873106999999999,1288.8777319999999,37860,92.28,93.99,81.78,80.59]
[12,12115,"Sarasota County","Florida","Sarasota County, Florida",3023,41,4671,379448,796.68360399999995,10.80517,1230.9987140000001,35840,101.61,116.04,113.62,124.42]
[36,36091,"Saratoga County","New York","Saratoga County, New York",1275,17,7038,219607,580.58258599999999,7.7411009999999996,3204.8158760000001,10580,95.36,98.37,102.26,80.900000000000006]
[31,31153,"Sarpy County","Nebraska","Sarpy County, Nebraska",449,7,1612,158840,282.67438900000002,4.4069500000000001,1014.857718,36540,101.37,112.49,87.29,118.08]
[55,55111,"Sauk County","Wisconsin","Sauk County, Wisconsin",409,4,1500,61976,659.93287699999996,6.4541110000000002,2420.2917259999999,{"$error":"#N/A"},{"$error":"#N/A"},{"$error":"#N/A"},{"$error":"#N/A"},{"$error":"#N/A"}]
[31,31155,"Saunders County","Nebraska","Saunders County, Nebraska",52,4,221,20780,250.24061599999999,19.249278,1063.522618,36540,88.71,95.5,88.74,85.06]
[55,55113,"Sawyer County","Wisconsin","Sawyer County, Wisconsin",77,3,251,16557,465.06009499999999,18.119223999999999,1515.9751160000001,{"$error":"#N/A"},{"$error":"#N/A"},{"$error":"#N/A"},{"$error":"#N/A"},{"$error":"#N/A"}]
[36,36093,"Schenectady County","New York","Schenectady County, New York",1018,9,5820,154727,657.93300499999998,5.8166969999999996,3761.4637389999998,10580,107.32,130.66,104.18,110.94]
[48,48413,"Schleicher County","Texas","Schleicher County, Texas",9,1,23,3461,260.04045100000002,28.893383,664.547819,{"$error":"#N/A"},{"$error":"#N/A"},{"$error":"#N/A"},{"$error":"#N/A"},{"$error":"#N/A"}]
[13,13249,"Schley County","Georgia","Schley County, Georgia",24,2,67,5010,479.04191600000001,39.920160000000003,1337.325349,{"$error":"#N/A"},{"$error":"#N/A"},{"$error":"#N/A"},{"$error":"#N/A"},{"$error":"#N/A"}]
[36,36095,"Schoharie County","New York","Schoharie County, New York",168,0,918,32749,512.99276299999997,0,2803.1390270000002,10580,90.59,78.790000000000006,84.01,56.05]
[26,26153,"Schoolcraft County","Michigan","Schoolcraft County, Michigan",35,2,368,8485,412.49263400000001,23.571007999999999,4337.0654100000002,{"$error":"#N/A"},{"$error":"#N/A"},{"$error":"#N/A"},{"$error":"#N/A"},{"$error":"#N/A"}]
[17,17169,"Schuyler County","Illinois","Schuyler County, Illinois",29,2,261,7544,384.41145299999999,26.511134999999999,3459.7030749999999,{"$error":"#N/A"},{"$error":"#N/A"},{"$error":"#N/A"},{"$error":"#N/A"},{"$error":"#N/A"}]
[29,29197,"Schuyler County","Missouri","Schuyler County, Missouri",24,1,48,4431,541.63845600000002,22.568269000000001,1083.2769129999999,{"$error":"#N/A"},{"$error":"#N/A"},{"$error":"#N/A"},{"$error":"#N/A"},{"$error":"#N/A"}]
[36,36097,"Schuyler County","New York","Schuyler County, New York",112,2,756,18343,610.58714499999996,10.903342,4121.4632279999996,{"$error":"#N/A"},{"$error":"#N/A"},{"$error":"#N/A"},{"$error":"#N/A"},{"$error":"#N/A"}]
[42,42107,"Schuylkill County","Pennsylvania","Schuylkill County, Pennsylvania",518,19,1207,148289,349.31788599999999,12.812818,813.95113600000002,{"$error":"#N/A"},{"$error":"#N/A"},{"$error":"#N/A"},{"$error":"#N/A"},{"$error":"#N/A"}]
[39,39145,"Scioto County","Ohio","Scioto County, Ohio",539,12,2063,79499,677.99594999999999,15.094529,2595.0011949999998,{"$error":"#N/A"},{"$error":"#N/A"},{"$error":"#N/A"},{"$error":"#N/A"},{"$error":"#N/A"}]
[29,29199,"Scotland County","Missouri",{"$f":"CONCATENATE(C1858,\", \",D1858)","v":"Scotland County, Missouri"},22,0,56,4843,454.26388600000001,0,1156.308074,{"$error":"#N/A"},{"$error":"#N/A"},{"$error":"#N/A"},{"$error":"#N/A"},{"$error":"#N/A"}]
[37,37165,"Scotland County","North Carolina","Scotland County, North Carolina",226,2,575,36157,625.05185700000004,5.5314319999999997,1590.286805,{"$error":"#N/A"},{"$error":"#N/A"},{"$error":"#N/A"},{"$error":"#N/A"},{"$error":"#N/A"}]
[17,17171,"Scott County","Illinois","Scott County, Illinois",25,1,132,5355,466.853408,18.674136000000001,2464.9859940000001,{"$error":"#N/A"},{"$error":"#N/A"},{"$error":"#N/A"},{"$error":"#N/A"},{"$error":"#N/A"}]
[19,19163,"Scott County","Iowa","Scott County, Iowa",1227,16,3711,165224,742.62819000000002,9.6838230000000003,2246.041737,19340,100.21,128.03,85.19,130.22]
[20,20171,"Scott County","Kansas","Scott County, Kansas",16,1,80,4936,324.14910900000001,20.259319000000001,1620.745543,{"$error":"#N/A"},{"$error":"#N/A"},{"$error":"#N/A"},{"$error":"#N/A"},{"$error":"#N/A"}]
[21,21209,"Scott County","Kentucky","Scott County, Kentucky",264,6,1354,47173,559.64216799999997,12.719139999999999,2870.285969,30460,95.24,97.32,80.790000000000006,97.28]
[27,27139,"Scott County","Minnesota","Scott County, Minnesota",378,9,1120,129928,290.930361,6.9269129999999999,862.01588600000002,33460,96.04,104.74,81.510000000000005,85.26]
[29,29201,"Scott County","Missouri","Scott County, Missouri",208,8,839,39191,530.73409700000002,20.412849999999999,2140.7976319999998,{"$error":"#N/A"},{"$error":"#N/A"},{"$error":"#N/A"},{"$error":"#N/A"},{"$error":"#N/A"}]
[47,47151,"Scott County","Tennessee","Scott County, Tennessee",99,2,252,22228,445.38420000000002,8.9976610000000008,1133.7052369999999,{"$error":"#N/A"},{"$error":"#N/A"},{"$error":"#N/A"},{"$error":"#N/A"},{"$error":"#N/A"}]
[51,51169,"Scott County","Virginia","Scott County, Virginia",193,0,455,23177,832.72209499999997,0,1963.1531259999999,28700,89.25,50.38,78.010000000000005,92.28]
[31,31157,"Scotts Bluff County","Nebraska","Scotts Bluff County, Nebraska",173,5,750,36970,467.94698399999999,13.524478999999999,2028.6718960000001,{"$error":"#N/A"},{"$error":"#N/A"},{"$error":"#N/A"},{"$error":"#N/A"},{"$error":"#N/A"}]
[13,13251,"Screven County","Georgia","Screven County, Georgia",92,7,396,14593,630.43925200000001,47.968204,2713.6298230000002,{"$error":"#N/A"},{"$error":"#N/A"},{"$error":"#N/A"},{"$error":"#N/A"},{"$error":"#N/A"}]
[48,48415,"Scurry County","Texas","Scurry County, Texas",84,5,267,16921,496.42456099999998,29.549081000000001,1577.9209269999999,{"$error":"#N/A"},{"$error":"#N/A"},{"$error":"#N/A"},{"$error":"#N/A"},{"$error":"#N/A"}]
[5,5131,"Sebastian County","Arkansas","Sebastian County, Arkansas",969,15,3727,125744,770.61330999999996,11.928998999999999,2963.9585189999998,22900,97.44,103.71,93.42,108.24]
[20,20173,"Sedgwick County","Kansas","Sedgwick County, Kansas",2796,41,9260,498365,561.034583,8.2269020000000008,1858.075908,48620,102.93,118.91,117.57,112.3]
[12,12117,"Seminole County","Florida","Seminole County, Florida",2237,32,3250,422718,529.19440399999996,7.5700589999999996,768.834069,36740,105.12,116.39,81.81,121.13]
[13,13253,"Seminole County","Georgia","Seminole County, Georgia",54,3,176,8729,618.62756300000001,34.368198,2016.2676140000001,{"$error":"#N/A"},{"$error":"#N/A"},{"$error":"#N/A"},{"$error":"#N/A"},{"$error":"#N/A"}]
[40,40133,"Seminole County","Oklahoma","Seminole County, Oklahoma",161,0,349,25482,631.81853899999999,0,1369.5942230000001,{"$error":"#N/A"},{"$error":"#N/A"},{"$error":"#N/A"},{"$error":"#N/A"},{"$error":"#N/A"}]
[36,36099,"Seneca County","New York","Seneca County, New York",243,6,1508,35251,689.34214599999996,17.020793999999999,4277.8928260000002,{"$error":"#N/A"},{"$error":"#N/A"},{"$error":"#N/A"},{"$error":"#N/A"},{"$error":"#N/A"}]
[39,39147,"Seneca County","Ohio","Seneca County, Ohio",313,3,1468,56745,551.59044800000004,5.2868089999999999,2587.012072,{"$error":"#N/A"},{"$error":"#N/A"},{"$error":"#N/A"},{"$error":"#N/A"},{"$error":"#N/A"}]
[47,47153,"Sequatchie County","Tennessee","Sequatchie County, Tennessee",83,4,282,14112,588.151927,28.344671000000002,1998.2993200000001,16860,90.25,76.45,78.98,57.33]
[40,40135,"Sequoyah County","Oklahoma","Sequoyah County, Oklahoma",175,13,608,42391,412.82347700000003,30.666886999999999,1434.2667080000001,22900,89.78,72.88,91.9,101.22]
[47,47155,"Sevier County","Tennessee","Sevier County, Tennessee",903,16,3686,89889,1004.572306,17.799731000000001,4100.6129780000001,{"$error":"#N/A"},{"$error":"#N/A"},{"$error":"#N/A"},{"$error":"#N/A"},{"$error":"#N/A"}]
[49,49041,"Sevier County","Utah","Sevier County, Utah",132,4,413,20802,634.55436999999995,19.228919999999999,1985.386021,{"$error":"#N/A"},{"$error":"#N/A"},{"$error":"#N/A"},{"$error":"#N/A"},{"$error":"#N/A"}]
[20,20175,"Seward County","Kansas","Seward County, Kansas",55,1,398,22952,239.63053300000001,4.3569190000000004,1734.0536770000001,{"$error":"#N/A"},{"$error":"#N/A"},{"$error":"#N/A"},{"$error":"#N/A"},{"$error":"#N/A"}]
[31,31159,"Seward County","Nebraska","Seward County, Nebraska",55,0,336,16750,328.35820899999999,0,2005.970149,30700,89.14,99.79,77.47,81.06]
[48,48417,"Shackelford County","Texas","Shackelford County, Texas",15,0,42,3378,444.049734,0,1243.339254,{"$error":"#N/A"},{"$error":"#N/A"},{"$error":"#N/A"},{"$error":"#N/A"},{"$error":"#N/A"}]
[29,29203,"Shannon County","Missouri","Shannon County, Missouri",41,4,83,8441,485.72444000000002,47.387749999999997,983.29581800000005,{"$error":"#N/A"},{"$error":"#N/A"},{"$error":"#N/A"},{"$error":"#N/A"},{"$error":"#N/A"}]
[6,6089,"Shasta County","California","Shasta County, California",922,19,2389,177223,520.24850000000004,10.720955999999999,1348.0191620000001,39820,96,110.79,114.25,88.66]
[55,55115,"Shawano County","Wisconsin","Shawano County, Wisconsin",227,7,1368,41949,541.13328100000001,16.686928999999999,3261.1027680000002,{"$error":"#N/A"},{"$error":"#N/A"},{"$error":"#N/A"},{"$error":"#N/A"},{"$error":"#N/A"}]
[20,20177,"Shawnee County","Kansas","Shawnee County, Kansas",1009,14,4076,177934,567.06419200000005,7.8680859999999999,2290.7370150000002,45820,98.59,111.59,125.79,108.8]
[55,55117,"Sheboygan County","Wisconsin","Sheboygan County, Wisconsin",446,7,2053,115507,386.123785,6.0602390000000002,1777.381457,43100,97.6,115.59,94.01,98.77]
[1,1117,"Shelby County","Alabama","Shelby County, Alabama",429,18,1651,195085,219.904144,9.2267469999999996,846.29776800000002,13820,94.43,91.33,88.2,92.91]
[17,17173,"Shelby County","Illinois","Shelby County, Illinois",79,0,429,22363,353.26208500000001,0,1918.34727,{"$error":"#N/A"},{"$error":"#N/A"},{"$error":"#N/A"},{"$error":"#N/A"},{"$error":"#N/A"}]
[18,18145,"Shelby County","Indiana","Shelby County, Indiana",43,0,225,44436,96.768386000000007,0,506.346206,26900,98.24,116,82.26,97.84]
[21,21211,"Shelby County","Kentucky","Shelby County, Kentucky",225,9,1154,42074,534.77206799999999,21.390882999999999,2742.7865190000002,31140,95.85,91.76,112.29,86.78]
[29,29205,"Shelby County","Missouri","Shelby County, Missouri",12,2,47,6373,188.29436699999999,31.382394000000001,737.48626999999999,{"$error":"#N/A"},{"$error":"#N/A"},{"$error":"#N/A"},{"$error":"#N/A"},{"$error":"#N/A"}]
[39,39149,"Shelby County","Ohio","Shelby County, Ohio",236,7,1229,49423,477.510471,14.163446,2486.696477,{"$error":"#N/A"},{"$error":"#N/A"},{"$error":"#N/A"},{"$error":"#N/A"},{"$error":"#N/A"}]
[47,47157,"Shelby County","Tennessee","Shelby County, Tennessee",7819,94,34353,927644,842.88800400000002,10.133198,3703.2525409999998,32820,105.33,109.94,122.61,114.9]
[48,48419,"Shelby County","Texas","Shelby County, Texas",163,13,487,25448,640.52184799999998,51.084564999999998,1913.7063820000001,{"$error":"#N/A"},{"$error":"#N/A"},{"$error":"#N/A"},{"$error":"#N/A"},{"$error":"#N/A"}]
[27,27141,"Sherburne County","Minnesota","Sherburne County, Minnesota",326,3,1089,88499,368.36574400000001,3.389869,1230.522379,33460,92.57,80.55,85.4,79.349999999999994]
[20,20179,"Sheridan County","Kansas","Sheridan County, Kansas",7,0,80,2556,273.86541499999998,0,3129.8904539999999,{"$error":"#N/A"},{"$error":"#N/A"},{"$error":"#N/A"},{"$error":"#N/A"},{"$error":"#N/A"}]
[31,31161,"Sheridan County","Nebraska","Sheridan County, Nebraska",11,1,69,5469,201.13366199999999,18.284877999999999,1261.65661,{"$error":"#N/A"},{"$error":"#N/A"},{"$error":"#N/A"},{"$error":"#N/A"},{"$error":"#N/A"}]
[56,56033,"Sheridan County","Wyoming","Sheridan County, Wyoming",143,4,673,29116,491.138893,13.738151,2311.4438799999998,{"$error":"#N/A"},{"$error":"#N/A"},{"$error":"#N/A"},{"$error":"#N/A"},{"$error":"#N/A"}]
[20,20181,"Sherman County","Kansas","Sherman County, Kansas",26,1,135,6010,432.61231299999997,16.638935,2246.2562400000002,{"$error":"#N/A"},{"$error":"#N/A"},{"$error":"#N/A"},{"$error":"#N/A"},{"$error":"#N/A"}]
[31,31163,"Sherman County","Nebraska","Sherman County, Nebraska",6,1,41,3152,190.35533000000001,31.725888000000001,1300.7614209999999,{"$error":"#N/A"},{"$error":"#N/A"},{"$error":"#N/A"},{"$error":"#N/A"},{"$error":"#N/A"}]
[41,41055,"Sherman County","Oregon","Sherman County, Oregon",38,3,81,1765,2152.9745039999998,169.97167099999999,4589.2351269999999,{"$error":"#N/A"},{"$error":"#N/A"},{"$error":"#N/A"},{"$error":"#N/A"},{"$error":"#N/A"}]
[48,48421,"Sherman County","Texas","Sherman County, Texas",15,0,47,3034,494.39683600000001,0,1549.1100859999999,{"$error":"#N/A"},{"$error":"#N/A"},{"$error":"#N/A"},{"$error":"#N/A"},{"$error":"#N/A"}]
[26,26155,"Shiawassee County","Michigan","Shiawassee County, Michigan",346,6,2041,70648,489.75200999999998,8.4928089999999994,2888.970671,{"$error":"#N/A"},{"$error":"#N/A"},{"$error":"#N/A"},{"$error":"#N/A"},{"$error":"#N/A"}]
[16,16079,"Shoshone County","Idaho","Shoshone County, Idaho",55,5,182,12765,430.86564800000002,39.169604,1425.7736,{"$error":"#N/A"},{"$error":"#N/A"},{"$error":"#N/A"},{"$error":"#N/A"},{"$error":"#N/A"}]
[6,6091,"Sierra County","California","Sierra County, California",33,3,76,3240,1018.518519,92.592592999999994,2345.6790120000001,{"$error":"#N/A"},{"$error":"#N/A"},{"$error":"#N/A"},{"$error":"#N/A"},{"$error":"#N/A"}]
[28,28127,"Simpson County","Mississippi","Simpson County, Mississippi","#NULL!","#NULL!","#NULL!",27503,"#NULL!","#NULL!","#NULL!",27140,89.83,72.44,81.010000000000005,94.49]
[31,31165,"Sioux County","Nebraska","Sioux County, Nebraska",2,1,13,1311,152.55530099999999,76.277651000000006,991.60945800000002,{"$error":"#N/A"},{"$error":"#N/A"},{"$error":"#N/A"},{"$error":"#N/A"},{"$error":"#N/A"}]
[6,6093,"Siskiyou County","California","Siskiyou County, California",203,8,529,44900,452.115813,17.817371999999999,1178.1737189999999,{"$error":"#N/A"},{"$error":"#N/A"},{"$error":"#N/A"},{"$error":"#N/A"},{"$error":"#N/A"}]
[2,2220,"Sitka City and Borough","Alaska","Sitka City and Borough, Alaska",9,0,90,8881,101.339939,0,1013.399392,{"$error":"#N/A"},{"$error":"#N/A"},{"$error":"#N/A"},{"$error":"#N/A"},{"$error":"#N/A"}]
[53,53057,"Skagit County","Washington","Skagit County, Washington",578,4,1856,116901,494.43546199999997,3.4216989999999998,1587.6681980000001,34580,96.68,112.71,101.76,99.87]
[53,53059,"Skamania County","Washington","Skamania County, Washington",53,2,148,11066,478.94451500000002,18.073378000000002,1337.4299659999999,{"$error":"#N/A"},{"$error":"#N/A"},{"$error":"#N/A"},{"$error":"#N/A"},{"$error":"#N/A"}]
[20,20183,"Smith County","Kansas","Smith County, Kansas",10,1,127,3853,259.53802200000001,25.953802,3296.1328830000002,{"$error":"#N/A"},{"$error":"#N/A"},{"$error":"#N/A"},{"$error":"#N/A"},{"$error":"#N/A"}]
[47,47159,"Smith County","Tennessee","Smith County, Tennessee",142,3,579,19166,740.89533500000005,15.652718,3020.974643,34980,90.53,70.87,66.08,83.13]
[48,48423,"Smith County","Texas","Smith County, Texas",1700,39,5321,209714,810.62780699999996,18.596755999999999,2537.2650370000001,46340,95.5,100.31,119.02,100.6]
[53,53061,"Snohomish County","Washington","Snohomish County, Washington",3493,41,11230,713335,489.67175300000002,5.7476500000000001,1574.2953869999999,42660,103.47,116.86,122.73,100.03]
[42,42109,"Snyder County","Pennsylvania","Snyder County, Pennsylvania",133,5,345,39702,334.99571800000001,12.593824,868.97385499999996,{"$error":"#N/A"},{"$error":"#N/A"},{"$error":"#N/A"},{"$error":"#N/A"},{"$error":"#N/A"}]
[6,6095,"Solano County","California","Solano County, California",1615,28,4175,413344,390.71572300000003,6.774019,1010.054579,46700,106.86,130.6,103.94,114.95]
[24,24039,"Somerset County","Maryland","Somerset County, Maryland",568,14,1368,26470,2145.8254630000001,52.890064000000002,5168.1148469999998,41540,91.18,73.8,82.53,110.34]
[34,34035,"Somerset County","New Jersey",{"$f":"CONCATENATE(C1922,\", \",D1922)","v":"Somerset County, New Jersey"},2356,18,12378,323444,728.410482,5.5651060000000001,3826.9375839999998,35620,101.83,120.78,86.24,103.35]
[42,42111,"Somerset County","Pennsylvania","Somerset County, Pennsylvania",270,7,733,77742,347.302616,9.0041419999999999,942.86228800000004,{"$error":"#N/A"},{"$error":"#N/A"},{"$error":"#N/A"},{"$error":"#N/A"},{"$error":"#N/A"}]
[48,48425,"Somervell County","Texas","Somervell County, Texas",51,3,135,8490,600.70671400000003,35.335689000000002,1590.1060070000001,{"$error":"#N/A"},{"$error":"#N/A"},{"$error":"#N/A"},{"$error":"#N/A"},{"$error":"#N/A"}]
[6,6097,"Sonoma County","California","Sonoma County, California",1976,36,5145,483878,408.36739799999998,7.4398920000000004,1063.284547,42220,100.37,131.12,101.87,97.67]
[13,13255,"Spalding County","Georgia","Spalding County, Georgia",585,13,1993,64073,913.02108499999997,20.289356999999999,3110.5145689999999,12060,93.04,83.74,102.12,85.73]
[45,45083,"Spartanburg County","South Carolina","Spartanburg County, South Carolina",1782,38,6456,284307,626.78724099999999,13.365833,2270.7847499999998,43900,93.37,97.98,112.28,90.54]
[21,21215,"Spencer County","Kentucky","Spencer County, Kentucky",54,7,240,17061,316.51134200000001,41.029248000000003,1406.7170739999999,31140,91.13,31.97,75.02,76.42]
[53,53063,"Spokane County","Washington","Spokane County, Washington",2326,27,6229,471221,493.61127800000003,5.7297960000000003,1321.8850600000001,44060,101.37,122.39,122.32,127.12]
[51,51177,"Spotsylvania County","Virginia","Spotsylvania County, Virginia",795,0,2299,122397,649.52572399999997,0,1878.3140109999999,47900,97.94,84.86,88.47,92.55]
[22,22087,"St. Bernard Parish","Louisiana","St. Bernard Parish, Louisiana",214,4,1072,35897,596.15009599999996,11.142992,2986.3219770000001,35380,100.03,121.48,80.94,130.72]
[29,29183,"St. Charles County","Missouri","St. Charles County, Missouri",1545,28,7607,360485,428.58926200000002,7.7673129999999997,2110.21263,41180,104.37,118.4,86.54,121.39]
[22,22089,"St. Charles Parish","Louisiana","St. Charles Parish, Louisiana",421,6,1556,52780,797.65062499999999,11.367941999999999,2948.0863960000001,35380,93.42,97.97,81.23,108.41]
[1,1115,"St. Clair County","Alabama","St. Clair County, Alabama",801,13,4664,83593,958.21420499999999,15.551541,5579.4145440000002,13820,91.04,55.96,81.95,84.47]
[17,17163,"St. Clair County","Illinois","St. Clair County, Illinois",1269,30,5777,270056,469.90253899999999,11.108807000000001,2139.1859469999999,41180,96.6,114.62,90.19,113.08]
[26,26147,"St. Clair County","Michigan","St. Clair County, Michigan",824,16,3975,163040,505.397448,9.8135429999999992,2438.0520120000001,19820,95.48,93.49,115.33,87.56]
[29,29185,"St. Clair County","Missouri","St. Clair County, Missouri",63,2,155,9805,642.52932199999998,20.397756000000001,1580.8261090000001,{"$error":"#N/A"},{"$error":"#N/A"},{"$error":"#N/A"},{"$error":"#N/A"},{"$error":"#N/A"}]
[55,55109,"St. Croix County","Wisconsin","St. Croix County, Wisconsin",331,12,1844,84345,392.43582900000001,14.227281,2186.2588179999998,33460,92.02,87.72,93.45,67.27]
[29,29187,"St. Francois County","Missouri","St. Francois County, Missouri",265,11,1167,65359,405.45296000000002,16.830123,1785.5230340000001,{"$error":"#N/A"},{"$error":"#N/A"},{"$error":"#N/A"},{"$error":"#N/A"},{"$error":"#N/A"}]
[22,22095,"St. John the Baptist Parish","Louisiana","St. John the Baptist Parish, Louisiana",398,3,1303,45924,866.64924699999995,6.5325319999999998,2837.2964029999998,35380,97.39,101.63,88.78,109.44]
[12,12109,"St. Johns County","Florida","St. Johns County, Florida",1357,21,1796,190039,714.06395499999996,11.050363000000001,945.06916999999999,27260,97.43,86.85,85.06,106.86]
[18,18141,"St. Joseph County","Indiana","St. Joseph County, Indiana",133,1,1445,266931,49.825609999999998,0.37462899999999999,541.33839799999998,43780,100.67,117.65,124.8,131.19999999999999]
[26,26149,"St. Joseph County","Michigan","St. Joseph County, Michigan",266,7,1686,61295,433.966881,11.420180999999999,2750.6321889999999,{"$error":"#N/A"},{"$error":"#N/A"},{"$error":"#N/A"},{"$error":"#N/A"},{"$error":"#N/A"}]
[36,36089,"St. Lawrence County","New York","St. Lawrence County, New York",551,10,3527,111944,492.21039100000002,8.9330379999999998,3150.6824839999999,{"$error":"#N/A"},{"$error":"#N/A"},{"$error":"#N/A"},{"$error":"#N/A"},{"$error":"#N/A"}]
[29,29510,"St. Louis city","Missouri","St. Louis city, Missouri",3447,40,13745,319294,1079.5693000000001,12.527639000000001,4304.8099869999996,41180,126.98,137.55000000000001,194.29,185.95]
[27,27137,"St. Louis County","Minnesota","St. Louis County, Minnesota",838,11,3101,200226,418.527064,5.493792,1548.7499130000001,20260,95.96,113.02,140.27000000000001,103.63]
[29,29189,"St. Louis County","Missouri","St. Louis County, Missouri",5526,47,26337,998954,553.17862500000001,4.7049209999999997,2636.457735,41180,107.75,126.19,95.35,120.59]
[12,12111,"St. Lucie County","Florida","St. Lucie County, Florida",1887,29,2816,277789,679.29255699999999,10.439577999999999,1013.719046,38940,100.74,97.46,102.45,120.07]
[22,22099,"St. Martin Parish","Louisiana","St. Martin Parish, Louisiana",451,9,1379,52160,864.64723900000001,17.254601000000001,2643.7883440000001,29180,90.6,70.42,94.32,86.13]
[24,24037,"St. Mary's County","Maryland","St. Mary's County, Maryland",97,1,246,105151,92.248290999999995,0.951013,233.94927300000001,{"$error":"#N/A"},{"$error":"#N/A"},{"$error":"#N/A"},{"$error":"#N/A"},{"$error":"#N/A"}]
[22,22103,"St. Tammany Parish","Louisiana","St. Tammany Parish, Louisiana",1443,27,5765,233740,617.35261400000002,11.551296000000001,2466.4156760000001,35380,95.66,94.37,97.06,109.33]
[20,20185,"Stafford County","Kansas","Stafford County, Kansas",26,1,159,4437,585.98151900000005,22.537751,3583.5023660000002,{"$error":"#N/A"},{"$error":"#N/A"},{"$error":"#N/A"},{"$error":"#N/A"},{"$error":"#N/A"}]
[51,51179,"Stafford County","Virginia","Stafford County, Virginia",602,0,1971,128961,466.807795,0,1528.369042,47900,98.78,84.11,81.069999999999993,88.85]
[6,6099,"Stanislaus County","California","Stanislaus County, California",2380,46,6065,514453,462.627295,8.9415359999999993,1178.9220780000001,33700,107.86,135.71,94.54,107.84]
[37,37167,"Stanly County","North Carolina","Stanly County, North Carolina",340,8,1212,60585,561.19501500000001,13.204589,2000.4951719999999,{"$error":"#N/A"},{"$error":"#N/A"},{"$error":"#N/A"},{"$error":"#N/A"},{"$error":"#N/A"}]
[20,20187,"Stanton County","Kansas","Stanton County, Kansas",5,0,33,2235,223.71364700000001,0,1476.5100669999999,{"$error":"#N/A"},{"$error":"#N/A"},{"$error":"#N/A"},{"$error":"#N/A"},{"$error":"#N/A"}]
[31,31167,"Stanton County","Nebraska","Stanton County, Nebraska",12,0,42,6129,195.790504,0,685.26676499999996,{"$error":"#N/A"},{"$error":"#N/A"},{"$error":"#N/A"},{"$error":"#N/A"},{"$error":"#N/A"}]
[17,17175,"Stark County","Illinois","Stark County, Illinois",22,0,120,5994,367.03370000000001,0,2002.0020019999999,{"$error":"#N/A"},{"$error":"#N/A"},{"$error":"#N/A"},{"$error":"#N/A"},{"$error":"#N/A"}]
[39,39151,"Stark County","Ohio","Stark County, Ohio",2508,30,10226,375586,667.75651900000003,7.9875179999999997,2722.6786940000002,15940,98.73,120.66,98.8,120.61]
[48,48427,"Starr County","Texas","Starr County, Texas",183,8,795,60968,300.15746000000001,13.121638000000001,1303.9627350000001,{"$error":"#N/A"},{"$error":"#N/A"},{"$error":"#N/A"},{"$error":"#N/A"},{"$error":"#N/A"}]
[29,29186,"Ste. Genevieve County","Missouri","Ste. Genevieve County, Missouri",90,2,303,18145,496.00440900000001,11.022320000000001,1669.8815099999999,{"$error":"#N/A"},{"$error":"#N/A"},{"$error":"#N/A"},{"$error":"#N/A"},{"$error":"#N/A"}]
[27,27145,"Stearns County","Minnesota","Stearns County, Minnesota",722,11,2536,150642,479.28200600000002,7.3020800000000001,1683.461452,41060,95.49,112.29,109.13,96.54]
[13,13257,"Stephens County","Georgia","Stephens County, Georgia",223,3,739,26175,851.95797500000003,11.461318,2823.3046800000002,{"$error":"#N/A"},{"$error":"#N/A"},{"$error":"#N/A"},{"$error":"#N/A"},{"$error":"#N/A"}]
[40,40137,"Stephens County","Oklahoma","Stephens County, Oklahoma",200,11,563,45048,443.97087599999998,24.418398,1249.7780150000001,{"$error":"#N/A"},{"$error":"#N/A"},{"$error":"#N/A"},{"$error":"#N/A"},{"$error":"#N/A"}]
[48,48429,"Stephens County","Texas","Stephens County, Texas",34,2,103,9630,353.06334399999997,20.768432000000001,1069.574247,{"$error":"#N/A"},{"$error":"#N/A"},{"$error":"#N/A"},{"$error":"#N/A"},{"$error":"#N/A"}]
[17,17177,"Stephenson County","Illinois","Stephenson County, Illinois",161,6,936,47711,337.44838700000003,12.575716,1961.8117420000001,{"$error":"#N/A"},{"$error":"#N/A"},{"$error":"#N/A"},{"$error":"#N/A"},{"$error":"#N/A"}]
[48,48431,"Sterling County","Texas","Sterling County, Texas",12,1,29,1143,1049.8687660000001,87.489063999999999,2537.1828519999999,{"$error":"#N/A"},{"$error":"#N/A"},{"$error":"#N/A"},{"$error":"#N/A"},{"$error":"#N/A"}]
[36,36101,"Steuben County","New York","Steuben County, New York",517,10,3414,98990,522.27497700000004,10.102031,3448.8332150000001,{"$error":"#N/A"},{"$error":"#N/A"},{"$error":"#N/A"},{"$error":"#N/A"},{"$error":"#N/A"}]
[20,20189,"Stevens County","Kansas","Stevens County, Kansas",27,2,92,5724,471.69811299999998,34.940601000000001,1607.2676449999999,{"$error":"#N/A"},{"$error":"#N/A"},{"$error":"#N/A"},{"$error":"#N/A"},{"$error":"#N/A"}]
[53,53065,"Stevens County","Washington","Stevens County, Washington",138,7,483,43531,317.01546000000002,16.080494000000002,1109.5541109999999,{"$error":"#N/A"},{"$error":"#N/A"},{"$error":"#N/A"},{"$error":"#N/A"},{"$error":"#N/A"}]
[13,13259,"Stewart County","Georgia","Stewart County, Georgia",37,3,93,6058,610.76262799999995,49.521293999999997,1535.1601189999999,{"$error":"#N/A"},{"$error":"#N/A"},{"$error":"#N/A"},{"$error":"#N/A"},{"$error":"#N/A"}]
[47,47161,"Stewart County","Tennessee","Stewart County, Tennessee",81,2,238,13324,607.92554800000005,15.010507,1786.2503750000001,{"$error":"#N/A"},{"$error":"#N/A"},{"$error":"#N/A"},{"$error":"#N/A"},{"$error":"#N/A"}]
[29,29207,"Stoddard County","Missouri","Stoddard County, Missouri",181,8,583,29968,603.977576,26.695141,1945.4084359999999,{"$error":"#N/A"},{"$error":"#N/A"},{"$error":"#N/A"},{"$error":"#N/A"},{"$error":"#N/A"}]
[37,37169,"Stokes County","North Carolina","Stokes County, North Carolina",277,7,811,47401,584.375857,14.767621,1710.9343679999999,49180,90.59,52.98,81.84,64.72]
[28,28131,"Stone County","Mississippi","Stone County, Mississippi","#NULL!","#NULL!","#NULL!",17786,"#NULL!","#NULL!","#NULL!",25060,90.38,88.05,70.63,94.96]
[29,29209,"Stone County","Missouri","Stone County, Missouri",210,7,520,32202,652.13340800000003,21.737780000000001,1614.8065340000001,{"$error":"#N/A"},{"$error":"#N/A"},{"$error":"#N/A"},{"$error":"#N/A"},{"$error":"#N/A"}]
[48,48433,"Stonewall County","Texas","Stonewall County, Texas",7,1,20,1490,469.79865799999999,67.114093999999994,1342.2818789999999,{"$error":"#N/A"},{"$error":"#N/A"},{"$error":"#N/A"},{"$error":"#N/A"},{"$error":"#N/A"}]
[32,32029,"Storey County","Nevada","Storey County, Nevada",18,0,55,4010,448.87780500000002,0,1371.571072,{"$error":"#N/A"},{"$error":"#N/A"},{"$error":"#N/A"},{"$error":"#N/A"},{"$error":"#N/A"}]
[19,19169,"Story County","Iowa","Story County, Iowa",394,6,1451,89542,440.016975,6.7007659999999998,1620.468607,11180,96.6,115.01,125.73,97.63]
[33,33017,"Strafford County","New Hampshire","Strafford County, New Hampshire",913,7,4376,123143,741.41445299999998,5.6844479999999997,3553.592165,14460,95.77,105.8,88.23,82.45]
[56,56035,"Sublette County","Wyoming","Sublette County, Wyoming",61,0,211,10247,595.29618400000004,0,2059.1392599999999,{"$error":"#N/A"},{"$error":"#N/A"},{"$error":"#N/A"},{"$error":"#N/A"},{"$error":"#N/A"}]
[51,51800,"Suffolk city","Virginia","Suffolk city, Virginia",520,0,1241,84585,614.766212,0,1467.1632090000001,47260,95.77,99.14,103.14,98.02]
[25,25025,"Suffolk County","Massachusetts","Suffolk County, Massachusetts",2089,25,6409,722023,289.325963,3.462494,887.64485300000001,14460,"NA",53.29,"NA",201.99]
[36,36103,"Suffolk County","New York","Suffolk County, New York",13133,140,36013,1493350,879.43214899999998,9.3748950000000004,2411.5579069999999,35620,105.86,126.74,94.53,115.53]
[18,18153,"Sullivan County","Indiana","Sullivan County, Indiana",15,0,89,21475,69.848661000000007,0,414.43538999999998,45460,89.97,94.33,85.42,79.03]
[29,29211,"Sullivan County","Missouri",{"$f":"CONCATENATE(C1986,\", \",D1986)","v":"Sullivan County, Missouri"},31,1,98,6714,461.72177499999998,14.894251000000001,1459.6365800000001,{"$error":"#N/A"},{"$error":"#N/A"},{"$error":"#N/A"},{"$error":"#N/A"},{"$error":"#N/A"}]
[36,36105,"Sullivan County","New York","Sullivan County, New York",533,12,2648,77547,687.32510600000001,15.474486000000001,3414.7033409999999,{"$error":"#N/A"},{"$error":"#N/A"},{"$error":"#N/A"},{"$error":"#N/A"},{"$error":"#N/A"}]
[42,42113,"Sullivan County","Pennsylvania","Sullivan County, Pennsylvania",27,1,80,6428,420.03733699999998,15.556938000000001,1244.5550720000001,{"$error":"#N/A"},{"$error":"#N/A"},{"$error":"#N/A"},{"$error":"#N/A"},{"$error":"#N/A"}]
[47,47163,"Sullivan County","Tennessee","Sullivan County, Tennessee",1289,16,5287,156823,821.94576099999995,10.202584999999999,3371.316707,28700,93.76,86.37,119.66,101.34]
[39,39153,"Summit County","Ohio","Summit County, Ohio",3462,32,14510,541781,639.00358300000005,5.9064459999999999,2678.2039239999999,10420,101.67,125.68,109.41,114.42]
[49,49043,"Summit County","Utah","Summit County, Utah",199,5,926,36324,547.84715300000005,13.765003999999999,2549.278714,41620,90.7,90.55,91.28,75.599999999999994]
[20,20191,"Sumner County","Kansas","Sumner County, Kansas",106,7,503,24132,439.250787,29.007127000000001,2084.3693020000001,48620,88.32,98.41,84.72,92.96]
[47,47165,"Sumner County","Tennessee","Sumner County, Tennessee",948,21,3745,160645,590.12107400000002,13.072302000000001,2331.2272400000002,34980,97.36,86.46,115.6,76.150000000000006]
[1,1119,"Sumter County","Alabama","Sumter County, Alabama",92,7,316,13763,668.45891200000005,50.861004000000001,2296.0110439999999,{"$error":"#N/A"},{"$error":"#N/A"},{"$error":"#N/A"},{"$error":"#N/A"},{"$error":"#N/A"}]
[12,12119,"Sumter County","Florida","Sumter County, Florida",784,23,1056,93420,839.22072400000002,24.619996,1130.3789340000001,{"$error":"#N/A"},{"$error":"#N/A"},{"$error":"#N/A"},{"$error":"#N/A"},{"$error":"#N/A"}]
[13,13261,"Sumter County","Georgia","Sumter County, Georgia",287,2,810,32819,874.49343399999998,6.0940310000000002,2468.0825129999998,{"$error":"#N/A"},{"$error":"#N/A"},{"$error":"#N/A"},{"$error":"#N/A"},{"$error":"#N/A"}]
[45,45085,"Sumter County","South Carolina","Sumter County, South Carolina",803,20,2171,107456,747.28260899999998,18.612269000000001,2020.361823,44940,93.59,86.69,119.72,90.32]
[37,37171,"Surry County","North Carolina","Surry County, North Carolina",538,7,1492,73673,730.25396000000001,9.5014459999999996,2025.1652570000001,{"$error":"#N/A"},{"$error":"#N/A"},{"$error":"#N/A"},{"$error":"#N/A"},{"$error":"#N/A"}]
[42,42115,"Susquehanna County","Pennsylvania","Susquehanna County, Pennsylvania",169,10,437,43356,389.79610700000001,23.064858000000001,1007.934311,{"$error":"#N/A"},{"$error":"#N/A"},{"$error":"#N/A"},{"$error":"#N/A"},{"$error":"#N/A"}]
[34,34037,"Sussex County","New Jersey","Sussex County, New Jersey",865,12,4266,149265,579.50624700000003,8.0393930000000005,2858.0042210000001,35620,95.74,89.17,86.54,87.85]
[51,51183,"Sussex County","Virginia","Sussex County, Virginia",75,0,182,12087,620.50136499999996,0,1505.7499789999999,40060,102.08,63.8,"NA","NA"]
[6,6101,"Sutter County","California","Sutter County, California",411,13,959,94737,433.83260999999999,13.722199,1012.276091,49700,98.92,119.22,126.45,82.89]
[48,48435,"Sutton County","Texas","Sutton County, Texas",21,1,82,4128,508.72093000000001,24.224806000000001,1986.434109,{"$error":"#N/A"},{"$error":"#N/A"},{"$error":"#N/A"},{"$error":"#N/A"},{"$error":"#N/A"}]
[12,12121,"Suwannee County","Florida","Suwannee County, Florida",382,12,566,41551,919.35212100000001,28.880171000000001,1362.1814159999999,{"$error":"#N/A"},{"$error":"#N/A"},{"$error":"#N/A"},{"$error":"#N/A"},{"$error":"#N/A"}]
[37,37173,"Swain County","North Carolina","Swain County, North Carolina",84,1,235,13981,600.81539199999997,7.1525639999999999,1680.852586,{"$error":"#N/A"},{"$error":"#N/A"},{"$error":"#N/A"},{"$error":"#N/A"},{"$error":"#N/A"}]
[56,56037,"Sweetwater County","Wyoming","Sweetwater County, Wyoming",424,15,1798,43806,967.90394000000003,34.241885000000003,4104.4605760000004,{"$error":"#N/A"},{"$error":"#N/A"},{"$error":"#N/A"},{"$error":"#N/A"},{"$error":"#N/A"}]
[48,48437,"Swisher County","Texas","Swisher County, Texas",23,2,93,7854,292.84440999999998,25.464731,1184.1100080000001,{"$error":"#N/A"},{"$error":"#N/A"},{"$error":"#N/A"},{"$error":"#N/A"},{"$error":"#N/A"}]
[13,13263,"Talbot County","Georgia","Talbot County, Georgia",66,1,138,6865,961.39839800000004,14.566642,2010.1966500000001,{"$error":"#N/A"},{"$error":"#N/A"},{"$error":"#N/A"},{"$error":"#N/A"},{"$error":"#N/A"}]
[24,24041,"Talbot County","Maryland","Talbot County, Maryland",233,5,687,37782,616.69578100000001,13.233815,1818.3261869999999,{"$error":"#N/A"},{"$error":"#N/A"},{"$error":"#N/A"},{"$error":"#N/A"},{"$error":"#N/A"}]
[13,13265,"Taliaferro County","Georgia","Taliaferro County, Georgia",23,1,57,1717,1339.545719,58.241118,3319.743739,{"$error":"#N/A"},{"$error":"#N/A"},{"$error":"#N/A"},{"$error":"#N/A"},{"$error":"#N/A"}]
[1,1121,"Talladega County","Alabama","Talladega County, Alabama",448,16,1674,82291,544.40947400000005,19.443194999999999,2034.244328,{"$error":"#N/A"},{"$error":"#N/A"},{"$error":"#N/A"},{"$error":"#N/A"},{"$error":"#N/A"}]
[1,1123,"Tallapoosa County","Alabama","Tallapoosa County, Alabama",197,7,699,41616,473.37562500000001,16.820454000000002,1679.642445,{"$error":"#N/A"},{"$error":"#N/A"},{"$error":"#N/A"},{"$error":"#N/A"},{"$error":"#N/A"}]
[29,29213,"Taney County","Missouri","Taney County, Missouri",402,7,1311,51675,777.93904199999997,13.546201999999999,2537.0101599999998,{"$error":"#N/A"},{"$error":"#N/A"},{"$error":"#N/A"},{"$error":"#N/A"},{"$error":"#N/A"}]
[48,48439,"Tarrant County","Texas","Tarrant County, Texas",10310,141,26628,1809034,569.91742599999998,7.7942150000000003,1471.9458010000001,19100,108.94,119.35,100.17,128.9]
[28,28137,"Tate County","Mississippi","Tate County, Mississippi","#NULL!","#NULL!","#NULL!",28886,"#NULL!","#NULL!","#NULL!",32820,92.63,63.13,71.62,95.88]
[13,13267,"Tattnall County","Georgia","Tattnall County, Georgia",132,6,307,25520,517.24137900000005,23.510971999999999,1202.9780559999999,{"$error":"#N/A"},{"$error":"#N/A"},{"$error":"#N/A"},{"$error":"#N/A"},{"$error":"#N/A"}]
[12,12123,"Taylor County","Florida","Taylor County, Florida",149,6,259,22570,660.16836499999999,26.583960999999999,1147.540984,{"$error":"#N/A"},{"$error":"#N/A"},{"$error":"#N/A"},{"$error":"#N/A"},{"$error":"#N/A"}]
[13,13269,"Taylor County","Georgia","Taylor County, Georgia",44,0,112,8906,494.04895599999998,0,1257.57916,{"$error":"#N/A"},{"$error":"#N/A"},{"$error":"#N/A"},{"$error":"#N/A"},{"$error":"#N/A"}]
[48,48441,"Taylor County","Texas","Taylor County, Texas",1009,15,3023,131506,767.26537199999996,11.406324,2298.7544290000001,{"$error":"#N/A"},{"$error":"#N/A"},{"$error":"#N/A"},{"$error":"#N/A"},{"$error":"#N/A"}]
[55,55119,"Taylor County","Wisconsin","Taylor County, Wisconsin",82,2,400,20689,396.34588400000001,9.6669730000000005,1933.3945570000001,{"$error":"#N/A"},{"$error":"#N/A"},{"$error":"#N/A"},{"$error":"#N/A"},{"$error":"#N/A"}]
[17,17179,"Tazewell County","Illinois","Tazewell County, Illinois",612,10,2507,135394,452.01412199999999,7.3858519999999999,1851.633012,37900,96.01,107.55,85.37,110.59]
[6,6103,"Tehama County","California","Tehama County, California",272,12,716,63463,428.59618999999998,18.908655,1128.216441,{"$error":"#N/A"},{"$error":"#N/A"},{"$error":"#N/A"},{"$error":"#N/A"},{"$error":"#N/A"}]
[13,13271,"Telfair County","Georgia","Telfair County, Georgia",61,2,177,16500,369.69697000000002,12.121212,1072.727273,{"$error":"#N/A"},{"$error":"#N/A"},{"$error":"#N/A"},{"$error":"#N/A"},{"$error":"#N/A"}]
[8,8119,"Teller County","Colorado","Teller County, Colorado",36,1,414,23350,154.175589,4.2826550000000001,1773.019272,17820,94.68,82.25,81.88,108.04]
[22,22109,"Terrebonne Parish","Louisiana","Terrebonne Parish, Louisiana",1123,11,3650,111860,1003.933488,9.8337210000000006,3263.0073309999998,26380,96.62,103.72,99.01,107.65]
[13,13273,"Terrell County","Georgia","Terrell County, Georgia",50,5,122,9315,536.76865299999997,53.676864999999999,1309.7155130000001,10500,88.84,78.95,78.22,74.53]
[48,48443,"Terrell County","Texas","Terrell County, Texas",10,0,23,984,1016.260163,0,2337.3983739999999,{"$error":"#N/A"},{"$error":"#N/A"},{"$error":"#N/A"},{"$error":"#N/A"},{"$error":"#N/A"}]
[48,48445,"Terry County","Texas","Terry County, Texas",51,0,143,12651,403.13018699999998,0,1130.345427,{"$error":"#N/A"},{"$error":"#N/A"},{"$error":"#N/A"},{"$error":"#N/A"},{"$error":"#N/A"}]
[16,16081,"Teton County","Idaho","Teton County, Idaho",24,0,76,10170,235.988201,0,747.29596900000001,{"$error":"#N/A"},{"$error":"#N/A"},{"$error":"#N/A"},{"$error":"#N/A"},{"$error":"#N/A"}]
[56,56039,"Teton County","Wyoming","Teton County, Wyoming",120,7,542,21294,563.53902500000004,32.873109999999997,2545.3179300000002,{"$error":"#N/A"},{"$error":"#N/A"},{"$error":"#N/A"},{"$error":"#N/A"},{"$error":"#N/A"}]
[29,29215,"Texas County","Missouri","Texas County, Missouri",124,3,328,26008,476.77637600000003,11.534912,1261.1504150000001,{"$error":"#N/A"},{"$error":"#N/A"},{"$error":"#N/A"},{"$error":"#N/A"},{"$error":"#N/A"}]
[40,40139,"Texas County","Oklahoma","Texas County, Oklahoma",60,8,296,20640,290.69767400000001,38.759689999999999,1434.1085270000001,{"$error":"#N/A"},{"$error":"#N/A"},{"$error":"#N/A"},{"$error":"#N/A"},{"$error":"#N/A"}]
[31,31169,"Thayer County","Nebraska","Thayer County, Nebraska",14,0,76,5228,267.78882900000002,0,1453.7107880000001,{"$error":"#N/A"},{"$error":"#N/A"},{"$error":"#N/A"},{"$error":"#N/A"},{"$error":"#N/A"}]
[13,13275,"Thomas County","Georgia","Thomas County, Georgia",389,8,1268,44720,869.85688700000003,17.889088000000001,2835.4203940000002,{"$error":"#N/A"},{"$error":"#N/A"},{"$error":"#N/A"},{"$error":"#N/A"},{"$error":"#N/A"}]
[20,20193,"Thomas County","Kansas","Thomas County, Kansas",27,1,186,7900,341.77215200000001,12.658227999999999,2354.4303799999998,{"$error":"#N/A"},{"$error":"#N/A"},{"$error":"#N/A"},{"$error":"#N/A"},{"$error":"#N/A"}]
[31,31171,"Thomas County","Nebraska","Thomas County, Nebraska",0,2,15,647,0,309.119011,2318.3925810000001,{"$error":"#N/A"},{"$error":"#N/A"},{"$error":"#N/A"},{"$error":"#N/A"},{"$error":"#N/A"}]
[48,48447,"Throckmorton County","Texas","Throckmorton County, Texas",8,0,18,1641,487.50761699999998,0,1096.892139,{"$error":"#N/A"},{"$error":"#N/A"},{"$error":"#N/A"},{"$error":"#N/A"},{"$error":"#N/A"}]
[31,31173,"Thurston County","Nebraska","Thurston County, Nebraska",10,0,63,6940,144.092219,0,907.78098,{"$error":"#N/A"},{"$error":"#N/A"},{"$error":"#N/A"},{"$error":"#N/A"},{"$error":"#N/A"}]
[53,53067,"Thurston County","Washington","Thurston County, Washington",1351,16,4161,252264,535.55005900000003,6.342562,1649.4624679999999,36500,97.83,103.71,132.9,95.16]
[13,13277,"Tift County","Georgia","Tift County, Georgia",346,13,1105,40118,862.45575599999995,32.404406999999999,2754.3745950000002,{"$error":"#N/A"},{"$error":"#N/A"},{"$error":"#N/A"},{"$error":"#N/A"},{"$error":"#N/A"}]
[41,41057,"Tillamook County","Oregon","Tillamook County, Oregon",183,6,381,25250,724.752475,23.762376,1508.910891,{"$error":"#N/A"},{"$error":"#N/A"},{"$error":"#N/A"},{"$error":"#N/A"},{"$error":"#N/A"}]
[40,40141,"Tillman County","Oklahoma","Tillman County, Oklahoma",38,0,103,7992,475.47547500000002,0,1288.788789,{"$error":"#N/A"},{"$error":"#N/A"},{"$error":"#N/A"},{"$error":"#N/A"},{"$error":"#N/A"}]
[36,36107,"Tioga County","New York","Tioga County, New York",229,8,1637,51125,447.92176000000001,15.647921999999999,3201.9559899999999,13780,94.68,75.760000000000005,82.48,64.790000000000006]
[42,42117,"Tioga County","Pennsylvania","Tioga County, Pennsylvania",205,10,534,41981,488.31614300000001,23.8203,1272.0040019999999,{"$error":"#N/A"},{"$error":"#N/A"},{"$error":"#N/A"},{"$error":"#N/A"},{"$error":"#N/A"}]
[18,18157,"Tippecanoe County","Indiana","Tippecanoe County, Indiana",159,2,1775,172780,92.024540000000002,1.1575409999999999,1027.3179769999999,29140,104.58,112.14,101.52,96]
[18,18159,"Tipton County","Indiana","Tipton County, Indiana",20,0,77,15936,125.502008,0,483.18273099999999,29020,89.55,85.73,80.099999999999994,62.84]
[47,47167,"Tipton County","Tennessee","Tipton County, Tennessee",348,3,1242,61081,569.73527000000001,4.911511,2033.3655309999999,32820,92.75,59.76,87.84,64.39]
[48,48449,"Titus County","Texas","Titus County, Texas",258,8,753,32334,797.92169200000001,24.741758000000001,2328.817963,{"$error":"#N/A"},{"$error":"#N/A"},{"$error":"#N/A"},{"$error":"#N/A"},{"$error":"#N/A"}]
[9,9013,"Tolland County","Connecticut","Tolland County, Connecticut",735,18,2824,152691,481.36432400000001,11.788513999999999,1849.4868719999999,25540,96.05,89.61,97.77,63.29]
[48,48451,"Tom Green County","Texas",{"$f":"CONCATENATE(C2050,\", \",D2050)","v":"Tom Green County, Texas"},753,8,2250,110224,683.15430400000002,7.2579469999999997,2041.2977209999999,41660,97.73,119.81,103.96,106.9]
[36,36109,"Tompkins County","New York","Tompkins County, New York",519,6,4039,101564,511.00783699999999,5.9076050000000002,3976.8028039999999,27060,102.44,95.84,144.53,72.430000000000007]
[49,49045,"Tooele County","Utah","Tooele County, Utah",251,9,705,58218,431.13813599999997,15.459136000000001,1210.9656809999999,41620,97.75,102.75,79.12,75.88]
[13,13279,"Toombs County","Georgia","Toombs County, Georgia",246,7,889,27223,903.647651,25.713550999999999,3265.6209819999999,{"$error":"#N/A"},{"$error":"#N/A"},{"$error":"#N/A"},{"$error":"#N/A"},{"$error":"#N/A"}]
[13,13281,"Towns County","Georgia","Towns County, Georgia",42,3,141,10471,401.107822,28.650559000000001,1346.5762580000001,{"$error":"#N/A"},{"$error":"#N/A"},{"$error":"#N/A"},{"$error":"#N/A"},{"$error":"#N/A"}]
[37,37175,"Transylvania County","North Carolina","Transylvania County, North Carolina",157,3,443,33090,474.46358400000003,9.0661830000000005,1338.7730429999999,{"$error":"#N/A"},{"$error":"#N/A"},{"$error":"#N/A"},{"$error":"#N/A"},{"$error":"#N/A"}]
[48,48453,"Travis County","Texas","Travis County, Texas",7272,75,15087,1024266,709.97182399999997,7.322317,1472.95722,12420,108.45,120.81,148.97999999999999,110.66]
[20,20195,"Trego County","Kansas","Trego County, Kansas",25,1,164,3001,833.05564800000002,33.322226000000001,5464.8450519999997,{"$error":"#N/A"},{"$error":"#N/A"},{"$error":"#N/A"},{"$error":"#N/A"},{"$error":"#N/A"}]
[55,55121,"Trempealeau County","Wisconsin","Trempealeau County, Wisconsin",148,5,544,28816,513.60355400000003,17.351471,1887.840089,{"$error":"#N/A"},{"$error":"#N/A"},{"$error":"#N/A"},{"$error":"#N/A"},{"$error":"#N/A"}]
[13,13283,"Treutlen County","Georgia","Treutlen County, Georgia",53,0,134,6885,769.78939700000001,0,1946.2599849999999,{"$error":"#N/A"},{"$error":"#N/A"},{"$error":"#N/A"},{"$error":"#N/A"},{"$error":"#N/A"}]
[6,6105,"Trinity County","California","Trinity County, California",86,7,188,13786,623.82126800000003,50.776150000000001,1363.702307,{"$error":"#N/A"},{"$error":"#N/A"},{"$error":"#N/A"},{"$error":"#N/A"},{"$error":"#N/A"}]
[48,48455,"Trinity County","Texas","Trinity County, Texas",50,4,154,14585,342.81796400000002,27.425436999999999,1055.879328,{"$error":"#N/A"},{"$error":"#N/A"},{"$error":"#N/A"},{"$error":"#N/A"},{"$error":"#N/A"}]
[13,13285,"Troup County","Georgia","Troup County, Georgia",599,12,2054,67044,893.44311200000004,17.898693000000002,3063.659686,{"$error":"#N/A"},{"$error":"#N/A"},{"$error":"#N/A"},{"$error":"#N/A"},{"$error":"#N/A"}]
[47,47169,"Trousdale County","Tennessee","Trousdale County, Tennessee",54,4,262,7870,686.14993600000003,50.825921000000001,3329.0978399999999,34980,90.52,71.81,67.37,64.819999999999993]
[39,39155,"Trumbull County","Ohio","Trumbull County, Ohio",1275,20,4962,210312,606.24215500000003,9.5096810000000005,2359.3518199999999,49660,95.85,111.81,91.49,95.52]
[6,6107,"Tulare County","California","Tulare County, California",1718,64,5912,442179,388.53043700000001,14.473776000000001,1337.0151000000001,47300,100.44,117.82,102.53,93.41]
[40,40143,"Tulsa County","Oklahoma","Tulsa County, Oklahoma",5185,54,12569,603403,859.29304300000001,8.9492429999999992,2083.019143,46140,102.6,121.46,117.13,113.15]
[28,28143,"Tunica County","Mississippi","Tunica County, Mississippi","#NULL!","#NULL!","#NULL!",10778,"#NULL!","#NULL!","#NULL!",32820,88.41,60.42,81.239999999999995,70.41]
[6,6109,"Tuolumne County","California","Tuolumne County, California",290,7,758,55365,523.79662199999996,12.643367,1369.0959989999999,{"$error":"#N/A"},{"$error":"#N/A"},{"$error":"#N/A"},{"$error":"#N/A"},{"$error":"#N/A"}]
[13,13287,"Turner County","Georgia","Turner County, Georgia",76,3,249,8930,851.06383000000005,33.594625000000001,2788.3538629999998,{"$error":"#N/A"},{"$error":"#N/A"},{"$error":"#N/A"},{"$error":"#N/A"},{"$error":"#N/A"}]
[1,1125,"Tuscaloosa County","Alabama","Tuscaloosa County, Alabama",1324,24,7220,194656,680.17425600000001,12.329442999999999,3709.107348,46220,96.71,101.44,136.82,110.56]
[39,39157,"Tuscarawas County","Ohio","Tuscarawas County, Ohio",601,9,2486,92582,649.15426300000001,9.7211119999999998,2685.1871850000002,{"$error":"#N/A"},{"$error":"#N/A"},{"$error":"#N/A"},{"$error":"#N/A"},{"$error":"#N/A"}]
[26,26157,"Tuscola County","Michigan","Tuscola County, Michigan",254,1,1754,55729,455.777064,1.7943979999999999,3147.3738990000002,{"$error":"#N/A"},{"$error":"#N/A"},{"$error":"#N/A"},{"$error":"#N/A"},{"$error":"#N/A"}]
[13,13289,"Twiggs County","Georgia","Twiggs County, Georgia",49,5,196,9023,543.05663300000003,55.413941999999999,2172.2265320000001,{"$error":"#N/A"},{"$error":"#N/A"},{"$error":"#N/A"},{"$error":"#N/A"},{"$error":"#N/A"}]
[16,16083,"Twin Falls County","Idaho","Twin Falls County, Idaho",359,9,746,77230,464.84526699999998,11.653503000000001,965.945876,{"$error":"#N/A"},{"$error":"#N/A"},{"$error":"#N/A"},{"$error":"#N/A"},{"$error":"#N/A"}]
[48,48457,"Tyler County","Texas","Tyler County, Texas",66,2,237,21766,303.22521399999999,9.1886430000000008,1088.8541760000001,{"$error":"#N/A"},{"$error":"#N/A"},{"$error":"#N/A"},{"$error":"#N/A"},{"$error":"#N/A"}]
[37,37177,"Tyrrell County","North Carolina","Tyrrell County, North Carolina",26,1,126,4407,589.97050100000001,22.691172999999999,2859.0878149999999,{"$error":"#N/A"},{"$error":"#N/A"},{"$error":"#N/A"},{"$error":"#N/A"},{"$error":"#N/A"}]
[56,56041,"Uinta County","Wyoming","Uinta County, Wyoming",178,9,629,21118,842.88284899999996,42.617671999999999,2978.5017520000001,{"$error":"#N/A"},{"$error":"#N/A"},{"$error":"#N/A"},{"$error":"#N/A"},{"$error":"#N/A"}]
[49,49047,"Uintah County","Utah","Uintah County, Utah",119,5,498,32588,365.16509100000002,15.343071,1528.1698779999999,{"$error":"#N/A"},{"$error":"#N/A"},{"$error":"#N/A"},{"$error":"#N/A"},{"$error":"#N/A"}]
[36,36111,"Ulster County","New York","Ulster County, New York",1392,14,7151,182493,762.76898300000005,7.6715270000000002,3918.5064630000002,28740,95.12,96.8,124.18,81.42]
[41,41059,"Umatilla County","Oregon","Umatilla County, Oregon",392,11,841,75889,516.54390000000001,14.494854,1108.1974990000001,{"$error":"#N/A"},{"$error":"#N/A"},{"$error":"#N/A"},{"$error":"#N/A"},{"$error":"#N/A"}]
[47,47171,"Unicoi County","Tennessee","Unicoi County, Tennessee",77,2,322,18313,420.46633500000002,10.921203999999999,1758.313766,27740,94.94,90.3,80.78,113.03]
[12,12125,"Union County","Florida","Union County, Florida",122,6,166,15535,785.32346299999995,38.622464999999998,1068.5548759999999,{"$error":"#N/A"},{"$error":"#N/A"},{"$error":"#N/A"},{"$error":"#N/A"},{"$error":"#N/A"}]
[13,13291,"Union County","Georgia","Union County, Georgia",151,3,400,21356,707.06124699999998,14.047573999999999,1873.0099270000001,{"$error":"#N/A"},{"$error":"#N/A"},{"$error":"#N/A"},{"$error":"#N/A"},{"$error":"#N/A"}]
[17,17181,"Union County","Illinois","Union County, Illinois",78,4,418,17808,438.00539099999997,22.461815000000001,2347.2596589999998,{"$error":"#N/A"},{"$error":"#N/A"},{"$error":"#N/A"},{"$error":"#N/A"},{"$error":"#N/A"}]
[34,34039,"Union County","New Jersey","Union County, New Jersey",4366,21,19914,536499,813.79462000000001,3.914266,3711.842893,35620,140.16999999999999,153.96,89.87,148.9]
[37,37179,"Union County","North Carolina","Union County, North Carolina",1097,23,3729,201292,544.97943299999997,11.426187000000001,1852.532639,16740,94.98,81.73,100.88,84.45]
[39,39159,"Union County","Ohio","Union County, Ohio",239,5,1049,52300,456.97896700000001,9.5602289999999996,2005.736138,18140,94.04,77.41,81.94,86.51]
[41,41061,"Union County","Oregon","Union County, Oregon",122,4,289,25748,473.82321000000002,15.535187000000001,1122.417275,{"$error":"#N/A"},{"$error":"#N/A"},{"$error":"#N/A"},{"$error":"#N/A"},{"$error":"#N/A"}]
[42,42119,"Union County","Pennsylvania","Union County, Pennsylvania",119,4,310,44947,264.75626799999998,8.8993699999999993,689.70120399999996,{"$error":"#N/A"},{"$error":"#N/A"},{"$error":"#N/A"},{"$error":"#N/A"},{"$error":"#N/A"}]
[45,45087,"Union County","South Carolina","Union County, South Carolina",185,5,476,28961,638.79009699999995,17.264596999999998,1643.589655,{"$error":"#N/A"},{"$error":"#N/A"},{"$error":"#N/A"},{"$error":"#N/A"},{"$error":"#N/A"}]
[47,47173,"Union County","Tennessee","Union County, Tennessee",98,2,261,19109,512.84734900000001,10.466272,1365.848553,28940,89.52,50.58,82.78,73.69]
[22,22111,"Union Parish","Louisiana","Union Parish, Louisiana",109,5,261,22721,479.73240600000003,22.006074000000002,1148.717046,33740,89.87,71.180000000000007,70.25,78.430000000000007]
[48,48459,"Upshur County","Texas","Upshur County, Texas",187,11,597,39309,475.718029,27.983412999999999,1518.736167,30980,90.15,67.180000000000007,79.569999999999993,86.71]
[13,13293,"Upson County","Georgia","Upson County, Georgia",194,6,632,27153,714.46985600000005,22.097006,2327.5512829999998,{"$error":"#N/A"},{"$error":"#N/A"},{"$error":"#N/A"},{"$error":"#N/A"},{"$error":"#N/A"}]
[48,48461,"Upton County","Texas","Upton County, Texas",22,0,47,3355,655.73770500000001,0,1400.894188,{"$error":"#N/A"},{"$error":"#N/A"},{"$error":"#N/A"},{"$error":"#N/A"},{"$error":"#N/A"}]
[49,49049,"Utah County","Utah","Utah County, Utah",2506,26,7304,516564,485.12865799999997,5.033258,1413.9583869999999,39340,108.21,127.19,89.82,106.36]
[48,48463,"Uvalde County","Texas","Uvalde County, Texas",152,2,457,26405,575.648551,7.5743229999999997,1730.732816,{"$error":"#N/A"},{"$error":"#N/A"},{"$error":"#N/A"},{"$error":"#N/A"},{"$error":"#N/A"}]
[48,48465,"Val Verde County","Texas","Val Verde County, Texas",234,2,1014,48879,478.73319800000002,4.0917370000000002,2074.510526,{"$error":"#N/A"},{"$error":"#N/A"},{"$error":"#N/A"},{"$error":"#N/A"},{"$error":"#N/A"}]
[35,35061,"Valencia County","New Mexico","Valencia County, New Mexico",324,5,1115,76569,423.14774899999998,6.5300580000000004,1456.202902,10740,94.94,85.92,108.47,76.38]
[16,16085,"Valley County","Idaho","Valley County, Idaho",50,3,185,9862,506.99655200000001,30.419792999999999,1875.887244,{"$error":"#N/A"},{"$error":"#N/A"},{"$error":"#N/A"},{"$error":"#N/A"},{"$error":"#N/A"}]
[31,31175,"Valley County","Nebraska","Valley County, Nebraska",5,0,56,4260,117.370892,0,1314.553991,{"$error":"#N/A"},{"$error":"#N/A"},{"$error":"#N/A"},{"$error":"#N/A"},{"$error":"#N/A"}]
[26,26159,"Van Buren County","Michigan","Van Buren County, Michigan",327,10,2165,76258,428.80746900000003,13.113378000000001,2839.0463949999998,28020,90.64,78.989999999999995,85.3,71.88]
[47,47175,"Van Buren County","Tennessee","Van Buren County, Tennessee",34,3,135,5548,612.83345299999996,54.073540000000001,2433.3093009999998,{"$error":"#N/A"},{"$error":"#N/A"},{"$error":"#N/A"},{"$error":"#N/A"},{"$error":"#N/A"}]
[39,39161,"Van Wert County","Ohio","Van Wert County, Ohio",184,2,288,28744,640.13359300000002,6.9579740000000001,1001.948233,{"$error":"#N/A"},{"$error":"#N/A"},{"$error":"#N/A"},{"$error":"#N/A"},{"$error":"#N/A"}]
[48,48467,"Van Zandt County","Texas","Van Zandt County, Texas",267,15,746,52579,507.807299,28.528500000000001,1418.817399,{"$error":"#N/A"},{"$error":"#N/A"},{"$error":"#N/A"},{"$error":"#N/A"},{"$error":"#N/A"}]
[37,37181,"Vance County","North Carolina","Vance County, North Carolina",346,2,1130,45422,761.74540999999999,4.4031529999999997,2487.7812509999999,{"$error":"#N/A"},{"$error":"#N/A"},{"$error":"#N/A"},{"$error":"#N/A"},{"$error":"#N/A"}]
[18,18163,"Vanderburgh County","Indiana","Vanderburgh County, Indiana",144,1,1591,179703,80.132217999999995,0.55647400000000002,885.34971599999994,21780,101.79,119.7,120.43,116.35]
[42,42121,"Venango County","Pennsylvania","Venango County, Pennsylvania",207,8,503,54984,376.47315600000002,14.549687,914.81158200000004,{"$error":"#N/A"},{"$error":"#N/A"},{"$error":"#N/A"},{"$error":"#N/A"},{"$error":"#N/A"}]
[6,6111,"Ventura County","California","Ventura County, California",3568,40,9788,823318,433.36839500000002,4.85839,1188.8480509999999,37100,110.13,131.47999999999999,99.8,114.98]
[17,17183,"Vermilion County","Illinois","Vermilion County, Illinois",382,6,1476,81625,467.99387400000001,7.350689,1808.2695249999999,19180,91.84,99.84,112.75,117.88]
[18,18165,"Vermillion County","Indiana","Vermillion County, Indiana",6,0,43,16212,37.009622999999998,0,265.23562800000002,45460,103.23,90.48,79.319999999999993,155.06]
[29,29217,"Vernon County","Missouri","Vernon County, Missouri",90,6,397,21159,425.35091499999999,28.356728,1876.270145,{"$error":"#N/A"},{"$error":"#N/A"},{"$error":"#N/A"},{"$error":"#N/A"},{"$error":"#N/A"}]
[55,55123,"Vernon County","Wisconsin","Vernon County, Wisconsin",124,7,746,29773,416.484734,23.511234999999999,2505.6259030000001,{"$error":"#N/A"},{"$error":"#N/A"},{"$error":"#N/A"},{"$error":"#N/A"},{"$error":"#N/A"}]
[48,48469,"Victoria County","Texas",{"$f":"CONCATENATE(C2114,\", \",D2114)","v":"Victoria County, Texas"},570,11,1699,86793,656.73499000000004,12.673833,1957.5311369999999,47020,103.1,120.55,119.38,119.7]
[18,18167,"Vigo County","Indiana","Vigo County, Indiana",69,1,730,107848,63.978932999999998,0.92723100000000003,676.87856999999997,45460,96.9,111.19,114.75,128.65]
[55,55125,"Vilas County","Wisconsin","Vilas County, Wisconsin",107,3,501,21430,499.30004700000001,13.999067,2337.8441440000001,{"$error":"#N/A"},{"$error":"#N/A"},{"$error":"#N/A"},{"$error":"#N/A"},{"$error":"#N/A"}]
[39,39163,"Vinton County","Ohio","Vinton County, Ohio",116,3,331,13435,863.41645000000005,22.329736,2463.7141790000001,{"$error":"#N/A"},{"$error":"#N/A"},{"$error":"#N/A"},{"$error":"#N/A"},{"$error":"#N/A"}]
[51,51810,"Virginia Beach city","Virginia","Virginia Beach city, Virginia",2232,0,6252,437994,509.596022,0,1427.4168139999999,47260,111.75,123.1,86.61,137.93]
[12,12127,"Volusia County","Florida","Volusia County, Florida",4983,105,7369,494593,1007.495051,21.229576999999999,1489.9119069999999,19660,99.33,107.91,100.7,115.72]
[17,17185,"Wabash County","Illinois","Wabash County, Illinois",30,0,166,11947,251.10906499999999,0,1389.4701600000001,{"$error":"#N/A"},{"$error":"#N/A"},{"$error":"#N/A"},{"$error":"#N/A"},{"$error":"#N/A"}]
[27,27157,"Wabasha County","Minnesota","Wabasha County, Minnesota",59,7,186,21676,272.19044100000002,32.293781000000003,858.09189900000001,40340,89.66,101.77,80.16,119.28]
[20,20197,"Wabaunsee County","Kansas","Wabaunsee County, Kansas",49,4,211,7053,694.73982699999999,56.713455000000003,2991.6347649999998,{"$error":"#N/A"},{"$error":"#N/A"},{"$error":"#N/A"},{"$error":"#N/A"},{"$error":"#N/A"}]
[40,40145,"Wagoner County","Oklahoma","Wagoner County, Oklahoma",282,9,747,73085,385.85208999999998,12.314427999999999,1022.097558,46140,93.2,77.7,83.08,102.13]
[53,53069,"Wahkiakum County","Washington","Wahkiakum County, Washington",15,1,52,3978,377.07390600000002,25.138259999999999,1307.1895420000001,{"$error":"#N/A"},{"$error":"#N/A"},{"$error":"#N/A"},{"$error":"#N/A"},{"$error":"#N/A"}]
[37,37183,"Wake County","North Carolina","Wake County, North Carolina",6000,60,22454,900993,665.93192199999999,6.659319,2492.1392289999999,39580,103.07,115.17,134.61000000000001,96.6]
[12,12129,"Wakulla County","Florida","Wakulla County, Florida",215,4,326,30776,698.59630900000002,12.997140999999999,1059.266961,45220,89.66,45.54,78.680000000000007,79.41]
[1,1127,"Walker County","Alabama","Walker County, Alabama",421,22,1513,67023,628.14257799999996,32.824553000000002,2257.4340149999998,13820,90.6,65.739999999999995,86.66,92.5]
[13,13295,"Walker County","Georgia","Walker County, Georgia",468,10,1307,68756,680.667869,14.544185000000001,1900.9250099999999,16860,91.84,77.95,88.88,75.62]
[48,48471,"Walker County","Texas","Walker County, Texas",365,8,1269,67861,537.86416399999996,11.788804000000001,1869.9989680000001,{"$error":"#N/A"},{"$error":"#N/A"},{"$error":"#N/A"},{"$error":"#N/A"},{"$error":"#N/A"}]
[53,53071,"Walla Walla County","Washington","Walla Walla County, Washington",236,5,829,58781,401.49027699999999,8.5061499999999999,1410.319661,{"$error":"#N/A"},{"$error":"#N/A"},{"$error":"#N/A"},{"$error":"#N/A"},{"$error":"#N/A"}]
[20,20199,"Wallace County","Kansas","Wallace County, Kansas",9,1,32,1485,606.06060600000001,67.340067000000005,2154.8821549999998,{"$error":"#N/A"},{"$error":"#N/A"},{"$error":"#N/A"},{"$error":"#N/A"},{"$error":"#N/A"}]
[48,48473,"Waller County","Texas","Waller County, Texas",224,9,554,43205,518.45851200000004,20.830922000000001,1282.258998,26420,95.59,60.29,82.16,92.14]
[41,41063,"Wallowa County","Oregon","Wallowa County, Oregon",20,0,47,7008,285.38812799999999,0,670.66210000000001,{"$error":"#N/A"},{"$error":"#N/A"},{"$error":"#N/A"},{"$error":"#N/A"},{"$error":"#N/A"}]
[12,12131,"Walton County","Florida","Walton County, Florida",534,28,788,55043,970.15061000000003,50.869320000000002,1431.6080159999999,{"$error":"#N/A"},{"$error":"#N/A"},{"$error":"#N/A"},{"$error":"#N/A"},{"$error":"#N/A"}]
[13,13297,"Walton County","Georgia","Walton County, Georgia",553,12,1601,83768,660.15662299999997,14.325279,1911.2310190000001,12060,91.96,71.8,87.33,54.96]
[55,55127,"Walworth County","Wisconsin","Walworth County, Wisconsin",419,17,1619,102228,409.86813799999999,16.629494999999999,1583.7148340000001,{"$error":"#N/A"},{"$error":"#N/A"},{"$error":"#N/A"},{"$error":"#N/A"},{"$error":"#N/A"}]
[48,48475,"Ward County","Texas","Ward County, Texas",66,5,245,10658,619.25314300000002,46.913117,2298.7427280000002,{"$error":"#N/A"},{"$error":"#N/A"},{"$error":"#N/A"},{"$error":"#N/A"},{"$error":"#N/A"}]
[13,13299,"Ware County","Georgia","Ware County, Georgia",352,10,1246,36312,969.37651500000004,27.539106,3431.3725490000002,{"$error":"#N/A"},{"$error":"#N/A"},{"$error":"#N/A"},{"$error":"#N/A"},{"$error":"#N/A"}]
[13,13301,"Warren County","Georgia","Warren County, Georgia",39,5,107,5834,668.49502900000005,85.704491000000004,1834.076106,{"$error":"#N/A"},{"$error":"#N/A"},{"$error":"#N/A"},{"$error":"#N/A"},{"$error":"#N/A"}]
[17,17187,"Warren County","Illinois","Warren County, Illinois",69,3,362,17707,389.676399,16.942451999999999,2044.3892249999999,{"$error":"#N/A"},{"$error":"#N/A"},{"$error":"#N/A"},{"$error":"#N/A"},{"$error":"#N/A"}]
[19,19181,"Warren County","Iowa","Warren County, Iowa",345,8,895,46225,746.349378,17.306652,1936.18172,19780,93.98,105.61,82.31,83.56]
[21,21227,"Warren County","Kentucky","Warren County, Kentucky",643,17,3907,113792,565.06608500000004,14.939539,3433.4575369999998,14540,101.86,102.72,124.59,100.77]
[29,29219,"Warren County","Missouri","Warren County, Missouri",153,3,723,32513,470.58099800000002,9.2270780000000006,2223.7258940000002,41180,90.25,65.09,88.5,88.94]
[34,34041,"Warren County","New Jersey","Warren County, New Jersey",737,14,3509,108692,678.06278299999997,12.880433,3228.3884739999999,10900,95.86,119.17,85.21,97.52]
[36,36113,"Warren County","New York","Warren County, New York",539,6,3187,65707,820.30833900000005,9.1314469999999996,4850.3203620000004,24020,94.99,105.93,183.56,89.94]
[37,37185,"Warren County","North Carolina","Warren County, North Carolina",94,3,345,20972,448.21667000000002,14.304786999999999,1645.0505439999999,{"$error":"#N/A"},{"$error":"#N/A"},{"$error":"#N/A"},{"$error":"#N/A"},{"$error":"#N/A"}]
[39,39165,"Warren County","Ohio","Warren County, Ohio",1235,11,5104,212693,580.64910499999996,5.171773,2399.7028580000001,17140,97.43,106.62,84.37,88.63]
[42,42123,"Warren County","Pennsylvania","Warren County, Pennsylvania",169,6,368,41815,404.16118599999999,14.348917999999999,880.06696199999999,{"$error":"#N/A"},{"$error":"#N/A"},{"$error":"#N/A"},{"$error":"#N/A"},{"$error":"#N/A"}]
[47,47177,"Warren County","Tennessee","Warren County, Tennessee",241,7,1032,39839,604.93486299999995,17.570722,2590.4264669999998,{"$error":"#N/A"},{"$error":"#N/A"},{"$error":"#N/A"},{"$error":"#N/A"},{"$error":"#N/A"}]
[51,51187,"Warren County","Virginia","Warren County, Virginia",191,0,545,37575,508.31670000000003,0,1450.432468,47900,93.5,92.21,88.78,94.07]
[18,18173,"Warrick County","Indiana","Warrick County, Indiana",29,0,361,59689,48.585166000000001,0,604.80155500000001,21780,99.66,102.11,81.650000000000006,82.32]
[49,49051,"Wasatch County","Utah","Wasatch County, Utah",140,1,547,23530,594.98512500000004,4.2498940000000003,2324.691883,{"$error":"#N/A"},{"$error":"#N/A"},{"$error":"#N/A"},{"$error":"#N/A"},{"$error":"#N/A"}]
[41,41065,"Wasco County","Oregon","Wasco County, Oregon",143,4,331,25213,567.167731,15.864832,1312.8148180000001,{"$error":"#N/A"},{"$error":"#N/A"},{"$error":"#N/A"},{"$error":"#N/A"},{"$error":"#N/A"}]
[56,56043,"Washakie County","Wyoming","Washakie County, Wyoming",24,0,97,8533,281.260987,0,1136.7631550000001,{"$error":"#N/A"},{"$error":"#N/A"},{"$error":"#N/A"},{"$error":"#N/A"},{"$error":"#N/A"}]
[55,55129,"Washburn County","Wisconsin","Washburn County, Wisconsin",90,1,336,15911,565.64640799999995,6.2849599999999999,2111.7465900000002,{"$error":"#N/A"},{"$error":"#N/A"},{"$error":"#N/A"},{"$error":"#N/A"},{"$error":"#N/A"}]
[1,1129,"Washington County","Alabama","Washington County, Alabama",65,6,197,17581,369.717308,34.127752000000001,1120.5278430000001,{"$error":"#N/A"},{"$error":"#N/A"},{"$error":"#N/A"},{"$error":"#N/A"},{"$error":"#N/A"}]
[5,5143,"Washington County","Arkansas","Washington County, Arkansas",1156,27,4999,203065,569.275848,13.296234999999999,2461.7733239999998,22220,98.58,104.46,109.89,91.83]
[12,12133,"Washington County","Florida","Washington County, Florida",177,7,245,24896,710.957584,28.116966999999999,984.09383000000003,{"$error":"#N/A"},{"$error":"#N/A"},{"$error":"#N/A"},{"$error":"#N/A"},{"$error":"#N/A"}]
[13,13303,"Washington County","Georgia","Washington County, Georgia",123,4,365,21187,580.54467399999999,18.879501999999999,1722.7545190000001,{"$error":"#N/A"},{"$error":"#N/A"},{"$error":"#N/A"},{"$error":"#N/A"},{"$error":"#N/A"}]
[16,16087,"Washington County","Idaho","Washington County, Idaho",32,3,86,10198,313.78701699999999,29.417532999999999,843.30260799999996,{"$error":"#N/A"},{"$error":"#N/A"},{"$error":"#N/A"},{"$error":"#N/A"},{"$error":"#N/A"}]
[17,17189,"Washington County","Illinois","Washington County, Illinois",93,5,415,14716,631.96520799999996,33.976624000000001,2820.0597990000001,{"$error":"#N/A"},{"$error":"#N/A"},{"$error":"#N/A"},{"$error":"#N/A"},{"$error":"#N/A"}]
[18,18175,"Washington County","Indiana","Washington County, Indiana",22,1,135,28262,77.843040000000002,3.5383200000000001,477.67320100000001,31140,94.15,67.81,80.3,87.16]
[19,19183,"Washington County","Iowa","Washington County, Iowa",81,1,327,21704,373.20309600000002,4.6074460000000004,1506.634722,26980,90,104.89,78.56,86.53]
[20,20201,"Washington County","Kansas","Washington County, Kansas",17,0,191,5799,293.15399200000002,0,3293.671323,{"$error":"#N/A"},{"$error":"#N/A"},{"$error":"#N/A"},{"$error":"#N/A"},{"$error":"#N/A"}]
[24,24043,"Washington County","Maryland","Washington County, Maryland",846,12,2063,147430,573.83164899999997,8.1394559999999991,1399.3081460000001,25180,97.32,110.91,127.59,95.52]
[27,27163,"Washington County","Minnesota","Washington County, Minnesota",751,6,2343,238136,315.36600900000002,2.5195690000000002,983.89155800000003,33460,100.91,108.44,82.51,109.35]
[29,29221,"Washington County","Missouri","Washington County, Missouri",135,10,382,25195,535.82059900000002,39.690415000000002,1516.1738439999999,41180,89.88,65.150000000000006,71.89,94.61]
[31,31177,"Washington County","Nebraska","Washington County, Nebraska",36,1,299,20234,177.91835499999999,4.942177,1477.7107840000001,36540,89.99,86.51,117.82,94.88]
[36,36115,"Washington County","New York","Washington County, New York",330,9,1794,63216,522.01974199999995,14.236902000000001,2837.889142,24020,92.47,80.23,80.510000000000005,59.21]
[37,37187,"Washington County","North Carolina","Washington County, North Carolina",56,1,246,13228,423.34442100000001,7.5597219999999998,1859.6915630000001,{"$error":"#N/A"},{"$error":"#N/A"},{"$error":"#N/A"},{"$error":"#N/A"},{"$error":"#N/A"}]
[39,39167,"Washington County","Ohio","Washington County, Ohio",397,7,1435,61778,642.62358800000004,11.330894000000001,2322.8333710000002,37620,93.06,88.2,86.67,83.86]
[40,40147,"Washington County","Oklahoma","Washington County, Oklahoma",299,4,948,50976,586.55053399999997,7.8468299999999997,1859.698682,{"$error":"#N/A"},{"$error":"#N/A"},{"$error":"#N/A"},{"$error":"#N/A"},{"$error":"#N/A"}]
[41,41067,"Washington County","Oregon","Washington County, Oregon",3390,13,6659,529710,639.97281499999997,2.4541729999999999,1257.1029430000001,38900,110.39,132.91,85.02,113.1]
[42,42125,"Washington County","Pennsylvania","Washington County, Pennsylvania",690,24,1802,207820,332.01809300000002,11.548455000000001,867.09652600000004,38300,95.07,106.69,93.55,102.25]
[44,44009,"Washington County","Rhode Island","Washington County, Rhode Island",669,10,3844,126979,526.85877200000004,7.875318,3027.272226,39300,94.03,102.13,88.56,97.1]
[47,47179,"Washington County","Tennessee","Washington County, Tennessee",696,9,4516,122979,565.95028400000001,7.3183230000000004,3672.1716719999999,27740,94.93,91.12,94.03,93.77]
[48,48477,"Washington County","Texas","Washington County, Texas",196,6,731,33718,581.29189199999996,17.794650000000001,2167.9814940000001,{"$error":"#N/A"},{"$error":"#N/A"},{"$error":"#N/A"},{"$error":"#N/A"},{"$error":"#N/A"}]
[49,49053,"Washington County","Utah",{"$f":"CONCATENATE(C2178,\", \",D2178)","v":"Washington County, Utah"},598,14,1592,138115,432.97252300000002,10.136480000000001,1152.662636,41100,95.06,98.96,84.85,91.6]
[51,51191,"Washington County","Virginia","Washington County, Virginia",428,0,1009,54876,779.94022900000004,0,1838.690867,28700,90.49,77.47,81.92,90.19]
[55,55131,"Washington County","Wisconsin","Washington County, Wisconsin",612,11,2731,131887,464.03360500000002,8.3404729999999994,2070.7120490000002,33340,94.74,96.05,128.66999999999999,75.349999999999994]
[40,40149,"Washita County","Oklahoma","Washita County, Oklahoma",0,0,0,11629,0,0,0,{"$error":"#N/A"},{"$error":"#N/A"},{"$error":"#N/A"},{"$error":"#N/A"},{"$error":"#N/A"}]
[32,32031,"Washoe County","Nevada","Washoe County, Nevada",1866,30,5363,421407,442.80232599999999,7.119008,1272.6414130000001,39900,103.05,110.72,131.44999999999999,103.68]
[26,26161,"Washtenaw County","Michigan","Washtenaw County, Michigan",1827,33,9715,344791,529.88622099999998,9.5710149999999992,2817.6489529999999,11460,105.17,117.06,155.38999999999999,87.03]
[37,37189,"Watauga County","North Carolina","Watauga County, North Carolina",313,3,1204,51079,612.77628800000002,5.8732550000000003,2357.1330680000001,{"$error":"#N/A"},{"$error":"#N/A"},{"$error":"#N/A"},{"$error":"#N/A"},{"$error":"#N/A"}]
[55,55133,"Waukesha County","Wisconsin","Waukesha County, Wisconsin",1767,16,6877,389891,453.20358800000002,4.1037109999999997,1763.8262999999999,33340,96.89,112.13,147.79,101.06]
[55,55135,"Waupaca County","Wisconsin","Waupaca County, Wisconsin",241,13,1409,52410,459.83590900000002,24.804427,2688.4182409999999,{"$error":"#N/A"},{"$error":"#N/A"},{"$error":"#N/A"},{"$error":"#N/A"},{"$error":"#N/A"}]
[55,55137,"Waushara County","Wisconsin","Waushara County, Wisconsin",141,6,763,24496,575.60418000000004,24.493794999999999,3114.7942520000001,{"$error":"#N/A"},{"$error":"#N/A"},{"$error":"#N/A"},{"$error":"#N/A"},{"$error":"#N/A"}]
[13,13305,"Wayne County","Georgia","Wayne County, Georgia",158,4,569,30099,524.93438300000003,13.289478000000001,1890.428253,{"$error":"#N/A"},{"$error":"#N/A"},{"$error":"#N/A"},{"$error":"#N/A"},{"$error":"#N/A"}]
[17,17191,"Wayne County","Illinois","Wayne County, Illinois",65,3,478,16760,387.82816200000002,17.899761000000002,2852.02864,{"$error":"#N/A"},{"$error":"#N/A"},{"$error":"#N/A"},{"$error":"#N/A"},{"$error":"#N/A"}]
[26,26163,"Wayne County","Michigan","Wayne County, Michigan",9897,123,45549,1820584,543.61677399999996,6.7560739999999999,2501.8895040000002,19820,112.5,126.5,136.09,148.34]
[29,29223,"Wayne County","Missouri","Wayne County, Missouri",82,2,243,13521,606.46401900000001,14.791805,1797.2043490000001,{"$error":"#N/A"},{"$error":"#N/A"},{"$error":"#N/A"},{"$error":"#N/A"},{"$error":"#N/A"}]
[31,31179,"Wayne County","Nebraska","Wayne County, Nebraska",16,0,120,9595,166.75351699999999,0,1250.6513809999999,{"$error":"#N/A"},{"$error":"#N/A"},{"$error":"#N/A"},{"$error":"#N/A"},{"$error":"#N/A"}]
[36,36117,"Wayne County","New York","Wayne County, New York",450,9,3003,93772,479.88738599999999,9.5977479999999993,3202.448492,40380,92.68,85.72,85.91,55.37]
[37,37191,"Wayne County","North Carolina","Wayne County, North Carolina",953,16,2754,122623,777.17883300000005,13.048123,2245.9081900000001,24140,93.55,78.790000000000006,130.76,84.88]
[39,39169,"Wayne County","Ohio","Wayne County, Ohio",696,12,2522,114520,607.75410399999998,10.478519,2202.2354169999999,{"$error":"#N/A"},{"$error":"#N/A"},{"$error":"#N/A"},{"$error":"#N/A"},{"$error":"#N/A"}]
[42,42127,"Wayne County","Pennsylvania","Wayne County, Pennsylvania",208,5,449,52822,393.77532100000002,9.4657529999999994,850.02461100000005,{"$error":"#N/A"},{"$error":"#N/A"},{"$error":"#N/A"},{"$error":"#N/A"},{"$error":"#N/A"}]
[47,47181,"Wayne County","Tennessee","Wayne County, Tennessee",75,4,327,17021,440.63216,23.500381999999998,1921.156219,{"$error":"#N/A"},{"$error":"#N/A"},{"$error":"#N/A"},{"$error":"#N/A"},{"$error":"#N/A"}]
[49,49055,"Wayne County","Utah","Wayne County, Utah",18,0,53,2778,647.94816400000002,0,1907.847372,{"$error":"#N/A"},{"$error":"#N/A"},{"$error":"#N/A"},{"$error":"#N/A"},{"$error":"#N/A"}]
[54,54099,"Wayne County","West Virginia","Wayne County, West Virginia",411,9,948,42481,967.49134900000001,21.185942000000001,2231.585885,26580,93.73,81.819999999999993,84.99,106.16]
[47,47183,"Weakley County","Tennessee","Weakley County, Tennessee",196,10,611,35021,559.66420100000005,28.554296000000001,1744.6674849999999,{"$error":"#N/A"},{"$error":"#N/A"},{"$error":"#N/A"},{"$error":"#N/A"},{"$error":"#N/A"}]
[48,48479,"Webb County","Texas","Webb County, Texas",1824,21,6688,250304,728.71388400000001,8.3897980000000008,2671.9509079999998,29700,101.78,122.77,102.69,121.89]
[49,49057,"Weber County","Utah","Weber County, Utah",1182,17,3665,231236,511.16608100000002,7.3517960000000002,1584.9608189999999,36260,105.74,124.44,97.16,108.01]
[13,13307,"Webster County","Georgia","Webster County, Georgia",24,2,38,2799,857.44908899999996,71.454091000000005,1357.6277239999999,{"$error":"#N/A"},{"$error":"#N/A"},{"$error":"#N/A"},{"$error":"#N/A"},{"$error":"#N/A"}]
[29,29225,"Webster County","Missouri","Webster County, Missouri",162,7,617,36202,447.48908899999998,19.335947999999998,1704.325728,44180,89.7,58.65,78.349999999999994,95.58]
[31,31181,"Webster County","Nebraska","Webster County, Nebraska",3,0,78,3812,78.698846000000003,0,2046.1699900000001,{"$error":"#N/A"},{"$error":"#N/A"},{"$error":"#N/A"},{"$error":"#N/A"},{"$error":"#N/A"}]
[8,8123,"Weld County","Colorado","Weld County, Colorado",447,34,4804,252825,176.80213599999999,13.448036999999999,1900.128547,24540,97.29,114.35,111.18,95.06]
[18,18179,"Wells County","Indiana","Wells County, Indiana",19,1,154,27636,68.750905000000003,3.6184690000000002,557.24417400000004,23060,89.98,90.1,83.04,70.180000000000007]
[22,22121,"West Baton Rouge Parish","Louisiana","West Baton Rouge Parish, Louisiana",367,4,1065,23788,1542.794686,16.815200999999998,4477.047251,12940,92.8,93.51,81.41,106.35]
[36,36119,"Westchester County","New York","Westchester County, New York",5900,32,21772,949113,621.63304100000005,3.371569,2293.9312810000001,35620,129.24,146.99,93.74,123.66]
[42,42129,"Westmoreland County","Pennsylvania","Westmoreland County, Pennsylvania",1207,35,2890,365169,330.53189099999997,9.5846029999999995,791.41438600000004,38300,95.84,111.77,104.88,108.5]
[56,56045,"Weston County","Wyoming","Weston County, Wyoming",34,0,116,7208,471.69811299999998,0,1609.3229739999999,{"$error":"#N/A"},{"$error":"#N/A"},{"$error":"#N/A"},{"$error":"#N/A"},{"$error":"#N/A"}]
[26,26165,"Wexford County","Michigan","Wexford County, Michigan",158,7,1195,32735,482.663815,21.383839999999999,3650.5269589999998,{"$error":"#N/A"},{"$error":"#N/A"},{"$error":"#N/A"},{"$error":"#N/A"},{"$error":"#N/A"}]
[48,48481,"Wharton County","Texas","Wharton County, Texas",214,7,681,41280,518.41085299999997,16.957363999999998,1649.709302,{"$error":"#N/A"},{"$error":"#N/A"},{"$error":"#N/A"},{"$error":"#N/A"},{"$error":"#N/A"}]
[53,53073,"Whatcom County","Washington","Whatcom County, Washington",759,8,2523,201140,377.34911,3.9773290000000001,1254.3502040000001,13380,95.83,110.62,115.26,99]
[13,13309,"Wheeler County","Georgia","Wheeler County, Georgia",18,4,39,7421,242.554912,53.901091000000001,525.53564200000005,{"$error":"#N/A"},{"$error":"#N/A"},{"$error":"#N/A"},{"$error":"#N/A"},{"$error":"#N/A"}]
[31,31183,"Wheeler County","Nebraska","Wheeler County, Nebraska",4,0,17,818,488.99755499999998,0,2078.2396090000002,{"$error":"#N/A"},{"$error":"#N/A"},{"$error":"#N/A"},{"$error":"#N/A"},{"$error":"#N/A"}]
[41,41069,"Wheeler County","Oregon","Wheeler County, Oregon",7,0,19,1441,485.77376800000002,0,1318.5287989999999,{"$error":"#N/A"},{"$error":"#N/A"},{"$error":"#N/A"},{"$error":"#N/A"},{"$error":"#N/A"}]
[48,48483,"Wheeler County","Texas","Wheeler County, Texas",29,6,94,5410,536.04436199999998,110.90573000000001,1737.523105,{"$error":"#N/A"},{"$error":"#N/A"},{"$error":"#N/A"},{"$error":"#N/A"},{"$error":"#N/A"}]
[13,13311,"White County","Georgia","White County, Georgia",192,3,652,27144,707.33863799999995,11.052166,2402.0041259999998,{"$error":"#N/A"},{"$error":"#N/A"},{"$error":"#N/A"},{"$error":"#N/A"},{"$error":"#N/A"}]
[17,17193,"White County","Illinois","White County, Illinois",58,2,448,14665,395.49948899999998,13.637912999999999,3054.892601,{"$error":"#N/A"},{"$error":"#N/A"},{"$error":"#N/A"},{"$error":"#N/A"},{"$error":"#N/A"}]
[47,47185,"White County","Tennessee","White County, Tennessee",132,4,560,25841,510.81614500000001,15.479277,2167.0987960000002,{"$error":"#N/A"},{"$error":"#N/A"},{"$error":"#N/A"},{"$error":"#N/A"},{"$error":"#N/A"}]
[32,32033,"White Pine County","Nevada","White Pine County, Nevada",46,2,150,10030,458.62412799999998,19.940179000000001,1495.5134599999999,{"$error":"#N/A"},{"$error":"#N/A"},{"$error":"#N/A"},{"$error":"#N/A"},{"$error":"#N/A"}]
[17,17195,"Whiteside County","Illinois","Whiteside County, Illinois",234,4,1122,58498,400.01367599999998,6.8378410000000001,1918.014291,{"$error":"#N/A"},{"$error":"#N/A"},{"$error":"#N/A"},{"$error":"#N/A"},{"$error":"#N/A"}]
[13,13313,"Whitfield County","Georgia","Whitfield County, Georgia",840,14,2921,102599,818.72143000000005,13.645357000000001,2847.0063060000002,19140,94.64,87.29,115.72,88.51]
[18,18183,"Whitley County","Indiana","Whitley County, Indiana",22,1,178,33292,66.081941999999998,3.0037250000000002,534.66298200000006,23060,90.31,89.14,84.12,56.3]
[53,53075,"Whitman County","Washington","Whitman County, Washington",169,5,575,44776,377.43434000000002,11.166696,1284.170091,{"$error":"#N/A"},{"$error":"#N/A"},{"$error":"#N/A"},{"$error":"#N/A"},{"$error":"#N/A"}]
[20,20203,"Wichita County","Kansas","Wichita County, Kansas",13,0,45,2234,581.91584599999999,0,2014.3240820000001,{"$error":"#N/A"},{"$error":"#N/A"},{"$error":"#N/A"},{"$error":"#N/A"},{"$error":"#N/A"}]
[48,48485,"Wichita County","Texas","Wichita County, Texas",481,10,2013,131500,365.77946800000001,7.6045629999999997,1530.798479,48660,98.04,121.94,121.17,110.29]
[24,24045,"Wicomico County","Maryland","Wicomico County, Maryland",763,8,1822,98733,772.79126499999995,8.1026609999999994,1845.380977,41540,96,106.22,124.92,114.15]
[48,48487,"Wilbarger County","Texas","Wilbarger County, Texas",52,2,244,13535,384.18913900000001,14.776505,1802.733653,{"$error":"#N/A"},{"$error":"#N/A"},{"$error":"#N/A"},{"$error":"#N/A"},{"$error":"#N/A"}]
[1,1131,"Wilcox County","Alabama","Wilcox County, Alabama",70,7,150,11670,599.82862,59.982861999999997,1285.3470440000001,{"$error":"#N/A"},{"$error":"#N/A"},{"$error":"#N/A"},{"$error":"#N/A"},{"$error":"#N/A"}]
[13,13315,"Wilcox County","Georgia","Wilcox County, Georgia",25,4,61,9255,270.124257,43.219881000000001,659.10318700000005,{"$error":"#N/A"},{"$error":"#N/A"},{"$error":"#N/A"},{"$error":"#N/A"},{"$error":"#N/A"}]
[13,13317,"Wilkes County","Georgia","Wilkes County, Georgia",75,3,133,10593,708.01472699999999,28.320588999999998,1255.5461150000001,{"$error":"#N/A"},{"$error":"#N/A"},{"$error":"#N/A"},{"$error":"#N/A"},{"$error":"#N/A"}]
[37,37193,"Wilkes County","North Carolina","Wilkes County, North Carolina",485,11,1229,69340,699.45197599999995,15.863859,1772.4257279999999,{"$error":"#N/A"},{"$error":"#N/A"},{"$error":"#N/A"},{"$error":"#N/A"},{"$error":"#N/A"}]
[13,13319,"Wilkinson County","Georgia","Wilkinson County, Georgia",62,1,231,9563,648.33211300000005,10.45697,2415.5599710000001,{"$error":"#N/A"},{"$error":"#N/A"},{"$error":"#N/A"},{"$error":"#N/A"},{"$error":"#N/A"}]
[17,17197,"Will County","Illinois","Will County, Illinois",2627,34,12171,677560,387.714741,5.0180059999999997,1796.298483,16980,101.35,114.01,92.55,100.58]
[48,48489,"Willacy County","Texas","Willacy County, Texas",28,3,92,22134,126.502214,13.553808999999999,415.65013099999999,{"$error":"#N/A"},{"$error":"#N/A"},{"$error":"#N/A"},{"$error":"#N/A"},{"$error":"#N/A"}]
[39,39171,"Williams County","Ohio","Williams County, Ohio",223,5,1262,37642,592.42335700000001,13.283035,3352.638011,{"$error":"#N/A"},{"$error":"#N/A"},{"$error":"#N/A"},{"$error":"#N/A"},{"$error":"#N/A"}]
[51,51830,"Williamsburg city","Virginia","Williamsburg city, Virginia",81,0,163,14068,575.77480800000001,0,1158.6579469999999,47260,108.92,118.37,158.9,136.03]
[45,45089,"Williamsburg County","South Carolina","Williamsburg County, South Carolina",226,9,567,34423,656.53778,26.145309999999998,1647.1545189999999,{"$error":"#N/A"},{"$error":"#N/A"},{"$error":"#N/A"},{"$error":"#N/A"},{"$error":"#N/A"}]
[17,17199,"Williamson County","Illinois","Williamson County, Illinois",380,12,1629,66357,572.66000599999995,18.084,2454.9030250000001,{"$error":"#N/A"},{"$error":"#N/A"},{"$error":"#N/A"},{"$error":"#N/A"},{"$error":"#N/A"}]
[47,47187,"Williamson County","Tennessee",{"$f":"CONCATENATE(C2242,\", \",D2242)","v":"Williamson County, Tennessee"},1052,8,3893,183182,574.29223400000001,4.3672409999999999,2125.2088090000002,34980,97,85.43,133.03,87.19]
[48,48491,"Williamson County","Texas","Williamson County, Texas",1100,22,2773,422679,260.24477200000001,5.2048949999999996,656.05341199999998,12420,101.28,106.24,98.74,101.69]
[20,20205,"Wilson County","Kansas","Wilson County, Kansas",33,1,161,9409,350.728026,10.628121999999999,1711.1276439999999,{"$error":"#N/A"},{"$error":"#N/A"},{"$error":"#N/A"},{"$error":"#N/A"},{"$error":"#N/A"}]
[37,37195,"Wilson County","North Carolina","Wilson County, North Carolina",584,13,1737,81234,718.91080099999999,16.003150999999999,2138.2672280000002,{"$error":"#N/A"},{"$error":"#N/A"},{"$error":"#N/A"},{"$error":"#N/A"},{"$error":"#N/A"}]
[47,47189,"Wilson County","Tennessee","Wilson County, Tennessee",789,18,3196,113993,692.14776300000005,15.790443,2803.6809280000002,34980,93.71,71.92,85.24,70.33]
[48,48493,"Wilson County","Texas","Wilson County, Texas",160,3,537,42918,372.80395199999998,6.9900739999999999,1251.2232630000001,41700,89.22,46.7,88.44,72.239999999999995]
[51,51840,"Winchester city","Virginia","Winchester city, Virginia",147,0,479,26203,561.00446499999998,0,1828.034958,49020,114.03,135.13,133.91,150.19]
[48,48495,"Winkler County","Texas","Winkler County, Texas",23,0,112,7110,323.488045,0,1575.246132,{"$error":"#N/A"},{"$error":"#N/A"},{"$error":"#N/A"},{"$error":"#N/A"},{"$error":"#N/A"}]
[17,17201,"Winnebago County","Illinois","Winnebago County, Illinois",1389,20,6122,295266,470.42327899999998,6.7735529999999997,2073.384677,40420,100.8,123.79,117.91,120.01]
[55,55139,"Winnebago County","Wisconsin","Winnebago County, Wisconsin",1044,8,3971,166994,625.17216199999996,4.790591,2377.9297459999998,36780,100.65,118.29,97.48,113.49]
[1,1133,"Winston County","Alabama","Winston County, Alabama",69,5,239,24484,281.81669699999998,20.421500000000002,976.14768800000002,{"$error":"#N/A"},{"$error":"#N/A"},{"$error":"#N/A"},{"$error":"#N/A"},{"$error":"#N/A"}]
[48,48497,"Wise County","Texas","Wise County, Texas",233,13,910,59127,394.06700799999999,21.986571000000001,1539.05999,19100,89.07,68.459999999999994,80.23,80.040000000000006]
[39,39173,"Wood County","Ohio","Wood County, Ohio",730,14,3419,125488,581.72892999999999,11.156445,2724.5633050000001,45780,94.89,111.78,91.96,82.11]
[48,48499,"Wood County","Texas","Wood County, Texas",147,9,501,41964,350.30025699999999,21.446954999999999,1193.8804689999999,{"$error":"#N/A"},{"$error":"#N/A"},{"$error":"#N/A"},{"$error":"#N/A"},{"$error":"#N/A"}]
[54,54107,"Wood County","West Virginia","Wood County, West Virginia",1005,10,3356,86956,1155.7569350000001,11.500069,3859.4231570000002,37620,96.66,116.84,107.75,121.08]
[55,55141,"Wood County","Wisconsin","Wood County, Wisconsin",330,7,1101,74749,441.47747800000002,9.3646740000000008,1472.929404,{"$error":"#N/A"},{"$error":"#N/A"},{"$error":"#N/A"},{"$error":"#N/A"},{"$error":"#N/A"}]
[19,19193,"Woodbury County","Iowa","Woodbury County, Iowa",640,6,1885,102172,626.39470700000004,5.8724499999999997,1844.9281599999999,43580,97.33,125.17,117.13,122.41]
[17,17203,"Woodford County","Illinois","Woodford County, Illinois",110,3,465,38664,284.50237900000002,7.7591559999999999,1202.6691499999999,37900,89.23,111.21,85.84,94.01]
[21,21239,"Woodford County","Kentucky","Woodford County, Kentucky",148,5,801,24939,593.44801299999995,20.048919000000001,3211.8368820000001,30460,93.43,105.61,79.510000000000005,90.95]
[40,40151,"Woods County","Oklahoma","Woods County, Oklahoma",0,0,90,8878,0,0,1013.741834,{"$error":"#N/A"},{"$error":"#N/A"},{"$error":"#N/A"},{"$error":"#N/A"},{"$error":"#N/A"}]
[20,20207,"Woodson County","Kansas","Woodson County, Kansas",26,1,109,3309,785.73587199999997,30.220610000000001,3294.0465399999998,{"$error":"#N/A"},{"$error":"#N/A"},{"$error":"#N/A"},{"$error":"#N/A"},{"$error":"#N/A"}]
[40,40153,"Woodward County","Oklahoma","Woodward County, Oklahoma",99,0,311,20081,493.00333599999999,0,1548.7276529999999,{"$error":"#N/A"},{"$error":"#N/A"},{"$error":"#N/A"},{"$error":"#N/A"},{"$error":"#N/A"}]
[24,24047,"Worcester County","Maryland","Worcester County, Maryland",410,8,1086,51454,796.82823499999995,15.547867999999999,2110.6230810000002,{"$error":"#N/A"},{"$error":"#N/A"},{"$error":"#N/A"},{"$error":"#N/A"},{"$error":"#N/A"}]
[25,25027,"Worcester County","Massachusetts","Worcester County, Massachusetts",3974,50,16960,798552,497.65074800000002,6.2613329999999996,2123.8441579999999,49340,"NA",30.9,"NA",98.17]
[13,13321,"Worth County","Georgia","Worth County, Georgia",120,4,304,21679,553.53106700000001,18.451035999999998,1402.278703,10500,88.76,52.25,84.69,68.22]
[29,29227,"Worth County","Missouri","Worth County, Missouri",0,0,24,2171,0,0,1105.4813449999999,{"$error":"#N/A"},{"$error":"#N/A"},{"$error":"#N/A"},{"$error":"#N/A"},{"$error":"#N/A"}]
[27,27171,"Wright County","Minnesota","Wright County, Minnesota",352,6,1145,124700,282.277466,4.8115480000000002,918.20368900000005,33460,92.03,88.12,85.17,74.14]
[29,29229,"Wright County","Missouri","Wright County, Missouri",74,1,228,18815,393.30321600000002,5.314908,1211.799096,{"$error":"#N/A"},{"$error":"#N/A"},{"$error":"#N/A"},{"$error":"#N/A"},{"$error":"#N/A"}]
[39,39175,"Wyandot County","Ohio","Wyandot County, Ohio",83,0,604,22615,367.01304399999998,0,2670.793721,{"$error":"#N/A"},{"$error":"#N/A"},{"$error":"#N/A"},{"$error":"#N/A"},{"$error":"#N/A"}]
[20,20209,"Wyandotte County","Kansas","Wyandotte County, Kansas",842,15,3535,157505,534.58620399999995,9.5235070000000004,2244.3731950000001,28140,101.91,113.88,103.1,127.92]
[36,36121,"Wyoming County","New York","Wyoming County, New York",210,5,1402,42155,498.16154699999998,11.860989,3325.8213740000001,{"$error":"#N/A"},{"$error":"#N/A"},{"$error":"#N/A"},{"$error":"#N/A"},{"$error":"#N/A"}]
[42,42131,"Wyoming County","Pennsylvania","Wyoming County, Pennsylvania",125,5,304,28276,442.07101399999999,17.682841,1075.1167069999999,42540,90.4,51.38,86.24,74.760000000000005]
[37,37197,"Yadkin County","North Carolina","Yadkin County, North Carolina",244,5,760,38406,635.31739800000003,13.018799,1978.8574699999999,49180,90.06,70.680000000000007,79.45,49.29]
[53,53077,"Yakima County","Washington","Yakima County, Washington",1090,30,3343,243231,448.133667,12.333954,1374.4136229999999,49420,98.64,124.46,128.18,89.38]
[2,2282,"Yakutat City and Borough","Alaska","Yakutat City and Borough, Alaska",1,0,2,662,151.057402,0,302.11480399999999,{"$error":"#N/A"},{"$error":"#N/A"},{"$error":"#N/A"},{"$error":"#N/A"},{"$error":"#N/A"}]
[41,41071,"Yamhill County","Oregon","Yamhill County, Oregon",462,4,987,99193,465.75867199999999,4.0325430000000004,995.02989100000002,38900,99.08,122.85,81.319999999999993,93.49]
[37,37199,"Yancey County","North Carolina","Yancey County, North Carolina",107,0,259,17818,600.51633200000003,0,1453.5862609999999,{"$error":"#N/A"},{"$error":"#N/A"},{"$error":"#N/A"},{"$error":"#N/A"},{"$error":"#N/A"}]
[36,36123,"Yates County","New York","Yates County, New York",120,1,798,25348,473.41013099999998,3.945084,3148.1773710000002,{"$error":"#N/A"},{"$error":"#N/A"},{"$error":"#N/A"},{"$error":"#N/A"},{"$error":"#N/A"}]
[4,4025,"Yavapai County","Arizona","Yavapai County, Arizona",941,46,3111,211033,445.90182600000003,21.797539,1474.1770240000001,39140,96,89.71,88.28,86.4]
[30,30111,"Yellowstone County","Montana","Yellowstone County, Montana",905,20,3524,147972,611.60219500000005,13.516071,2381.531641,13740,103.87,120.17,119.97,115.07]
[48,48501,"Yoakum County","Texas","Yoakum County, Texas",30,0,131,7879,380.75898000000001,0,1662.6475439999999,{"$error":"#N/A"},{"$error":"#N/A"},{"$error":"#N/A"},{"$error":"#N/A"},{"$error":"#N/A"}]
[6,6113,"Yolo County","California","Yolo County, California",620,12,2032,200849,308.68961300000001,5.9746379999999997,1011.7053110000001,40900,107.3,126.92,98.5,110.1]
[23,23031,"York County","Maine","York County, Maine",1195,26,4602,197131,606.19587999999999,13.189199,2334.4882339999999,38860,92.68,89.8,93.72,78.52]
[31,31185,"York County","Nebraska","York County, Nebraska",36,4,319,13665,263.44676199999998,29.271861999999999,2334.431028,{"$error":"#N/A"},{"$error":"#N/A"},{"$error":"#N/A"},{"$error":"#N/A"},{"$error":"#N/A"}]
[42,42133,"York County","Pennsylvania","York County, Pennsylvania",1724,43,4061,434972,396.347351,9.8856940000000009,933.62331400000005,49620,99.69,112.24,115.21,96.33]
[45,45091,"York County","South Carolina","York County, South Carolina",1275,25,4563,226073,563.97712200000001,11.058375,2018.3745960000001,16740,95.01,95.83,94.28,80.22]
[51,51199,"York County","Virginia","York County, Virginia",373,0,900,65464,569.77881000000002,0,1374.801418,47260,97.29,99,86.14,108.5]
[48,48503,"Young County","Texas","Young County, Texas",70,1,257,18550,377.35849100000001,5.3908360000000002,1385.4447439999999,{"$error":"#N/A"},{"$error":"#N/A"},{"$error":"#N/A"},{"$error":"#N/A"},{"$error":"#N/A"}]
[6,6115,"Yuba County","California","Yuba County, California",320,13,754,72155,443.48971,18.016769,1044.972628,49700,97.57,95.43,82.17,89.37]
[4,4027,"Yuma County","Arizona","Yuma County, Arizona",867,20,2711,195751,442.90961499999997,10.217060999999999,1384.9226819999999,49740,99.68,105.56,142.91,107.38]
[48,48505,"Zapata County","Texas","Zapata County, Texas",34,4,85,14018,242.545299,28.534741,606.363247,{"$error":"#N/A"},{"$error":"#N/A"},{"$error":"#N/A"},{"$error":"#N/A"},{"$error":"#N/A"}]
[48,48507,"Zavala County","Texas","Zavala County, Texas",26,4,41,11677,222.65993,34.255374000000003,351.11758200000003,{"$error":"#N/A"},{"$error":"#N/A"},{"$error":"#N/A"},{"$error":"#N/A"},{"$error":"#N/A"}]

{"sheet":"Running Emissions","index":6,"n_rows":185,"n_cols":64,"rows_kept":185,"cut":false,"hidden":false,"merged":[[0,44,0,53],[0,54,0,63],[0,0,0,3],[0,4,0,13],[0,14,0,23],[0,24,0,33],[0,34,0,43]]}
[null,null,null,null,"Existing",null,null,null,null,null,null,null,null,null,"Scenario 1",null,null,null,null,null,null,null,null,null,"Scenario 2",null,null,null,null,null,null,null,null,null,"Scenario 3",null,null,null,null,null,null,null,null,null,"Scenario 4",null,null,null,null,null,null,null,null,null,"Scenario 5"]
["SortOrder","VehK","Speed","VehClass_Speed","ROG_RUNEX","TOG_RUNEX","CO_RUNEX","NOX_RUNEX","CO2_RUNEX","CO2_RUNEX (Pavley I+LCFS)","PM10_RUNEX","PM2_5_RUNEX","SOX_RUNEX","Correct Speed?","ROG_RUNEX","TOG_RUNEX","CO_RUNEX","NOX_RUNEX","CO2_RUNEX","CO2_RUNEX (Pavley I+LCFS)","PM10_RUNEX","PM2_5_RUNEX","SOX_RUNEX","Correct Speed?","ROG_RUNEX","TOG_RUNEX","CO_RUNEX","NOX_RUNEX","CO2_RUNEX","CO2_RUNEX (Pavley I+LCFS)","PM10_RUNEX","PM2_5_RUNEX","SOX_RUNEX","Correct Speed?","ROG_RUNEX","TOG_RUNEX","CO_RUNEX","NOX_RUNEX","CO2_RUNEX","CO2_RUNEX (Pavley I+LCFS)","PM10_RUNEX","PM2_5_RUNEX","SOX_RUNEX","Correct Speed?","ROG_RUNEX","TOG_RUNEX","CO_RUNEX","NOX_RUNEX","CO2_RUNEX","CO2_RUNEX (Pavley I+LCFS)","PM10_RUNEX","PM2_5_RUNEX","SOX_RUNEX","Correct Speed?","ROG_RUNEX","TOG_RUNEX","CO_RUNEX","NOX_RUNEX","CO2_RUNEX","CO2_RUNEX (Pavley I+LCFS)","PM10_RUNEX","PM2_5_RUNEX","SOX_RUNEX","Correct Speed?"]
[4,"LDA_DSL",10,"LDA_DSL_10",{"$f":"(VLOOKUP($B3,'By Population'!$G$2:$K$14,5,FALSE))*'By Speed'!$M16*Scenario_VMT_EX*$N3","v":0},{"$f":"(VLOOKUP($B3,'By Population'!$G$2:$K$14,5,FALSE))*'By Speed'!$N16*Scenario_VMT_EX*$N3","v":0},{"$f":"(VLOOKUP($B3,'By Population'!$G$2:$K$14,5,FALSE))*'By Speed'!$O16*Scenario_VMT_EX*$N3","v":0},{"$f":"(VLOOKUP($B3,'By Population'!$G$2:$K$14,5,FALSE))*'By Speed'!$P16*Scenario_VMT_EX*$N3","v":0},{"$f":"(VLOOKUP($B3,'By Population'!$G$2:$K$14,5,FALSE))*'By Speed'!$Q16*Scenario_VMT_EX*$N3","v":0},{"$f":"(VLOOKUP($B3,'By Population'!$G$2:$K$14,5,FALSE))*'By Speed'!$R16*Scenario_VMT_EX*$N3","v":0},{"$f":"(VLOOKUP($B3,'By Population'!$G$2:$K$14,5,FALSE))*'By Speed'!$S16*Scenario_VMT_EX*$N3","v":0},{"$f":"(VLOOKUP($B3,'By Population'!$G$2:$K$14,5,FALSE))*'By Speed'!$T16*Scenario_VMT_EX*$N3","v":0},{"$f":"(VLOOKUP($B3,'By Population'!$G$2:$K$14,5,FALSE))*'By Speed'!$U16*Scenario_VMT_EX*$N3","v":0},{"$f":"IF(C3=Scenario_Speed_EX,1,0)","v":0},{"$f":"(VLOOKUP($B3,'By Population'!$G$2:$K$14,5,FALSE))*'By Speed'!$M16*Scenario_VMT_1*$N3","v":0},{"$f":"(VLOOKUP($B3,'By Population'!$G$2:$K$14,5,FALSE))*'By Speed'!$N16*Scenario_VMT_1*$N3","v":0},{"$f":"(VLOOKUP($B3,'By Population'!$G$2:$K$14,5,FALSE))*'By Speed'!$O16*Scenario_VMT_1*$N3","v":0},{"$f":"(VLOOKUP($B3,'By Population'!$G$2:$K$14,5,FALSE))*'By Speed'!$P16*Scenario_VMT_1*$N3","v":0},{"$f":"(VLOOKUP($B3,'By Population'!$G$2:$K$14,5,FALSE))*'By Speed'!$Q16*Scenario_VMT_1*$N3","v":0},{"$f":"(VLOOKUP($B3,'By Population'!$G$2:$K$14,5,FALSE))*'By Speed'!$R16*Scenario_VMT_1*$N3","v":0},{"$f":"(VLOOKUP($B3,'By Population'!$G$2:$K$14,5,FALSE))*'By Speed'!$S16*Scenario_VMT_1*$N3","v":0},{"$f":"(VLOOKUP($B3,'By Population'!$G$2:$K$14,5,FALSE))*'By Speed'!$T16*Scenario_VMT_1*$N3","v":0},{"$f":"(VLOOKUP($B3,'By Population'!$G$2:$K$14,5,FALSE))*'By Speed'!$U16*Scenario_VMT_1*$N3","v":0},{"$f":"IF(M3=Scenario_Speed_1,1,0)","v":0},{"$f":"(VLOOKUP($B3,'By Population'!$G$2:$K$14,5,FALSE))*'By Speed'!$M16*Scenario_VMT_2*$N3","v":0},{"$f":"(VLOOKUP($B3,'By Population'!$G$2:$K$14,5,FALSE))*'By Speed'!$N16*Scenario_VMT_2*$N3","v":0},{"$f":"(VLOOKUP($B3,'By Population'!$G$2:$K$14,5,FALSE))*'By Speed'!$O16*Scenario_VMT_2*$N3","v":0},{"$f":"(VLOOKUP($B3,'By Population'!$G$2:$K$14,5,FALSE))*'By Speed'!$P16*Scenario_VMT_2*$N3","v":0},{"$f":"(VLOOKUP($B3,'By Population'!$G$2:$K$14,5,FALSE))*'By Speed'!$Q16*Scenario_VMT_2*$N3","v":0},{"$f":"(VLOOKUP($B3,'By Population'!$G$2:$K$14,5,FALSE))*'By Speed'!$R16*Scenario_VMT_2*$N3","v":0},{"$f":"(VLOOKUP($B3,'By Population'!$G$2:$K$14,5,FALSE))*'By Speed'!$S16*Scenario_VMT_2*$N3","v":0},{"$f":"(VLOOKUP($B3,'By Population'!$G$2:$K$14,5,FALSE))*'By Speed'!$T16*Scenario_VMT_2*$N3","v":0},{"$f":"(VLOOKUP($B3,'By Population'!$G$2:$K$14,5,FALSE))*'By Speed'!$U16*Scenario_VMT_2*$N3","v":0},{"$f":"IF(W3=Scenario_Speed_2,1,0)","v":0},{"$f":"(VLOOKUP($B3,'By Population'!$G$2:$K$14,5,FALSE))*'By Speed'!$M16*Scenario_VMT_3*$N3","v":0},{"$f":"(VLOOKUP($B3,'By Population'!$G$2:$K$14,5,FALSE))*'By Speed'!$N16*Scenario_VMT_3*$N3","v":0},{"$f":"(VLOOKUP($B3,'By Population'!$G$2:$K$14,5,FALSE))*'By Speed'!$O16*Scenario_VMT_3*$N3","v":0},{"$f":"(VLOOKUP($B3,'By Population'!$G$2:$K$14,5,FALSE))*'By Speed'!$P16*Scenario_VMT_3*$N3","v":0},{"$f":"(VLOOKUP($B3,'By Population'!$G$2:$K$14,5,FALSE))*'By Speed'!$Q16*Scenario_VMT_3*$N3","v":0},{"$f":"(VLOOKUP($B3,'By Population'!$G$2:$K$14,5,FALSE))*'By Speed'!$R16*Scenario_VMT_3*$N3","v":0},{"$f":"(VLOOKUP($B3,'By Population'!$G$2:$K$14,5,FALSE))*'By Speed'!$S16*Scenario_VMT_3*$N3","v":0},{"$f":"(VLOOKUP($B3,'By Population'!$G$2:$K$14,5,FALSE))*'By Speed'!$T16*Scenario_VMT_3*$N3","v":0},{"$f":"(VLOOKUP($B3,'By Population'!$G$2:$K$14,5,FALSE))*'By Speed'!$U16*Scenario_VMT_3*$N3","v":0},{"$f":"IF(AG3=Scenario_Speed_3,1,0)","v":0},{"$f":"(VLOOKUP($B3,'By Population'!$G$2:$K$14,5,FALSE))*'By Speed'!$M16*Scenario_VMT_4*$N3","v":0},{"$f":"(VLOOKUP($B3,'By Population'!$G$2:$K$14,5,FALSE))*'By Speed'!$N16*Scenario_VMT_4*$N3","v":0},{"$f":"(VLOOKUP($B3,'By Population'!$G$2:$K$14,5,FALSE))*'By Speed'!$O16*Scenario_VMT_4*$N3","v":0},{"$f":"(VLOOKUP($B3,'By Population'!$G$2:$K$14,5,FALSE))*'By Speed'!$P16*Scenario_VMT_4*$N3","v":0},{"$f":"(VLOOKUP($B3,'By Population'!$G$2:$K$14,5,FALSE))*'By Speed'!$Q16*Scenario_VMT_4*$N3","v":0},{"$f":"(VLOOKUP($B3,'By Population'!$G$2:$K$14,5,FALSE))*'By Speed'!$R16*Scenario_VMT_4*$N3","v":0},{"$f":"(VLOOKUP($B3,'By Population'!$G$2:$K$14,5,FALSE))*'By Speed'!$S16*Scenario_VMT_4*$N3","v":0},{"$f":"(VLOOKUP($B3,'By Population'!$G$2:$K$14,5,FALSE))*'By Speed'!$T16*Scenario_VMT_4*$N3","v":0},{"$f":"(VLOOKUP($B3,'By Population'!$G$2:$K$14,5,FALSE))*'By Speed'!$U16*Scenario_VMT_4*$N3","v":0},{"$f":"IF(AQ3=Scenario_Speed_4,1,0)","v":0},{"$f":"(VLOOKUP($B3,'By Population'!$G$2:$K$14,5,FALSE))*'By Speed'!$M16*Scenario_VMT_5*$N3","v":0},{"$f":"(VLOOKUP($B3,'By Population'!$G$2:$K$14,5,FALSE))*'By Speed'!$N16*Scenario_VMT_5*$N3","v":0},{"$f":"(VLOOKUP($B3,'By Population'!$G$2:$K$14,5,FALSE))*'By Speed'!$O16*Scenario_VMT_5*$N3","v":0},{"$f":"(VLOOKUP($B3,'By Population'!$G$2:$K$14,5,FALSE))*'By Speed'!$P16*Scenario_VMT_5*$N3","v":0},{"$f":"(VLOOKUP($B3,'By Population'!$G$2:$K$14,5,FALSE))*'By Speed'!$Q16*Scenario_VMT_5*$N3","v":0},{"$f":"(VLOOKUP($B3,'By Population'!$G$2:$K$14,5,FALSE))*'By Speed'!$R16*Scenario_VMT_5*$N3","v":0},{"$f":"(VLOOKUP($B3,'By Population'!$G$2:$K$14,5,FALSE))*'By Speed'!$S16*Scenario_VMT_5*$N3","v":0},{"$f":"(VLOOKUP($B3,'By Population'!$G$2:$K$14,5,FALSE))*'By Speed'!$T16*Scenario_VMT_5*$N3","v":0},{"$f":"(VLOOKUP($B3,'By Population'!$G$2:$K$14,5,FALSE))*'By Speed'!$U16*Scenario_VMT_5*$N3","v":0},{"$f":"IF(BA3=Scenario_Speed_5,1,0)","v":0}]
[6,"LDA_DSL",15,"LDA_DSL_15",{"$f":"(VLOOKUP($B4,'By Population'!$G$2:$K$14,5,FALSE))*'By Speed'!$M17*Scenario_VMT_EX*$N4","v":0},{"$f":"(VLOOKUP($B4,'By Population'!$G$2:$K$14,5,FALSE))*'By Speed'!$N17*Scenario_VMT_EX*$N4","v":0},{"$f":"(VLOOKUP($B4,'By Population'!$G$2:$K$14,5,FALSE))*'By Speed'!$O17*Scenario_VMT_EX*$N4","v":0},{"$f":"(VLOOKUP($B4,'By Population'!$G$2:$K$14,5,FALSE))*'By Speed'!$P17*Scenario_VMT_EX*$N4","v":0},{"$f":"(VLOOKUP($B4,'By Population'!$G$2:$K$14,5,FALSE))*'By Speed'!$Q17*Scenario_VMT_EX*$N4","v":0},{"$f":"(VLOOKUP($B4,'By Population'!$G$2:$K$14,5,FALSE))*'By Speed'!$R17*Scenario_VMT_EX*$N4","v":0},{"$f":"(VLOOKUP($B4,'By Population'!$G$2:$K$14,5,FALSE))*'By Speed'!$S17*Scenario_VMT_EX*$N4","v":0},{"$f":"(VLOOKUP($B4,'By Population'!$G$2:$K$14,5,FALSE))*'By Speed'!$T17*Scenario_VMT_EX*$N4","v":0},{"$f":"(VLOOKUP($B4,'By Population'!$G$2:$K$14,5,FALSE))*'By Speed'!$U17*Scenario_VMT_EX*$N4","v":0},{"$f":"IF(C4=Scenario_Speed_EX,1,0)","v":0},{"$f":"(VLOOKUP($B4,'By Population'!$G$2:$K$14,5,FALSE))*'By Speed'!$M17*Scenario_VMT_1*$N4","v":0},{"$f":"(VLOOKUP($B4,'By Population'!$G$2:$K$14,5,FALSE))*'By Speed'!$N17*Scenario_VMT_1*$N4","v":0},{"$f":"(VLOOKUP($B4,'By Population'!$G$2:$K$14,5,FALSE))*'By Speed'!$O17*Scenario_VMT_1*$N4","v":0},{"$f":"(VLOOKUP($B4,'By Population'!$G$2:$K$14,5,FALSE))*'By Speed'!$P17*Scenario_VMT_1*$N4","v":0},{"$f":"(VLOOKUP($B4,'By Population'!$G$2:$K$14,5,FALSE))*'By Speed'!$Q17*Scenario_VMT_1*$N4","v":0},{"$f":"(VLOOKUP($B4,'By Population'!$G$2:$K$14,5,FALSE))*'By Speed'!$R17*Scenario_VMT_1*$N4","v":0},{"$f":"(VLOOKUP($B4,'By Population'!$G$2:$K$14,5,FALSE))*'By Speed'!$S17*Scenario_VMT_1*$N4","v":0},{"$f":"(VLOOKUP($B4,'By Population'!$G$2:$K$14,5,FALSE))*'By Speed'!$T17*Scenario_VMT_1*$N4","v":0},{"$f":"(VLOOKUP($B4,'By Population'!$G$2:$K$14,5,FALSE))*'By Speed'!$U17*Scenario_VMT_1*$N4","v":0},0,{"$f":"(VLOOKUP($B4,'By Population'!$G$2:$K$14,5,FALSE))*'By Speed'!$M17*Scenario_VMT_2*$N4","v":0},{"$f":"(VLOOKUP($B4,'By Population'!$G$2:$K$14,5,FALSE))*'By Speed'!$N17*Scenario_VMT_2*$N4","v":0},{"$f":"(VLOOKUP($B4,'By Population'!$G$2:$K$14,5,FALSE))*'By Speed'!$O17*Scenario_VMT_2*$N4","v":0},{"$f":"(VLOOKUP($B4,'By Population'!$G$2:$K$14,5,FALSE))*'By Speed'!$P17*Scenario_VMT_2*$N4","v":0},{"$f":"(VLOOKUP($B4,'By Population'!$G$2:$K$14,5,FALSE))*'By Speed'!$Q17*Scenario_VMT_2*$N4","v":0},{"$f":"(VLOOKUP($B4,'By Population'!$G$2:$K$14,5,FALSE))*'By Speed'!$R17*Scenario_VMT_2*$N4","v":0},{"$f":"(VLOOKUP($B4,'By Population'!$G$2:$K$14,5,FALSE))*'By Speed'!$S17*Scenario_VMT_2*$N4","v":0},{"$f":"(VLOOKUP($B4,'By Population'!$G$2:$K$14,5,FALSE))*'By Speed'!$T17*Scenario_VMT_2*$N4","v":0},{"$f":"(VLOOKUP($B4,'By Population'!$G$2:$K$14,5,FALSE))*'By Speed'!$U17*Scenario_VMT_2*$N4","v":0},0,{"$f":"(VLOOKUP($B4,'By Population'!$G$2:$K$14,5,FALSE))*'By Speed'!$M17*Scenario_VMT_3*$N4","v":0},{"$f":"(VLOOKUP($B4,'By Population'!$G$2:$K$14,5,FALSE))*'By Speed'!$N17*Scenario_VMT_3*$N4","v":0},{"$f":"(VLOOKUP($B4,'By Population'!$G$2:$K$14,5,FALSE))*'By Speed'!$O17*Scenario_VMT_3*$N4","v":0},{"$f":"(VLOOKUP($B4,'By Population'!$G$2:$K$14,5,FALSE))*'By Speed'!$P17*Scenario_VMT_3*$N4","v":0},{"$f":"(VLOOKUP($B4,'By Population'!$G$2:$K$14,5,FALSE))*'By Speed'!$Q17*Scenario_VMT_3*$N4","v":0},{"$f":"(VLOOKUP($B4,'By Population'!$G$2:$K$14,5,FALSE))*'By Speed'!$R17*Scenario_VMT_3*$N4","v":0},{"$f":"(VLOOKUP($B4,'By Population'!$G$2:$K$14,5,FALSE))*'By Speed'!$S17*Scenario_VMT_3*$N4","v":0},{"$f":"(VLOOKUP($B4,'By Population'!$G$2:$K$14,5,FALSE))*'By Speed'!$T17*Scenario_VMT_3*$N4","v":0},{"$f":"(VLOOKUP($B4,'By Population'!$G$2:$K$14,5,FALSE))*'By Speed'!$U17*Scenario_VMT_3*$N4","v":0},0,{"$f":"(VLOOKUP($B4,'By Population'!$G$2:$K$14,5,FALSE))*'By Speed'!$M17*Scenario_VMT_4*$N4","v":0},{"$f":"(VLOOKUP($B4,'By Population'!$G$2:$K$14,5,FALSE))*'By Speed'!$N17*Scenario_VMT_4*$N4","v":0},{"$f":"(VLOOKUP($B4,'By Population'!$G$2:$K$14,5,FALSE))*'By Speed'!$O17*Scenario_VMT_4*$N4","v":0},{"$f":"(VLOOKUP($B4,'By Population'!$G$2:$K$14,5,FALSE))*'By Speed'!$P17*Scenario_VMT_4*$N4","v":0},{"$f":"(VLOOKUP($B4,'By Population'!$G$2:$K$14,5,FALSE))*'By Speed'!$Q17*Scenario_VMT_4*$N4","v":0},{"$f":"(VLOOKUP($B4,'By Population'!$G$2:$K$14,5,FALSE))*'By Speed'!$R17*Scenario_VMT_4*$N4","v":0},{"$f":"(VLOOKUP($B4,'By Population'!$G$2:$K$14,5,FALSE))*'By Speed'!$S17*Scenario_VMT_4*$N4","v":0},{"$f":"(VLOOKUP($B4,'By Population'!$G$2:$K$14,5,FALSE))*'By Speed'!$T17*Scenario_VMT_4*$N4","v":0},{"$f":"(VLOOKUP($B4,'By Population'!$G$2:$K$14,5,FALSE))*'By Speed'!$U17*Scenario_VMT_4*$N4","v":0},0,{"$f":"(VLOOKUP($B4,'By Population'!$G$2:$K$14,5,FALSE))*'By Speed'!$M17*Scenario_VMT_5*$N4","v":0},{"$f":"(VLOOKUP($B4,'By Population'!$G$2:$K$14,5,FALSE))*'By Speed'!$N17*Scenario_VMT_5*$N4","v":0},{"$f":"(VLOOKUP($B4,'By Population'!$G$2:$K$14,5,FALSE))*'By Speed'!$O17*Scenario_VMT_5*$N4","v":0},{"$f":"(VLOOKUP($B4,'By Population'!$G$2:$K$14,5,FALSE))*'By Speed'!$P17*Scenario_VMT_5*$N4","v":0},{"$f":"(VLOOKUP($B4,'By Population'!$G$2:$K$14,5,FALSE))*'By Speed'!$Q17*Scenario_VMT_5*$N4","v":0},{"$f":"(VLOOKUP($B4,'By Population'!$G$2:$K$14,5,FALSE))*'By Speed'!$R17*Scenario_VMT_5*$N4","v":0},{"$f":"(VLOOKUP($B4,'By Population'!$G$2:$K$14,5,FALSE))*'By Speed'!$S17*Scenario_VMT_5*$N4","v":0},{"$f":"(VLOOKUP($B4,'By Population'!$G$2:$K$14,5,FALSE))*'By Speed'!$T17*Scenario_VMT_5*$N4","v":0},{"$f":"(VLOOKUP($B4,'By Population'!$G$2:$K$14,5,FALSE))*'By Speed'!$U17*Scenario_VMT_5*$N4","v":0},0]
[8,"LDA_DSL",20,"LDA_DSL_20",{"$f":"(VLOOKUP($B5,'By Population'!$G$2:$K$14,5,FALSE))*'By Speed'!$M18*Scenario_VMT_EX*$N5","v":0},{"$f":"(VLOOKUP($B5,'By Population'!$G$2:$K$14,5,FALSE))*'By Speed'!$N18*Scenario_VMT_EX*$N5","v":0},{"$f":"(VLOOKUP($B5,'By Population'!$G$2:$K$14,5,FALSE))*'By Speed'!$O18*Scenario_VMT_EX*$N5","v":0},{"$f":"(VLOOKUP($B5,'By Population'!$G$2:$K$14,5,FALSE))*'By Speed'!$P18*Scenario_VMT_EX*$N5","v":0},{"$f":"(VLOOKUP($B5,'By Population'!$G$2:$K$14,5,FALSE))*'By Speed'!$Q18*Scenario_VMT_EX*$N5","v":0},{"$f":"(VLOOKUP($B5,'By Population'!$G$2:$K$14,5,FALSE))*'By Speed'!$R18*Scenario_VMT_EX*$N5","v":0},{"$f":"(VLOOKUP($B5,'By Population'!$G$2:$K$14,5,FALSE))*'By Speed'!$S18*Scenario_VMT_EX*$N5","v":0},{"$f":"(VLOOKUP($B5,'By Population'!$G$2:$K$14,5,FALSE))*'By Speed'!$T18*Scenario_VMT_EX*$N5","v":0},{"$f":"(VLOOKUP($B5,'By Population'!$G$2:$K$14,5,FALSE))*'By Speed'!$U18*Scenario_VMT_EX*$N5","v":0},0,{"$f":"(VLOOKUP($B5,'By Population'!$G$2:$K$14,5,FALSE))*'By Speed'!$M18*Scenario_VMT_1*$N5","v":0},{"$f":"(VLOOKUP($B5,'By Population'!$G$2:$K$14,5,FALSE))*'By Speed'!$N18*Scenario_VMT_1*$N5","v":0},{"$f":"(VLOOKUP($B5,'By Population'!$G$2:$K$14,5,FALSE))*'By Speed'!$O18*Scenario_VMT_1*$N5","v":0},{"$f":"(VLOOKUP($B5,'By Population'!$G$2:$K$14,5,FALSE))*'By Speed'!$P18*Scenario_VMT_1*$N5","v":0},{"$f":"(VLOOKUP($B5,'By Population'!$G$2:$K$14,5,FALSE))*'By Speed'!$Q18*Scenario_VMT_1*$N5","v":0},{"$f":"(VLOOKUP($B5,'By Population'!$G$2:$K$14,5,FALSE))*'By Speed'!$R18*Scenario_VMT_1*$N5","v":0},{"$f":"(VLOOKUP($B5,'By Population'!$G$2:$K$14,5,FALSE))*'By Speed'!$S18*Scenario_VMT_1*$N5","v":0},{"$f":"(VLOOKUP($B5,'By Population'!$G$2:$K$14,5,FALSE))*'By Speed'!$T18*Scenario_VMT_1*$N5","v":0},{"$f":"(VLOOKUP($B5,'By Population'!$G$2:$K$14,5,FALSE))*'By Speed'!$U18*Scenario_VMT_1*$N5","v":0},0,{"$f":"(VLOOKUP($B5,'By Population'!$G$2:$K$14,5,FALSE))*'By Speed'!$M18*Scenario_VMT_2*$N5","v":0},{"$f":"(VLOOKUP($B5,'By Population'!$G$2:$K$14,5,FALSE))*'By Speed'!$N18*Scenario_VMT_2*$N5","v":0},{"$f":"(VLOOKUP($B5,'By Population'!$G$2:$K$14,5,FALSE))*'By Speed'!$O18*Scenario_VMT_2*$N5","v":0},{"$f":"(VLOOKUP($B5,'By Population'!$G$2:$K$14,5,FALSE))*'By Speed'!$P18*Scenario_VMT_2*$N5","v":0},{"$f":"(VLOOKUP($B5,'By Population'!$G$2:$K$14,5,FALSE))*'By Speed'!$Q18*Scenario_VMT_2*$N5","v":0},{"$f":"(VLOOKUP($B5,'By Population'!$G$2:$K$14,5,FALSE))*'By Speed'!$R18*Scenario_VMT_2*$N5","v":0},{"$f":"(VLOOKUP($B5,'By Population'!$G$2:$K$14,5,FALSE))*'By Speed'!$S18*Scenario_VMT_2*$N5","v":0},{"$f":"(VLOOKUP($B5,'By Population'!$G$2:$K$14,5,FALSE))*'By Speed'!$T18*Scenario_VMT_2*$N5","v":0},{"$f":"(VLOOKUP($B5,'By Population'!$G$2:$K$14,5,FALSE))*'By Speed'!$U18*Scenario_VMT_2*$N5","v":0},0,{"$f":"(VLOOKUP($B5,'By Population'!$G$2:$K$14,5,FALSE))*'By Speed'!$M18*Scenario_VMT_3*$N5","v":0},{"$f":"(VLOOKUP($B5,'By Population'!$G$2:$K$14,5,FALSE))*'By Speed'!$N18*Scenario_VMT_3*$N5","v":0},{"$f":"(VLOOKUP($B5,'By Population'!$G$2:$K$14,5,FALSE))*'By Speed'!$O18*Scenario_VMT_3*$N5","v":0},{"$f":"(VLOOKUP($B5,'By Population'!$G$2:$K$14,5,FALSE))*'By Speed'!$P18*Scenario_VMT_3*$N5","v":0},{"$f":"(VLOOKUP($B5,'By Population'!$G$2:$K$14,5,FALSE))*'By Speed'!$Q18*Scenario_VMT_3*$N5","v":0},{"$f":"(VLOOKUP($B5,'By Population'!$G$2:$K$14,5,FALSE))*'By Speed'!$R18*Scenario_VMT_3*$N5","v":0},{"$f":"(VLOOKUP($B5,'By Population'!$G$2:$K$14,5,FALSE))*'By Speed'!$S18*Scenario_VMT_3*$N5","v":0},{"$f":"(VLOOKUP($B5,'By Population'!$G$2:$K$14,5,FALSE))*'By Speed'!$T18*Scenario_VMT_3*$N5","v":0},{"$f":"(VLOOKUP($B5,'By Population'!$G$2:$K$14,5,FALSE))*'By Speed'!$U18*Scenario_VMT_3*$N5","v":0},0,{"$f":"(VLOOKUP($B5,'By Population'!$G$2:$K$14,5,FALSE))*'By Speed'!$M18*Scenario_VMT_4*$N5","v":0},{"$f":"(VLOOKUP($B5,'By Population'!$G$2:$K$14,5,FALSE))*'By Speed'!$N18*Scenario_VMT_4*$N5","v":0},{"$f":"(VLOOKUP($B5,'By Population'!$G$2:$K$14,5,FALSE))*'By Speed'!$O18*Scenario_VMT_4*$N5","v":0},{"$f":"(VLOOKUP($B5,'By Population'!$G$2:$K$14,5,FALSE))*'By Speed'!$P18*Scenario_VMT_4*$N5","v":0},{"$f":"(VLOOKUP($B5,'By Population'!$G$2:$K$14,5,FALSE))*'By Speed'!$Q18*Scenario_VMT_4*$N5","v":0},{"$f":"(VLOOKUP($B5,'By Population'!$G$2:$K$14,5,FALSE))*'By Speed'!$R18*Scenario_VMT_4*$N5","v":0},{"$f":"(VLOOKUP($B5,'By Population'!$G$2:$K$14,5,FALSE))*'By Speed'!$S18*Scenario_VMT_4*$N5","v":0},{"$f":"(VLOOKUP($B5,'By Population'!$G$2:$K$14,5,FALSE))*'By Speed'!$T18*Scenario_VMT_4*$N5","v":0},{"$f":"(VLOOKUP($B5,'By Population'!$G$2:$K$14,5,FALSE))*'By Speed'!$U18*Scenario_VMT_4*$N5","v":0},0,{"$f":"(VLOOKUP($B5,'By Population'!$G$2:$K$14,5,FALSE))*'By Speed'!$M18*Scenario_VMT_5*$N5","v":0},{"$f":"(VLOOKUP($B5,'By Population'!$G$2:$K$14,5,FALSE))*'By Speed'!$N18*Scenario_VMT_5*$N5","v":0},{"$f":"(VLOOKUP($B5,'By Population'!$G$2:$K$14,5,FALSE))*'By Speed'!$O18*Scenario_VMT_5*$N5","v":0},{"$f":"(VLOOKUP($B5,'By Population'!$G$2:$K$14,5,FALSE))*'By Speed'!$P18*Scenario_VMT_5*$N5","v":0},{"$f":"(VLOOKUP($B5,'By Population'!$G$2:$K$14,5,FALSE))*'By Speed'!$Q18*Scenario_VMT_5*$N5","v":0},{"$f":"(VLOOKUP($B5,'By Population'!$G$2:$K$14,5,FALSE))*'By Speed'!$R18*Scenario_VMT_5*$N5","v":0},{"$f":"(VLOOKUP($B5,'By Population'!$G$2:$K$14,5,FALSE))*'By Speed'!$S18*Scenario_VMT_5*$N5","v":0},{"$f":"(VLOOKUP($B5,'By Population'!$G$2:$K$14,5,FALSE))*'By Speed'!$T18*Scenario_VMT_5*$N5","v":0},{"$f":"(VLOOKUP($B5,'By Population'!$G$2:$K$14,5,FALSE))*'By Speed'!$U18*Scenario_VMT_5*$N5","v":0},0]
[10,"LDA_DSL",25,"LDA_DSL_25",{"$f":"(VLOOKUP($B6,'By Population'!$G$2:$K$14,5,FALSE))*'By Speed'!$M19*Scenario_VMT_EX*$N6","v":0},{"$f":"(VLOOKUP($B6,'By Population'!$G$2:$K$14,5,FALSE))*'By Speed'!$N19*Scenario_VMT_EX*$N6","v":0},{"$f":"(VLOOKUP($B6,'By Population'!$G$2:$K$14,5,FALSE))*'By Speed'!$O19*Scenario_VMT_EX*$N6","v":0},{"$f":"(VLOOKUP($B6,'By Population'!$G$2:$K$14,5,FALSE))*'By Speed'!$P19*Scenario_VMT_EX*$N6","v":0},{"$f":"(VLOOKUP($B6,'By Population'!$G$2:$K$14,5,FALSE))*'By Speed'!$Q19*Scenario_VMT_EX*$N6","v":0},{"$f":"(VLOOKUP($B6,'By Population'!$G$2:$K$14,5,FALSE))*'By Speed'!$R19*Scenario_VMT_EX*$N6","v":0},{"$f":"(VLOOKUP($B6,'By Population'!$G$2:$K$14,5,FALSE))*'By Speed'!$S19*Scenario_VMT_EX*$N6","v":0},{"$f":"(VLOOKUP($B6,'By Population'!$G$2:$K$14,5,FALSE))*'By Speed'!$T19*Scenario_VMT_EX*$N6","v":0},{"$f":"(VLOOKUP($B6,'By Population'!$G$2:$K$14,5,FALSE))*'By Speed'!$U19*Scenario_VMT_EX*$N6","v":0},1,{"$f":"(VLOOKUP($B6,'By Population'!$G$2:$K$14,5,FALSE))*'By Speed'!$M19*Scenario_VMT_1*$N6","v":0},{"$f":"(VLOOKUP($B6,'By Population'!$G$2:$K$14,5,FALSE))*'By Speed'!$N19*Scenario_VMT_1*$N6","v":0},{"$f":"(VLOOKUP($B6,'By Population'!$G$2:$K$14,5,FALSE))*'By Speed'!$O19*Scenario_VMT_1*$N6","v":0},{"$f":"(VLOOKUP($B6,'By Population'!$G$2:$K$14,5,FALSE))*'By Speed'!$P19*Scenario_VMT_1*$N6","v":0},{"$f":"(VLOOKUP($B6,'By Population'!$G$2:$K$14,5,FALSE))*'By Speed'!$Q19*Scenario_VMT_1*$N6","v":0},{"$f":"(VLOOKUP($B6,'By Population'!$G$2:$K$14,5,FALSE))*'By Speed'!$R19*Scenario_VMT_1*$N6","v":0},{"$f":"(VLOOKUP($B6,'By Population'!$G$2:$K$14,5,FALSE))*'By Speed'!$S19*Scenario_VMT_1*$N6","v":0},{"$f":"(VLOOKUP($B6,'By Population'!$G$2:$K$14,5,FALSE))*'By Speed'!$T19*Scenario_VMT_1*$N6","v":0},{"$f":"(VLOOKUP($B6,'By Population'!$G$2:$K$14,5,FALSE))*'By Speed'!$U19*Scenario_VMT_1*$N6","v":0},0,{"$f":"(VLOOKUP($B6,'By Population'!$G$2:$K$14,5,FALSE))*'By Speed'!$M19*Scenario_VMT_2*$N6","v":0},{"$f":"(VLOOKUP($B6,'By Population'!$G$2:$K$14,5,FALSE))*'By Speed'!$N19*Scenario_VMT_2*$N6","v":0},{"$f":"(VLOOKUP($B6,'By Population'!$G$2:$K$14,5,FALSE))*'By Speed'!$O19*Scenario_VMT_2*$N6","v":0},{"$f":"(VLOOKUP($B6,'By Population'!$G$2:$K$14,5,FALSE))*'By Speed'!$P19*Scenario_VMT_2*$N6","v":0},{"$f":"(VLOOKUP($B6,'By Population'!$G$2:$K$14,5,FALSE))*'By Speed'!$Q19*Scenario_VMT_2*$N6","v":0},{"$f":"(VLOOKUP($B6,'By Population'!$G$2:$K$14,5,FALSE))*'By Speed'!$R19*Scenario_VMT_2*$N6","v":0},{"$f":"(VLOOKUP($B6,'By Population'!$G$2:$K$14,5,FALSE))*'By Speed'!$S19*Scenario_VMT_2*$N6","v":0},{"$f":"(VLOOKUP($B6,'By Population'!$G$2:$K$14,5,FALSE))*'By Speed'!$T19*Scenario_VMT_2*$N6","v":0},{"$f":"(VLOOKUP($B6,'By Population'!$G$2:$K$14,5,FALSE))*'By Speed'!$U19*Scenario_VMT_2*$N6","v":0},0,{"$f":"(VLOOKUP($B6,'By Population'!$G$2:$K$14,5,FALSE))*'By Speed'!$M19*Scenario_VMT_3*$N6","v":0},{"$f":"(VLOOKUP($B6,'By Population'!$G$2:$K$14,5,FALSE))*'By Speed'!$N19*Scenario_VMT_3*$N6","v":0},{"$f":"(VLOOKUP($B6,'By Population'!$G$2:$K$14,5,FALSE))*'By Speed'!$O19*Scenario_VMT_3*$N6","v":0},{"$f":"(VLOOKUP($B6,'By Population'!$G$2:$K$14,5,FALSE))*'By Speed'!$P19*Scenario_VMT_3*$N6","v":0},{"$f":"(VLOOKUP($B6,'By Population'!$G$2:$K$14,5,FALSE))*'By Speed'!$Q19*Scenario_VMT_3*$N6","v":0},{"$f":"(VLOOKUP($B6,'By Population'!$G$2:$K$14,5,FALSE))*'By Speed'!$R19*Scenario_VMT_3*$N6","v":0},{"$f":"(VLOOKUP($B6,'By Population'!$G$2:$K$14,5,FALSE))*'By Speed'!$S19*Scenario_VMT_3*$N6","v":0},{"$f":"(VLOOKUP($B6,'By Population'!$G$2:$K$14,5,FALSE))*'By Speed'!$T19*Scenario_VMT_3*$N6","v":0},{"$f":"(VLOOKUP($B6,'By Population'!$G$2:$K$14,5,FALSE))*'By Speed'!$U19*Scenario_VMT_3*$N6","v":0},0,{"$f":"(VLOOKUP($B6,'By Population'!$G$2:$K$14,5,FALSE))*'By Speed'!$M19*Scenario_VMT_4*$N6","v":0},{"$f":"(VLOOKUP($B6,'By Population'!$G$2:$K$14,5,FALSE))*'By Speed'!$N19*Scenario_VMT_4*$N6","v":0},{"$f":"(VLOOKUP($B6,'By Population'!$G$2:$K$14,5,FALSE))*'By Speed'!$O19*Scenario_VMT_4*$N6","v":0},{"$f":"(VLOOKUP($B6,'By Population'!$G$2:$K$14,5,FALSE))*'By Speed'!$P19*Scenario_VMT_4*$N6","v":0},{"$f":"(VLOOKUP($B6,'By Population'!$G$2:$K$14,5,FALSE))*'By Speed'!$Q19*Scenario_VMT_4*$N6","v":0},{"$f":"(VLOOKUP($B6,'By Population'!$G$2:$K$14,5,FALSE))*'By Speed'!$R19*Scenario_VMT_4*$N6","v":0},{"$f":"(VLOOKUP($B6,'By Population'!$G$2:$K$14,5,FALSE))*'By Speed'!$S19*Scenario_VMT_4*$N6","v":0},{"$f":"(VLOOKUP($B6,'By Population'!$G$2:$K$14,5,FALSE))*'By Speed'!$T19*Scenario_VMT_4*$N6","v":0},{"$f":"(VLOOKUP($B6,'By Population'!$G$2:$K$14,5,FALSE))*'By Speed'!$U19*Scenario_VMT_4*$N6","v":0},0,{"$f":"(VLOOKUP($B6,'By Population'!$G$2:$K$14,5,FALSE))*'By Speed'!$M19*Scenario_VMT_5*$N6","v":0},{"$f":"(VLOOKUP($B6,'By Population'!$G$2:$K$14,5,FALSE))*'By Speed'!$N19*Scenario_VMT_5*$N6","v":0},{"$f":"(VLOOKUP($B6,'By Population'!$G$2:$K$14,5,FALSE))*'By Speed'!$O19*Scenario_VMT_5*$N6","v":0},{"$f":"(VLOOKUP($B6,'By Population'!$G$2:$K$14,5,FALSE))*'By Speed'!$P19*Scenario_VMT_5*$N6","v":0},{"$f":"(VLOOKUP($B6,'By Population'!$G$2:$K$14,5,FALSE))*'By Speed'!$Q19*Scenario_VMT_5*$N6","v":0},{"$f":"(VLOOKUP($B6,'By Population'!$G$2:$K$14,5,FALSE))*'By Speed'!$R19*Scenario_VMT_5*$N6","v":0},{"$f":"(VLOOKUP($B6,'By Population'!$G$2:$K$14,5,FALSE))*'By Speed'!$S19*Scenario_VMT_5*$N6","v":0},{"$f":"(VLOOKUP($B6,'By Population'!$G$2:$K$14,5,FALSE))*'By Speed'!$T19*Scenario_VMT_5*$N6","v":0},{"$f":"(VLOOKUP($B6,'By Population'!$G$2:$K$14,5,FALSE))*'By Speed'!$U19*Scenario_VMT_5*$N6","v":0},0]
[12,"LDA_DSL",30,"LDA_DSL_30",{"$f":"(VLOOKUP($B7,'By Population'!$G$2:$K$14,5,FALSE))*'By Speed'!$M20*Scenario_VMT_EX*$N7","v":0},{"$f":"(VLOOKUP($B7,'By Population'!$G$2:$K$14,5,FALSE))*'By Speed'!$N20*Scenario_VMT_EX*$N7","v":0},{"$f":"(VLOOKUP($B7,'By Population'!$G$2:$K$14,5,FALSE))*'By Speed'!$O20*Scenario_VMT_EX*$N7","v":0},{"$f":"(VLOOKUP($B7,'By Population'!$G$2:$K$14,5,FALSE))*'By Speed'!$P20*Scenario_VMT_EX*$N7","v":0},{"$f":"(VLOOKUP($B7,'By Population'!$G$2:$K$14,5,FALSE))*'By Speed'!$Q20*Scenario_VMT_EX*$N7","v":0},{"$f":"(VLOOKUP($B7,'By Population'!$G$2:$K$14,5,FALSE))*'By Speed'!$R20*Scenario_VMT_EX*$N7","v":0},{"$f":"(VLOOKUP($B7,'By Population'!$G$2:$K$14,5,FALSE))*'By Speed'!$S20*Scenario_VMT_EX*$N7","v":0},{"$f":"(VLOOKUP($B7,'By Population'!$G$2:$K$14,5,FALSE))*'By Speed'!$T20*Scenario_VMT_EX*$N7","v":0},{"$f":"(VLOOKUP($B7,'By Population'!$G$2:$K$14,5,FALSE))*'By Speed'!$U20*Scenario_VMT_EX*$N7","v":0},0,{"$f":"(VLOOKUP($B7,'By Population'!$G$2:$K$14,5,FALSE))*'By Speed'!$M20*Scenario_VMT_1*$N7","v":0},{"$f":"(VLOOKUP($B7,'By Population'!$G$2:$K$14,5,FALSE))*'By Speed'!$N20*Scenario_VMT_1*$N7","v":0},{"$f":"(VLOOKUP($B7,'By Population'!$G$2:$K$14,5,FALSE))*'By Speed'!$O20*Scenario_VMT_1*$N7","v":0},{"$f":"(VLOOKUP($B7,'By Population'!$G$2:$K$14,5,FALSE))*'By Speed'!$P20*Scenario_VMT_1*$N7","v":0},{"$f":"(VLOOKUP($B7,'By Population'!$G$2:$K$14,5,FALSE))*'By Speed'!$Q20*Scenario_VMT_1*$N7","v":0},{"$f":"(VLOOKUP($B7,'By Population'!$G$2:$K$14,5,FALSE))*'By Speed'!$R20*Scenario_VMT_1*$N7","v":0},{"$f":"(VLOOKUP($B7,'By Population'!$G$2:$K$14,5,FALSE))*'By Speed'!$S20*Scenario_VMT_1*$N7","v":0},{"$f":"(VLOOKUP($B7,'By Population'!$G$2:$K$14,5,FALSE))*'By Speed'!$T20*Scenario_VMT_1*$N7","v":0},{"$f":"(VLOOKUP($B7,'By Population'!$G$2:$K$14,5,FALSE))*'By Speed'!$U20*Scenario_VMT_1*$N7","v":0},0,{"$f":"(VLOOKUP($B7,'By Population'!$G$2:$K$14,5,FALSE))*'By Speed'!$M20*Scenario_VMT_2*$N7","v":0},{"$f":"(VLOOKUP($B7,'By Population'!$G$2:$K$14,5,FALSE))*'By Speed'!$N20*Scenario_VMT_2*$N7","v":0},{"$f":"(VLOOKUP($B7,'By Population'!$G$2:$K$14,5,FALSE))*'By Speed'!$O20*Scenario_VMT_2*$N7","v":0},{"$f":"(VLOOKUP($B7,'By Population'!$G$2:$K$14,5,FALSE))*'By Speed'!$P20*Scenario_VMT_2*$N7","v":0},{"$f":"(VLOOKUP($B7,'By Population'!$G$2:$K$14,5,FALSE))*'By Speed'!$Q20*Scenario_VMT_2*$N7","v":0},{"$f":"(VLOOKUP($B7,'By Population'!$G$2:$K$14,5,FALSE))*'By Speed'!$R20*Scenario_VMT_2*$N7","v":0},{"$f":"(VLOOKUP($B7,'By Population'!$G$2:$K$14,5,FALSE))*'By Speed'!$S20*Scenario_VMT_2*$N7","v":0},{"$f":"(VLOOKUP($B7,'By Population'!$G$2:$K$14,5,FALSE))*'By Speed'!$T20*Scenario_VMT_2*$N7","v":0},{"$f":"(VLOOKUP($B7,'By Population'!$G$2:$K$14,5,FALSE))*'By Speed'!$U20*Scenario_VMT_2*$N7","v":0},0,{"$f":"(VLOOKUP($B7,'By Population'!$G$2:$K$14,5,FALSE))*'By Speed'!$M20*Scenario_VMT_3*$N7","v":0},{"$f":"(VLOOKUP($B7,'By Population'!$G$2:$K$14,5,FALSE))*'By Speed'!$N20*Scenario_VMT_3*$N7","v":0},{"$f":"(VLOOKUP($B7,'By Population'!$G$2:$K$14,5,FALSE))*'By Speed'!$O20*Scenario_VMT_3*$N7","v":0},{"$f":"(VLOOKUP($B7,'By Population'!$G$2:$K$14,5,FALSE))*'By Speed'!$P20*Scenario_VMT_3*$N7","v":0},{"$f":"(VLOOKUP($B7,'By Population'!$G$2:$K$14,5,FALSE))*'By Speed'!$Q20*Scenario_VMT_3*$N7","v":0},{"$f":"(VLOOKUP($B7,'By Population'!$G$2:$K$14,5,FALSE))*'By Speed'!$R20*Scenario_VMT_3*$N7","v":0},{"$f":"(VLOOKUP($B7,'By Population'!$G$2:$K$14,5,FALSE))*'By Speed'!$S20*Scenario_VMT_3*$N7","v":0},{"$f":"(VLOOKUP($B7,'By Population'!$G$2:$K$14,5,FALSE))*'By Speed'!$T20*Scenario_VMT_3*$N7","v":0},{"$f":"(VLOOKUP($B7,'By Population'!$G$2:$K$14,5,FALSE))*'By Speed'!$U20*Scenario_VMT_3*$N7","v":0},0,{"$f":"(VLOOKUP($B7,'By Population'!$G$2:$K$14,5,FALSE))*'By Speed'!$M20*Scenario_VMT_4*$N7","v":0},{"$f":"(VLOOKUP($B7,'By Population'!$G$2:$K$14,5,FALSE))*'By Speed'!$N20*Scenario_VMT_4*$N7","v":0},{"$f":"(VLOOKUP($B7,'By Population'!$G$2:$K$14,5,FALSE))*'By Speed'!$O20*Scenario_VMT_4*$N7","v":0},{"$f":"(VLOOKUP($B7,'By Population'!$G$2:$K$14,5,FALSE))*'By Speed'!$P20*Scenario_VMT_4*$N7","v":0},{"$f":"(VLOOKUP($B7,'By Population'!$G$2:$K$14,5,FALSE))*'By Speed'!$Q20*Scenario_VMT_4*$N7","v":0},{"$f":"(VLOOKUP($B7,'By Population'!$G$2:$K$14,5,FALSE))*'By Speed'!$R20*Scenario_VMT_4*$N7","v":0},{"$f":"(VLOOKUP($B7,'By Population'!$G$2:$K$14,5,FALSE))*'By Speed'!$S20*Scenario_VMT_4*$N7","v":0},{"$f":"(VLOOKUP($B7,'By Population'!$G$2:$K$14,5,FALSE))*'By Speed'!$T20*Scenario_VMT_4*$N7","v":0},{"$f":"(VLOOKUP($B7,'By Population'!$G$2:$K$14,5,FALSE))*'By Speed'!$U20*Scenario_VMT_4*$N7","v":0},0,{"$f":"(VLOOKUP($B7,'By Population'!$G$2:$K$14,5,FALSE))*'By Speed'!$M20*Scenario_VMT_5*$N7","v":0},{"$f":"(VLOOKUP($B7,'By Population'!$G$2:$K$14,5,FALSE))*'By Speed'!$N20*Scenario_VMT_5*$N7","v":0},{"$f":"(VLOOKUP($B7,'By Population'!$G$2:$K$14,5,FALSE))*'By Speed'!$O20*Scenario_VMT_5*$N7","v":0},{"$f":"(VLOOKUP($B7,'By Population'!$G$2:$K$14,5,FALSE))*'By Speed'!$P20*Scenario_VMT_5*$N7","v":0},{"$f":"(VLOOKUP($B7,'By Population'!$G$2:$K$14,5,FALSE))*'By Speed'!$Q20*Scenario_VMT_5*$N7","v":0},{"$f":"(VLOOKUP($B7,'By Population'!$G$2:$K$14,5,FALSE))*'By Speed'!$R20*Scenario_VMT_5*$N7","v":0},{"$f":"(VLOOKUP($B7,'By Population'!$G$2:$K$14,5,FALSE))*'By Speed'!$S20*Scenario_VMT_5*$N7","v":0},{"$f":"(VLOOKUP($B7,'By Population'!$G$2:$K$14,5,FALSE))*'By Speed'!$T20*Scenario_VMT_5*$N7","v":0},{"$f":"(VLOOKUP($B7,'By Population'!$G$2:$K$14,5,FALSE))*'By Speed'!$U20*Scenario_VMT_5*$N7","v":0},0]
[14,"LDA_DSL",35,"LDA_DSL_35",{"$f":"(VLOOKUP($B8,'By Population'!$G$2:$K$14,5,FALSE))*'By Speed'!$M21*Scenario_VMT_EX*$N8","v":0},{"$f":"(VLOOKUP($B8,'By Population'!$G$2:$K$14,5,FALSE))*'By Speed'!$N21*Scenario_VMT_EX*$N8","v":0},{"$f":"(VLOOKUP($B8,'By Population'!$G$2:$K$14,5,FALSE))*'By Speed'!$O21*Scenario_VMT_EX*$N8","v":0},{"$f":"(VLOOKUP($B8,'By Population'!$G$2:$K$14,5,FALSE))*'By Speed'!$P21*Scenario_VMT_EX*$N8","v":0},{"$f":"(VLOOKUP($B8,'By Population'!$G$2:$K$14,5,FALSE))*'By Speed'!$Q21*Scenario_VMT_EX*$N8","v":0},{"$f":"(VLOOKUP($B8,'By Population'!$G$2:$K$14,5,FALSE))*'By Speed'!$R21*Scenario_VMT_EX*$N8","v":0},{"$f":"(VLOOKUP($B8,'By Population'!$G$2:$K$14,5,FALSE))*'By Speed'!$S21*Scenario_VMT_EX*$N8","v":0},{"$f":"(VLOOKUP($B8,'By Population'!$G$2:$K$14,5,FALSE))*'By Speed'!$T21*Scenario_VMT_EX*$N8","v":0},{"$f":"(VLOOKUP($B8,'By Population'!$G$2:$K$14,5,FALSE))*'By Speed'!$U21*Scenario_VMT_EX*$N8","v":0},0,{"$f":"(VLOOKUP($B8,'By Population'!$G$2:$K$14,5,FALSE))*'By Speed'!$M21*Scenario_VMT_1*$N8","v":0},{"$f":"(VLOOKUP($B8,'By Population'!$G$2:$K$14,5,FALSE))*'By Speed'!$N21*Scenario_VMT_1*$N8","v":0},{"$f":"(VLOOKUP($B8,'By Population'!$G$2:$K$14,5,FALSE))*'By Speed'!$O21*Scenario_VMT_1*$N8","v":0},{"$f":"(VLOOKUP($B8,'By Population'!$G$2:$K$14,5,FALSE))*'By Speed'!$P21*Scenario_VMT_1*$N8","v":0},{"$f":"(VLOOKUP($B8,'By Population'!$G$2:$K$14,5,FALSE))*'By Speed'!$Q21*Scenario_VMT_1*$N8","v":0},{"$f":"(VLOOKUP($B8,'By Population'!$G$2:$K$14,5,FALSE))*'By Speed'!$R21*Scenario_VMT_1*$N8","v":0},{"$f":"(VLOOKUP($B8,'By Population'!$G$2:$K$14,5,FALSE))*'By Speed'!$S21*Scenario_VMT_1*$N8","v":0},{"$f":"(VLOOKUP($B8,'By Population'!$G$2:$K$14,5,FALSE))*'By Speed'!$T21*Scenario_VMT_1*$N8","v":0},{"$f":"(VLOOKUP($B8,'By Population'!$G$2:$K$14,5,FALSE))*'By Speed'!$U21*Scenario_VMT_1*$N8","v":0},0,{"$f":"(VLOOKUP($B8,'By Population'!$G$2:$K$14,5,FALSE))*'By Speed'!$M21*Scenario_VMT_2*$N8","v":0},{"$f":"(VLOOKUP($B8,'By Population'!$G$2:$K$14,5,FALSE))*'By Speed'!$N21*Scenario_VMT_2*$N8","v":0},{"$f":"(VLOOKUP($B8,'By Population'!$G$2:$K$14,5,FALSE))*'By Speed'!$O21*Scenario_VMT_2*$N8","v":0},{"$f":"(VLOOKUP($B8,'By Population'!$G$2:$K$14,5,FALSE))*'By Speed'!$P21*Scenario_VMT_2*$N8","v":0},{"$f":"(VLOOKUP($B8,'By Population'!$G$2:$K$14,5,FALSE))*'By Speed'!$Q21*Scenario_VMT_2*$N8","v":0},{"$f":"(VLOOKUP($B8,'By Population'!$G$2:$K$14,5,FALSE))*'By Speed'!$R21*Scenario_VMT_2*$N8","v":0},{"$f":"(VLOOKUP($B8,'By Population'!$G$2:$K$14,5,FALSE))*'By Speed'!$S21*Scenario_VMT_2*$N8","v":0},{"$f":"(VLOOKUP($B8,'By Population'!$G$2:$K$14,5,FALSE))*'By Speed'!$T21*Scenario_VMT_2*$N8","v":0},{"$f":"(VLOOKUP($B8,'By Population'!$G$2:$K$14,5,FALSE))*'By Speed'!$U21*Scenario_VMT_2*$N8","v":0},0,{"$f":"(VLOOKUP($B8,'By Population'!$G$2:$K$14,5,FALSE))*'By Speed'!$M21*Scenario_VMT_3*$N8","v":0},{"$f":"(VLOOKUP($B8,'By Population'!$G$2:$K$14,5,FALSE))*'By Speed'!$N21*Scenario_VMT_3*$N8","v":0},{"$f":"(VLOOKUP($B8,'By Population'!$G$2:$K$14,5,FALSE))*'By Speed'!$O21*Scenario_VMT_3*$N8","v":0},{"$f":"(VLOOKUP($B8,'By Population'!$G$2:$K$14,5,FALSE))*'By Speed'!$P21*Scenario_VMT_3*$N8","v":0},{"$f":"(VLOOKUP($B8,'By Population'!$G$2:$K$14,5,FALSE))*'By Speed'!$Q21*Scenario_VMT_3*$N8","v":0},{"$f":"(VLOOKUP($B8,'By Population'!$G$2:$K$14,5,FALSE))*'By Speed'!$R21*Scenario_VMT_3*$N8","v":0},{"$f":"(VLOOKUP($B8,'By Population'!$G$2:$K$14,5,FALSE))*'By Speed'!$S21*Scenario_VMT_3*$N8","v":0},{"$f":"(VLOOKUP($B8,'By Population'!$G$2:$K$14,5,FALSE))*'By Speed'!$T21*Scenario_VMT_3*$N8","v":0},{"$f":"(VLOOKUP($B8,'By Population'!$G$2:$K$14,5,FALSE))*'By Speed'!$U21*Scenario_VMT_3*$N8","v":0},0,{"$f":"(VLOOKUP($B8,'By Population'!$G$2:$K$14,5,FALSE))*'By Speed'!$M21*Scenario_VMT_4*$N8","v":0},{"$f":"(VLOOKUP($B8,'By Population'!$G$2:$K$14,5,FALSE))*'By Speed'!$N21*Scenario_VMT_4*$N8","v":0},{"$f":"(VLOOKUP($B8,'By Population'!$G$2:$K$14,5,FALSE))*'By Speed'!$O21*Scenario_VMT_4*$N8","v":0},{"$f":"(VLOOKUP($B8,'By Population'!$G$2:$K$14,5,FALSE))*'By Speed'!$P21*Scenario_VMT_4*$N8","v":0},{"$f":"(VLOOKUP($B8,'By Population'!$G$2:$K$14,5,FALSE))*'By Speed'!$Q21*Scenario_VMT_4*$N8","v":0},{"$f":"(VLOOKUP($B8,'By Population'!$G$2:$K$14,5,FALSE))*'By Speed'!$R21*Scenario_VMT_4*$N8","v":0},{"$f":"(VLOOKUP($B8,'By Population'!$G$2:$K$14,5,FALSE))*'By Speed'!$S21*Scenario_VMT_4*$N8","v":0},{"$f":"(VLOOKUP($B8,'By Population'!$G$2:$K$14,5,FALSE))*'By Speed'!$T21*Scenario_VMT_4*$N8","v":0},{"$f":"(VLOOKUP($B8,'By Population'!$G$2:$K$14,5,FALSE))*'By Speed'!$U21*Scenario_VMT_4*$N8","v":0},0,{"$f":"(VLOOKUP($B8,'By Population'!$G$2:$K$14,5,FALSE))*'By Speed'!$M21*Scenario_VMT_5*$N8","v":0},{"$f":"(VLOOKUP($B8,'By Population'!$G$2:$K$14,5,FALSE))*'By Speed'!$N21*Scenario_VMT_5*$N8","v":0},{"$f":"(VLOOKUP($B8,'By Population'!$G$2:$K$14,5,FALSE))*'By Speed'!$O21*Scenario_VMT_5*$N8","v":0},{"$f":"(VLOOKUP($B8,'By Population'!$G$2:$K$14,5,FALSE))*'By Speed'!$P21*Scenario_VMT_5*$N8","v":0},{"$f":"(VLOOKUP($B8,'By Population'!$G$2:$K$14,5,FALSE))*'By Speed'!$Q21*Scenario_VMT_5*$N8","v":0},{"$f":"(VLOOKUP($B8,'By Population'!$G$2:$K$14,5,FALSE))*'By Speed'!$R21*Scenario_VMT_5*$N8","v":0},{"$f":"(VLOOKUP($B8,'By Population'!$G$2:$K$14,5,FALSE))*'By Speed'!$S21*Scenario_VMT_5*$N8","v":0},{"$f":"(VLOOKUP($B8,'By Population'!$G$2:$K$14,5,FALSE))*'By Speed'!$T21*Scenario_VMT_5*$N8","v":0},{"$f":"(VLOOKUP($B8,'By Population'!$G$2:$K$14,5,FALSE))*'By Speed'!$U21*Scenario_VMT_5*$N8","v":0},0]
[16,"LDA_DSL",40,"LDA_DSL_40",{"$f":"(VLOOKUP($B9,'By Population'!$G$2:$K$14,5,FALSE))*'By Speed'!$M22*Scenario_VMT_EX*$N9","v":0},{"$f":"(VLOOKUP($B9,'By Population'!$G$2:$K$14,5,FALSE))*'By Speed'!$N22*Scenario_VMT_EX*$N9","v":0},{"$f":"(VLOOKUP($B9,'By Population'!$G$2:$K$14,5,FALSE))*'By Speed'!$O22*Scenario_VMT_EX*$N9","v":0},{"$f":"(VLOOKUP($B9,'By Population'!$G$2:$K$14,5,FALSE))*'By Speed'!$P22*Scenario_VMT_EX*$N9","v":0},{"$f":"(VLOOKUP($B9,'By Population'!$G$2:$K$14,5,FALSE))*'By Speed'!$Q22*Scenario_VMT_EX*$N9","v":0},{"$f":"(VLOOKUP($B9,'By Population'!$G$2:$K$14,5,FALSE))*'By Speed'!$R22*Scenario_VMT_EX*$N9","v":0},{"$f":"(VLOOKUP($B9,'By Population'!$G$2:$K$14,5,FALSE))*'By Speed'!$S22*Scenario_VMT_EX*$N9","v":0},{"$f":"(VLOOKUP($B9,'By Population'!$G$2:$K$14,5,FALSE))*'By Speed'!$T22*Scenario_VMT_EX*$N9","v":0},{"$f":"(VLOOKUP($B9,'By Population'!$G$2:$K$14,5,FALSE))*'By Speed'!$U22*Scenario_VMT_EX*$N9","v":0},0,{"$f":"(VLOOKUP($B9,'By Population'!$G$2:$K$14,5,FALSE))*'By Speed'!$M22*Scenario_VMT_1*$N9","v":0},{"$f":"(VLOOKUP($B9,'By Population'!$G$2:$K$14,5,FALSE))*'By Speed'!$N22*Scenario_VMT_1*$N9","v":0},{"$f":"(VLOOKUP($B9,'By Population'!$G$2:$K$14,5,FALSE))*'By Speed'!$O22*Scenario_VMT_1*$N9","v":0},{"$f":"(VLOOKUP($B9,'By Population'!$G$2:$K$14,5,FALSE))*'By Speed'!$P22*Scenario_VMT_1*$N9","v":0},{"$f":"(VLOOKUP($B9,'By Population'!$G$2:$K$14,5,FALSE))*'By Speed'!$Q22*Scenario_VMT_1*$N9","v":0},{"$f":"(VLOOKUP($B9,'By Population'!$G$2:$K$14,5,FALSE))*'By Speed'!$R22*Scenario_VMT_1*$N9","v":0},{"$f":"(VLOOKUP($B9,'By Population'!$G$2:$K$14,5,FALSE))*'By Speed'!$S22*Scenario_VMT_1*$N9","v":0},{"$f":"(VLOOKUP($B9,'By Population'!$G$2:$K$14,5,FALSE))*'By Speed'!$T22*Scenario_VMT_1*$N9","v":0},{"$f":"(VLOOKUP($B9,'By Population'!$G$2:$K$14,5,FALSE))*'By Speed'!$U22*Scenario_VMT_1*$N9","v":0},0,{"$f":"(VLOOKUP($B9,'By Population'!$G$2:$K$14,5,FALSE))*'By Speed'!$M22*Scenario_VMT_2*$N9","v":0},{"$f":"(VLOOKUP($B9,'By Population'!$G$2:$K$14,5,FALSE))*'By Speed'!$N22*Scenario_VMT_2*$N9","v":0},{"$f":"(VLOOKUP($B9,'By Population'!$G$2:$K$14,5,FALSE))*'By Speed'!$O22*Scenario_VMT_2*$N9","v":0},{"$f":"(VLOOKUP($B9,'By Population'!$G$2:$K$14,5,FALSE))*'By Speed'!$P22*Scenario_VMT_2*$N9","v":0},{"$f":"(VLOOKUP($B9,'By Population'!$G$2:$K$14,5,FALSE))*'By Speed'!$Q22*Scenario_VMT_2*$N9","v":0},{"$f":"(VLOOKUP($B9,'By Population'!$G$2:$K$14,5,FALSE))*'By Speed'!$R22*Scenario_VMT_2*$N9","v":0},{"$f":"(VLOOKUP($B9,'By Population'!$G$2:$K$14,5,FALSE))*'By Speed'!$S22*Scenario_VMT_2*$N9","v":0},{"$f":"(VLOOKUP($B9,'By Population'!$G$2:$K$14,5,FALSE))*'By Speed'!$T22*Scenario_VMT_2*$N9","v":0},{"$f":"(VLOOKUP($B9,'By Population'!$G$2:$K$14,5,FALSE))*'By Speed'!$U22*Scenario_VMT_2*$N9","v":0},0,{"$f":"(VLOOKUP($B9,'By Population'!$G$2:$K$14,5,FALSE))*'By Speed'!$M22*Scenario_VMT_3*$N9","v":0},{"$f":"(VLOOKUP($B9,'By Population'!$G$2:$K$14,5,FALSE))*'By Speed'!$N22*Scenario_VMT_3*$N9","v":0},{"$f":"(VLOOKUP($B9,'By Population'!$G$2:$K$14,5,FALSE))*'By Speed'!$O22*Scenario_VMT_3*$N9","v":0},{"$f":"(VLOOKUP($B9,'By Population'!$G$2:$K$14,5,FALSE))*'By Speed'!$P22*Scenario_VMT_3*$N9","v":0},{"$f":"(VLOOKUP($B9,'By Population'!$G$2:$K$14,5,FALSE))*'By Speed'!$Q22*Scenario_VMT_3*$N9","v":0},{"$f":"(VLOOKUP($B9,'By Population'!$G$2:$K$14,5,FALSE))*'By Speed'!$R22*Scenario_VMT_3*$N9","v":0},{"$f":"(VLOOKUP($B9,'By Population'!$G$2:$K$14,5,FALSE))*'By Speed'!$S22*Scenario_VMT_3*$N9","v":0},{"$f":"(VLOOKUP($B9,'By Population'!$G$2:$K$14,5,FALSE))*'By Speed'!$T22*Scenario_VMT_3*$N9","v":0},{"$f":"(VLOOKUP($B9,'By Population'!$G$2:$K$14,5,FALSE))*'By Speed'!$U22*Scenario_VMT_3*$N9","v":0},0,{"$f":"(VLOOKUP($B9,'By Population'!$G$2:$K$14,5,FALSE))*'By Speed'!$M22*Scenario_VMT_4*$N9","v":0},{"$f":"(VLOOKUP($B9,'By Population'!$G$2:$K$14,5,FALSE))*'By Speed'!$N22*Scenario_VMT_4*$N9","v":0},{"$f":"(VLOOKUP($B9,'By Population'!$G$2:$K$14,5,FALSE))*'By Speed'!$O22*Scenario_VMT_4*$N9","v":0},{"$f":"(VLOOKUP($B9,'By Population'!$G$2:$K$14,5,FALSE))*'By Speed'!$P22*Scenario_VMT_4*$N9","v":0},{"$f":"(VLOOKUP($B9,'By Population'!$G$2:$K$14,5,FALSE))*'By Speed'!$Q22*Scenario_VMT_4*$N9","v":0},{"$f":"(VLOOKUP($B9,'By Population'!$G$2:$K$14,5,FALSE))*'By Speed'!$R22*Scenario_VMT_4*$N9","v":0},{"$f":"(VLOOKUP($B9,'By Population'!$G$2:$K$14,5,FALSE))*'By Speed'!$S22*Scenario_VMT_4*$N9","v":0},{"$f":"(VLOOKUP($B9,'By Population'!$G$2:$K$14,5,FALSE))*'By Speed'!$T22*Scenario_VMT_4*$N9","v":0},{"$f":"(VLOOKUP($B9,'By Population'!$G$2:$K$14,5,FALSE))*'By Speed'!$U22*Scenario_VMT_4*$N9","v":0},0,{"$f":"(VLOOKUP($B9,'By Population'!$G$2:$K$14,5,FALSE))*'By Speed'!$M22*Scenario_VMT_5*$N9","v":0},{"$f":"(VLOOKUP($B9,'By Population'!$G$2:$K$14,5,FALSE))*'By Speed'!$N22*Scenario_VMT_5*$N9","v":0},{"$f":"(VLOOKUP($B9,'By Population'!$G$2:$K$14,5,FALSE))*'By Speed'!$O22*Scenario_VMT_5*$N9","v":0},{"$f":"(VLOOKUP($B9,'By Population'!$G$2:$K$14,5,FALSE))*'By Speed'!$P22*Scenario_VMT_5*$N9","v":0},{"$f":"(VLOOKUP($B9,'By Population'!$G$2:$K$14,5,FALSE))*'By Speed'!$Q22*Scenario_VMT_5*$N9","v":0},{"$f":"(VLOOKUP($B9,'By Population'!$G$2:$K$14,5,FALSE))*'By Speed'!$R22*Scenario_VMT_5*$N9","v":0},{"$f":"(VLOOKUP($B9,'By Population'!$G$2:$K$14,5,FALSE))*'By Speed'!$S22*Scenario_VMT_5*$N9","v":0},{"$f":"(VLOOKUP($B9,'By Population'!$G$2:$K$14,5,FALSE))*'By Speed'!$T22*Scenario_VMT_5*$N9","v":0},{"$f":"(VLOOKUP($B9,'By Population'!$G$2:$K$14,5,FALSE))*'By Speed'!$U22*Scenario_VMT_5*$N9","v":0},0]
[18,"LDA_DSL",45,"LDA_DSL_45",{"$f":"(VLOOKUP($B10,'By Population'!$G$2:$K$14,5,FALSE))*'By Speed'!$M23*Scenario_VMT_EX*$N10","v":0},{"$f":"(VLOOKUP($B10,'By Population'!$G$2:$K$14,5,FALSE))*'By Speed'!$N23*Scenario_VMT_EX*$N10","v":0},{"$f":"(VLOOKUP($B10,'By Population'!$G$2:$K$14,5,FALSE))*'By Speed'!$O23*Scenario_VMT_EX*$N10","v":0},{"$f":"(VLOOKUP($B10,'By Population'!$G$2:$K$14,5,FALSE))*'By Speed'!$P23*Scenario_VMT_EX*$N10","v":0},{"$f":"(VLOOKUP($B10,'By Population'!$G$2:$K$14,5,FALSE))*'By Speed'!$Q23*Scenario_VMT_EX*$N10","v":0},{"$f":"(VLOOKUP($B10,'By Population'!$G$2:$K$14,5,FALSE))*'By Speed'!$R23*Scenario_VMT_EX*$N10","v":0},{"$f":"(VLOOKUP($B10,'By Population'!$G$2:$K$14,5,FALSE))*'By Speed'!$S23*Scenario_VMT_EX*$N10","v":0},{"$f":"(VLOOKUP($B10,'By Population'!$G$2:$K$14,5,FALSE))*'By Speed'!$T23*Scenario_VMT_EX*$N10","v":0},{"$f":"(VLOOKUP($B10,'By Population'!$G$2:$K$14,5,FALSE))*'By Speed'!$U23*Scenario_VMT_EX*$N10","v":0},0,{"$f":"(VLOOKUP($B10,'By Population'!$G$2:$K$14,5,FALSE))*'By Speed'!$M23*Scenario_VMT_1*$N10","v":0},{"$f":"(VLOOKUP($B10,'By Population'!$G$2:$K$14,5,FALSE))*'By Speed'!$N23*Scenario_VMT_1*$N10","v":0},{"$f":"(VLOOKUP($B10,'By Population'!$G$2:$K$14,5,FALSE))*'By Speed'!$O23*Scenario_VMT_1*$N10","v":0},{"$f":"(VLOOKUP($B10,'By Population'!$G$2:$K$14,5,FALSE))*'By Speed'!$P23*Scenario_VMT_1*$N10","v":0},{"$f":"(VLOOKUP($B10,'By Population'!$G$2:$K$14,5,FALSE))*'By Speed'!$Q23*Scenario_VMT_1*$N10","v":0},{"$f":"(VLOOKUP($B10,'By Population'!$G$2:$K$14,5,FALSE))*'By Speed'!$R23*Scenario_VMT_1*$N10","v":0},{"$f":"(VLOOKUP($B10,'By Population'!$G$2:$K$14,5,FALSE))*'By Speed'!$S23*Scenario_VMT_1*$N10","v":0},{"$f":"(VLOOKUP($B10,'By Population'!$G$2:$K$14,5,FALSE))*'By Speed'!$T23*Scenario_VMT_1*$N10","v":0},{"$f":"(VLOOKUP($B10,'By Population'!$G$2:$K$14,5,FALSE))*'By Speed'!$U23*Scenario_VMT_1*$N10","v":0},0,{"$f":"(VLOOKUP($B10,'By Population'!$G$2:$K$14,5,FALSE))*'By Speed'!$M23*Scenario_VMT_2*$N10","v":0},{"$f":"(VLOOKUP($B10,'By Population'!$G$2:$K$14,5,FALSE))*'By Speed'!$N23*Scenario_VMT_2*$N10","v":0},{"$f":"(VLOOKUP($B10,'By Population'!$G$2:$K$14,5,FALSE))*'By Speed'!$O23*Scenario_VMT_2*$N10","v":0},{"$f":"(VLOOKUP($B10,'By Population'!$G$2:$K$14,5,FALSE))*'By Speed'!$P23*Scenario_VMT_2*$N10","v":0},{"$f":"(VLOOKUP($B10,'By Population'!$G$2:$K$14,5,FALSE))*'By Speed'!$Q23*Scenario_VMT_2*$N10","v":0},{"$f":"(VLOOKUP($B10,'By Population'!$G$2:$K$14,5,FALSE))*'By Speed'!$R23*Scenario_VMT_2*$N10","v":0},{"$f":"(VLOOKUP($B10,'By Population'!$G$2:$K$14,5,FALSE))*'By Speed'!$S23*Scenario_VMT_2*$N10","v":0},{"$f":"(VLOOKUP($B10,'By Population'!$G$2:$K$14,5,FALSE))*'By Speed'!$T23*Scenario_VMT_2*$N10","v":0},{"$f":"(VLOOKUP($B10,'By Population'!$G$2:$K$14,5,FALSE))*'By Speed'!$U23*Scenario_VMT_2*$N10","v":0},0,{"$f":"(VLOOKUP($B10,'By Population'!$G$2:$K$14,5,FALSE))*'By Speed'!$M23*Scenario_VMT_3*$N10","v":0},{"$f":"(VLOOKUP($B10,'By Population'!$G$2:$K$14,5,FALSE))*'By Speed'!$N23*Scenario_VMT_3*$N10","v":0},{"$f":"(VLOOKUP($B10,'By Population'!$G$2:$K$14,5,FALSE))*'By Speed'!$O23*Scenario_VMT_3*$N10","v":0},{"$f":"(VLOOKUP($B10,'By Population'!$G$2:$K$14,5,FALSE))*'By Speed'!$P23*Scenario_VMT_3*$N10","v":0},{"$f":"(VLOOKUP($B10,'By Population'!$G$2:$K$14,5,FALSE))*'By Speed'!$Q23*Scenario_VMT_3*$N10","v":0},{"$f":"(VLOOKUP($B10,'By Population'!$G$2:$K$14,5,FALSE))*'By Speed'!$R23*Scenario_VMT_3*$N10","v":0},{"$f":"(VLOOKUP($B10,'By Population'!$G$2:$K$14,5,FALSE))*'By Speed'!$S23*Scenario_VMT_3*$N10","v":0},{"$f":"(VLOOKUP($B10,'By Population'!$G$2:$K$14,5,FALSE))*'By Speed'!$T23*Scenario_VMT_3*$N10","v":0},{"$f":"(VLOOKUP($B10,'By Population'!$G$2:$K$14,5,FALSE))*'By Speed'!$U23*Scenario_VMT_3*$N10","v":0},0,{"$f":"(VLOOKUP($B10,'By Population'!$G$2:$K$14,5,FALSE))*'By Speed'!$M23*Scenario_VMT_4*$N10","v":0},{"$f":"(VLOOKUP($B10,'By Population'!$G$2:$K$14,5,FALSE))*'By Speed'!$N23*Scenario_VMT_4*$N10","v":0},{"$f":"(VLOOKUP($B10,'By Population'!$G$2:$K$14,5,FALSE))*'By Speed'!$O23*Scenario_VMT_4*$N10","v":0},{"$f":"(VLOOKUP($B10,'By Population'!$G$2:$K$14,5,FALSE))*'By Speed'!$P23*Scenario_VMT_4*$N10","v":0},{"$f":"(VLOOKUP($B10,'By Population'!$G$2:$K$14,5,FALSE))*'By Speed'!$Q23*Scenario_VMT_4*$N10","v":0},{"$f":"(VLOOKUP($B10,'By Population'!$G$2:$K$14,5,FALSE))*'By Speed'!$R23*Scenario_VMT_4*$N10","v":0},{"$f":"(VLOOKUP($B10,'By Population'!$G$2:$K$14,5,FALSE))*'By Speed'!$S23*Scenario_VMT_4*$N10","v":0},{"$f":"(VLOOKUP($B10,'By Population'!$G$2:$K$14,5,FALSE))*'By Speed'!$T23*Scenario_VMT_4*$N10","v":0},{"$f":"(VLOOKUP($B10,'By Population'!$G$2:$K$14,5,FALSE))*'By Speed'!$U23*Scenario_VMT_4*$N10","v":0},0,{"$f":"(VLOOKUP($B10,'By Population'!$G$2:$K$14,5,FALSE))*'By Speed'!$M23*Scenario_VMT_5*$N10","v":0},{"$f":"(VLOOKUP($B10,'By Population'!$G$2:$K$14,5,FALSE))*'By Speed'!$N23*Scenario_VMT_5*$N10","v":0},{"$f":"(VLOOKUP($B10,'By Population'!$G$2:$K$14,5,FALSE))*'By Speed'!$O23*Scenario_VMT_5*$N10","v":0},{"$f":"(VLOOKUP($B10,'By Population'!$G$2:$K$14,5,FALSE))*'By Speed'!$P23*Scenario_VMT_5*$N10","v":0},{"$f":"(VLOOKUP($B10,'By Population'!$G$2:$K$14,5,FALSE))*'By Speed'!$Q23*Scenario_VMT_5*$N10","v":0},{"$f":"(VLOOKUP($B10,'By Population'!$G$2:$K$14,5,FALSE))*'By Speed'!$R23*Scenario_VMT_5*$N10","v":0},{"$f":"(VLOOKUP($B10,'By Population'!$G$2:$K$14,5,FALSE))*'By Speed'!$S23*Scenario_VMT_5*$N10","v":0},{"$f":"(VLOOKUP($B10,'By Population'!$G$2:$K$14,5,FALSE))*'By Speed'!$T23*Scenario_VMT_5*$N10","v":0},{"$f":"(VLOOKUP($B10,'By Population'!$G$2:$K$14,5,FALSE))*'By Speed'!$U23*Scenario_VMT_5*$N10","v":0},0]
[2,"LDA_DSL",5,"LDA_DSL_5",{"$f":"(VLOOKUP($B11,'By Population'!$G$2:$K$14,5,FALSE))*'By Speed'!$M24*Scenario_VMT_EX*$N11","v":0},{"$f":"(VLOOKUP($B11,'By Population'!$G$2:$K$14,5,FALSE))*'By Speed'!$N24*Scenario_VMT_EX*$N11","v":0},{"$f":"(VLOOKUP($B11,'By Population'!$G$2:$K$14,5,FALSE))*'By Speed'!$O24*Scenario_VMT_EX*$N11","v":0},{"$f":"(VLOOKUP($B11,'By Population'!$G$2:$K$14,5,FALSE))*'By Speed'!$P24*Scenario_VMT_EX*$N11","v":0},{"$f":"(VLOOKUP($B11,'By Population'!$G$2:$K$14,5,FALSE))*'By Speed'!$Q24*Scenario_VMT_EX*$N11","v":0},{"$f":"(VLOOKUP($B11,'By Population'!$G$2:$K$14,5,FALSE))*'By Speed'!$R24*Scenario_VMT_EX*$N11","v":0},{"$f":"(VLOOKUP($B11,'By Population'!$G$2:$K$14,5,FALSE))*'By Speed'!$S24*Scenario_VMT_EX*$N11","v":0},{"$f":"(VLOOKUP($B11,'By Population'!$G$2:$K$14,5,FALSE))*'By Speed'!$T24*Scenario_VMT_EX*$N11","v":0},{"$f":"(VLOOKUP($B11,'By Population'!$G$2:$K$14,5,FALSE))*'By Speed'!$U24*Scenario_VMT_EX*$N11","v":0},0,{"$f":"(VLOOKUP($B11,'By Population'!$G$2:$K$14,5,FALSE))*'By Speed'!$M24*Scenario_VMT_1*$N11","v":0},{"$f":"(VLOOKUP($B11,'By Population'!$G$2:$K$14,5,FALSE))*'By Speed'!$N24*Scenario_VMT_1*$N11","v":0},{"$f":"(VLOOKUP($B11,'By Population'!$G$2:$K$14,5,FALSE))*'By Speed'!$O24*Scenario_VMT_1*$N11","v":0},{"$f":"(VLOOKUP($B11,'By Population'!$G$2:$K$14,5,FALSE))*'By Speed'!$P24*Scenario_VMT_1*$N11","v":0},{"$f":"(VLOOKUP($B11,'By Population'!$G$2:$K$14,5,FALSE))*'By Speed'!$Q24*Scenario_VMT_1*$N11","v":0},{"$f":"(VLOOKUP($B11,'By Population'!$G$2:$K$14,5,FALSE))*'By Speed'!$R24*Scenario_VMT_1*$N11","v":0},{"$f":"(VLOOKUP($B11,'By Population'!$G$2:$K$14,5,FALSE))*'By Speed'!$S24*Scenario_VMT_1*$N11","v":0},{"$f":"(VLOOKUP($B11,'By Population'!$G$2:$K$14,5,FALSE))*'By Speed'!$T24*Scenario_VMT_1*$N11","v":0},{"$f":"(VLOOKUP($B11,'By Population'!$G$2:$K$14,5,FALSE))*'By Speed'!$U24*Scenario_VMT_1*$N11","v":0},0,{"$f":"(VLOOKUP($B11,'By Population'!$G$2:$K$14,5,FALSE))*'By Speed'!$M24*Scenario_VMT_2*$N11","v":0},{"$f":"(VLOOKUP($B11,'By Population'!$G$2:$K$14,5,FALSE))*'By Speed'!$N24*Scenario_VMT_2*$N11","v":0},{"$f":"(VLOOKUP($B11,'By Population'!$G$2:$K$14,5,FALSE))*'By Speed'!$O24*Scenario_VMT_2*$N11","v":0},{"$f":"(VLOOKUP($B11,'By Population'!$G$2:$K$14,5,FALSE))*'By Speed'!$P24*Scenario_VMT_2*$N11","v":0},{"$f":"(VLOOKUP($B11,'By Population'!$G$2:$K$14,5,FALSE))*'By Speed'!$Q24*Scenario_VMT_2*$N11","v":0},{"$f":"(VLOOKUP($B11,'By Population'!$G$2:$K$14,5,FALSE))*'By Speed'!$R24*Scenario_VMT_2*$N11","v":0},{"$f":"(VLOOKUP($B11,'By Population'!$G$2:$K$14,5,FALSE))*'By Speed'!$S24*Scenario_VMT_2*$N11","v":0},{"$f":"(VLOOKUP($B11,'By Population'!$G$2:$K$14,5,FALSE))*'By Speed'!$T24*Scenario_VMT_2*$N11","v":0},{"$f":"(VLOOKUP($B11,'By Population'!$G$2:$K$14,5,FALSE))*'By Speed'!$U24*Scenario_VMT_2*$N11","v":0},0,{"$f":"(VLOOKUP($B11,'By Population'!$G$2:$K$14,5,FALSE))*'By Speed'!$M24*Scenario_VMT_3*$N11","v":0},{"$f":"(VLOOKUP($B11,'By Population'!$G$2:$K$14,5,FALSE))*'By Speed'!$N24*Scenario_VMT_3*$N11","v":0},{"$f":"(VLOOKUP($B11,'By Population'!$G$2:$K$14,5,FALSE))*'By Speed'!$O24*Scenario_VMT_3*$N11","v":0},{"$f":"(VLOOKUP($B11,'By Population'!$G$2:$K$14,5,FALSE))*'By Speed'!$P24*Scenario_VMT_3*$N11","v":0},{"$f":"(VLOOKUP($B11,'By Population'!$G$2:$K$14,5,FALSE))*'By Speed'!$Q24*Scenario_VMT_3*$N11","v":0},{"$f":"(VLOOKUP($B11,'By Population'!$G$2:$K$14,5,FALSE))*'By Speed'!$R24*Scenario_VMT_3*$N11","v":0},{"$f":"(VLOOKUP($B11,'By Population'!$G$2:$K$14,5,FALSE))*'By Speed'!$S24*Scenario_VMT_3*$N11","v":0},{"$f":"(VLOOKUP($B11,'By Population'!$G$2:$K$14,5,FALSE))*'By Speed'!$T24*Scenario_VMT_3*$N11","v":0},{"$f":"(VLOOKUP($B11,'By Population'!$G$2:$K$14,5,FALSE))*'By Speed'!$U24*Scenario_VMT_3*$N11","v":0},0,{"$f":"(VLOOKUP($B11,'By Population'!$G$2:$K$14,5,FALSE))*'By Speed'!$M24*Scenario_VMT_4*$N11","v":0},{"$f":"(VLOOKUP($B11,'By Population'!$G$2:$K$14,5,FALSE))*'By Speed'!$N24*Scenario_VMT_4*$N11","v":0},{"$f":"(VLOOKUP($B11,'By Population'!$G$2:$K$14,5,FALSE))*'By Speed'!$O24*Scenario_VMT_4*$N11","v":0},{"$f":"(VLOOKUP($B11,'By Population'!$G$2:$K$14,5,FALSE))*'By Speed'!$P24*Scenario_VMT_4*$N11","v":0},{"$f":"(VLOOKUP($B11,'By Population'!$G$2:$K$14,5,FALSE))*'By Speed'!$Q24*Scenario_VMT_4*$N11","v":0},{"$f":"(VLOOKUP($B11,'By Population'!$G$2:$K$14,5,FALSE))*'By Speed'!$R24*Scenario_VMT_4*$N11","v":0},{"$f":"(VLOOKUP($B11,'By Population'!$G$2:$K$14,5,FALSE))*'By Speed'!$S24*Scenario_VMT_4*$N11","v":0},{"$f":"(VLOOKUP($B11,'By Population'!$G$2:$K$14,5,FALSE))*'By Speed'!$T24*Scenario_VMT_4*$N11","v":0},{"$f":"(VLOOKUP($B11,'By Population'!$G$2:$K$14,5,FALSE))*'By Speed'!$U24*Scenario_VMT_4*$N11","v":0},0,{"$f":"(VLOOKUP($B11,'By Population'!$G$2:$K$14,5,FALSE))*'By Speed'!$M24*Scenario_VMT_5*$N11","v":0},{"$f":"(VLOOKUP($B11,'By Population'!$G$2:$K$14,5,FALSE))*'By Speed'!$N24*Scenario_VMT_5*$N11","v":0},{"$f":"(VLOOKUP($B11,'By Population'!$G$2:$K$14,5,FALSE))*'By Speed'!$O24*Scenario_VMT_5*$N11","v":0},{"$f":"(VLOOKUP($B11,'By Population'!$G$2:$K$14,5,FALSE))*'By Speed'!$P24*Scenario_VMT_5*$N11","v":0},{"$f":"(VLOOKUP($B11,'By Population'!$G$2:$K$14,5,FALSE))*'By Speed'!$Q24*Scenario_VMT_5*$N11","v":0},{"$f":"(VLOOKUP($B11,'By Population'!$G$2:$K$14,5,FALSE))*'By Speed'!$R24*Scenario_VMT_5*$N11","v":0},{"$f":"(VLOOKUP($B11,'By Population'!$G$2:$K$14,5,FALSE))*'By Speed'!$S24*Scenario_VMT_5*$N11","v":0},{"$f":"(VLOOKUP($B11,'By Population'!$G$2:$K$14,5,FALSE))*'By Speed'!$T24*Scenario_VMT_5*$N11","v":0},{"$f":"(VLOOKUP($B11,'By Population'!$G$2:$K$14,5,FALSE))*'By Speed'!$U24*Scenario_VMT_5*$N11","v":0},0]
[20,"LDA_DSL",50,"LDA_DSL_50",{"$f":"(VLOOKUP($B12,'By Population'!$G$2:$K$14,5,FALSE))*'By Speed'!$M25*Scenario_VMT_EX*$N12","v":0},{"$f":"(VLOOKUP($B12,'By Population'!$G$2:$K$14,5,FALSE))*'By Speed'!$N25*Scenario_VMT_EX*$N12","v":0},{"$f":"(VLOOKUP($B12,'By Population'!$G$2:$K$14,5,FALSE))*'By Speed'!$O25*Scenario_VMT_EX*$N12","v":0},{"$f":"(VLOOKUP($B12,'By Population'!$G$2:$K$14,5,FALSE))*'By Speed'!$P25*Scenario_VMT_EX*$N12","v":0},{"$f":"(VLOOKUP($B12,'By Population'!$G$2:$K$14,5,FALSE))*'By Speed'!$Q25*Scenario_VMT_EX*$N12","v":0},{"$f":"(VLOOKUP($B12,'By Population'!$G$2:$K$14,5,FALSE))*'By Speed'!$R25*Scenario_VMT_EX*$N12","v":0},{"$f":"(VLOOKUP($B12,'By Population'!$G$2:$K$14,5,FALSE))*'By Speed'!$S25*Scenario_VMT_EX*$N12","v":0},{"$f":"(VLOOKUP($B12,'By Population'!$G$2:$K$14,5,FALSE))*'By Speed'!$T25*Scenario_VMT_EX*$N12","v":0},{"$f":"(VLOOKUP($B12,'By Population'!$G$2:$K$14,5,FALSE))*'By Speed'!$U25*Scenario_VMT_EX*$N12","v":0},0,{"$f":"(VLOOKUP($B12,'By Population'!$G$2:$K$14,5,FALSE))*'By Speed'!$M25*Scenario_VMT_1*$N12","v":0},{"$f":"(VLOOKUP($B12,'By Population'!$G$2:$K$14,5,FALSE))*'By Speed'!$N25*Scenario_VMT_1*$N12","v":0},{"$f":"(VLOOKUP($B12,'By Population'!$G$2:$K$14,5,FALSE))*'By Speed'!$O25*Scenario_VMT_1*$N12","v":0},{"$f":"(VLOOKUP($B12,'By Population'!$G$2:$K$14,5,FALSE))*'By Speed'!$P25*Scenario_VMT_1*$N12","v":0},{"$f":"(VLOOKUP($B12,'By Population'!$G$2:$K$14,5,FALSE))*'By Speed'!$Q25*Scenario_VMT_1*$N12","v":0},{"$f":"(VLOOKUP($B12,'By Population'!$G$2:$K$14,5,FALSE))*'By Speed'!$R25*Scenario_VMT_1*$N12","v":0},{"$f":"(VLOOKUP($B12,'By Population'!$G$2:$K$14,5,FALSE))*'By Speed'!$S25*Scenario_VMT_1*$N12","v":0},{"$f":"(VLOOKUP($B12,'By Population'!$G$2:$K$14,5,FALSE))*'By Speed'!$T25*Scenario_VMT_1*$N12","v":0},{"$f":"(VLOOKUP($B12,'By Population'!$G$2:$K$14,5,FALSE))*'By Speed'!$U25*Scenario_VMT_1*$N12","v":0},0,{"$f":"(VLOOKUP($B12,'By Population'!$G$2:$K$14,5,FALSE))*'By Speed'!$M25*Scenario_VMT_2*$N12","v":0},{"$f":"(VLOOKUP($B12,'By Population'!$G$2:$K$14,5,FALSE))*'By Speed'!$N25*Scenario_VMT_2*$N12","v":0},{"$f":"(VLOOKUP($B12,'By Population'!$G$2:$K$14,5,FALSE))*'By Speed'!$O25*Scenario_VMT_2*$N12","v":0},{"$f":"(VLOOKUP($B12,'By Population'!$G$2:$K$14,5,FALSE))*'By Speed'!$P25*Scenario_VMT_2*$N12","v":0},{"$f":"(VLOOKUP($B12,'By Population'!$G$2:$K$14,5,FALSE))*'By Speed'!$Q25*Scenario_VMT_2*$N12","v":0},{"$f":"(VLOOKUP($B12,'By Population'!$G$2:$K$14,5,FALSE))*'By Speed'!$R25*Scenario_VMT_2*$N12","v":0},{"$f":"(VLOOKUP($B12,'By Population'!$G$2:$K$14,5,FALSE))*'By Speed'!$S25*Scenario_VMT_2*$N12","v":0},{"$f":"(VLOOKUP($B12,'By Population'!$G$2:$K$14,5,FALSE))*'By Speed'!$T25*Scenario_VMT_2*$N12","v":0},{"$f":"(VLOOKUP($B12,'By Population'!$G$2:$K$14,5,FALSE))*'By Speed'!$U25*Scenario_VMT_2*$N12","v":0},0,{"$f":"(VLOOKUP($B12,'By Population'!$G$2:$K$14,5,FALSE))*'By Speed'!$M25*Scenario_VMT_3*$N12","v":0},{"$f":"(VLOOKUP($B12,'By Population'!$G$2:$K$14,5,FALSE))*'By Speed'!$N25*Scenario_VMT_3*$N12","v":0},{"$f":"(VLOOKUP($B12,'By Population'!$G$2:$K$14,5,FALSE))*'By Speed'!$O25*Scenario_VMT_3*$N12","v":0},{"$f":"(VLOOKUP($B12,'By Population'!$G$2:$K$14,5,FALSE))*'By Speed'!$P25*Scenario_VMT_3*$N12","v":0},{"$f":"(VLOOKUP($B12,'By Population'!$G$2:$K$14,5,FALSE))*'By Speed'!$Q25*Scenario_VMT_3*$N12","v":0},{"$f":"(VLOOKUP($B12,'By Population'!$G$2:$K$14,5,FALSE))*'By Speed'!$R25*Scenario_VMT_3*$N12","v":0},{"$f":"(VLOOKUP($B12,'By Population'!$G$2:$K$14,5,FALSE))*'By Speed'!$S25*Scenario_VMT_3*$N12","v":0},{"$f":"(VLOOKUP($B12,'By Population'!$G$2:$K$14,5,FALSE))*'By Speed'!$T25*Scenario_VMT_3*$N12","v":0},{"$f":"(VLOOKUP($B12,'By Population'!$G$2:$K$14,5,FALSE))*'By Speed'!$U25*Scenario_VMT_3*$N12","v":0},0,{"$f":"(VLOOKUP($B12,'By Population'!$G$2:$K$14,5,FALSE))*'By Speed'!$M25*Scenario_VMT_4*$N12","v":0},{"$f":"(VLOOKUP($B12,'By Population'!$G$2:$K$14,5,FALSE))*'By Speed'!$N25*Scenario_VMT_4*$N12","v":0},{"$f":"(VLOOKUP($B12,'By Population'!$G$2:$K$14,5,FALSE))*'By Speed'!$O25*Scenario_VMT_4*$N12","v":0},{"$f":"(VLOOKUP($B12,'By Population'!$G$2:$K$14,5,FALSE))*'By Speed'!$P25*Scenario_VMT_4*$N12","v":0},{"$f":"(VLOOKUP($B12,'By Population'!$G$2:$K$14,5,FALSE))*'By Speed'!$Q25*Scenario_VMT_4*$N12","v":0},{"$f":"(VLOOKUP($B12,'By Population'!$G$2:$K$14,5,FALSE))*'By Speed'!$R25*Scenario_VMT_4*$N12","v":0},{"$f":"(VLOOKUP($B12,'By Population'!$G$2:$K$14,5,FALSE))*'By Speed'!$S25*Scenario_VMT_4*$N12","v":0},{"$f":"(VLOOKUP($B12,'By Population'!$G$2:$K$14,5,FALSE))*'By Speed'!$T25*Scenario_VMT_4*$N12","v":0},{"$f":"(VLOOKUP($B12,'By Population'!$G$2:$K$14,5,FALSE))*'By Speed'!$U25*Scenario_VMT_4*$N12","v":0},0,{"$f":"(VLOOKUP($B12,'By Population'!$G$2:$K$14,5,FALSE))*'By Speed'!$M25*Scenario_VMT_5*$N12","v":0},{"$f":"(VLOOKUP($B12,'By Population'!$G$2:$K$14,5,FALSE))*'By Speed'!$N25*Scenario_VMT_5*$N12","v":0},{"$f":"(VLOOKUP($B12,'By Population'!$G$2:$K$14,5,FALSE))*'By Speed'!$O25*Scenario_VMT_5*$N12","v":0},{"$f":"(VLOOKUP($B12,'By Population'!$G$2:$K$14,5,FALSE))*'By Speed'!$P25*Scenario_VMT_5*$N12","v":0},{"$f":"(VLOOKUP($B12,'By Population'!$G$2:$K$14,5,FALSE))*'By Speed'!$Q25*Scenario_VMT_5*$N12","v":0},{"$f":"(VLOOKUP($B12,'By Population'!$G$2:$K$14,5,FALSE))*'By Speed'!$R25*Scenario_VMT_5*$N12","v":0},{"$f":"(VLOOKUP($B12,'By Population'!$G$2:$K$14,5,FALSE))*'By Speed'!$S25*Scenario_VMT_5*$N12","v":0},{"$f":"(VLOOKUP($B12,'By Population'!$G$2:$K$14,5,FALSE))*'By Speed'!$T25*Scenario_VMT_5*$N12","v":0},{"$f":"(VLOOKUP($B12,'By Population'!$G$2:$K$14,5,FALSE))*'By Speed'!$U25*Scenario_VMT_5*$N12","v":0},0]
[22,"LDA_DSL",55,"LDA_DSL_55",{"$f":"(VLOOKUP($B13,'By Population'!$G$2:$K$14,5,FALSE))*'By Speed'!$M26*Scenario_VMT_EX*$N13","v":0},{"$f":"(VLOOKUP($B13,'By Population'!$G$2:$K$14,5,FALSE))*'By Speed'!$N26*Scenario_VMT_EX*$N13","v":0},{"$f":"(VLOOKUP($B13,'By Population'!$G$2:$K$14,5,FALSE))*'By Speed'!$O26*Scenario_VMT_EX*$N13","v":0},{"$f":"(VLOOKUP($B13,'By Population'!$G$2:$K$14,5,FALSE))*'By Speed'!$P26*Scenario_VMT_EX*$N13","v":0},{"$f":"(VLOOKUP($B13,'By Population'!$G$2:$K$14,5,FALSE))*'By Speed'!$Q26*Scenario_VMT_EX*$N13","v":0},{"$f":"(VLOOKUP($B13,'By Population'!$G$2:$K$14,5,FALSE))*'By Speed'!$R26*Scenario_VMT_EX*$N13","v":0},{"$f":"(VLOOKUP($B13,'By Population'!$G$2:$K$14,5,FALSE))*'By Speed'!$S26*Scenario_VMT_EX*$N13","v":0},{"$f":"(VLOOKUP($B13,'By Population'!$G$2:$K$14,5,FALSE))*'By Speed'!$T26*Scenario_VMT_EX*$N13","v":0},{"$f":"(VLOOKUP($B13,'By Population'!$G$2:$K$14,5,FALSE))*'By Speed'!$U26*Scenario_VMT_EX*$N13","v":0},0,{"$f":"(VLOOKUP($B13,'By Population'!$G$2:$K$14,5,FALSE))*'By Speed'!$M26*Scenario_VMT_1*$N13","v":0},{"$f":"(VLOOKUP($B13,'By Population'!$G$2:$K$14,5,FALSE))*'By Speed'!$N26*Scenario_VMT_1*$N13","v":0},{"$f":"(VLOOKUP($B13,'By Population'!$G$2:$K$14,5,FALSE))*'By Speed'!$O26*Scenario_VMT_1*$N13","v":0},{"$f":"(VLOOKUP($B13,'By Population'!$G$2:$K$14,5,FALSE))*'By Speed'!$P26*Scenario_VMT_1*$N13","v":0},{"$f":"(VLOOKUP($B13,'By Population'!$G$2:$K$14,5,FALSE))*'By Speed'!$Q26*Scenario_VMT_1*$N13","v":0},{"$f":"(VLOOKUP($B13,'By Population'!$G$2:$K$14,5,FALSE))*'By Speed'!$R26*Scenario_VMT_1*$N13","v":0},{"$f":"(VLOOKUP($B13,'By Population'!$G$2:$K$14,5,FALSE))*'By Speed'!$S26*Scenario_VMT_1*$N13","v":0},{"$f":"(VLOOKUP($B13,'By Population'!$G$2:$K$14,5,FALSE))*'By Speed'!$T26*Scenario_VMT_1*$N13","v":0},{"$f":"(VLOOKUP($B13,'By Population'!$G$2:$K$14,5,FALSE))*'By Speed'!$U26*Scenario_VMT_1*$N13","v":0},0,{"$f":"(VLOOKUP($B13,'By Population'!$G$2:$K$14,5,FALSE))*'By Speed'!$M26*Scenario_VMT_2*$N13","v":0},{"$f":"(VLOOKUP($B13,'By Population'!$G$2:$K$14,5,FALSE))*'By Speed'!$N26*Scenario_VMT_2*$N13","v":0},{"$f":"(VLOOKUP($B13,'By Population'!$G$2:$K$14,5,FALSE))*'By Speed'!$O26*Scenario_VMT_2*$N13","v":0},{"$f":"(VLOOKUP($B13,'By Population'!$G$2:$K$14,5,FALSE))*'By Speed'!$P26*Scenario_VMT_2*$N13","v":0},{"$f":"(VLOOKUP($B13,'By Population'!$G$2:$K$14,5,FALSE))*'By Speed'!$Q26*Scenario_VMT_2*$N13","v":0},{"$f":"(VLOOKUP($B13,'By Population'!$G$2:$K$14,5,FALSE))*'By Speed'!$R26*Scenario_VMT_2*$N13","v":0},{"$f":"(VLOOKUP($B13,'By Population'!$G$2:$K$14,5,FALSE))*'By Speed'!$S26*Scenario_VMT_2*$N13","v":0},{"$f":"(VLOOKUP($B13,'By Population'!$G$2:$K$14,5,FALSE))*'By Speed'!$T26*Scenario_VMT_2*$N13","v":0},{"$f":"(VLOOKUP($B13,'By Population'!$G$2:$K$14,5,FALSE))*'By Speed'!$U26*Scenario_VMT_2*$N13","v":0},0,{"$f":"(VLOOKUP($B13,'By Population'!$G$2:$K$14,5,FALSE))*'By Speed'!$M26*Scenario_VMT_3*$N13","v":0},{"$f":"(VLOOKUP($B13,'By Population'!$G$2:$K$14,5,FALSE))*'By Speed'!$N26*Scenario_VMT_3*$N13","v":0},{"$f":"(VLOOKUP($B13,'By Population'!$G$2:$K$14,5,FALSE))*'By Speed'!$O26*Scenario_VMT_3*$N13","v":0},{"$f":"(VLOOKUP($B13,'By Population'!$G$2:$K$14,5,FALSE))*'By Speed'!$P26*Scenario_VMT_3*$N13","v":0},{"$f":"(VLOOKUP($B13,'By Population'!$G$2:$K$14,5,FALSE))*'By Speed'!$Q26*Scenario_VMT_3*$N13","v":0},{"$f":"(VLOOKUP($B13,'By Population'!$G$2:$K$14,5,FALSE))*'By Speed'!$R26*Scenario_VMT_3*$N13","v":0},{"$f":"(VLOOKUP($B13,'By Population'!$G$2:$K$14,5,FALSE))*'By Speed'!$S26*Scenario_VMT_3*$N13","v":0},{"$f":"(VLOOKUP($B13,'By Population'!$G$2:$K$14,5,FALSE))*'By Speed'!$T26*Scenario_VMT_3*$N13","v":0},{"$f":"(VLOOKUP($B13,'By Population'!$G$2:$K$14,5,FALSE))*'By Speed'!$U26*Scenario_VMT_3*$N13","v":0},0,{"$f":"(VLOOKUP($B13,'By Population'!$G$2:$K$14,5,FALSE))*'By Speed'!$M26*Scenario_VMT_4*$N13","v":0},{"$f":"(VLOOKUP($B13,'By Population'!$G$2:$K$14,5,FALSE))*'By Speed'!$N26*Scenario_VMT_4*$N13","v":0},{"$f":"(VLOOKUP($B13,'By Population'!$G$2:$K$14,5,FALSE))*'By Speed'!$O26*Scenario_VMT_4*$N13","v":0},{"$f":"(VLOOKUP($B13,'By Population'!$G$2:$K$14,5,FALSE))*'By Speed'!$P26*Scenario_VMT_4*$N13","v":0},{"$f":"(VLOOKUP($B13,'By Population'!$G$2:$K$14,5,FALSE))*'By Speed'!$Q26*Scenario_VMT_4*$N13","v":0},{"$f":"(VLOOKUP($B13,'By Population'!$G$2:$K$14,5,FALSE))*'By Speed'!$R26*Scenario_VMT_4*$N13","v":0},{"$f":"(VLOOKUP($B13,'By Population'!$G$2:$K$14,5,FALSE))*'By Speed'!$S26*Scenario_VMT_4*$N13","v":0},{"$f":"(VLOOKUP($B13,'By Population'!$G$2:$K$14,5,FALSE))*'By Speed'!$T26*Scenario_VMT_4*$N13","v":0},{"$f":"(VLOOKUP($B13,'By Population'!$G$2:$K$14,5,FALSE))*'By Speed'!$U26*Scenario_VMT_4*$N13","v":0},0,{"$f":"(VLOOKUP($B13,'By Population'!$G$2:$K$14,5,FALSE))*'By Speed'!$M26*Scenario_VMT_5*$N13","v":0},{"$f":"(VLOOKUP($B13,'By Population'!$G$2:$K$14,5,FALSE))*'By Speed'!$N26*Scenario_VMT_5*$N13","v":0},{"$f":"(VLOOKUP($B13,'By Population'!$G$2:$K$14,5,FALSE))*'By Speed'!$O26*Scenario_VMT_5*$N13","v":0},{"$f":"(VLOOKUP($B13,'By Population'!$G$2:$K$14,5,FALSE))*'By Speed'!$P26*Scenario_VMT_5*$N13","v":0},{"$f":"(VLOOKUP($B13,'By Population'!$G$2:$K$14,5,FALSE))*'By Speed'!$Q26*Scenario_VMT_5*$N13","v":0},{"$f":"(VLOOKUP($B13,'By Population'!$G$2:$K$14,5,FALSE))*'By Speed'!$R26*Scenario_VMT_5*$N13","v":0},{"$f":"(VLOOKUP($B13,'By Population'!$G$2:$K$14,5,FALSE))*'By Speed'!$S26*Scenario_VMT_5*$N13","v":0},{"$f":"(VLOOKUP($B13,'By Population'!$G$2:$K$14,5,FALSE))*'By Speed'!$T26*Scenario_VMT_5*$N13","v":0},{"$f":"(VLOOKUP($B13,'By Population'!$G$2:$K$14,5,FALSE))*'By Speed'!$U26*Scenario_VMT_5*$N13","v":0},0]
[24,"LDA_DSL",60,"LDA_DSL_60",{"$f":"(VLOOKUP($B14,'By Population'!$G$2:$K$14,5,FALSE))*'By Speed'!$M27*Scenario_VMT_EX*$N14","v":0},{"$f":"(VLOOKUP($B14,'By Population'!$G$2:$K$14,5,FALSE))*'By Speed'!$N27*Scenario_VMT_EX*$N14","v":0},{"$f":"(VLOOKUP($B14,'By Population'!$G$2:$K$14,5,FALSE))*'By Speed'!$O27*Scenario_VMT_EX*$N14","v":0},{"$f":"(VLOOKUP($B14,'By Population'!$G$2:$K$14,5,FALSE))*'By Speed'!$P27*Scenario_VMT_EX*$N14","v":0},{"$f":"(VLOOKUP($B14,'By Population'!$G$2:$K$14,5,FALSE))*'By Speed'!$Q27*Scenario_VMT_EX*$N14","v":0},{"$f":"(VLOOKUP($B14,'By Population'!$G$2:$K$14,5,FALSE))*'By Speed'!$R27*Scenario_VMT_EX*$N14","v":0},{"$f":"(VLOOKUP($B14,'By Population'!$G$2:$K$14,5,FALSE))*'By Speed'!$S27*Scenario_VMT_EX*$N14","v":0},{"$f":"(VLOOKUP($B14,'By Population'!$G$2:$K$14,5,FALSE))*'By Speed'!$T27*Scenario_VMT_EX*$N14","v":0},{"$f":"(VLOOKUP($B14,'By Population'!$G$2:$K$14,5,FALSE))*'By Speed'!$U27*Scenario_VMT_EX*$N14","v":0},0,{"$f":"(VLOOKUP($B14,'By Population'!$G$2:$K$14,5,FALSE))*'By Speed'!$M27*Scenario_VMT_1*$N14","v":0},{"$f":"(VLOOKUP($B14,'By Population'!$G$2:$K$14,5,FALSE))*'By Speed'!$N27*Scenario_VMT_1*$N14","v":0},{"$f":"(VLOOKUP($B14,'By Population'!$G$2:$K$14,5,FALSE))*'By Speed'!$O27*Scenario_VMT_1*$N14","v":0},{"$f":"(VLOOKUP($B14,'By Population'!$G$2:$K$14,5,FALSE))*'By Speed'!$P27*Scenario_VMT_1*$N14","v":0},{"$f":"(VLOOKUP($B14,'By Population'!$G$2:$K$14,5,FALSE))*'By Speed'!$Q27*Scenario_VMT_1*$N14","v":0},{"$f":"(VLOOKUP($B14,'By Population'!$G$2:$K$14,5,FALSE))*'By Speed'!$R27*Scenario_VMT_1*$N14","v":0},{"$f":"(VLOOKUP($B14,'By Population'!$G$2:$K$14,5,FALSE))*'By Speed'!$S27*Scenario_VMT_1*$N14","v":0},{"$f":"(VLOOKUP($B14,'By Population'!$G$2:$K$14,5,FALSE))*'By Speed'!$T27*Scenario_VMT_1*$N14","v":0},{"$f":"(VLOOKUP($B14,'By Population'!$G$2:$K$14,5,FALSE))*'By Speed'!$U27*Scenario_VMT_1*$N14","v":0},0,{"$f":"(VLOOKUP($B14,'By Population'!$G$2:$K$14,5,FALSE))*'By Speed'!$M27*Scenario_VMT_2*$N14","v":0},{"$f":"(VLOOKUP($B14,'By Population'!$G$2:$K$14,5,FALSE))*'By Speed'!$N27*Scenario_VMT_2*$N14","v":0},{"$f":"(VLOOKUP($B14,'By Population'!$G$2:$K$14,5,FALSE))*'By Speed'!$O27*Scenario_VMT_2*$N14","v":0},{"$f":"(VLOOKUP($B14,'By Population'!$G$2:$K$14,5,FALSE))*'By Speed'!$P27*Scenario_VMT_2*$N14","v":0},{"$f":"(VLOOKUP($B14,'By Population'!$G$2:$K$14,5,FALSE))*'By Speed'!$Q27*Scenario_VMT_2*$N14","v":0},{"$f":"(VLOOKUP($B14,'By Population'!$G$2:$K$14,5,FALSE))*'By Speed'!$R27*Scenario_VMT_2*$N14","v":0},{"$f":"(VLOOKUP($B14,'By Population'!$G$2:$K$14,5,FALSE))*'By Speed'!$S27*Scenario_VMT_2*$N14","v":0},{"$f":"(VLOOKUP($B14,'By Population'!$G$2:$K$14,5,FALSE))*'By Speed'!$T27*Scenario_VMT_2*$N14","v":0},{"$f":"(VLOOKUP($B14,'By Population'!$G$2:$K$14,5,FALSE))*'By Speed'!$U27*Scenario_VMT_2*$N14","v":0},0,{"$f":"(VLOOKUP($B14,'By Population'!$G$2:$K$14,5,FALSE))*'By Speed'!$M27*Scenario_VMT_3*$N14","v":0},{"$f":"(VLOOKUP($B14,'By Population'!$G$2:$K$14,5,FALSE))*'By Speed'!$N27*Scenario_VMT_3*$N14","v":0},{"$f":"(VLOOKUP($B14,'By Population'!$G$2:$K$14,5,FALSE))*'By Speed'!$O27*Scenario_VMT_3*$N14","v":0},{"$f":"(VLOOKUP($B14,'By Population'!$G$2:$K$14,5,FALSE))*'By Speed'!$P27*Scenario_VMT_3*$N14","v":0},{"$f":"(VLOOKUP($B14,'By Population'!$G$2:$K$14,5,FALSE))*'By Speed'!$Q27*Scenario_VMT_3*$N14","v":0},{"$f":"(VLOOKUP($B14,'By Population'!$G$2:$K$14,5,FALSE))*'By Speed'!$R27*Scenario_VMT_3*$N14","v":0},{"$f":"(VLOOKUP($B14,'By Population'!$G$2:$K$14,5,FALSE))*'By Speed'!$S27*Scenario_VMT_3*$N14","v":0},{"$f":"(VLOOKUP($B14,'By Population'!$G$2:$K$14,5,FALSE))*'By Speed'!$T27*Scenario_VMT_3*$N14","v":0},{"$f":"(VLOOKUP($B14,'By Population'!$G$2:$K$14,5,FALSE))*'By Speed'!$U27*Scenario_VMT_3*$N14","v":0},0,{"$f":"(VLOOKUP($B14,'By Population'!$G$2:$K$14,5,FALSE))*'By Speed'!$M27*Scenario_VMT_4*$N14","v":0},{"$f":"(VLOOKUP($B14,'By Population'!$G$2:$K$14,5,FALSE))*'By Speed'!$N27*Scenario_VMT_4*$N14","v":0},{"$f":"(VLOOKUP($B14,'By Population'!$G$2:$K$14,5,FALSE))*'By Speed'!$O27*Scenario_VMT_4*$N14","v":0},{"$f":"(VLOOKUP($B14,'By Population'!$G$2:$K$14,5,FALSE))*'By Speed'!$P27*Scenario_VMT_4*$N14","v":0},{"$f":"(VLOOKUP($B14,'By Population'!$G$2:$K$14,5,FALSE))*'By Speed'!$Q27*Scenario_VMT_4*$N14","v":0},{"$f":"(VLOOKUP($B14,'By Population'!$G$2:$K$14,5,FALSE))*'By Speed'!$R27*Scenario_VMT_4*$N14","v":0},{"$f":"(VLOOKUP($B14,'By Population'!$G$2:$K$14,5,FALSE))*'By Speed'!$S27*Scenario_VMT_4*$N14","v":0},{"$f":"(VLOOKUP($B14,'By Population'!$G$2:$K$14,5,FALSE))*'By Speed'!$T27*Scenario_VMT_4*$N14","v":0},{"$f":"(VLOOKUP($B14,'By Population'!$G$2:$K$14,5,FALSE))*'By Speed'!$U27*Scenario_VMT_4*$N14","v":0},0,{"$f":"(VLOOKUP($B14,'By Population'!$G$2:$K$14,5,FALSE))*'By Speed'!$M27*Scenario_VMT_5*$N14","v":0},{"$f":"(VLOOKUP($B14,'By Population'!$G$2:$K$14,5,FALSE))*'By Speed'!$N27*Scenario_VMT_5*$N14","v":0},{"$f":"(VLOOKUP($B14,'By Population'!$G$2:$K$14,5,FALSE))*'By Speed'!$O27*Scenario_VMT_5*$N14","v":0},{"$f":"(VLOOKUP($B14,'By Population'!$G$2:$K$14,5,FALSE))*'By Speed'!$P27*Scenario_VMT_5*$N14","v":0},{"$f":"(VLOOKUP($B14,'By Population'!$G$2:$K$14,5,FALSE))*'By Speed'!$Q27*Scenario_VMT_5*$N14","v":0},{"$f":"(VLOOKUP($B14,'By Population'!$G$2:$K$14,5,FALSE))*'By Speed'!$R27*Scenario_VMT_5*$N14","v":0},{"$f":"(VLOOKUP($B14,'By Population'!$G$2:$K$14,5,FALSE))*'By Speed'!$S27*Scenario_VMT_5*$N14","v":0},{"$f":"(VLOOKUP($B14,'By Population'!$G$2:$K$14,5,FALSE))*'By Speed'!$T27*Scenario_VMT_5*$N14","v":0},{"$f":"(VLOOKUP($B14,'By Population'!$G$2:$K$14,5,FALSE))*'By Speed'!$U27*Scenario_VMT_5*$N14","v":0},0]
[26,"LDA_DSL",65,"LDA_DSL_65",{"$f":"(VLOOKUP($B15,'By Population'!$G$2:$K$14,5,FALSE))*'By Speed'!$M28*Scenario_VMT_EX*$N15","v":0},{"$f":"(VLOOKUP($B15,'By Population'!$G$2:$K$14,5,FALSE))*'By Speed'!$N28*Scenario_VMT_EX*$N15","v":0},{"$f":"(VLOOKUP($B15,'By Population'!$G$2:$K$14,5,FALSE))*'By Speed'!$O28*Scenario_VMT_EX*$N15","v":0},{"$f":"(VLOOKUP($B15,'By Population'!$G$2:$K$14,5,FALSE))*'By Speed'!$P28*Scenario_VMT_EX*$N15","v":0},{"$f":"(VLOOKUP($B15,'By Population'!$G$2:$K$14,5,FALSE))*'By Speed'!$Q28*Scenario_VMT_EX*$N15","v":0},{"$f":"(VLOOKUP($B15,'By Population'!$G$2:$K$14,5,FALSE))*'By Speed'!$R28*Scenario_VMT_EX*$N15","v":0},{"$f":"(VLOOKUP($B15,'By Population'!$G$2:$K$14,5,FALSE))*'By Speed'!$S28*Scenario_VMT_EX*$N15","v":0},{"$f":"(VLOOKUP($B15,'By Population'!$G$2:$K$14,5,FALSE))*'By Speed'!$T28*Scenario_VMT_EX*$N15","v":0},{"$f":"(VLOOKUP($B15,'By Population'!$G$2:$K$14,5,FALSE))*'By Speed'!$U28*Scenario_VMT_EX*$N15","v":0},0,{"$f":"(VLOOKUP($B15,'By Population'!$G$2:$K$14,5,FALSE))*'By Speed'!$M28*Scenario_VMT_1*$N15","v":0},{"$f":"(VLOOKUP($B15,'By Population'!$G$2:$K$14,5,FALSE))*'By Speed'!$N28*Scenario_VMT_1*$N15","v":0},{"$f":"(VLOOKUP($B15,'By Population'!$G$2:$K$14,5,FALSE))*'By Speed'!$O28*Scenario_VMT_1*$N15","v":0},{"$f":"(VLOOKUP($B15,'By Population'!$G$2:$K$14,5,FALSE))*'By Speed'!$P28*Scenario_VMT_1*$N15","v":0},{"$f":"(VLOOKUP($B15,'By Population'!$G$2:$K$14,5,FALSE))*'By Speed'!$Q28*Scenario_VMT_1*$N15","v":0},{"$f":"(VLOOKUP($B15,'By Population'!$G$2:$K$14,5,FALSE))*'By Speed'!$R28*Scenario_VMT_1*$N15","v":0},{"$f":"(VLOOKUP($B15,'By Population'!$G$2:$K$14,5,FALSE))*'By Speed'!$S28*Scenario_VMT_1*$N15","v":0},{"$f":"(VLOOKUP($B15,'By Population'!$G$2:$K$14,5,FALSE))*'By Speed'!$T28*Scenario_VMT_1*$N15","v":0},{"$f":"(VLOOKUP($B15,'By Population'!$G$2:$K$14,5,FALSE))*'By Speed'!$U28*Scenario_VMT_1*$N15","v":0},0,{"$f":"(VLOOKUP($B15,'By Population'!$G$2:$K$14,5,FALSE))*'By Speed'!$M28*Scenario_VMT_2*$N15","v":0},{"$f":"(VLOOKUP($B15,'By Population'!$G$2:$K$14,5,FALSE))*'By Speed'!$N28*Scenario_VMT_2*$N15","v":0},{"$f":"(VLOOKUP($B15,'By Population'!$G$2:$K$14,5,FALSE))*'By Speed'!$O28*Scenario_VMT_2*$N15","v":0},{"$f":"(VLOOKUP($B15,'By Population'!$G$2:$K$14,5,FALSE))*'By Speed'!$P28*Scenario_VMT_2*$N15","v":0},{"$f":"(VLOOKUP($B15,'By Population'!$G$2:$K$14,5,FALSE))*'By Speed'!$Q28*Scenario_VMT_2*$N15","v":0},{"$f":"(VLOOKUP($B15,'By Population'!$G$2:$K$14,5,FALSE))*'By Speed'!$R28*Scenario_VMT_2*$N15","v":0},{"$f":"(VLOOKUP($B15,'By Population'!$G$2:$K$14,5,FALSE))*'By Speed'!$S28*Scenario_VMT_2*$N15","v":0},{"$f":"(VLOOKUP($B15,'By Population'!$G$2:$K$14,5,FALSE))*'By Speed'!$T28*Scenario_VMT_2*$N15","v":0},{"$f":"(VLOOKUP($B15,'By Population'!$G$2:$K$14,5,FALSE))*'By Speed'!$U28*Scenario_VMT_2*$N15","v":0},0,{"$f":"(VLOOKUP($B15,'By Population'!$G$2:$K$14,5,FALSE))*'By Speed'!$M28*Scenario_VMT_3*$N15","v":0},{"$f":"(VLOOKUP($B15,'By Population'!$G$2:$K$14,5,FALSE))*'By Speed'!$N28*Scenario_VMT_3*$N15","v":0},{"$f":"(VLOOKUP($B15,'By Population'!$G$2:$K$14,5,FALSE))*'By Speed'!$O28*Scenario_VMT_3*$N15","v":0},{"$f":"(VLOOKUP($B15,'By Population'!$G$2:$K$14,5,FALSE))*'By Speed'!$P28*Scenario_VMT_3*$N15","v":0},{"$f":"(VLOOKUP($B15,'By Population'!$G$2:$K$14,5,FALSE))*'By Speed'!$Q28*Scenario_VMT_3*$N15","v":0},{"$f":"(VLOOKUP($B15,'By Population'!$G$2:$K$14,5,FALSE))*'By Speed'!$R28*Scenario_VMT_3*$N15","v":0},{"$f":"(VLOOKUP($B15,'By Population'!$G$2:$K$14,5,FALSE))*'By Speed'!$S28*Scenario_VMT_3*$N15","v":0},{"$f":"(VLOOKUP($B15,'By Population'!$G$2:$K$14,5,FALSE))*'By Speed'!$T28*Scenario_VMT_3*$N15","v":0},{"$f":"(VLOOKUP($B15,'By Population'!$G$2:$K$14,5,FALSE))*'By Speed'!$U28*Scenario_VMT_3*$N15","v":0},0,{"$f":"(VLOOKUP($B15,'By Population'!$G$2:$K$14,5,FALSE))*'By Speed'!$M28*Scenario_VMT_4*$N15","v":0},{"$f":"(VLOOKUP($B15,'By Population'!$G$2:$K$14,5,FALSE))*'By Speed'!$N28*Scenario_VMT_4*$N15","v":0},{"$f":"(VLOOKUP($B15,'By Population'!$G$2:$K$14,5,FALSE))*'By Speed'!$O28*Scenario_VMT_4*$N15","v":0},{"$f":"(VLOOKUP($B15,'By Population'!$G$2:$K$14,5,FALSE))*'By Speed'!$P28*Scenario_VMT_4*$N15","v":0},{"$f":"(VLOOKUP($B15,'By Population'!$G$2:$K$14,5,FALSE))*'By Speed'!$Q28*Scenario_VMT_4*$N15","v":0},{"$f":"(VLOOKUP($B15,'By Population'!$G$2:$K$14,5,FALSE))*'By Speed'!$R28*Scenario_VMT_4*$N15","v":0},{"$f":"(VLOOKUP($B15,'By Population'!$G$2:$K$14,5,FALSE))*'By Speed'!$S28*Scenario_VMT_4*$N15","v":0},{"$f":"(VLOOKUP($B15,'By Population'!$G$2:$K$14,5,FALSE))*'By Speed'!$T28*Scenario_VMT_4*$N15","v":0},{"$f":"(VLOOKUP($B15,'By Population'!$G$2:$K$14,5,FALSE))*'By Speed'!$U28*Scenario_VMT_4*$N15","v":0},0,{"$f":"(VLOOKUP($B15,'By Population'!$G$2:$K$14,5,FALSE))*'By Speed'!$M28*Scenario_VMT_5*$N15","v":0},{"$f":"(VLOOKUP($B15,'By Population'!$G$2:$K$14,5,FALSE))*'By Speed'!$N28*Scenario_VMT_5*$N15","v":0},{"$f":"(VLOOKUP($B15,'By Population'!$G$2:$K$14,5,FALSE))*'By Speed'!$O28*Scenario_VMT_5*$N15","v":0},{"$f":"(VLOOKUP($B15,'By Population'!$G$2:$K$14,5,FALSE))*'By Speed'!$P28*Scenario_VMT_5*$N15","v":0},{"$f":"(VLOOKUP($B15,'By Population'!$G$2:$K$14,5,FALSE))*'By Speed'!$Q28*Scenario_VMT_5*$N15","v":0},{"$f":"(VLOOKUP($B15,'By Population'!$G$2:$K$14,5,FALSE))*'By Speed'!$R28*Scenario_VMT_5*$N15","v":0},{"$f":"(VLOOKUP($B15,'By Population'!$G$2:$K$14,5,FALSE))*'By Speed'!$S28*Scenario_VMT_5*$N15","v":0},{"$f":"(VLOOKUP($B15,'By Population'!$G$2:$K$14,5,FALSE))*'By Speed'!$T28*Scenario_VMT_5*$N15","v":0},{"$f":"(VLOOKUP($B15,'By Population'!$G$2:$K$14,5,FALSE))*'By Speed'!$U28*Scenario_VMT_5*$N15","v":0},0]
[28,"LDA_DSL",70,"LDA_DSL_70",{"$f":"(VLOOKUP($B16,'By Population'!$G$2:$K$14,5,FALSE))*'By Speed'!$M29*Scenario_VMT_EX*$N16","v":0},{"$f":"(VLOOKUP($B16,'By Population'!$G$2:$K$14,5,FALSE))*'By Speed'!$N29*Scenario_VMT_EX*$N16","v":0},{"$f":"(VLOOKUP($B16,'By Population'!$G$2:$K$14,5,FALSE))*'By Speed'!$O29*Scenario_VMT_EX*$N16","v":0},{"$f":"(VLOOKUP($B16,'By Population'!$G$2:$K$14,5,FALSE))*'By Speed'!$P29*Scenario_VMT_EX*$N16","v":0},{"$f":"(VLOOKUP($B16,'By Population'!$G$2:$K$14,5,FALSE))*'By Speed'!$Q29*Scenario_VMT_EX*$N16","v":0},{"$f":"(VLOOKUP($B16,'By Population'!$G$2:$K$14,5,FALSE))*'By Speed'!$R29*Scenario_VMT_EX*$N16","v":0},{"$f":"(VLOOKUP($B16,'By Population'!$G$2:$K$14,5,FALSE))*'By Speed'!$S29*Scenario_VMT_EX*$N16","v":0},{"$f":"(VLOOKUP($B16,'By Population'!$G$2:$K$14,5,FALSE))*'By Speed'!$T29*Scenario_VMT_EX*$N16","v":0},{"$f":"(VLOOKUP($B16,'By Population'!$G$2:$K$14,5,FALSE))*'By Speed'!$U29*Scenario_VMT_EX*$N16","v":0},0,{"$f":"(VLOOKUP($B16,'By Population'!$G$2:$K$14,5,FALSE))*'By Speed'!$M29*Scenario_VMT_1*$N16","v":0},{"$f":"(VLOOKUP($B16,'By Population'!$G$2:$K$14,5,FALSE))*'By Speed'!$N29*Scenario_VMT_1*$N16","v":0},{"$f":"(VLOOKUP($B16,'By Population'!$G$2:$K$14,5,FALSE))*'By Speed'!$O29*Scenario_VMT_1*$N16","v":0},{"$f":"(VLOOKUP($B16,'By Population'!$G$2:$K$14,5,FALSE))*'By Speed'!$P29*Scenario_VMT_1*$N16","v":0},{"$f":"(VLOOKUP($B16,'By Population'!$G$2:$K$14,5,FALSE))*'By Speed'!$Q29*Scenario_VMT_1*$N16","v":0},{"$f":"(VLOOKUP($B16,'By Population'!$G$2:$K$14,5,FALSE))*'By Speed'!$R29*Scenario_VMT_1*$N16","v":0},{"$f":"(VLOOKUP($B16,'By Population'!$G$2:$K$14,5,FALSE))*'By Speed'!$S29*Scenario_VMT_1*$N16","v":0},{"$f":"(VLOOKUP($B16,'By Population'!$G$2:$K$14,5,FALSE))*'By Speed'!$T29*Scenario_VMT_1*$N16","v":0},{"$f":"(VLOOKUP($B16,'By Population'!$G$2:$K$14,5,FALSE))*'By Speed'!$U29*Scenario_VMT_1*$N16","v":0},0,{"$f":"(VLOOKUP($B16,'By Population'!$G$2:$K$14,5,FALSE))*'By Speed'!$M29*Scenario_VMT_2*$N16","v":0},{"$f":"(VLOOKUP($B16,'By Population'!$G$2:$K$14,5,FALSE))*'By Speed'!$N29*Scenario_VMT_2*$N16","v":0},{"$f":"(VLOOKUP($B16,'By Population'!$G$2:$K$14,5,FALSE))*'By Speed'!$O29*Scenario_VMT_2*$N16","v":0},{"$f":"(VLOOKUP($B16,'By Population'!$G$2:$K$14,5,FALSE))*'By Speed'!$P29*Scenario_VMT_2*$N16","v":0},{"$f":"(VLOOKUP($B16,'By Population'!$G$2:$K$14,5,FALSE))*'By Speed'!$Q29*Scenario_VMT_2*$N16","v":0},{"$f":"(VLOOKUP($B16,'By Population'!$G$2:$K$14,5,FALSE))*'By Speed'!$R29*Scenario_VMT_2*$N16","v":0},{"$f":"(VLOOKUP($B16,'By Population'!$G$2:$K$14,5,FALSE))*'By Speed'!$S29*Scenario_VMT_2*$N16","v":0},{"$f":"(VLOOKUP($B16,'By Population'!$G$2:$K$14,5,FALSE))*'By Speed'!$T29*Scenario_VMT_2*$N16","v":0},{"$f":"(VLOOKUP($B16,'By Population'!$G$2:$K$14,5,FALSE))*'By Speed'!$U29*Scenario_VMT_2*$N16","v":0},0,{"$f":"(VLOOKUP($B16,'By Population'!$G$2:$K$14,5,FALSE))*'By Speed'!$M29*Scenario_VMT_3*$N16","v":0},{"$f":"(VLOOKUP($B16,'By Population'!$G$2:$K$14,5,FALSE))*'By Speed'!$N29*Scenario_VMT_3*$N16","v":0},{"$f":"(VLOOKUP($B16,'By Population'!$G$2:$K$14,5,FALSE))*'By Speed'!$O29*Scenario_VMT_3*$N16","v":0},{"$f":"(VLOOKUP($B16,'By Population'!$G$2:$K$14,5,FALSE))*'By Speed'!$P29*Scenario_VMT_3*$N16","v":0},{"$f":"(VLOOKUP($B16,'By Population'!$G$2:$K$14,5,FALSE))*'By Speed'!$Q29*Scenario_VMT_3*$N16","v":0},{"$f":"(VLOOKUP($B16,'By Population'!$G$2:$K$14,5,FALSE))*'By Speed'!$R29*Scenario_VMT_3*$N16","v":0},{"$f":"(VLOOKUP($B16,'By Population'!$G$2:$K$14,5,FALSE))*'By Speed'!$S29*Scenario_VMT_3*$N16","v":0},{"$f":"(VLOOKUP($B16,'By Population'!$G$2:$K$14,5,FALSE))*'By Speed'!$T29*Scenario_VMT_3*$N16","v":0},{"$f":"(VLOOKUP($B16,'By Population'!$G$2:$K$14,5,FALSE))*'By Speed'!$U29*Scenario_VMT_3*$N16","v":0},0,{"$f":"(VLOOKUP($B16,'By Population'!$G$2:$K$14,5,FALSE))*'By Speed'!$M29*Scenario_VMT_4*$N16","v":0},{"$f":"(VLOOKUP($B16,'By Population'!$G$2:$K$14,5,FALSE))*'By Speed'!$N29*Scenario_VMT_4*$N16","v":0},{"$f":"(VLOOKUP($B16,'By Population'!$G$2:$K$14,5,FALSE))*'By Speed'!$O29*Scenario_VMT_4*$N16","v":0},{"$f":"(VLOOKUP($B16,'By Population'!$G$2:$K$14,5,FALSE))*'By Speed'!$P29*Scenario_VMT_4*$N16","v":0},{"$f":"(VLOOKUP($B16,'By Population'!$G$2:$K$14,5,FALSE))*'By Speed'!$Q29*Scenario_VMT_4*$N16","v":0},{"$f":"(VLOOKUP($B16,'By Population'!$G$2:$K$14,5,FALSE))*'By Speed'!$R29*Scenario_VMT_4*$N16","v":0},{"$f":"(VLOOKUP($B16,'By Population'!$G$2:$K$14,5,FALSE))*'By Speed'!$S29*Scenario_VMT_4*$N16","v":0},{"$f":"(VLOOKUP($B16,'By Population'!$G$2:$K$14,5,FALSE))*'By Speed'!$T29*Scenario_VMT_4*$N16","v":0},{"$f":"(VLOOKUP($B16,'By Population'!$G$2:$K$14,5,FALSE))*'By Speed'!$U29*Scenario_VMT_4*$N16","v":0},0,{"$f":"(VLOOKUP($B16,'By Population'!$G$2:$K$14,5,FALSE))*'By Speed'!$M29*Scenario_VMT_5*$N16","v":0},{"$f":"(VLOOKUP($B16,'By Population'!$G$2:$K$14,5,FALSE))*'By Speed'!$N29*Scenario_VMT_5*$N16","v":0},{"$f":"(VLOOKUP($B16,'By Population'!$G$2:$K$14,5,FALSE))*'By Speed'!$O29*Scenario_VMT_5*$N16","v":0},{"$f":"(VLOOKUP($B16,'By Population'!$G$2:$K$14,5,FALSE))*'By Speed'!$P29*Scenario_VMT_5*$N16","v":0},{"$f":"(VLOOKUP($B16,'By Population'!$G$2:$K$14,5,FALSE))*'By Speed'!$Q29*Scenario_VMT_5*$N16","v":0},{"$f":"(VLOOKUP($B16,'By Population'!$G$2:$K$14,5,FALSE))*'By Speed'!$R29*Scenario_VMT_5*$N16","v":0},{"$f":"(VLOOKUP($B16,'By Population'!$G$2:$K$14,5,FALSE))*'By Speed'!$S29*Scenario_VMT_5*$N16","v":0},{"$f":"(VLOOKUP($B16,'By Population'!$G$2:$K$14,5,FALSE))*'By Speed'!$T29*Scenario_VMT_5*$N16","v":0},{"$f":"(VLOOKUP($B16,'By Population'!$G$2:$K$14,5,FALSE))*'By Speed'!$U29*Scenario_VMT_5*$N16","v":0},0]
[3,"LDA_GAS",10,"LDA_GAS_10",{"$f":"(VLOOKUP($B17,'By Population'!$G$2:$K$14,5,FALSE))*'By Speed'!$M30*Scenario_VMT_EX*$N17","v":0},{"$f":"(VLOOKUP($B17,'By Population'!$G$2:$K$14,5,FALSE))*'By Speed'!$N30*Scenario_VMT_EX*$N17","v":0},{"$f":"(VLOOKUP($B17,'By Population'!$G$2:$K$14,5,FALSE))*'By Speed'!$O30*Scenario_VMT_EX*$N17","v":0},{"$f":"(VLOOKUP($B17,'By Population'!$G$2:$K$14,5,FALSE))*'By Speed'!$P30*Scenario_VMT_EX*$N17","v":0},{"$f":"(VLOOKUP($B17,'By Population'!$G$2:$K$14,5,FALSE))*'By Speed'!$Q30*Scenario_VMT_EX*$N17","v":0},{"$f":"(VLOOKUP($B17,'By Population'!$G$2:$K$14,5,FALSE))*'By Speed'!$R30*Scenario_VMT_EX*$N17","v":0},{"$f":"(VLOOKUP($B17,'By Population'!$G$2:$K$14,5,FALSE))*'By Speed'!$S30*Scenario_VMT_EX*$N17","v":0},{"$f":"(VLOOKUP($B17,'By Population'!$G$2:$K$14,5,FALSE))*'By Speed'!$T30*Scenario_VMT_EX*$N17","v":0},{"$f":"(VLOOKUP($B17,'By Population'!$G$2:$K$14,5,FALSE))*'By Speed'!$U30*Scenario_VMT_EX*$N17","v":0},0,{"$f":"(VLOOKUP($B17,'By Population'!$G$2:$K$14,5,FALSE))*'By Speed'!$M30*Scenario_VMT_1*$N17","v":0},{"$f":"(VLOOKUP($B17,'By Population'!$G$2:$K$14,5,FALSE))*'By Speed'!$N30*Scenario_VMT_1*$N17","v":0},{"$f":"(VLOOKUP($B17,'By Population'!$G$2:$K$14,5,FALSE))*'By Speed'!$O30*Scenario_VMT_1*$N17","v":0},{"$f":"(VLOOKUP($B17,'By Population'!$G$2:$K$14,5,FALSE))*'By Speed'!$P30*Scenario_VMT_1*$N17","v":0},{"$f":"(VLOOKUP($B17,'By Population'!$G$2:$K$14,5,FALSE))*'By Speed'!$Q30*Scenario_VMT_1*$N17","v":0},{"$f":"(VLOOKUP($B17,'By Population'!$G$2:$K$14,5,FALSE))*'By Speed'!$R30*Scenario_VMT_1*$N17","v":0},{"$f":"(VLOOKUP($B17,'By Population'!$G$2:$K$14,5,FALSE))*'By Speed'!$S30*Scenario_VMT_1*$N17","v":0},{"$f":"(VLOOKUP($B17,'By Population'!$G$2:$K$14,5,FALSE))*'By Speed'!$T30*Scenario_VMT_1*$N17","v":0},{"$f":"(VLOOKUP($B17,'By Population'!$G$2:$K$14,5,FALSE))*'By Speed'!$U30*Scenario_VMT_1*$N17","v":0},0,{"$f":"(VLOOKUP($B17,'By Population'!$G$2:$K$14,5,FALSE))*'By Speed'!$M30*Scenario_VMT_2*$N17","v":0},{"$f":"(VLOOKUP($B17,'By Population'!$G$2:$K$14,5,FALSE))*'By Speed'!$N30*Scenario_VMT_2*$N17","v":0},{"$f":"(VLOOKUP($B17,'By Population'!$G$2:$K$14,5,FALSE))*'By Speed'!$O30*Scenario_VMT_2*$N17","v":0},{"$f":"(VLOOKUP($B17,'By Population'!$G$2:$K$14,5,FALSE))*'By Speed'!$P30*Scenario_VMT_2*$N17","v":0},{"$f":"(VLOOKUP($B17,'By Population'!$G$2:$K$14,5,FALSE))*'By Speed'!$Q30*Scenario_VMT_2*$N17","v":0},{"$f":"(VLOOKUP($B17,'By Population'!$G$2:$K$14,5,FALSE))*'By Speed'!$R30*Scenario_VMT_2*$N17","v":0},{"$f":"(VLOOKUP($B17,'By Population'!$G$2:$K$14,5,FALSE))*'By Speed'!$S30*Scenario_VMT_2*$N17","v":0},{"$f":"(VLOOKUP($B17,'By Population'!$G$2:$K$14,5,FALSE))*'By Speed'!$T30*Scenario_VMT_2*$N17","v":0},{"$f":"(VLOOKUP($B17,'By Population'!$G$2:$K$14,5,FALSE))*'By Speed'!$U30*Scenario_VMT_2*$N17","v":0},0,{"$f":"(VLOOKUP($B17,'By Population'!$G$2:$K$14,5,FALSE))*'By Speed'!$M30*Scenario_VMT_3*$N17","v":0},{"$f":"(VLOOKUP($B17,'By Population'!$G$2:$K$14,5,FALSE))*'By Speed'!$N30*Scenario_VMT_3*$N17","v":0},{"$f":"(VLOOKUP($B17,'By Population'!$G$2:$K$14,5,FALSE))*'By Speed'!$O30*Scenario_VMT_3*$N17","v":0},{"$f":"(VLOOKUP($B17,'By Population'!$G$2:$K$14,5,FALSE))*'By Speed'!$P30*Scenario_VMT_3*$N17","v":0},{"$f":"(VLOOKUP($B17,'By Population'!$G$2:$K$14,5,FALSE))*'By Speed'!$Q30*Scenario_VMT_3*$N17","v":0},{"$f":"(VLOOKUP($B17,'By Population'!$G$2:$K$14,5,FALSE))*'By Speed'!$R30*Scenario_VMT_3*$N17","v":0},{"$f":"(VLOOKUP($B17,'By Population'!$G$2:$K$14,5,FALSE))*'By Speed'!$S30*Scenario_VMT_3*$N17","v":0},{"$f":"(VLOOKUP($B17,'By Population'!$G$2:$K$14,5,FALSE))*'By Speed'!$T30*Scenario_VMT_3*$N17","v":0},{"$f":"(VLOOKUP($B17,'By Population'!$G$2:$K$14,5,FALSE))*'By Speed'!$U30*Scenario_VMT_3*$N17","v":0},0,{"$f":"(VLOOKUP($B17,'By Population'!$G$2:$K$14,5,FALSE))*'By Speed'!$M30*Scenario_VMT_4*$N17","v":0},{"$f":"(VLOOKUP($B17,'By Population'!$G$2:$K$14,5,FALSE))*'By Speed'!$N30*Scenario_VMT_4*$N17","v":0},{"$f":"(VLOOKUP($B17,'By Population'!$G$2:$K$14,5,FALSE))*'By Speed'!$O30*Scenario_VMT_4*$N17","v":0},{"$f":"(VLOOKUP($B17,'By Population'!$G$2:$K$14,5,FALSE))*'By Speed'!$P30*Scenario_VMT_4*$N17","v":0},{"$f":"(VLOOKUP($B17,'By Population'!$G$2:$K$14,5,FALSE))*'By Speed'!$Q30*Scenario_VMT_4*$N17","v":0},{"$f":"(VLOOKUP($B17,'By Population'!$G$2:$K$14,5,FALSE))*'By Speed'!$R30*Scenario_VMT_4*$N17","v":0},{"$f":"(VLOOKUP($B17,'By Population'!$G$2:$K$14,5,FALSE))*'By Speed'!$S30*Scenario_VMT_4*$N17","v":0},{"$f":"(VLOOKUP($B17,'By Population'!$G$2:$K$14,5,FALSE))*'By Speed'!$T30*Scenario_VMT_4*$N17","v":0},{"$f":"(VLOOKUP($B17,'By Population'!$G$2:$K$14,5,FALSE))*'By Speed'!$U30*Scenario_VMT_4*$N17","v":0},0,{"$f":"(VLOOKUP($B17,'By Population'!$G$2:$K$14,5,FALSE))*'By Speed'!$M30*Scenario_VMT_5*$N17","v":0},{"$f":"(VLOOKUP($B17,'By Population'!$G$2:$K$14,5,FALSE))*'By Speed'!$N30*Scenario_VMT_5*$N17","v":0},{"$f":"(VLOOKUP($B17,'By Population'!$G$2:$K$14,5,FALSE))*'By Speed'!$O30*Scenario_VMT_5*$N17","v":0},{"$f":"(VLOOKUP($B17,'By Population'!$G$2:$K$14,5,FALSE))*'By Speed'!$P30*Scenario_VMT_5*$N17","v":0},{"$f":"(VLOOKUP($B17,'By Population'!$G$2:$K$14,5,FALSE))*'By Speed'!$Q30*Scenario_VMT_5*$N17","v":0},{"$f":"(VLOOKUP($B17,'By Population'!$G$2:$K$14,5,FALSE))*'By Speed'!$R30*Scenario_VMT_5*$N17","v":0},{"$f":"(VLOOKUP($B17,'By Population'!$G$2:$K$14,5,FALSE))*'By Speed'!$S30*Scenario_VMT_5*$N17","v":0},{"$f":"(VLOOKUP($B17,'By Population'!$G$2:$K$14,5,FALSE))*'By Speed'!$T30*Scenario_VMT_5*$N17","v":0},{"$f":"(VLOOKUP($B17,'By Population'!$G$2:$K$14,5,FALSE))*'By Speed'!$U30*Scenario_VMT_5*$N17","v":0},0]
[5,"LDA_GAS",15,"LDA_GAS_15",{"$f":"(VLOOKUP($B18,'By Population'!$G$2:$K$14,5,FALSE))*'By Speed'!$M31*Scenario_VMT_EX*$N18","v":0},{"$f":"(VLOOKUP($B18,'By Population'!$G$2:$K$14,5,FALSE))*'By Speed'!$N31*Scenario_VMT_EX*$N18","v":0},{"$f":"(VLOOKUP($B18,'By Population'!$G$2:$K$14,5,FALSE))*'By Speed'!$O31*Scenario_VMT_EX*$N18","v":0},{"$f":"(VLOOKUP($B18,'By Population'!$G$2:$K$14,5,FALSE))*'By Speed'!$P31*Scenario_VMT_EX*$N18","v":0},{"$f":"(VLOOKUP($B18,'By Population'!$G$2:$K$14,5,FALSE))*'By Speed'!$Q31*Scenario_VMT_EX*$N18","v":0},{"$f":"(VLOOKUP($B18,'By Population'!$G$2:$K$14,5,FALSE))*'By Speed'!$R31*Scenario_VMT_EX*$N18","v":0},{"$f":"(VLOOKUP($B18,'By Population'!$G$2:$K$14,5,FALSE))*'By Speed'!$S31*Scenario_VMT_EX*$N18","v":0},{"$f":"(VLOOKUP($B18,'By Population'!$G$2:$K$14,5,FALSE))*'By Speed'!$T31*Scenario_VMT_EX*$N18","v":0},{"$f":"(VLOOKUP($B18,'By Population'!$G$2:$K$14,5,FALSE))*'By Speed'!$U31*Scenario_VMT_EX*$N18","v":0},0,{"$f":"(VLOOKUP($B18,'By Population'!$G$2:$K$14,5,FALSE))*'By Speed'!$M31*Scenario_VMT_1*$N18","v":0},{"$f":"(VLOOKUP($B18,'By Population'!$G$2:$K$14,5,FALSE))*'By Speed'!$N31*Scenario_VMT_1*$N18","v":0},{"$f":"(VLOOKUP($B18,'By Population'!$G$2:$K$14,5,FALSE))*'By Speed'!$O31*Scenario_VMT_1*$N18","v":0},{"$f":"(VLOOKUP($B18,'By Population'!$G$2:$K$14,5,FALSE))*'By Speed'!$P31*Scenario_VMT_1*$N18","v":0},{"$f":"(VLOOKUP($B18,'By Population'!$G$2:$K$14,5,FALSE))*'By Speed'!$Q31*Scenario_VMT_1*$N18","v":0},{"$f":"(VLOOKUP($B18,'By Population'!$G$2:$K$14,5,FALSE))*'By Speed'!$R31*Scenario_VMT_1*$N18","v":0},{"$f":"(VLOOKUP($B18,'By Population'!$G$2:$K$14,5,FALSE))*'By Speed'!$S31*Scenario_VMT_1*$N18","v":0},{"$f":"(VLOOKUP($B18,'By Population'!$G$2:$K$14,5,FALSE))*'By Speed'!$T31*Scenario_VMT_1*$N18","v":0},{"$f":"(VLOOKUP($B18,'By Population'!$G$2:$K$14,5,FALSE))*'By Speed'!$U31*Scenario_VMT_1*$N18","v":0},0,{"$f":"(VLOOKUP($B18,'By Population'!$G$2:$K$14,5,FALSE))*'By Speed'!$M31*Scenario_VMT_2*$N18","v":0},{"$f":"(VLOOKUP($B18,'By Population'!$G$2:$K$14,5,FALSE))*'By Speed'!$N31*Scenario_VMT_2*$N18","v":0},{"$f":"(VLOOKUP($B18,'By Population'!$G$2:$K$14,5,FALSE))*'By Speed'!$O31*Scenario_VMT_2*$N18","v":0},{"$f":"(VLOOKUP($B18,'By Population'!$G$2:$K$14,5,FALSE))*'By Speed'!$P31*Scenario_VMT_2*$N18","v":0},{"$f":"(VLOOKUP($B18,'By Population'!$G$2:$K$14,5,FALSE))*'By Speed'!$Q31*Scenario_VMT_2*$N18","v":0},{"$f":"(VLOOKUP($B18,'By Population'!$G$2:$K$14,5,FALSE))*'By Speed'!$R31*Scenario_VMT_2*$N18","v":0},{"$f":"(VLOOKUP($B18,'By Population'!$G$2:$K$14,5,FALSE))*'By Speed'!$S31*Scenario_VMT_2*$N18","v":0},{"$f":"(VLOOKUP($B18,'By Population'!$G$2:$K$14,5,FALSE))*'By Speed'!$T31*Scenario_VMT_2*$N18","v":0},{"$f":"(VLOOKUP($B18,'By Population'!$G$2:$K$14,5,FALSE))*'By Speed'!$U31*Scenario_VMT_2*$N18","v":0},0,{"$f":"(VLOOKUP($B18,'By Population'!$G$2:$K$14,5,FALSE))*'By Speed'!$M31*Scenario_VMT_3*$N18","v":0},{"$f":"(VLOOKUP($B18,'By Population'!$G$2:$K$14,5,FALSE))*'By Speed'!$N31*Scenario_VMT_3*$N18","v":0},{"$f":"(VLOOKUP($B18,'By Population'!$G$2:$K$14,5,FALSE))*'By Speed'!$O31*Scenario_VMT_3*$N18","v":0},{"$f":"(VLOOKUP($B18,'By Population'!$G$2:$K$14,5,FALSE))*'By Speed'!$P31*Scenario_VMT_3*$N18","v":0},{"$f":"(VLOOKUP($B18,'By Population'!$G$2:$K$14,5,FALSE))*'By Speed'!$Q31*Scenario_VMT_3*$N18","v":0},{"$f":"(VLOOKUP($B18,'By Population'!$G$2:$K$14,5,FALSE))*'By Speed'!$R31*Scenario_VMT_3*$N18","v":0},{"$f":"(VLOOKUP($B18,'By Population'!$G$2:$K$14,5,FALSE))*'By Speed'!$S31*Scenario_VMT_3*$N18","v":0},{"$f":"(VLOOKUP($B18,'By Population'!$G$2:$K$14,5,FALSE))*'By Speed'!$T31*Scenario_VMT_3*$N18","v":0},{"$f":"(VLOOKUP($B18,'By Population'!$G$2:$K$14,5,FALSE))*'By Speed'!$U31*Scenario_VMT_3*$N18","v":0},0,{"$f":"(VLOOKUP($B18,'By Population'!$G$2:$K$14,5,FALSE))*'By Speed'!$M31*Scenario_VMT_4*$N18","v":0},{"$f":"(VLOOKUP($B18,'By Population'!$G$2:$K$14,5,FALSE))*'By Speed'!$N31*Scenario_VMT_4*$N18","v":0},{"$f":"(VLOOKUP($B18,'By Population'!$G$2:$K$14,5,FALSE))*'By Speed'!$O31*Scenario_VMT_4*$N18","v":0},{"$f":"(VLOOKUP($B18,'By Population'!$G$2:$K$14,5,FALSE))*'By Speed'!$P31*Scenario_VMT_4*$N18","v":0},{"$f":"(VLOOKUP($B18,'By Population'!$G$2:$K$14,5,FALSE))*'By Speed'!$Q31*Scenario_VMT_4*$N18","v":0},{"$f":"(VLOOKUP($B18,'By Population'!$G$2:$K$14,5,FALSE))*'By Speed'!$R31*Scenario_VMT_4*$N18","v":0},{"$f":"(VLOOKUP($B18,'By Population'!$G$2:$K$14,5,FALSE))*'By Speed'!$S31*Scenario_VMT_4*$N18","v":0},{"$f":"(VLOOKUP($B18,'By Population'!$G$2:$K$14,5,FALSE))*'By Speed'!$T31*Scenario_VMT_4*$N18","v":0},{"$f":"(VLOOKUP($B18,'By Population'!$G$2:$K$14,5,FALSE))*'By Speed'!$U31*Scenario_VMT_4*$N18","v":0},0,{"$f":"(VLOOKUP($B18,'By Population'!$G$2:$K$14,5,FALSE))*'By Speed'!$M31*Scenario_VMT_5*$N18","v":0},{"$f":"(VLOOKUP($B18,'By Population'!$G$2:$K$14,5,FALSE))*'By Speed'!$N31*Scenario_VMT_5*$N18","v":0},{"$f":"(VLOOKUP($B18,'By Population'!$G$2:$K$14,5,FALSE))*'By Speed'!$O31*Scenario_VMT_5*$N18","v":0},{"$f":"(VLOOKUP($B18,'By Population'!$G$2:$K$14,5,FALSE))*'By Speed'!$P31*Scenario_VMT_5*$N18","v":0},{"$f":"(VLOOKUP($B18,'By Population'!$G$2:$K$14,5,FALSE))*'By Speed'!$Q31*Scenario_VMT_5*$N18","v":0},{"$f":"(VLOOKUP($B18,'By Population'!$G$2:$K$14,5,FALSE))*'By Speed'!$R31*Scenario_VMT_5*$N18","v":0},{"$f":"(VLOOKUP($B18,'By Population'!$G$2:$K$14,5,FALSE))*'By Speed'!$S31*Scenario_VMT_5*$N18","v":0},{"$f":"(VLOOKUP($B18,'By Population'!$G$2:$K$14,5,FALSE))*'By Speed'!$T31*Scenario_VMT_5*$N18","v":0},{"$f":"(VLOOKUP($B18,'By Population'!$G$2:$K$14,5,FALSE))*'By Speed'!$U31*Scenario_VMT_5*$N18","v":0},0]
[7,"LDA_GAS",20,"LDA_GAS_20",{"$f":"(VLOOKUP($B19,'By Population'!$G$2:$K$14,5,FALSE))*'By Speed'!$M32*Scenario_VMT_EX*$N19","v":0},{"$f":"(VLOOKUP($B19,'By Population'!$G$2:$K$14,5,FALSE))*'By Speed'!$N32*Scenario_VMT_EX*$N19","v":0},{"$f":"(VLOOKUP($B19,'By Population'!$G$2:$K$14,5,FALSE))*'By Speed'!$O32*Scenario_VMT_EX*$N19","v":0},{"$f":"(VLOOKUP($B19,'By Population'!$G$2:$K$14,5,FALSE))*'By Speed'!$P32*Scenario_VMT_EX*$N19","v":0},{"$f":"(VLOOKUP($B19,'By Population'!$G$2:$K$14,5,FALSE))*'By Speed'!$Q32*Scenario_VMT_EX*$N19","v":0},{"$f":"(VLOOKUP($B19,'By Population'!$G$2:$K$14,5,FALSE))*'By Speed'!$R32*Scenario_VMT_EX*$N19","v":0},{"$f":"(VLOOKUP($B19,'By Population'!$G$2:$K$14,5,FALSE))*'By Speed'!$S32*Scenario_VMT_EX*$N19","v":0},{"$f":"(VLOOKUP($B19,'By Population'!$G$2:$K$14,5,FALSE))*'By Speed'!$T32*Scenario_VMT_EX*$N19","v":0},{"$f":"(VLOOKUP($B19,'By Population'!$G$2:$K$14,5,FALSE))*'By Speed'!$U32*Scenario_VMT_EX*$N19","v":0},0,{"$f":"(VLOOKUP($B19,'By Population'!$G$2:$K$14,5,FALSE))*'By Speed'!$M32*Scenario_VMT_1*$N19","v":0},{"$f":"(VLOOKUP($B19,'By Population'!$G$2:$K$14,5,FALSE))*'By Speed'!$N32*Scenario_VMT_1*$N19","v":0},{"$f":"(VLOOKUP($B19,'By Population'!$G$2:$K$14,5,FALSE))*'By Speed'!$O32*Scenario_VMT_1*$N19","v":0},{"$f":"(VLOOKUP($B19,'By Population'!$G$2:$K$14,5,FALSE))*'By Speed'!$P32*Scenario_VMT_1*$N19","v":0},{"$f":"(VLOOKUP($B19,'By Population'!$G$2:$K$14,5,FALSE))*'By Speed'!$Q32*Scenario_VMT_1*$N19","v":0},{"$f":"(VLOOKUP($B19,'By Population'!$G$2:$K$14,5,FALSE))*'By Speed'!$R32*Scenario_VMT_1*$N19","v":0},{"$f":"(VLOOKUP($B19,'By Population'!$G$2:$K$14,5,FALSE))*'By Speed'!$S32*Scenario_VMT_1*$N19","v":0},{"$f":"(VLOOKUP($B19,'By Population'!$G$2:$K$14,5,FALSE))*'By Speed'!$T32*Scenario_VMT_1*$N19","v":0},{"$f":"(VLOOKUP($B19,'By Population'!$G$2:$K$14,5,FALSE))*'By Speed'!$U32*Scenario_VMT_1*$N19","v":0},0,{"$f":"(VLOOKUP($B19,'By Population'!$G$2:$K$14,5,FALSE))*'By Speed'!$M32*Scenario_VMT_2*$N19","v":0},{"$f":"(VLOOKUP($B19,'By Population'!$G$2:$K$14,5,FALSE))*'By Speed'!$N32*Scenario_VMT_2*$N19","v":0},{"$f":"(VLOOKUP($B19,'By Population'!$G$2:$K$14,5,FALSE))*'By Speed'!$O32*Scenario_VMT_2*$N19","v":0},{"$f":"(VLOOKUP($B19,'By Population'!$G$2:$K$14,5,FALSE))*'By Speed'!$P32*Scenario_VMT_2*$N19","v":0},{"$f":"(VLOOKUP($B19,'By Population'!$G$2:$K$14,5,FALSE))*'By Speed'!$Q32*Scenario_VMT_2*$N19","v":0},{"$f":"(VLOOKUP($B19,'By Population'!$G$2:$K$14,5,FALSE))*'By Speed'!$R32*Scenario_VMT_2*$N19","v":0},{"$f":"(VLOOKUP($B19,'By Population'!$G$2:$K$14,5,FALSE))*'By Speed'!$S32*Scenario_VMT_2*$N19","v":0},{"$f":"(VLOOKUP($B19,'By Population'!$G$2:$K$14,5,FALSE))*'By Speed'!$T32*Scenario_VMT_2*$N19","v":0},{"$f":"(VLOOKUP($B19,'By Population'!$G$2:$K$14,5,FALSE))*'By Speed'!$U32*Scenario_VMT_2*$N19","v":0},0,{"$f":"(VLOOKUP($B19,'By Population'!$G$2:$K$14,5,FALSE))*'By Speed'!$M32*Scenario_VMT_3*$N19","v":0},{"$f":"(VLOOKUP($B19,'By Population'!$G$2:$K$14,5,FALSE))*'By Speed'!$N32*Scenario_VMT_3*$N19","v":0},{"$f":"(VLOOKUP($B19,'By Population'!$G$2:$K$14,5,FALSE))*'By Speed'!$O32*Scenario_VMT_3*$N19","v":0},{"$f":"(VLOOKUP($B19,'By Population'!$G$2:$K$14,5,FALSE))*'By Speed'!$P32*Scenario_VMT_3*$N19","v":0},{"$f":"(VLOOKUP($B19,'By Population'!$G$2:$K$14,5,FALSE))*'By Speed'!$Q32*Scenario_VMT_3*$N19","v":0},{"$f":"(VLOOKUP($B19,'By Population'!$G$2:$K$14,5,FALSE))*'By Speed'!$R32*Scenario_VMT_3*$N19","v":0},{"$f":"(VLOOKUP($B19,'By Population'!$G$2:$K$14,5,FALSE))*'By Speed'!$S32*Scenario_VMT_3*$N19","v":0},{"$f":"(VLOOKUP($B19,'By Population'!$G$2:$K$14,5,FALSE))*'By Speed'!$T32*Scenario_VMT_3*$N19","v":0},{"$f":"(VLOOKUP($B19,'By Population'!$G$2:$K$14,5,FALSE))*'By Speed'!$U32*Scenario_VMT_3*$N19","v":0},0,{"$f":"(VLOOKUP($B19,'By Population'!$G$2:$K$14,5,FALSE))*'By Speed'!$M32*Scenario_VMT_4*$N19","v":0},{"$f":"(VLOOKUP($B19,'By Population'!$G$2:$K$14,5,FALSE))*'By Speed'!$N32*Scenario_VMT_4*$N19","v":0},{"$f":"(VLOOKUP($B19,'By Population'!$G$2:$K$14,5,FALSE))*'By Speed'!$O32*Scenario_VMT_4*$N19","v":0},{"$f":"(VLOOKUP($B19,'By Population'!$G$2:$K$14,5,FALSE))*'By Speed'!$P32*Scenario_VMT_4*$N19","v":0},{"$f":"(VLOOKUP($B19,'By Population'!$G$2:$K$14,5,FALSE))*'By Speed'!$Q32*Scenario_VMT_4*$N19","v":0},{"$f":"(VLOOKUP($B19,'By Population'!$G$2:$K$14,5,FALSE))*'By Speed'!$R32*Scenario_VMT_4*$N19","v":0},{"$f":"(VLOOKUP($B19,'By Population'!$G$2:$K$14,5,FALSE))*'By Speed'!$S32*Scenario_VMT_4*$N19","v":0},{"$f":"(VLOOKUP($B19,'By Population'!$G$2:$K$14,5,FALSE))*'By Speed'!$T32*Scenario_VMT_4*$N19","v":0},{"$f":"(VLOOKUP($B19,'By Population'!$G$2:$K$14,5,FALSE))*'By Speed'!$U32*Scenario_VMT_4*$N19","v":0},0,{"$f":"(VLOOKUP($B19,'By Population'!$G$2:$K$14,5,FALSE))*'By Speed'!$M32*Scenario_VMT_5*$N19","v":0},{"$f":"(VLOOKUP($B19,'By Population'!$G$2:$K$14,5,FALSE))*'By Speed'!$N32*Scenario_VMT_5*$N19","v":0},{"$f":"(VLOOKUP($B19,'By Population'!$G$2:$K$14,5,FALSE))*'By Speed'!$O32*Scenario_VMT_5*$N19","v":0},{"$f":"(VLOOKUP($B19,'By Population'!$G$2:$K$14,5,FALSE))*'By Speed'!$P32*Scenario_VMT_5*$N19","v":0},{"$f":"(VLOOKUP($B19,'By Population'!$G$2:$K$14,5,FALSE))*'By Speed'!$Q32*Scenario_VMT_5*$N19","v":0},{"$f":"(VLOOKUP($B19,'By Population'!$G$2:$K$14,5,FALSE))*'By Speed'!$R32*Scenario_VMT_5*$N19","v":0},{"$f":"(VLOOKUP($B19,'By Population'!$G$2:$K$14,5,FALSE))*'By Speed'!$S32*Scenario_VMT_5*$N19","v":0},{"$f":"(VLOOKUP($B19,'By Population'!$G$2:$K$14,5,FALSE))*'By Speed'!$T32*Scenario_VMT_5*$N19","v":0},{"$f":"(VLOOKUP($B19,'By Population'!$G$2:$K$14,5,FALSE))*'By Speed'!$U32*Scenario_VMT_5*$N19","v":0},0]
[9,"LDA_GAS",25,"LDA_GAS_25",{"$f":"(VLOOKUP($B20,'By Population'!$G$2:$K$14,5,FALSE))*'By Speed'!$M33*Scenario_VMT_EX*$N20","v":0},{"$f":"(VLOOKUP($B20,'By Population'!$G$2:$K$14,5,FALSE))*'By Speed'!$N33*Scenario_VMT_EX*$N20","v":0},{"$f":"(VLOOKUP($B20,'By Population'!$G$2:$K$14,5,FALSE))*'By Speed'!$O33*Scenario_VMT_EX*$N20","v":0},{"$f":"(VLOOKUP($B20,'By Population'!$G$2:$K$14,5,FALSE))*'By Speed'!$P33*Scenario_VMT_EX*$N20","v":0},{"$f":"(VLOOKUP($B20,'By Population'!$G$2:$K$14,5,FALSE))*'By Speed'!$Q33*Scenario_VMT_EX*$N20","v":0},{"$f":"(VLOOKUP($B20,'By Population'!$G$2:$K$14,5,FALSE))*'By Speed'!$R33*Scenario_VMT_EX*$N20","v":0},{"$f":"(VLOOKUP($B20,'By Population'!$G$2:$K$14,5,FALSE))*'By Speed'!$S33*Scenario_VMT_EX*$N20","v":0},{"$f":"(VLOOKUP($B20,'By Population'!$G$2:$K$14,5,FALSE))*'By Speed'!$T33*Scenario_VMT_EX*$N20","v":0},{"$f":"(VLOOKUP($B20,'By Population'!$G$2:$K$14,5,FALSE))*'By Speed'!$U33*Scenario_VMT_EX*$N20","v":0},1,{"$f":"(VLOOKUP($B20,'By Population'!$G$2:$K$14,5,FALSE))*'By Speed'!$M33*Scenario_VMT_1*$N20","v":0},{"$f":"(VLOOKUP($B20,'By Population'!$G$2:$K$14,5,FALSE))*'By Speed'!$N33*Scenario_VMT_1*$N20","v":0},{"$f":"(VLOOKUP($B20,'By Population'!$G$2:$K$14,5,FALSE))*'By Speed'!$O33*Scenario_VMT_1*$N20","v":0},{"$f":"(VLOOKUP($B20,'By Population'!$G$2:$K$14,5,FALSE))*'By Speed'!$P33*Scenario_VMT_1*$N20","v":0},{"$f":"(VLOOKUP($B20,'By Population'!$G$2:$K$14,5,FALSE))*'By Speed'!$Q33*Scenario_VMT_1*$N20","v":0},{"$f":"(VLOOKUP($B20,'By Population'!$G$2:$K$14,5,FALSE))*'By Speed'!$R33*Scenario_VMT_1*$N20","v":0},{"$f":"(VLOOKUP($B20,'By Population'!$G$2:$K$14,5,FALSE))*'By Speed'!$S33*Scenario_VMT_1*$N20","v":0},{"$f":"(VLOOKUP($B20,'By Population'!$G$2:$K$14,5,FALSE))*'By Speed'!$T33*Scenario_VMT_1*$N20","v":0},{"$f":"(VLOOKUP($B20,'By Population'!$G$2:$K$14,5,FALSE))*'By Speed'!$U33*Scenario_VMT_1*$N20","v":0},0,{"$f":"(VLOOKUP($B20,'By Population'!$G$2:$K$14,5,FALSE))*'By Speed'!$M33*Scenario_VMT_2*$N20","v":0},{"$f":"(VLOOKUP($B20,'By Population'!$G$2:$K$14,5,FALSE))*'By Speed'!$N33*Scenario_VMT_2*$N20","v":0},{"$f":"(VLOOKUP($B20,'By Population'!$G$2:$K$14,5,FALSE))*'By Speed'!$O33*Scenario_VMT_2*$N20","v":0},{"$f":"(VLOOKUP($B20,'By Population'!$G$2:$K$14,5,FALSE))*'By Speed'!$P33*Scenario_VMT_2*$N20","v":0},{"$f":"(VLOOKUP($B20,'By Population'!$G$2:$K$14,5,FALSE))*'By Speed'!$Q33*Scenario_VMT_2*$N20","v":0},{"$f":"(VLOOKUP($B20,'By Population'!$G$2:$K$14,5,FALSE))*'By Speed'!$R33*Scenario_VMT_2*$N20","v":0},{"$f":"(VLOOKUP($B20,'By Population'!$G$2:$K$14,5,FALSE))*'By Speed'!$S33*Scenario_VMT_2*$N20","v":0},{"$f":"(VLOOKUP($B20,'By Population'!$G$2:$K$14,5,FALSE))*'By Speed'!$T33*Scenario_VMT_2*$N20","v":0},{"$f":"(VLOOKUP($B20,'By Population'!$G$2:$K$14,5,FALSE))*'By Speed'!$U33*Scenario_VMT_2*$N20","v":0},0,{"$f":"(VLOOKUP($B20,'By Population'!$G$2:$K$14,5,FALSE))*'By Speed'!$M33*Scenario_VMT_3*$N20","v":0},{"$f":"(VLOOKUP($B20,'By Population'!$G$2:$K$14,5,FALSE))*'By Speed'!$N33*Scenario_VMT_3*$N20","v":0},{"$f":"(VLOOKUP($B20,'By Population'!$G$2:$K$14,5,FALSE))*'By Speed'!$O33*Scenario_VMT_3*$N20","v":0},{"$f":"(VLOOKUP($B20,'By Population'!$G$2:$K$14,5,FALSE))*'By Speed'!$P33*Scenario_VMT_3*$N20","v":0},{"$f":"(VLOOKUP($B20,'By Population'!$G$2:$K$14,5,FALSE))*'By Speed'!$Q33*Scenario_VMT_3*$N20","v":0},{"$f":"(VLOOKUP($B20,'By Population'!$G$2:$K$14,5,FALSE))*'By Speed'!$R33*Scenario_VMT_3*$N20","v":0},{"$f":"(VLOOKUP($B20,'By Population'!$G$2:$K$14,5,FALSE))*'By Speed'!$S33*Scenario_VMT_3*$N20","v":0},{"$f":"(VLOOKUP($B20,'By Population'!$G$2:$K$14,5,FALSE))*'By Speed'!$T33*Scenario_VMT_3*$N20","v":0},{"$f":"(VLOOKUP($B20,'By Population'!$G$2:$K$14,5,FALSE))*'By Speed'!$U33*Scenario_VMT_3*$N20","v":0},0,{"$f":"(VLOOKUP($B20,'By Population'!$G$2:$K$14,5,FALSE))*'By Speed'!$M33*Scenario_VMT_4*$N20","v":0},{"$f":"(VLOOKUP($B20,'By Population'!$G$2:$K$14,5,FALSE))*'By Speed'!$N33*Scenario_VMT_4*$N20","v":0},{"$f":"(VLOOKUP($B20,'By Population'!$G$2:$K$14,5,FALSE))*'By Speed'!$O33*Scenario_VMT_4*$N20","v":0},{"$f":"(VLOOKUP($B20,'By Population'!$G$2:$K$14,5,FALSE))*'By Speed'!$P33*Scenario_VMT_4*$N20","v":0},{"$f":"(VLOOKUP($B20,'By Population'!$G$2:$K$14,5,FALSE))*'By Speed'!$Q33*Scenario_VMT_4*$N20","v":0},{"$f":"(VLOOKUP($B20,'By Population'!$G$2:$K$14,5,FALSE))*'By Speed'!$R33*Scenario_VMT_4*$N20","v":0},{"$f":"(VLOOKUP($B20,'By Population'!$G$2:$K$14,5,FALSE))*'By Speed'!$S33*Scenario_VMT_4*$N20","v":0},{"$f":"(VLOOKUP($B20,'By Population'!$G$2:$K$14,5,FALSE))*'By Speed'!$T33*Scenario_VMT_4*$N20","v":0},{"$f":"(VLOOKUP($B20,'By Population'!$G$2:$K$14,5,FALSE))*'By Speed'!$U33*Scenario_VMT_4*$N20","v":0},0,{"$f":"(VLOOKUP($B20,'By Population'!$G$2:$K$14,5,FALSE))*'By Speed'!$M33*Scenario_VMT_5*$N20","v":0},{"$f":"(VLOOKUP($B20,'By Population'!$G$2:$K$14,5,FALSE))*'By Speed'!$N33*Scenario_VMT_5*$N20","v":0},{"$f":"(VLOOKUP($B20,'By Population'!$G$2:$K$14,5,FALSE))*'By Speed'!$O33*Scenario_VMT_5*$N20","v":0},{"$f":"(VLOOKUP($B20,'By Population'!$G$2:$K$14,5,FALSE))*'By Speed'!$P33*Scenario_VMT_5*$N20","v":0},{"$f":"(VLOOKUP($B20,'By Population'!$G$2:$K$14,5,FALSE))*'By Speed'!$Q33*Scenario_VMT_5*$N20","v":0},{"$f":"(VLOOKUP($B20,'By Population'!$G$2:$K$14,5,FALSE))*'By Speed'!$R33*Scenario_VMT_5*$N20","v":0},{"$f":"(VLOOKUP($B20,'By Population'!$G$2:$K$14,5,FALSE))*'By Speed'!$S33*Scenario_VMT_5*$N20","v":0},{"$f":"(VLOOKUP($B20,'By Population'!$G$2:$K$14,5,FALSE))*'By Speed'!$T33*Scenario_VMT_5*$N20","v":0},{"$f":"(VLOOKUP($B20,'By Population'!$G$2:$K$14,5,FALSE))*'By Speed'!$U33*Scenario_VMT_5*$N20","v":0},0]
[11,"LDA_GAS",30,"LDA_GAS_30",{"$f":"(VLOOKUP($B21,'By Population'!$G$2:$K$14,5,FALSE))*'By Speed'!$M34*Scenario_VMT_EX*$N21","v":0},{"$f":"(VLOOKUP($B21,'By Population'!$G$2:$K$14,5,FALSE))*'By Speed'!$N34*Scenario_VMT_EX*$N21","v":0},{"$f":"(VLOOKUP($B21,'By Population'!$G$2:$K$14,5,FALSE))*'By Speed'!$O34*Scenario_VMT_EX*$N21","v":0},{"$f":"(VLOOKUP($B21,'By Population'!$G$2:$K$14,5,FALSE))*'By Speed'!$P34*Scenario_VMT_EX*$N21","v":0},{"$f":"(VLOOKUP($B21,'By Population'!$G$2:$K$14,5,FALSE))*'By Speed'!$Q34*Scenario_VMT_EX*$N21","v":0},{"$f":"(VLOOKUP($B21,'By Population'!$G$2:$K$14,5,FALSE))*'By Speed'!$R34*Scenario_VMT_EX*$N21","v":0},{"$f":"(VLOOKUP($B21,'By Population'!$G$2:$K$14,5,FALSE))*'By Speed'!$S34*Scenario_VMT_EX*$N21","v":0},{"$f":"(VLOOKUP($B21,'By Population'!$G$2:$K$14,5,FALSE))*'By Speed'!$T34*Scenario_VMT_EX*$N21","v":0},{"$f":"(VLOOKUP($B21,'By Population'!$G$2:$K$14,5,FALSE))*'By Speed'!$U34*Scenario_VMT_EX*$N21","v":0},0,{"$f":"(VLOOKUP($B21,'By Population'!$G$2:$K$14,5,FALSE))*'By Speed'!$M34*Scenario_VMT_1*$N21","v":0},{"$f":"(VLOOKUP($B21,'By Population'!$G$2:$K$14,5,FALSE))*'By Speed'!$N34*Scenario_VMT_1*$N21","v":0},{"$f":"(VLOOKUP($B21,'By Population'!$G$2:$K$14,5,FALSE))*'By Speed'!$O34*Scenario_VMT_1*$N21","v":0},{"$f":"(VLOOKUP($B21,'By Population'!$G$2:$K$14,5,FALSE))*'By Speed'!$P34*Scenario_VMT_1*$N21","v":0},{"$f":"(VLOOKUP($B21,'By Population'!$G$2:$K$14,5,FALSE))*'By Speed'!$Q34*Scenario_VMT_1*$N21","v":0},{"$f":"(VLOOKUP($B21,'By Population'!$G$2:$K$14,5,FALSE))*'By Speed'!$R34*Scenario_VMT_1*$N21","v":0},{"$f":"(VLOOKUP($B21,'By Population'!$G$2:$K$14,5,FALSE))*'By Speed'!$S34*Scenario_VMT_1*$N21","v":0},{"$f":"(VLOOKUP($B21,'By Population'!$G$2:$K$14,5,FALSE))*'By Speed'!$T34*Scenario_VMT_1*$N21","v":0},{"$f":"(VLOOKUP($B21,'By Population'!$G$2:$K$14,5,FALSE))*'By Speed'!$U34*Scenario_VMT_1*$N21","v":0},0,{"$f":"(VLOOKUP($B21,'By Population'!$G$2:$K$14,5,FALSE))*'By Speed'!$M34*Scenario_VMT_2*$N21","v":0},{"$f":"(VLOOKUP($B21,'By Population'!$G$2:$K$14,5,FALSE))*'By Speed'!$N34*Scenario_VMT_2*$N21","v":0},{"$f":"(VLOOKUP($B21,'By Population'!$G$2:$K$14,5,FALSE))*'By Speed'!$O34*Scenario_VMT_2*$N21","v":0},{"$f":"(VLOOKUP($B21,'By Population'!$G$2:$K$14,5,FALSE))*'By Speed'!$P34*Scenario_VMT_2*$N21","v":0},{"$f":"(VLOOKUP($B21,'By Population'!$G$2:$K$14,5,FALSE))*'By Speed'!$Q34*Scenario_VMT_2*$N21","v":0},{"$f":"(VLOOKUP($B21,'By Population'!$G$2:$K$14,5,FALSE))*'By Speed'!$R34*Scenario_VMT_2*$N21","v":0},{"$f":"(VLOOKUP($B21,'By Population'!$G$2:$K$14,5,FALSE))*'By Speed'!$S34*Scenario_VMT_2*$N21","v":0},{"$f":"(VLOOKUP($B21,'By Population'!$G$2:$K$14,5,FALSE))*'By Speed'!$T34*Scenario_VMT_2*$N21","v":0},{"$f":"(VLOOKUP($B21,'By Population'!$G$2:$K$14,5,FALSE))*'By Speed'!$U34*Scenario_VMT_2*$N21","v":0},0,{"$f":"(VLOOKUP($B21,'By Population'!$G$2:$K$14,5,FALSE))*'By Speed'!$M34*Scenario_VMT_3*$N21","v":0},{"$f":"(VLOOKUP($B21,'By Population'!$G$2:$K$14,5,FALSE))*'By Speed'!$N34*Scenario_VMT_3*$N21","v":0},{"$f":"(VLOOKUP($B21,'By Population'!$G$2:$K$14,5,FALSE))*'By Speed'!$O34*Scenario_VMT_3*$N21","v":0},{"$f":"(VLOOKUP($B21,'By Population'!$G$2:$K$14,5,FALSE))*'By Speed'!$P34*Scenario_VMT_3*$N21","v":0},{"$f":"(VLOOKUP($B21,'By Population'!$G$2:$K$14,5,FALSE))*'By Speed'!$Q34*Scenario_VMT_3*$N21","v":0},{"$f":"(VLOOKUP($B21,'By Population'!$G$2:$K$14,5,FALSE))*'By Speed'!$R34*Scenario_VMT_3*$N21","v":0},{"$f":"(VLOOKUP($B21,'By Population'!$G$2:$K$14,5,FALSE))*'By Speed'!$S34*Scenario_VMT_3*$N21","v":0},{"$f":"(VLOOKUP($B21,'By Population'!$G$2:$K$14,5,FALSE))*'By Speed'!$T34*Scenario_VMT_3*$N21","v":0},{"$f":"(VLOOKUP($B21,'By Population'!$G$2:$K$14,5,FALSE))*'By Speed'!$U34*Scenario_VMT_3*$N21","v":0},0,{"$f":"(VLOOKUP($B21,'By Population'!$G$2:$K$14,5,FALSE))*'By Speed'!$M34*Scenario_VMT_4*$N21","v":0},{"$f":"(VLOOKUP($B21,'By Population'!$G$2:$K$14,5,FALSE))*'By Speed'!$N34*Scenario_VMT_4*$N21","v":0},{"$f":"(VLOOKUP($B21,'By Population'!$G$2:$K$14,5,FALSE))*'By Speed'!$O34*Scenario_VMT_4*$N21","v":0},{"$f":"(VLOOKUP($B21,'By Population'!$G$2:$K$14,5,FALSE))*'By Speed'!$P34*Scenario_VMT_4*$N21","v":0},{"$f":"(VLOOKUP($B21,'By Population'!$G$2:$K$14,5,FALSE))*'By Speed'!$Q34*Scenario_VMT_4*$N21","v":0},{"$f":"(VLOOKUP($B21,'By Population'!$G$2:$K$14,5,FALSE))*'By Speed'!$R34*Scenario_VMT_4*$N21","v":0},{"$f":"(VLOOKUP($B21,'By Population'!$G$2:$K$14,5,FALSE))*'By Speed'!$S34*Scenario_VMT_4*$N21","v":0},{"$f":"(VLOOKUP($B21,'By Population'!$G$2:$K$14,5,FALSE))*'By Speed'!$T34*Scenario_VMT_4*$N21","v":0},{"$f":"(VLOOKUP($B21,'By Population'!$G$2:$K$14,5,FALSE))*'By Speed'!$U34*Scenario_VMT_4*$N21","v":0},0,{"$f":"(VLOOKUP($B21,'By Population'!$G$2:$K$14,5,FALSE))*'By Speed'!$M34*Scenario_VMT_5*$N21","v":0},{"$f":"(VLOOKUP($B21,'By Population'!$G$2:$K$14,5,FALSE))*'By Speed'!$N34*Scenario_VMT_5*$N21","v":0},{"$f":"(VLOOKUP($B21,'By Population'!$G$2:$K$14,5,FALSE))*'By Speed'!$O34*Scenario_VMT_5*$N21","v":0},{"$f":"(VLOOKUP($B21,'By Population'!$G$2:$K$14,5,FALSE))*'By Speed'!$P34*Scenario_VMT_5*$N21","v":0},{"$f":"(VLOOKUP($B21,'By Population'!$G$2:$K$14,5,FALSE))*'By Speed'!$Q34*Scenario_VMT_5*$N21","v":0},{"$f":"(VLOOKUP($B21,'By Population'!$G$2:$K$14,5,FALSE))*'By Speed'!$R34*Scenario_VMT_5*$N21","v":0},{"$f":"(VLOOKUP($B21,'By Population'!$G$2:$K$14,5,FALSE))*'By Speed'!$S34*Scenario_VMT_5*$N21","v":0},{"$f":"(VLOOKUP($B21,'By Population'!$G$2:$K$14,5,FALSE))*'By Speed'!$T34*Scenario_VMT_5*$N21","v":0},{"$f":"(VLOOKUP($B21,'By Population'!$G$2:$K$14,5,FALSE))*'By Speed'!$U34*Scenario_VMT_5*$N21","v":0},0]
[13,"LDA_GAS",35,"LDA_GAS_35",{"$f":"(VLOOKUP($B22,'By Population'!$G$2:$K$14,5,FALSE))*'By Speed'!$M35*Scenario_VMT_EX*$N22","v":0},{"$f":"(VLOOKUP($B22,'By Population'!$G$2:$K$14,5,FALSE))*'By Speed'!$N35*Scenario_VMT_EX*$N22","v":0},{"$f":"(VLOOKUP($B22,'By Population'!$G$2:$K$14,5,FALSE))*'By Speed'!$O35*Scenario_VMT_EX*$N22","v":0},{"$f":"(VLOOKUP($B22,'By Population'!$G$2:$K$14,5,FALSE))*'By Speed'!$P35*Scenario_VMT_EX*$N22","v":0},{"$f":"(VLOOKUP($B22,'By Population'!$G$2:$K$14,5,FALSE))*'By Speed'!$Q35*Scenario_VMT_EX*$N22","v":0},{"$f":"(VLOOKUP($B22,'By Population'!$G$2:$K$14,5,FALSE))*'By Speed'!$R35*Scenario_VMT_EX*$N22","v":0},{"$f":"(VLOOKUP($B22,'By Population'!$G$2:$K$14,5,FALSE))*'By Speed'!$S35*Scenario_VMT_EX*$N22","v":0},{"$f":"(VLOOKUP($B22,'By Population'!$G$2:$K$14,5,FALSE))*'By Speed'!$T35*Scenario_VMT_EX*$N22","v":0},{"$f":"(VLOOKUP($B22,'By Population'!$G$2:$K$14,5,FALSE))*'By Speed'!$U35*Scenario_VMT_EX*$N22","v":0},0,{"$f":"(VLOOKUP($B22,'By Population'!$G$2:$K$14,5,FALSE))*'By Speed'!$M35*Scenario_VMT_1*$N22","v":0},{"$f":"(VLOOKUP($B22,'By Population'!$G$2:$K$14,5,FALSE))*'By Speed'!$N35*Scenario_VMT_1*$N22","v":0},{"$f":"(VLOOKUP($B22,'By Population'!$G$2:$K$14,5,FALSE))*'By Speed'!$O35*Scenario_VMT_1*$N22","v":0},{"$f":"(VLOOKUP($B22,'By Population'!$G$2:$K$14,5,FALSE))*'By Speed'!$P35*Scenario_VMT_1*$N22","v":0},{"$f":"(VLOOKUP($B22,'By Population'!$G$2:$K$14,5,FALSE))*'By Speed'!$Q35*Scenario_VMT_1*$N22","v":0},{"$f":"(VLOOKUP($B22,'By Population'!$G$2:$K$14,5,FALSE))*'By Speed'!$R35*Scenario_VMT_1*$N22","v":0},{"$f":"(VLOOKUP($B22,'By Population'!$G$2:$K$14,5,FALSE))*'By Speed'!$S35*Scenario_VMT_1*$N22","v":0},{"$f":"(VLOOKUP($B22,'By Population'!$G$2:$K$14,5,FALSE))*'By Speed'!$T35*Scenario_VMT_1*$N22","v":0},{"$f":"(VLOOKUP($B22,'By Population'!$G$2:$K$14,5,FALSE))*'By Speed'!$U35*Scenario_VMT_1*$N22","v":0},0,{"$f":"(VLOOKUP($B22,'By Population'!$G$2:$K$14,5,FALSE))*'By Speed'!$M35*Scenario_VMT_2*$N22","v":0},{"$f":"(VLOOKUP($B22,'By Population'!$G$2:$K$14,5,FALSE))*'By Speed'!$N35*Scenario_VMT_2*$N22","v":0},{"$f":"(VLOOKUP($B22,'By Population'!$G$2:$K$14,5,FALSE))*'By Speed'!$O35*Scenario_VMT_2*$N22","v":0},{"$f":"(VLOOKUP($B22,'By Population'!$G$2:$K$14,5,FALSE))*'By Speed'!$P35*Scenario_VMT_2*$N22","v":0},{"$f":"(VLOOKUP($B22,'By Population'!$G$2:$K$14,5,FALSE))*'By Speed'!$Q35*Scenario_VMT_2*$N22","v":0},{"$f":"(VLOOKUP($B22,'By Population'!$G$2:$K$14,5,FALSE))*'By Speed'!$R35*Scenario_VMT_2*$N22","v":0},{"$f":"(VLOOKUP($B22,'By Population'!$G$2:$K$14,5,FALSE))*'By Speed'!$S35*Scenario_VMT_2*$N22","v":0},{"$f":"(VLOOKUP($B22,'By Population'!$G$2:$K$14,5,FALSE))*'By Speed'!$T35*Scenario_VMT_2*$N22","v":0},{"$f":"(VLOOKUP($B22,'By Population'!$G$2:$K$14,5,FALSE))*'By Speed'!$U35*Scenario_VMT_2*$N22","v":0},0,{"$f":"(VLOOKUP($B22,'By Population'!$G$2:$K$14,5,FALSE))*'By Speed'!$M35*Scenario_VMT_3*$N22","v":0},{"$f":"(VLOOKUP($B22,'By Population'!$G$2:$K$14,5,FALSE))*'By Speed'!$N35*Scenario_VMT_3*$N22","v":0},{"$f":"(VLOOKUP($B22,'By Population'!$G$2:$K$14,5,FALSE))*'By Speed'!$O35*Scenario_VMT_3*$N22","v":0},{"$f":"(VLOOKUP($B22,'By Population'!$G$2:$K$14,5,FALSE))*'By Speed'!$P35*Scenario_VMT_3*$N22","v":0},{"$f":"(VLOOKUP($B22,'By Population'!$G$2:$K$14,5,FALSE))*'By Speed'!$Q35*Scenario_VMT_3*$N22","v":0},{"$f":"(VLOOKUP($B22,'By Population'!$G$2:$K$14,5,FALSE))*'By Speed'!$R35*Scenario_VMT_3*$N22","v":0},{"$f":"(VLOOKUP($B22,'By Population'!$G$2:$K$14,5,FALSE))*'By Speed'!$S35*Scenario_VMT_3*$N22","v":0},{"$f":"(VLOOKUP($B22,'By Population'!$G$2:$K$14,5,FALSE))*'By Speed'!$T35*Scenario_VMT_3*$N22","v":0},{"$f":"(VLOOKUP($B22,'By Population'!$G$2:$K$14,5,FALSE))*'By Speed'!$U35*Scenario_VMT_3*$N22","v":0},0,{"$f":"(VLOOKUP($B22,'By Population'!$G$2:$K$14,5,FALSE))*'By Speed'!$M35*Scenario_VMT_4*$N22","v":0},{"$f":"(VLOOKUP($B22,'By Population'!$G$2:$K$14,5,FALSE))*'By Speed'!$N35*Scenario_VMT_4*$N22","v":0},{"$f":"(VLOOKUP($B22,'By Population'!$G$2:$K$14,5,FALSE))*'By Speed'!$O35*Scenario_VMT_4*$N22","v":0},{"$f":"(VLOOKUP($B22,'By Population'!$G$2:$K$14,5,FALSE))*'By Speed'!$P35*Scenario_VMT_4*$N22","v":0},{"$f":"(VLOOKUP($B22,'By Population'!$G$2:$K$14,5,FALSE))*'By Speed'!$Q35*Scenario_VMT_4*$N22","v":0},{"$f":"(VLOOKUP($B22,'By Population'!$G$2:$K$14,5,FALSE))*'By Speed'!$R35*Scenario_VMT_4*$N22","v":0},{"$f":"(VLOOKUP($B22,'By Population'!$G$2:$K$14,5,FALSE))*'By Speed'!$S35*Scenario_VMT_4*$N22","v":0},{"$f":"(VLOOKUP($B22,'By Population'!$G$2:$K$14,5,FALSE))*'By Speed'!$T35*Scenario_VMT_4*$N22","v":0},{"$f":"(VLOOKUP($B22,'By Population'!$G$2:$K$14,5,FALSE))*'By Speed'!$U35*Scenario_VMT_4*$N22","v":0},0,{"$f":"(VLOOKUP($B22,'By Population'!$G$2:$K$14,5,FALSE))*'By Speed'!$M35*Scenario_VMT_5*$N22","v":0},{"$f":"(VLOOKUP($B22,'By Population'!$G$2:$K$14,5,FALSE))*'By Speed'!$N35*Scenario_VMT_5*$N22","v":0},{"$f":"(VLOOKUP($B22,'By Population'!$G$2:$K$14,5,FALSE))*'By Speed'!$O35*Scenario_VMT_5*$N22","v":0},{"$f":"(VLOOKUP($B22,'By Population'!$G$2:$K$14,5,FALSE))*'By Speed'!$P35*Scenario_VMT_5*$N22","v":0},{"$f":"(VLOOKUP($B22,'By Population'!$G$2:$K$14,5,FALSE))*'By Speed'!$Q35*Scenario_VMT_5*$N22","v":0},{"$f":"(VLOOKUP($B22,'By Population'!$G$2:$K$14,5,FALSE))*'By Speed'!$R35*Scenario_VMT_5*$N22","v":0},{"$f":"(VLOOKUP($B22,'By Population'!$G$2:$K$14,5,FALSE))*'By Speed'!$S35*Scenario_VMT_5*$N22","v":0},{"$f":"(VLOOKUP($B22,'By Population'!$G$2:$K$14,5,FALSE))*'By Speed'!$T35*Scenario_VMT_5*$N22","v":0},{"$f":"(VLOOKUP($B22,'By Population'!$G$2:$K$14,5,FALSE))*'By Speed'!$U35*Scenario_VMT_5*$N22","v":0},0]
[15,"LDA_GAS",40,"LDA_GAS_40",{"$f":"(VLOOKUP($B23,'By Population'!$G$2:$K$14,5,FALSE))*'By Speed'!$M36*Scenario_VMT_EX*$N23","v":0},{"$f":"(VLOOKUP($B23,'By Population'!$G$2:$K$14,5,FALSE))*'By Speed'!$N36*Scenario_VMT_EX*$N23","v":0},{"$f":"(VLOOKUP($B23,'By Population'!$G$2:$K$14,5,FALSE))*'By Speed'!$O36*Scenario_VMT_EX*$N23","v":0},{"$f":"(VLOOKUP($B23,'By Population'!$G$2:$K$14,5,FALSE))*'By Speed'!$P36*Scenario_VMT_EX*$N23","v":0},{"$f":"(VLOOKUP($B23,'By Population'!$G$2:$K$14,5,FALSE))*'By Speed'!$Q36*Scenario_VMT_EX*$N23","v":0},{"$f":"(VLOOKUP($B23,'By Population'!$G$2:$K$14,5,FALSE))*'By Speed'!$R36*Scenario_VMT_EX*$N23","v":0},{"$f":"(VLOOKUP($B23,'By Population'!$G$2:$K$14,5,FALSE))*'By Speed'!$S36*Scenario_VMT_EX*$N23","v":0},{"$f":"(VLOOKUP($B23,'By Population'!$G$2:$K$14,5,FALSE))*'By Speed'!$T36*Scenario_VMT_EX*$N23","v":0},{"$f":"(VLOOKUP($B23,'By Population'!$G$2:$K$14,5,FALSE))*'By Speed'!$U36*Scenario_VMT_EX*$N23","v":0},0,{"$f":"(VLOOKUP($B23,'By Population'!$G$2:$K$14,5,FALSE))*'By Speed'!$M36*Scenario_VMT_1*$N23","v":0},{"$f":"(VLOOKUP($B23,'By Population'!$G$2:$K$14,5,FALSE))*'By Speed'!$N36*Scenario_VMT_1*$N23","v":0},{"$f":"(VLOOKUP($B23,'By Population'!$G$2:$K$14,5,FALSE))*'By Speed'!$O36*Scenario_VMT_1*$N23","v":0},{"$f":"(VLOOKUP($B23,'By Population'!$G$2:$K$14,5,FALSE))*'By Speed'!$P36*Scenario_VMT_1*$N23","v":0},{"$f":"(VLOOKUP($B23,'By Population'!$G$2:$K$14,5,FALSE))*'By Speed'!$Q36*Scenario_VMT_1*$N23","v":0},{"$f":"(VLOOKUP($B23,'By Population'!$G$2:$K$14,5,FALSE))*'By Speed'!$R36*Scenario_VMT_1*$N23","v":0},{"$f":"(VLOOKUP($B23,'By Population'!$G$2:$K$14,5,FALSE))*'By Speed'!$S36*Scenario_VMT_1*$N23","v":0},{"$f":"(VLOOKUP($B23,'By Population'!$G$2:$K$14,5,FALSE))*'By Speed'!$T36*Scenario_VMT_1*$N23","v":0},{"$f":"(VLOOKUP($B23,'By Population'!$G$2:$K$14,5,FALSE))*'By Speed'!$U36*Scenario_VMT_1*$N23","v":0},0,{"$f":"(VLOOKUP($B23,'By Population'!$G$2:$K$14,5,FALSE))*'By Speed'!$M36*Scenario_VMT_2*$N23","v":0},{"$f":"(VLOOKUP($B23,'By Population'!$G$2:$K$14,5,FALSE))*'By Speed'!$N36*Scenario_VMT_2*$N23","v":0},{"$f":"(VLOOKUP($B23,'By Population'!$G$2:$K$14,5,FALSE))*'By Speed'!$O36*Scenario_VMT_2*$N23","v":0},{"$f":"(VLOOKUP($B23,'By Population'!$G$2:$K$14,5,FALSE))*'By Speed'!$P36*Scenario_VMT_2*$N23","v":0},{"$f":"(VLOOKUP($B23,'By Population'!$G$2:$K$14,5,FALSE))*'By Speed'!$Q36*Scenario_VMT_2*$N23","v":0},{"$f":"(VLOOKUP($B23,'By Population'!$G$2:$K$14,5,FALSE))*'By Speed'!$R36*Scenario_VMT_2*$N23","v":0},{"$f":"(VLOOKUP($B23,'By Population'!$G$2:$K$14,5,FALSE))*'By Speed'!$S36*Scenario_VMT_2*$N23","v":0},{"$f":"(VLOOKUP($B23,'By Population'!$G$2:$K$14,5,FALSE))*'By Speed'!$T36*Scenario_VMT_2*$N23","v":0},{"$f":"(VLOOKUP($B23,'By Population'!$G$2:$K$14,5,FALSE))*'By Speed'!$U36*Scenario_VMT_2*$N23","v":0},0,{"$f":"(VLOOKUP($B23,'By Population'!$G$2:$K$14,5,FALSE))*'By Speed'!$M36*Scenario_VMT_3*$N23","v":0},{"$f":"(VLOOKUP($B23,'By Population'!$G$2:$K$14,5,FALSE))*'By Speed'!$N36*Scenario_VMT_3*$N23","v":0},{"$f":"(VLOOKUP($B23,'By Population'!$G$2:$K$14,5,FALSE))*'By Speed'!$O36*Scenario_VMT_3*$N23","v":0},{"$f":"(VLOOKUP($B23,'By Population'!$G$2:$K$14,5,FALSE))*'By Speed'!$P36*Scenario_VMT_3*$N23","v":0},{"$f":"(VLOOKUP($B23,'By Population'!$G$2:$K$14,5,FALSE))*'By Speed'!$Q36*Scenario_VMT_3*$N23","v":0},{"$f":"(VLOOKUP($B23,'By Population'!$G$2:$K$14,5,FALSE))*'By Speed'!$R36*Scenario_VMT_3*$N23","v":0},{"$f":"(VLOOKUP($B23,'By Population'!$G$2:$K$14,5,FALSE))*'By Speed'!$S36*Scenario_VMT_3*$N23","v":0},{"$f":"(VLOOKUP($B23,'By Population'!$G$2:$K$14,5,FALSE))*'By Speed'!$T36*Scenario_VMT_3*$N23","v":0},{"$f":"(VLOOKUP($B23,'By Population'!$G$2:$K$14,5,FALSE))*'By Speed'!$U36*Scenario_VMT_3*$N23","v":0},0,{"$f":"(VLOOKUP($B23,'By Population'!$G$2:$K$14,5,FALSE))*'By Speed'!$M36*Scenario_VMT_4*$N23","v":0},{"$f":"(VLOOKUP($B23,'By Population'!$G$2:$K$14,5,FALSE))*'By Speed'!$N36*Scenario_VMT_4*$N23","v":0},{"$f":"(VLOOKUP($B23,'By Population'!$G$2:$K$14,5,FALSE))*'By Speed'!$O36*Scenario_VMT_4*$N23","v":0},{"$f":"(VLOOKUP($B23,'By Population'!$G$2:$K$14,5,FALSE))*'By Speed'!$P36*Scenario_VMT_4*$N23","v":0},{"$f":"(VLOOKUP($B23,'By Population'!$G$2:$K$14,5,FALSE))*'By Speed'!$Q36*Scenario_VMT_4*$N23","v":0},{"$f":"(VLOOKUP($B23,'By Population'!$G$2:$K$14,5,FALSE))*'By Speed'!$R36*Scenario_VMT_4*$N23","v":0},{"$f":"(VLOOKUP($B23,'By Population'!$G$2:$K$14,5,FALSE))*'By Speed'!$S36*Scenario_VMT_4*$N23","v":0},{"$f":"(VLOOKUP($B23,'By Population'!$G$2:$K$14,5,FALSE))*'By Speed'!$T36*Scenario_VMT_4*$N23","v":0},{"$f":"(VLOOKUP($B23,'By Population'!$G$2:$K$14,5,FALSE))*'By Speed'!$U36*Scenario_VMT_4*$N23","v":0},0,{"$f":"(VLOOKUP($B23,'By Population'!$G$2:$K$14,5,FALSE))*'By Speed'!$M36*Scenario_VMT_5*$N23","v":0},{"$f":"(VLOOKUP($B23,'By Population'!$G$2:$K$14,5,FALSE))*'By Speed'!$N36*Scenario_VMT_5*$N23","v":0},{"$f":"(VLOOKUP($B23,'By Population'!$G$2:$K$14,5,FALSE))*'By Speed'!$O36*Scenario_VMT_5*$N23","v":0},{"$f":"(VLOOKUP($B23,'By Population'!$G$2:$K$14,5,FALSE))*'By Speed'!$P36*Scenario_VMT_5*$N23","v":0},{"$f":"(VLOOKUP($B23,'By Population'!$G$2:$K$14,5,FALSE))*'By Speed'!$Q36*Scenario_VMT_5*$N23","v":0},{"$f":"(VLOOKUP($B23,'By Population'!$G$2:$K$14,5,FALSE))*'By Speed'!$R36*Scenario_VMT_5*$N23","v":0},{"$f":"(VLOOKUP($B23,'By Population'!$G$2:$K$14,5,FALSE))*'By Speed'!$S36*Scenario_VMT_5*$N23","v":0},{"$f":"(VLOOKUP($B23,'By Population'!$G$2:$K$14,5,FALSE))*'By Speed'!$T36*Scenario_VMT_5*$N23","v":0},{"$f":"(VLOOKUP($B23,'By Population'!$G$2:$K$14,5,FALSE))*'By Speed'!$U36*Scenario_VMT_5*$N23","v":0},0]
[17,"LDA_GAS",45,"LDA_GAS_45",{"$f":"(VLOOKUP($B24,'By Population'!$G$2:$K$14,5,FALSE))*'By Speed'!$M37*Scenario_VMT_EX*$N24","v":0},{"$f":"(VLOOKUP($B24,'By Population'!$G$2:$K$14,5,FALSE))*'By Speed'!$N37*Scenario_VMT_EX*$N24","v":0},{"$f":"(VLOOKUP($B24,'By Population'!$G$2:$K$14,5,FALSE))*'By Speed'!$O37*Scenario_VMT_EX*$N24","v":0},{"$f":"(VLOOKUP($B24,'By Population'!$G$2:$K$14,5,FALSE))*'By Speed'!$P37*Scenario_VMT_EX*$N24","v":0},{"$f":"(VLOOKUP($B24,'By Population'!$G$2:$K$14,5,FALSE))*'By Speed'!$Q37*Scenario_VMT_EX*$N24","v":0},{"$f":"(VLOOKUP($B24,'By Population'!$G$2:$K$14,5,FALSE))*'By Speed'!$R37*Scenario_VMT_EX*$N24","v":0},{"$f":"(VLOOKUP($B24,'By Population'!$G$2:$K$14,5,FALSE))*'By Speed'!$S37*Scenario_VMT_EX*$N24","v":0},{"$f":"(VLOOKUP($B24,'By Population'!$G$2:$K$14,5,FALSE))*'By Speed'!$T37*Scenario_VMT_EX*$N24","v":0},{"$f":"(VLOOKUP($B24,'By Population'!$G$2:$K$14,5,FALSE))*'By Speed'!$U37*Scenario_VMT_EX*$N24","v":0},0,{"$f":"(VLOOKUP($B24,'By Population'!$G$2:$K$14,5,FALSE))*'By Speed'!$M37*Scenario_VMT_1*$N24","v":0},{"$f":"(VLOOKUP($B24,'By Population'!$G$2:$K$14,5,FALSE))*'By Speed'!$N37*Scenario_VMT_1*$N24","v":0},{"$f":"(VLOOKUP($B24,'By Population'!$G$2:$K$14,5,FALSE))*'By Speed'!$O37*Scenario_VMT_1*$N24","v":0},{"$f":"(VLOOKUP($B24,'By Population'!$G$2:$K$14,5,FALSE))*'By Speed'!$P37*Scenario_VMT_1*$N24","v":0},{"$f":"(VLOOKUP($B24,'By Population'!$G$2:$K$14,5,FALSE))*'By Speed'!$Q37*Scenario_VMT_1*$N24","v":0},{"$f":"(VLOOKUP($B24,'By Population'!$G$2:$K$14,5,FALSE))*'By Speed'!$R37*Scenario_VMT_1*$N24","v":0},{"$f":"(VLOOKUP($B24,'By Population'!$G$2:$K$14,5,FALSE))*'By Speed'!$S37*Scenario_VMT_1*$N24","v":0},{"$f":"(VLOOKUP($B24,'By Population'!$G$2:$K$14,5,FALSE))*'By Speed'!$T37*Scenario_VMT_1*$N24","v":0},{"$f":"(VLOOKUP($B24,'By Population'!$G$2:$K$14,5,FALSE))*'By Speed'!$U37*Scenario_VMT_1*$N24","v":0},0,{"$f":"(VLOOKUP($B24,'By Population'!$G$2:$K$14,5,FALSE))*'By Speed'!$M37*Scenario_VMT_2*$N24","v":0},{"$f":"(VLOOKUP($B24,'By Population'!$G$2:$K$14,5,FALSE))*'By Speed'!$N37*Scenario_VMT_2*$N24","v":0},{"$f":"(VLOOKUP($B24,'By Population'!$G$2:$K$14,5,FALSE))*'By Speed'!$O37*Scenario_VMT_2*$N24","v":0},{"$f":"(VLOOKUP($B24,'By Population'!$G$2:$K$14,5,FALSE))*'By Speed'!$P37*Scenario_VMT_2*$N24","v":0},{"$f":"(VLOOKUP($B24,'By Population'!$G$2:$K$14,5,FALSE))*'By Speed'!$Q37*Scenario_VMT_2*$N24","v":0},{"$f":"(VLOOKUP($B24,'By Population'!$G$2:$K$14,5,FALSE))*'By Speed'!$R37*Scenario_VMT_2*$N24","v":0},{"$f":"(VLOOKUP($B24,'By Population'!$G$2:$K$14,5,FALSE))*'By Speed'!$S37*Scenario_VMT_2*$N24","v":0},{"$f":"(VLOOKUP($B24,'By Population'!$G$2:$K$14,5,FALSE))*'By Speed'!$T37*Scenario_VMT_2*$N24","v":0},{"$f":"(VLOOKUP($B24,'By Population'!$G$2:$K$14,5,FALSE))*'By Speed'!$U37*Scenario_VMT_2*$N24","v":0},0,{"$f":"(VLOOKUP($B24,'By Population'!$G$2:$K$14,5,FALSE))*'By Speed'!$M37*Scenario_VMT_3*$N24","v":0},{"$f":"(VLOOKUP($B24,'By Population'!$G$2:$K$14,5,FALSE))*'By Speed'!$N37*Scenario_VMT_3*$N24","v":0},{"$f":"(VLOOKUP($B24,'By Population'!$G$2:$K$14,5,FALSE))*'By Speed'!$O37*Scenario_VMT_3*$N24","v":0},{"$f":"(VLOOKUP($B24,'By Population'!$G$2:$K$14,5,FALSE))*'By Speed'!$P37*Scenario_VMT_3*$N24","v":0},{"$f":"(VLOOKUP($B24,'By Population'!$G$2:$K$14,5,FALSE))*'By Speed'!$Q37*Scenario_VMT_3*$N24","v":0},{"$f":"(VLOOKUP($B24,'By Population'!$G$2:$K$14,5,FALSE))*'By Speed'!$R37*Scenario_VMT_3*$N24","v":0},{"$f":"(VLOOKUP($B24,'By Population'!$G$2:$K$14,5,FALSE))*'By Speed'!$S37*Scenario_VMT_3*$N24","v":0},{"$f":"(VLOOKUP($B24,'By Population'!$G$2:$K$14,5,FALSE))*'By Speed'!$T37*Scenario_VMT_3*$N24","v":0},{"$f":"(VLOOKUP($B24,'By Population'!$G$2:$K$14,5,FALSE))*'By Speed'!$U37*Scenario_VMT_3*$N24","v":0},0,{"$f":"(VLOOKUP($B24,'By Population'!$G$2:$K$14,5,FALSE))*'By Speed'!$M37*Scenario_VMT_4*$N24","v":0},{"$f":"(VLOOKUP($B24,'By Population'!$G$2:$K$14,5,FALSE))*'By Speed'!$N37*Scenario_VMT_4*$N24","v":0},{"$f":"(VLOOKUP($B24,'By Population'!$G$2:$K$14,5,FALSE))*'By Speed'!$O37*Scenario_VMT_4*$N24","v":0},{"$f":"(VLOOKUP($B24,'By Population'!$G$2:$K$14,5,FALSE))*'By Speed'!$P37*Scenario_VMT_4*$N24","v":0},{"$f":"(VLOOKUP($B24,'By Population'!$G$2:$K$14,5,FALSE))*'By Speed'!$Q37*Scenario_VMT_4*$N24","v":0},{"$f":"(VLOOKUP($B24,'By Population'!$G$2:$K$14,5,FALSE))*'By Speed'!$R37*Scenario_VMT_4*$N24","v":0},{"$f":"(VLOOKUP($B24,'By Population'!$G$2:$K$14,5,FALSE))*'By Speed'!$S37*Scenario_VMT_4*$N24","v":0},{"$f":"(VLOOKUP($B24,'By Population'!$G$2:$K$14,5,FALSE))*'By Speed'!$T37*Scenario_VMT_4*$N24","v":0},{"$f":"(VLOOKUP($B24,'By Population'!$G$2:$K$14,5,FALSE))*'By Speed'!$U37*Scenario_VMT_4*$N24","v":0},0,{"$f":"(VLOOKUP($B24,'By Population'!$G$2:$K$14,5,FALSE))*'By Speed'!$M37*Scenario_VMT_5*$N24","v":0},{"$f":"(VLOOKUP($B24,'By Population'!$G$2:$K$14,5,FALSE))*'By Speed'!$N37*Scenario_VMT_5*$N24","v":0},{"$f":"(VLOOKUP($B24,'By Population'!$G$2:$K$14,5,FALSE))*'By Speed'!$O37*Scenario_VMT_5*$N24","v":0},{"$f":"(VLOOKUP($B24,'By Population'!$G$2:$K$14,5,FALSE))*'By Speed'!$P37*Scenario_VMT_5*$N24","v":0},{"$f":"(VLOOKUP($B24,'By Population'!$G$2:$K$14,5,FALSE))*'By Speed'!$Q37*Scenario_VMT_5*$N24","v":0},{"$f":"(VLOOKUP($B24,'By Population'!$G$2:$K$14,5,FALSE))*'By Speed'!$R37*Scenario_VMT_5*$N24","v":0},{"$f":"(VLOOKUP($B24,'By Population'!$G$2:$K$14,5,FALSE))*'By Speed'!$S37*Scenario_VMT_5*$N24","v":0},{"$f":"(VLOOKUP($B24,'By Population'!$G$2:$K$14,5,FALSE))*'By Speed'!$T37*Scenario_VMT_5*$N24","v":0},{"$f":"(VLOOKUP($B24,'By Population'!$G$2:$K$14,5,FALSE))*'By Speed'!$U37*Scenario_VMT_5*$N24","v":0},0]
[1,"LDA_GAS",5,"LDA_GAS_5",{"$f":"(VLOOKUP($B25,'By Population'!$G$2:$K$14,5,FALSE))*'By Speed'!$M38*Scenario_VMT_EX*$N25","v":0},{"$f":"(VLOOKUP($B25,'By Population'!$G$2:$K$14,5,FALSE))*'By Speed'!$N38*Scenario_VMT_EX*$N25","v":0},{"$f":"(VLOOKUP($B25,'By Population'!$G$2:$K$14,5,FALSE))*'By Speed'!$O38*Scenario_VMT_EX*$N25","v":0},{"$f":"(VLOOKUP($B25,'By Population'!$G$2:$K$14,5,FALSE))*'By Speed'!$P38*Scenario_VMT_EX*$N25","v":0},{"$f":"(VLOOKUP($B25,'By Population'!$G$2:$K$14,5,FALSE))*'By Speed'!$Q38*Scenario_VMT_EX*$N25","v":0},{"$f":"(VLOOKUP($B25,'By Population'!$G$2:$K$14,5,FALSE))*'By Speed'!$R38*Scenario_VMT_EX*$N25","v":0},{"$f":"(VLOOKUP($B25,'By Population'!$G$2:$K$14,5,FALSE))*'By Speed'!$S38*Scenario_VMT_EX*$N25","v":0},{"$f":"(VLOOKUP($B25,'By Population'!$G$2:$K$14,5,FALSE))*'By Speed'!$T38*Scenario_VMT_EX*$N25","v":0},{"$f":"(VLOOKUP($B25,'By Population'!$G$2:$K$14,5,FALSE))*'By Speed'!$U38*Scenario_VMT_EX*$N25","v":0},0,{"$f":"(VLOOKUP($B25,'By Population'!$G$2:$K$14,5,FALSE))*'By Speed'!$M38*Scenario_VMT_1*$N25","v":0},{"$f":"(VLOOKUP($B25,'By Population'!$G$2:$K$14,5,FALSE))*'By Speed'!$N38*Scenario_VMT_1*$N25","v":0},{"$f":"(VLOOKUP($B25,'By Population'!$G$2:$K$14,5,FALSE))*'By Speed'!$O38*Scenario_VMT_1*$N25","v":0},{"$f":"(VLOOKUP($B25,'By Population'!$G$2:$K$14,5,FALSE))*'By Speed'!$P38*Scenario_VMT_1*$N25","v":0},{"$f":"(VLOOKUP($B25,'By Population'!$G$2:$K$14,5,FALSE))*'By Speed'!$Q38*Scenario_VMT_1*$N25","v":0},{"$f":"(VLOOKUP($B25,'By Population'!$G$2:$K$14,5,FALSE))*'By Speed'!$R38*Scenario_VMT_1*$N25","v":0},{"$f":"(VLOOKUP($B25,'By Population'!$G$2:$K$14,5,FALSE))*'By Speed'!$S38*Scenario_VMT_1*$N25","v":0},{"$f":"(VLOOKUP($B25,'By Population'!$G$2:$K$14,5,FALSE))*'By Speed'!$T38*Scenario_VMT_1*$N25","v":0},{"$f":"(VLOOKUP($B25,'By Population'!$G$2:$K$14,5,FALSE))*'By Speed'!$U38*Scenario_VMT_1*$N25","v":0},0,{"$f":"(VLOOKUP($B25,'By Population'!$G$2:$K$14,5,FALSE))*'By Speed'!$M38*Scenario_VMT_2*$N25","v":0},{"$f":"(VLOOKUP($B25,'By Population'!$G$2:$K$14,5,FALSE))*'By Speed'!$N38*Scenario_VMT_2*$N25","v":0},{"$f":"(VLOOKUP($B25,'By Population'!$G$2:$K$14,5,FALSE))*'By Speed'!$O38*Scenario_VMT_2*$N25","v":0},{"$f":"(VLOOKUP($B25,'By Population'!$G$2:$K$14,5,FALSE))*'By Speed'!$P38*Scenario_VMT_2*$N25","v":0},{"$f":"(VLOOKUP($B25,'By Population'!$G$2:$K$14,5,FALSE))*'By Speed'!$Q38*Scenario_VMT_2*$N25","v":0},{"$f":"(VLOOKUP($B25,'By Population'!$G$2:$K$14,5,FALSE))*'By Speed'!$R38*Scenario_VMT_2*$N25","v":0},{"$f":"(VLOOKUP($B25,'By Population'!$G$2:$K$14,5,FALSE))*'By Speed'!$S38*Scenario_VMT_2*$N25","v":0},{"$f":"(VLOOKUP($B25,'By Population'!$G$2:$K$14,5,FALSE))*'By Speed'!$T38*Scenario_VMT_2*$N25","v":0},{"$f":"(VLOOKUP($B25,'By Population'!$G$2:$K$14,5,FALSE))*'By Speed'!$U38*Scenario_VMT_2*$N25","v":0},0,{"$f":"(VLOOKUP($B25,'By Population'!$G$2:$K$14,5,FALSE))*'By Speed'!$M38*Scenario_VMT_3*$N25","v":0},{"$f":"(VLOOKUP($B25,'By Population'!$G$2:$K$14,5,FALSE))*'By Speed'!$N38*Scenario_VMT_3*$N25","v":0},{"$f":"(VLOOKUP($B25,'By Population'!$G$2:$K$14,5,FALSE))*'By Speed'!$O38*Scenario_VMT_3*$N25","v":0},{"$f":"(VLOOKUP($B25,'By Population'!$G$2:$K$14,5,FALSE))*'By Speed'!$P38*Scenario_VMT_3*$N25","v":0},{"$f":"(VLOOKUP($B25,'By Population'!$G$2:$K$14,5,FALSE))*'By Speed'!$Q38*Scenario_VMT_3*$N25","v":0},{"$f":"(VLOOKUP($B25,'By Population'!$G$2:$K$14,5,FALSE))*'By Speed'!$R38*Scenario_VMT_3*$N25","v":0},{"$f":"(VLOOKUP($B25,'By Population'!$G$2:$K$14,5,FALSE))*'By Speed'!$S38*Scenario_VMT_3*$N25","v":0},{"$f":"(VLOOKUP($B25,'By Population'!$G$2:$K$14,5,FALSE))*'By Speed'!$T38*Scenario_VMT_3*$N25","v":0},{"$f":"(VLOOKUP($B25,'By Population'!$G$2:$K$14,5,FALSE))*'By Speed'!$U38*Scenario_VMT_3*$N25","v":0},0,{"$f":"(VLOOKUP($B25,'By Population'!$G$2:$K$14,5,FALSE))*'By Speed'!$M38*Scenario_VMT_4*$N25","v":0},{"$f":"(VLOOKUP($B25,'By Population'!$G$2:$K$14,5,FALSE))*'By Speed'!$N38*Scenario_VMT_4*$N25","v":0},{"$f":"(VLOOKUP($B25,'By Population'!$G$2:$K$14,5,FALSE))*'By Speed'!$O38*Scenario_VMT_4*$N25","v":0},{"$f":"(VLOOKUP($B25,'By Population'!$G$2:$K$14,5,FALSE))*'By Speed'!$P38*Scenario_VMT_4*$N25","v":0},{"$f":"(VLOOKUP($B25,'By Population'!$G$2:$K$14,5,FALSE))*'By Speed'!$Q38*Scenario_VMT_4*$N25","v":0},{"$f":"(VLOOKUP($B25,'By Population'!$G$2:$K$14,5,FALSE))*'By Speed'!$R38*Scenario_VMT_4*$N25","v":0},{"$f":"(VLOOKUP($B25,'By Population'!$G$2:$K$14,5,FALSE))*'By Speed'!$S38*Scenario_VMT_4*$N25","v":0},{"$f":"(VLOOKUP($B25,'By Population'!$G$2:$K$14,5,FALSE))*'By Speed'!$T38*Scenario_VMT_4*$N25","v":0},{"$f":"(VLOOKUP($B25,'By Population'!$G$2:$K$14,5,FALSE))*'By Speed'!$U38*Scenario_VMT_4*$N25","v":0},0,{"$f":"(VLOOKUP($B25,'By Population'!$G$2:$K$14,5,FALSE))*'By Speed'!$M38*Scenario_VMT_5*$N25","v":0},{"$f":"(VLOOKUP($B25,'By Population'!$G$2:$K$14,5,FALSE))*'By Speed'!$N38*Scenario_VMT_5*$N25","v":0},{"$f":"(VLOOKUP($B25,'By Population'!$G$2:$K$14,5,FALSE))*'By Speed'!$O38*Scenario_VMT_5*$N25","v":0},{"$f":"(VLOOKUP($B25,'By Population'!$G$2:$K$14,5,FALSE))*'By Speed'!$P38*Scenario_VMT_5*$N25","v":0},{"$f":"(VLOOKUP($B25,'By Population'!$G$2:$K$14,5,FALSE))*'By Speed'!$Q38*Scenario_VMT_5*$N25","v":0},{"$f":"(VLOOKUP($B25,'By Population'!$G$2:$K$14,5,FALSE))*'By Speed'!$R38*Scenario_VMT_5*$N25","v":0},{"$f":"(VLOOKUP($B25,'By Population'!$G$2:$K$14,5,FALSE))*'By Speed'!$S38*Scenario_VMT_5*$N25","v":0},{"$f":"(VLOOKUP($B25,'By Population'!$G$2:$K$14,5,FALSE))*'By Speed'!$T38*Scenario_VMT_5*$N25","v":0},{"$f":"(VLOOKUP($B25,'By Population'!$G$2:$K$14,5,FALSE))*'By Speed'!$U38*Scenario_VMT_5*$N25","v":0},0]
[19,"LDA_GAS",50,"LDA_GAS_50",{"$f":"(VLOOKUP($B26,'By Population'!$G$2:$K$14,5,FALSE))*'By Speed'!$M39*Scenario_VMT_EX*$N26","v":0},{"$f":"(VLOOKUP($B26,'By Population'!$G$2:$K$14,5,FALSE))*'By Speed'!$N39*Scenario_VMT_EX*$N26","v":0},{"$f":"(VLOOKUP($B26,'By Population'!$G$2:$K$14,5,FALSE))*'By Speed'!$O39*Scenario_VMT_EX*$N26","v":0},{"$f":"(VLOOKUP($B26,'By Population'!$G$2:$K$14,5,FALSE))*'By Speed'!$P39*Scenario_VMT_EX*$N26","v":0},{"$f":"(VLOOKUP($B26,'By Population'!$G$2:$K$14,5,FALSE))*'By Speed'!$Q39*Scenario_VMT_EX*$N26","v":0},{"$f":"(VLOOKUP($B26,'By Population'!$G$2:$K$14,5,FALSE))*'By Speed'!$R39*Scenario_VMT_EX*$N26","v":0},{"$f":"(VLOOKUP($B26,'By Population'!$G$2:$K$14,5,FALSE))*'By Speed'!$S39*Scenario_VMT_EX*$N26","v":0},{"$f":"(VLOOKUP($B26,'By Population'!$G$2:$K$14,5,FALSE))*'By Speed'!$T39*Scenario_VMT_EX*$N26","v":0},{"$f":"(VLOOKUP($B26,'By Population'!$G$2:$K$14,5,FALSE))*'By Speed'!$U39*Scenario_VMT_EX*$N26","v":0},0,{"$f":"(VLOOKUP($B26,'By Population'!$G$2:$K$14,5,FALSE))*'By Speed'!$M39*Scenario_VMT_1*$N26","v":0},{"$f":"(VLOOKUP($B26,'By Population'!$G$2:$K$14,5,FALSE))*'By Speed'!$N39*Scenario_VMT_1*$N26","v":0},{"$f":"(VLOOKUP($B26,'By Population'!$G$2:$K$14,5,FALSE))*'By Speed'!$O39*Scenario_VMT_1*$N26","v":0},{"$f":"(VLOOKUP($B26,'By Population'!$G$2:$K$14,5,FALSE))*'By Speed'!$P39*Scenario_VMT_1*$N26","v":0},{"$f":"(VLOOKUP($B26,'By Population'!$G$2:$K$14,5,FALSE))*'By Speed'!$Q39*Scenario_VMT_1*$N26","v":0},{"$f":"(VLOOKUP($B26,'By Population'!$G$2:$K$14,5,FALSE))*'By Speed'!$R39*Scenario_VMT_1*$N26","v":0},{"$f":"(VLOOKUP($B26,'By Population'!$G$2:$K$14,5,FALSE))*'By Speed'!$S39*Scenario_VMT_1*$N26","v":0},{"$f":"(VLOOKUP($B26,'By Population'!$G$2:$K$14,5,FALSE))*'By Speed'!$T39*Scenario_VMT_1*$N26","v":0},{"$f":"(VLOOKUP($B26,'By Population'!$G$2:$K$14,5,FALSE))*'By Speed'!$U39*Scenario_VMT_1*$N26","v":0},0,{"$f":"(VLOOKUP($B26,'By Population'!$G$2:$K$14,5,FALSE))*'By Speed'!$M39*Scenario_VMT_2*$N26","v":0},{"$f":"(VLOOKUP($B26,'By Population'!$G$2:$K$14,5,FALSE))*'By Speed'!$N39*Scenario_VMT_2*$N26","v":0},{"$f":"(VLOOKUP($B26,'By Population'!$G$2:$K$14,5,FALSE))*'By Speed'!$O39*Scenario_VMT_2*$N26","v":0},{"$f":"(VLOOKUP($B26,'By Population'!$G$2:$K$14,5,FALSE))*'By Speed'!$P39*Scenario_VMT_2*$N26","v":0},{"$f":"(VLOOKUP($B26,'By Population'!$G$2:$K$14,5,FALSE))*'By Speed'!$Q39*Scenario_VMT_2*$N26","v":0},{"$f":"(VLOOKUP($B26,'By Population'!$G$2:$K$14,5,FALSE))*'By Speed'!$R39*Scenario_VMT_2*$N26","v":0},{"$f":"(VLOOKUP($B26,'By Population'!$G$2:$K$14,5,FALSE))*'By Speed'!$S39*Scenario_VMT_2*$N26","v":0},{"$f":"(VLOOKUP($B26,'By Population'!$G$2:$K$14,5,FALSE))*'By Speed'!$T39*Scenario_VMT_2*$N26","v":0},{"$f":"(VLOOKUP($B26,'By Population'!$G$2:$K$14,5,FALSE))*'By Speed'!$U39*Scenario_VMT_2*$N26","v":0},0,{"$f":"(VLOOKUP($B26,'By Population'!$G$2:$K$14,5,FALSE))*'By Speed'!$M39*Scenario_VMT_3*$N26","v":0},{"$f":"(VLOOKUP($B26,'By Population'!$G$2:$K$14,5,FALSE))*'By Speed'!$N39*Scenario_VMT_3*$N26","v":0},{"$f":"(VLOOKUP($B26,'By Population'!$G$2:$K$14,5,FALSE))*'By Speed'!$O39*Scenario_VMT_3*$N26","v":0},{"$f":"(VLOOKUP($B26,'By Population'!$G$2:$K$14,5,FALSE))*'By Speed'!$P39*Scenario_VMT_3*$N26","v":0},{"$f":"(VLOOKUP($B26,'By Population'!$G$2:$K$14,5,FALSE))*'By Speed'!$Q39*Scenario_VMT_3*$N26","v":0},{"$f":"(VLOOKUP($B26,'By Population'!$G$2:$K$14,5,FALSE))*'By Speed'!$R39*Scenario_VMT_3*$N26","v":0},{"$f":"(VLOOKUP($B26,'By Population'!$G$2:$K$14,5,FALSE))*'By Speed'!$S39*Scenario_VMT_3*$N26","v":0},{"$f":"(VLOOKUP($B26,'By Population'!$G$2:$K$14,5,FALSE))*'By Speed'!$T39*Scenario_VMT_3*$N26","v":0},{"$f":"(VLOOKUP($B26,'By Population'!$G$2:$K$14,5,FALSE))*'By Speed'!$U39*Scenario_VMT_3*$N26","v":0},0,{"$f":"(VLOOKUP($B26,'By Population'!$G$2:$K$14,5,FALSE))*'By Speed'!$M39*Scenario_VMT_4*$N26","v":0},{"$f":"(VLOOKUP($B26,'By Population'!$G$2:$K$14,5,FALSE))*'By Speed'!$N39*Scenario_VMT_4*$N26","v":0},{"$f":"(VLOOKUP($B26,'By Population'!$G$2:$K$14,5,FALSE))*'By Speed'!$O39*Scenario_VMT_4*$N26","v":0},{"$f":"(VLOOKUP($B26,'By Population'!$G$2:$K$14,5,FALSE))*'By Speed'!$P39*Scenario_VMT_4*$N26","v":0},{"$f":"(VLOOKUP($B26,'By Population'!$G$2:$K$14,5,FALSE))*'By Speed'!$Q39*Scenario_VMT_4*$N26","v":0},{"$f":"(VLOOKUP($B26,'By Population'!$G$2:$K$14,5,FALSE))*'By Speed'!$R39*Scenario_VMT_4*$N26","v":0},{"$f":"(VLOOKUP($B26,'By Population'!$G$2:$K$14,5,FALSE))*'By Speed'!$S39*Scenario_VMT_4*$N26","v":0},{"$f":"(VLOOKUP($B26,'By Population'!$G$2:$K$14,5,FALSE))*'By Speed'!$T39*Scenario_VMT_4*$N26","v":0},{"$f":"(VLOOKUP($B26,'By Population'!$G$2:$K$14,5,FALSE))*'By Speed'!$U39*Scenario_VMT_4*$N26","v":0},0,{"$f":"(VLOOKUP($B26,'By Population'!$G$2:$K$14,5,FALSE))*'By Speed'!$M39*Scenario_VMT_5*$N26","v":0},{"$f":"(VLOOKUP($B26,'By Population'!$G$2:$K$14,5,FALSE))*'By Speed'!$N39*Scenario_VMT_5*$N26","v":0},{"$f":"(VLOOKUP($B26,'By Population'!$G$2:$K$14,5,FALSE))*'By Speed'!$O39*Scenario_VMT_5*$N26","v":0},{"$f":"(VLOOKUP($B26,'By Population'!$G$2:$K$14,5,FALSE))*'By Speed'!$P39*Scenario_VMT_5*$N26","v":0},{"$f":"(VLOOKUP($B26,'By Population'!$G$2:$K$14,5,FALSE))*'By Speed'!$Q39*Scenario_VMT_5*$N26","v":0},{"$f":"(VLOOKUP($B26,'By Population'!$G$2:$K$14,5,FALSE))*'By Speed'!$R39*Scenario_VMT_5*$N26","v":0},{"$f":"(VLOOKUP($B26,'By Population'!$G$2:$K$14,5,FALSE))*'By Speed'!$S39*Scenario_VMT_5*$N26","v":0},{"$f":"(VLOOKUP($B26,'By Population'!$G$2:$K$14,5,FALSE))*'By Speed'!$T39*Scenario_VMT_5*$N26","v":0},{"$f":"(VLOOKUP($B26,'By Population'!$G$2:$K$14,5,FALSE))*'By Speed'!$U39*Scenario_VMT_5*$N26","v":0},0]
[21,"LDA_GAS",55,"LDA_GAS_55",{"$f":"(VLOOKUP($B27,'By Population'!$G$2:$K$14,5,FALSE))*'By Speed'!$M40*Scenario_VMT_EX*$N27","v":0},{"$f":"(VLOOKUP($B27,'By Population'!$G$2:$K$14,5,FALSE))*'By Speed'!$N40*Scenario_VMT_EX*$N27","v":0},{"$f":"(VLOOKUP($B27,'By Population'!$G$2:$K$14,5,FALSE))*'By Speed'!$O40*Scenario_VMT_EX*$N27","v":0},{"$f":"(VLOOKUP($B27,'By Population'!$G$2:$K$14,5,FALSE))*'By Speed'!$P40*Scenario_VMT_EX*$N27","v":0},{"$f":"(VLOOKUP($B27,'By Population'!$G$2:$K$14,5,FALSE))*'By Speed'!$Q40*Scenario_VMT_EX*$N27","v":0},{"$f":"(VLOOKUP($B27,'By Population'!$G$2:$K$14,5,FALSE))*'By Speed'!$R40*Scenario_VMT_EX*$N27","v":0},{"$f":"(VLOOKUP($B27,'By Population'!$G$2:$K$14,5,FALSE))*'By Speed'!$S40*Scenario_VMT_EX*$N27","v":0},{"$f":"(VLOOKUP($B27,'By Population'!$G$2:$K$14,5,FALSE))*'By Speed'!$T40*Scenario_VMT_EX*$N27","v":0},{"$f":"(VLOOKUP($B27,'By Population'!$G$2:$K$14,5,FALSE))*'By Speed'!$U40*Scenario_VMT_EX*$N27","v":0},0,{"$f":"(VLOOKUP($B27,'By Population'!$G$2:$K$14,5,FALSE))*'By Speed'!$M40*Scenario_VMT_1*$N27","v":0},{"$f":"(VLOOKUP($B27,'By Population'!$G$2:$K$14,5,FALSE))*'By Speed'!$N40*Scenario_VMT_1*$N27","v":0},{"$f":"(VLOOKUP($B27,'By Population'!$G$2:$K$14,5,FALSE))*'By Speed'!$O40*Scenario_VMT_1*$N27","v":0},{"$f":"(VLOOKUP($B27,'By Population'!$G$2:$K$14,5,FALSE))*'By Speed'!$P40*Scenario_VMT_1*$N27","v":0},{"$f":"(VLOOKUP($B27,'By Population'!$G$2:$K$14,5,FALSE))*'By Speed'!$Q40*Scenario_VMT_1*$N27","v":0},{"$f":"(VLOOKUP($B27,'By Population'!$G$2:$K$14,5,FALSE))*'By Speed'!$R40*Scenario_VMT_1*$N27","v":0},{"$f":"(VLOOKUP($B27,'By Population'!$G$2:$K$14,5,FALSE))*'By Speed'!$S40*Scenario_VMT_1*$N27","v":0},{"$f":"(VLOOKUP($B27,'By Population'!$G$2:$K$14,5,FALSE))*'By Speed'!$T40*Scenario_VMT_1*$N27","v":0},{"$f":"(VLOOKUP($B27,'By Population'!$G$2:$K$14,5,FALSE))*'By Speed'!$U40*Scenario_VMT_1*$N27","v":0},0,{"$f":"(VLOOKUP($B27,'By Population'!$G$2:$K$14,5,FALSE))*'By Speed'!$M40*Scenario_VMT_2*$N27","v":0},{"$f":"(VLOOKUP($B27,'By Population'!$G$2:$K$14,5,FALSE))*'By Speed'!$N40*Scenario_VMT_2*$N27","v":0},{"$f":"(VLOOKUP($B27,'By Population'!$G$2:$K$14,5,FALSE))*'By Speed'!$O40*Scenario_VMT_2*$N27","v":0},{"$f":"(VLOOKUP($B27,'By Population'!$G$2:$K$14,5,FALSE))*'By Speed'!$P40*Scenario_VMT_2*$N27","v":0},{"$f":"(VLOOKUP($B27,'By Population'!$G$2:$K$14,5,FALSE))*'By Speed'!$Q40*Scenario_VMT_2*$N27","v":0},{"$f":"(VLOOKUP($B27,'By Population'!$G$2:$K$14,5,FALSE))*'By Speed'!$R40*Scenario_VMT_2*$N27","v":0},{"$f":"(VLOOKUP($B27,'By Population'!$G$2:$K$14,5,FALSE))*'By Speed'!$S40*Scenario_VMT_2*$N27","v":0},{"$f":"(VLOOKUP($B27,'By Population'!$G$2:$K$14,5,FALSE))*'By Speed'!$T40*Scenario_VMT_2*$N27","v":0},{"$f":"(VLOOKUP($B27,'By Population'!$G$2:$K$14,5,FALSE))*'By Speed'!$U40*Scenario_VMT_2*$N27","v":0},0,{"$f":"(VLOOKUP($B27,'By Population'!$G$2:$K$14,5,FALSE))*'By Speed'!$M40*Scenario_VMT_3*$N27","v":0},{"$f":"(VLOOKUP($B27,'By Population'!$G$2:$K$14,5,FALSE))*'By Speed'!$N40*Scenario_VMT_3*$N27","v":0},{"$f":"(VLOOKUP($B27,'By Population'!$G$2:$K$14,5,FALSE))*'By Speed'!$O40*Scenario_VMT_3*$N27","v":0},{"$f":"(VLOOKUP($B27,'By Population'!$G$2:$K$14,5,FALSE))*'By Speed'!$P40*Scenario_VMT_3*$N27","v":0},{"$f":"(VLOOKUP($B27,'By Population'!$G$2:$K$14,5,FALSE))*'By Speed'!$Q40*Scenario_VMT_3*$N27","v":0},{"$f":"(VLOOKUP($B27,'By Population'!$G$2:$K$14,5,FALSE))*'By Speed'!$R40*Scenario_VMT_3*$N27","v":0},{"$f":"(VLOOKUP($B27,'By Population'!$G$2:$K$14,5,FALSE))*'By Speed'!$S40*Scenario_VMT_3*$N27","v":0},{"$f":"(VLOOKUP($B27,'By Population'!$G$2:$K$14,5,FALSE))*'By Speed'!$T40*Scenario_VMT_3*$N27","v":0},{"$f":"(VLOOKUP($B27,'By Population'!$G$2:$K$14,5,FALSE))*'By Speed'!$U40*Scenario_VMT_3*$N27","v":0},0,{"$f":"(VLOOKUP($B27,'By Population'!$G$2:$K$14,5,FALSE))*'By Speed'!$M40*Scenario_VMT_4*$N27","v":0},{"$f":"(VLOOKUP($B27,'By Population'!$G$2:$K$14,5,FALSE))*'By Speed'!$N40*Scenario_VMT_4*$N27","v":0},{"$f":"(VLOOKUP($B27,'By Population'!$G$2:$K$14,5,FALSE))*'By Speed'!$O40*Scenario_VMT_4*$N27","v":0},{"$f":"(VLOOKUP($B27,'By Population'!$G$2:$K$14,5,FALSE))*'By Speed'!$P40*Scenario_VMT_4*$N27","v":0},{"$f":"(VLOOKUP($B27,'By Population'!$G$2:$K$14,5,FALSE))*'By Speed'!$Q40*Scenario_VMT_4*$N27","v":0},{"$f":"(VLOOKUP($B27,'By Population'!$G$2:$K$14,5,FALSE))*'By Speed'!$R40*Scenario_VMT_4*$N27","v":0},{"$f":"(VLOOKUP($B27,'By Population'!$G$2:$K$14,5,FALSE))*'By Speed'!$S40*Scenario_VMT_4*$N27","v":0},{"$f":"(VLOOKUP($B27,'By Population'!$G$2:$K$14,5,FALSE))*'By Speed'!$T40*Scenario_VMT_4*$N27","v":0},{"$f":"(VLOOKUP($B27,'By Population'!$G$2:$K$14,5,FALSE))*'By Speed'!$U40*Scenario_VMT_4*$N27","v":0},0,{"$f":"(VLOOKUP($B27,'By Population'!$G$2:$K$14,5,FALSE))*'By Speed'!$M40*Scenario_VMT_5*$N27","v":0},{"$f":"(VLOOKUP($B27,'By Population'!$G$2:$K$14,5,FALSE))*'By Speed'!$N40*Scenario_VMT_5*$N27","v":0},{"$f":"(VLOOKUP($B27,'By Population'!$G$2:$K$14,5,FALSE))*'By Speed'!$O40*Scenario_VMT_5*$N27","v":0},{"$f":"(VLOOKUP($B27,'By Population'!$G$2:$K$14,5,FALSE))*'By Speed'!$P40*Scenario_VMT_5*$N27","v":0},{"$f":"(VLOOKUP($B27,'By Population'!$G$2:$K$14,5,FALSE))*'By Speed'!$Q40*Scenario_VMT_5*$N27","v":0},{"$f":"(VLOOKUP($B27,'By Population'!$G$2:$K$14,5,FALSE))*'By Speed'!$R40*Scenario_VMT_5*$N27","v":0},{"$f":"(VLOOKUP($B27,'By Population'!$G$2:$K$14,5,FALSE))*'By Speed'!$S40*Scenario_VMT_5*$N27","v":0},{"$f":"(VLOOKUP($B27,'By Population'!$G$2:$K$14,5,FALSE))*'By Speed'!$T40*Scenario_VMT_5*$N27","v":0},{"$f":"(VLOOKUP($B27,'By Population'!$G$2:$K$14,5,FALSE))*'By Speed'!$U40*Scenario_VMT_5*$N27","v":0},0]
[23,"LDA_GAS",60,"LDA_GAS_60",{"$f":"(VLOOKUP($B28,'By Population'!$G$2:$K$14,5,FALSE))*'By Speed'!$M41*Scenario_VMT_EX*$N28","v":0},{"$f":"(VLOOKUP($B28,'By Population'!$G$2:$K$14,5,FALSE))*'By Speed'!$N41*Scenario_VMT_EX*$N28","v":0},{"$f":"(VLOOKUP($B28,'By Population'!$G$2:$K$14,5,FALSE))*'By Speed'!$O41*Scenario_VMT_EX*$N28","v":0},{"$f":"(VLOOKUP($B28,'By Population'!$G$2:$K$14,5,FALSE))*'By Speed'!$P41*Scenario_VMT_EX*$N28","v":0},{"$f":"(VLOOKUP($B28,'By Population'!$G$2:$K$14,5,FALSE))*'By Speed'!$Q41*Scenario_VMT_EX*$N28","v":0},{"$f":"(VLOOKUP($B28,'By Population'!$G$2:$K$14,5,FALSE))*'By Speed'!$R41*Scenario_VMT_EX*$N28","v":0},{"$f":"(VLOOKUP($B28,'By Population'!$G$2:$K$14,5,FALSE))*'By Speed'!$S41*Scenario_VMT_EX*$N28","v":0},{"$f":"(VLOOKUP($B28,'By Population'!$G$2:$K$14,5,FALSE))*'By Speed'!$T41*Scenario_VMT_EX*$N28","v":0},{"$f":"(VLOOKUP($B28,'By Population'!$G$2:$K$14,5,FALSE))*'By Speed'!$U41*Scenario_VMT_EX*$N28","v":0},0,{"$f":"(VLOOKUP($B28,'By Population'!$G$2:$K$14,5,FALSE))*'By Speed'!$M41*Scenario_VMT_1*$N28","v":0},{"$f":"(VLOOKUP($B28,'By Population'!$G$2:$K$14,5,FALSE))*'By Speed'!$N41*Scenario_VMT_1*$N28","v":0},{"$f":"(VLOOKUP($B28,'By Population'!$G$2:$K$14,5,FALSE))*'By Speed'!$O41*Scenario_VMT_1*$N28","v":0},{"$f":"(VLOOKUP($B28,'By Population'!$G$2:$K$14,5,FALSE))*'By Speed'!$P41*Scenario_VMT_1*$N28","v":0},{"$f":"(VLOOKUP($B28,'By Population'!$G$2:$K$14,5,FALSE))*'By Speed'!$Q41*Scenario_VMT_1*$N28","v":0},{"$f":"(VLOOKUP($B28,'By Population'!$G$2:$K$14,5,FALSE))*'By Speed'!$R41*Scenario_VMT_1*$N28","v":0},{"$f":"(VLOOKUP($B28,'By Population'!$G$2:$K$14,5,FALSE))*'By Speed'!$S41*Scenario_VMT_1*$N28","v":0},{"$f":"(VLOOKUP($B28,'By Population'!$G$2:$K$14,5,FALSE))*'By Speed'!$T41*Scenario_VMT_1*$N28","v":0},{"$f":"(VLOOKUP($B28,'By Population'!$G$2:$K$14,5,FALSE))*'By Speed'!$U41*Scenario_VMT_1*$N28","v":0},0,{"$f":"(VLOOKUP($B28,'By Population'!$G$2:$K$14,5,FALSE))*'By Speed'!$M41*Scenario_VMT_2*$N28","v":0},{"$f":"(VLOOKUP($B28,'By Population'!$G$2:$K$14,5,FALSE))*'By Speed'!$N41*Scenario_VMT_2*$N28","v":0},{"$f":"(VLOOKUP($B28,'By Population'!$G$2:$K$14,5,FALSE))*'By Speed'!$O41*Scenario_VMT_2*$N28","v":0},{"$f":"(VLOOKUP($B28,'By Population'!$G$2:$K$14,5,FALSE))*'By Speed'!$P41*Scenario_VMT_2*$N28","v":0},{"$f":"(VLOOKUP($B28,'By Population'!$G$2:$K$14,5,FALSE))*'By Speed'!$Q41*Scenario_VMT_2*$N28","v":0},{"$f":"(VLOOKUP($B28,'By Population'!$G$2:$K$14,5,FALSE))*'By Speed'!$R41*Scenario_VMT_2*$N28","v":0},{"$f":"(VLOOKUP($B28,'By Population'!$G$2:$K$14,5,FALSE))*'By Speed'!$S41*Scenario_VMT_2*$N28","v":0},{"$f":"(VLOOKUP($B28,'By Population'!$G$2:$K$14,5,FALSE))*'By Speed'!$T41*Scenario_VMT_2*$N28","v":0},{"$f":"(VLOOKUP($B28,'By Population'!$G$2:$K$14,5,FALSE))*'By Speed'!$U41*Scenario_VMT_2*$N28","v":0},0,{"$f":"(VLOOKUP($B28,'By Population'!$G$2:$K$14,5,FALSE))*'By Speed'!$M41*Scenario_VMT_3*$N28","v":0},{"$f":"(VLOOKUP($B28,'By Population'!$G$2:$K$14,5,FALSE))*'By Speed'!$N41*Scenario_VMT_3*$N28","v":0},{"$f":"(VLOOKUP($B28,'By Population'!$G$2:$K$14,5,FALSE))*'By Speed'!$O41*Scenario_VMT_3*$N28","v":0},{"$f":"(VLOOKUP($B28,'By Population'!$G$2:$K$14,5,FALSE))*'By Speed'!$P41*Scenario_VMT_3*$N28","v":0},{"$f":"(VLOOKUP($B28,'By Population'!$G$2:$K$14,5,FALSE))*'By Speed'!$Q41*Scenario_VMT_3*$N28","v":0},{"$f":"(VLOOKUP($B28,'By Population'!$G$2:$K$14,5,FALSE))*'By Speed'!$R41*Scenario_VMT_3*$N28","v":0},{"$f":"(VLOOKUP($B28,'By Population'!$G$2:$K$14,5,FALSE))*'By Speed'!$S41*Scenario_VMT_3*$N28","v":0},{"$f":"(VLOOKUP($B28,'By Population'!$G$2:$K$14,5,FALSE))*'By Speed'!$T41*Scenario_VMT_3*$N28","v":0},{"$f":"(VLOOKUP($B28,'By Population'!$G$2:$K$14,5,FALSE))*'By Speed'!$U41*Scenario_VMT_3*$N28","v":0},0,{"$f":"(VLOOKUP($B28,'By Population'!$G$2:$K$14,5,FALSE))*'By Speed'!$M41*Scenario_VMT_4*$N28","v":0},{"$f":"(VLOOKUP($B28,'By Population'!$G$2:$K$14,5,FALSE))*'By Speed'!$N41*Scenario_VMT_4*$N28","v":0},{"$f":"(VLOOKUP($B28,'By Population'!$G$2:$K$14,5,FALSE))*'By Speed'!$O41*Scenario_VMT_4*$N28","v":0},{"$f":"(VLOOKUP($B28,'By Population'!$G$2:$K$14,5,FALSE))*'By Speed'!$P41*Scenario_VMT_4*$N28","v":0},{"$f":"(VLOOKUP($B28,'By Population'!$G$2:$K$14,5,FALSE))*'By Speed'!$Q41*Scenario_VMT_4*$N28","v":0},{"$f":"(VLOOKUP($B28,'By Population'!$G$2:$K$14,5,FALSE))*'By Speed'!$R41*Scenario_VMT_4*$N28","v":0},{"$f":"(VLOOKUP($B28,'By Population'!$G$2:$K$14,5,FALSE))*'By Speed'!$S41*Scenario_VMT_4*$N28","v":0},{"$f":"(VLOOKUP($B28,'By Population'!$G$2:$K$14,5,FALSE))*'By Speed'!$T41*Scenario_VMT_4*$N28","v":0},{"$f":"(VLOOKUP($B28,'By Population'!$G$2:$K$14,5,FALSE))*'By Speed'!$U41*Scenario_VMT_4*$N28","v":0},0,{"$f":"(VLOOKUP($B28,'By Population'!$G$2:$K$14,5,FALSE))*'By Speed'!$M41*Scenario_VMT_5*$N28","v":0},{"$f":"(VLOOKUP($B28,'By Population'!$G$2:$K$14,5,FALSE))*'By Speed'!$N41*Scenario_VMT_5*$N28","v":0},{"$f":"(VLOOKUP($B28,'By Population'!$G$2:$K$14,5,FALSE))*'By Speed'!$O41*Scenario_VMT_5*$N28","v":0},{"$f":"(VLOOKUP($B28,'By Population'!$G$2:$K$14,5,FALSE))*'By Speed'!$P41*Scenario_VMT_5*$N28","v":0},{"$f":"(VLOOKUP($B28,'By Population'!$G$2:$K$14,5,FALSE))*'By Speed'!$Q41*Scenario_VMT_5*$N28","v":0},{"$f":"(VLOOKUP($B28,'By Population'!$G$2:$K$14,5,FALSE))*'By Speed'!$R41*Scenario_VMT_5*$N28","v":0},{"$f":"(VLOOKUP($B28,'By Population'!$G$2:$K$14,5,FALSE))*'By Speed'!$S41*Scenario_VMT_5*$N28","v":0},{"$f":"(VLOOKUP($B28,'By Population'!$G$2:$K$14,5,FALSE))*'By Speed'!$T41*Scenario_VMT_5*$N28","v":0},{"$f":"(VLOOKUP($B28,'By Population'!$G$2:$K$14,5,FALSE))*'By Speed'!$U41*Scenario_VMT_5*$N28","v":0},0]
[25,"LDA_GAS",65,"LDA_GAS_65",{"$f":"(VLOOKUP($B29,'By Population'!$G$2:$K$14,5,FALSE))*'By Speed'!$M42*Scenario_VMT_EX*$N29","v":0},{"$f":"(VLOOKUP($B29,'By Population'!$G$2:$K$14,5,FALSE))*'By Speed'!$N42*Scenario_VMT_EX*$N29","v":0},{"$f":"(VLOOKUP($B29,'By Population'!$G$2:$K$14,5,FALSE))*'By Speed'!$O42*Scenario_VMT_EX*$N29","v":0},{"$f":"(VLOOKUP($B29,'By Population'!$G$2:$K$14,5,FALSE))*'By Speed'!$P42*Scenario_VMT_EX*$N29","v":0},{"$f":"(VLOOKUP($B29,'By Population'!$G$2:$K$14,5,FALSE))*'By Speed'!$Q42*Scenario_VMT_EX*$N29","v":0},{"$f":"(VLOOKUP($B29,'By Population'!$G$2:$K$14,5,FALSE))*'By Speed'!$R42*Scenario_VMT_EX*$N29","v":0},{"$f":"(VLOOKUP($B29,'By Population'!$G$2:$K$14,5,FALSE))*'By Speed'!$S42*Scenario_VMT_EX*$N29","v":0},{"$f":"(VLOOKUP($B29,'By Population'!$G$2:$K$14,5,FALSE))*'By Speed'!$T42*Scenario_VMT_EX*$N29","v":0},{"$f":"(VLOOKUP($B29,'By Population'!$G$2:$K$14,5,FALSE))*'By Speed'!$U42*Scenario_VMT_EX*$N29","v":0},0,{"$f":"(VLOOKUP($B29,'By Population'!$G$2:$K$14,5,FALSE))*'By Speed'!$M42*Scenario_VMT_1*$N29","v":0},{"$f":"(VLOOKUP($B29,'By Population'!$G$2:$K$14,5,FALSE))*'By Speed'!$N42*Scenario_VMT_1*$N29","v":0},{"$f":"(VLOOKUP($B29,'By Population'!$G$2:$K$14,5,FALSE))*'By Speed'!$O42*Scenario_VMT_1*$N29","v":0},{"$f":"(VLOOKUP($B29,'By Population'!$G$2:$K$14,5,FALSE))*'By Speed'!$P42*Scenario_VMT_1*$N29","v":0},{"$f":"(VLOOKUP($B29,'By Population'!$G$2:$K$14,5,FALSE))*'By Speed'!$Q42*Scenario_VMT_1*$N29","v":0},{"$f":"(VLOOKUP($B29,'By Population'!$G$2:$K$14,5,FALSE))*'By Speed'!$R42*Scenario_VMT_1*$N29","v":0},{"$f":"(VLOOKUP($B29,'By Population'!$G$2:$K$14,5,FALSE))*'By Speed'!$S42*Scenario_VMT_1*$N29","v":0},{"$f":"(VLOOKUP($B29,'By Population'!$G$2:$K$14,5,FALSE))*'By Speed'!$T42*Scenario_VMT_1*$N29","v":0},{"$f":"(VLOOKUP($B29,'By Population'!$G$2:$K$14,5,FALSE))*'By Speed'!$U42*Scenario_VMT_1*$N29","v":0},0,{"$f":"(VLOOKUP($B29,'By Population'!$G$2:$K$14,5,FALSE))*'By Speed'!$M42*Scenario_VMT_2*$N29","v":0},{"$f":"(VLOOKUP($B29,'By Population'!$G$2:$K$14,5,FALSE))*'By Speed'!$N42*Scenario_VMT_2*$N29","v":0},{"$f":"(VLOOKUP($B29,'By Population'!$G$2:$K$14,5,FALSE))*'By Speed'!$O42*Scenario_VMT_2*$N29","v":0},{"$f":"(VLOOKUP($B29,'By Population'!$G$2:$K$14,5,FALSE))*'By Speed'!$P42*Scenario_VMT_2*$N29","v":0},{"$f":"(VLOOKUP($B29,'By Population'!$G$2:$K$14,5,FALSE))*'By Speed'!$Q42*Scenario_VMT_2*$N29","v":0},{"$f":"(VLOOKUP($B29,'By Population'!$G$2:$K$14,5,FALSE))*'By Speed'!$R42*Scenario_VMT_2*$N29","v":0},{"$f":"(VLOOKUP($B29,'By Population'!$G$2:$K$14,5,FALSE))*'By Speed'!$S42*Scenario_VMT_2*$N29","v":0},{"$f":"(VLOOKUP($B29,'By Population'!$G$2:$K$14,5,FALSE))*'By Speed'!$T42*Scenario_VMT_2*$N29","v":0},{"$f":"(VLOOKUP($B29,'By Population'!$G$2:$K$14,5,FALSE))*'By Speed'!$U42*Scenario_VMT_2*$N29","v":0},0,{"$f":"(VLOOKUP($B29,'By Population'!$G$2:$K$14,5,FALSE))*'By Speed'!$M42*Scenario_VMT_3*$N29","v":0},{"$f":"(VLOOKUP($B29,'By Population'!$G$2:$K$14,5,FALSE))*'By Speed'!$N42*Scenario_VMT_3*$N29","v":0},{"$f":"(VLOOKUP($B29,'By Population'!$G$2:$K$14,5,FALSE))*'By Speed'!$O42*Scenario_VMT_3*$N29","v":0},{"$f":"(VLOOKUP($B29,'By Population'!$G$2:$K$14,5,FALSE))*'By Speed'!$P42*Scenario_VMT_3*$N29","v":0},{"$f":"(VLOOKUP($B29,'By Population'!$G$2:$K$14,5,FALSE))*'By Speed'!$Q42*Scenario_VMT_3*$N29","v":0},{"$f":"(VLOOKUP($B29,'By Population'!$G$2:$K$14,5,FALSE))*'By Speed'!$R42*Scenario_VMT_3*$N29","v":0},{"$f":"(VLOOKUP($B29,'By Population'!$G$2:$K$14,5,FALSE))*'By Speed'!$S42*Scenario_VMT_3*$N29","v":0},{"$f":"(VLOOKUP($B29,'By Population'!$G$2:$K$14,5,FALSE))*'By Speed'!$T42*Scenario_VMT_3*$N29","v":0},{"$f":"(VLOOKUP($B29,'By Population'!$G$2:$K$14,5,FALSE))*'By Speed'!$U42*Scenario_VMT_3*$N29","v":0},0,{"$f":"(VLOOKUP($B29,'By Population'!$G$2:$K$14,5,FALSE))*'By Speed'!$M42*Scenario_VMT_4*$N29","v":0},{"$f":"(VLOOKUP($B29,'By Population'!$G$2:$K$14,5,FALSE))*'By Speed'!$N42*Scenario_VMT_4*$N29","v":0},{"$f":"(VLOOKUP($B29,'By Population'!$G$2:$K$14,5,FALSE))*'By Speed'!$O42*Scenario_VMT_4*$N29","v":0},{"$f":"(VLOOKUP($B29,'By Population'!$G$2:$K$14,5,FALSE))*'By Speed'!$P42*Scenario_VMT_4*$N29","v":0},{"$f":"(VLOOKUP($B29,'By Population'!$G$2:$K$14,5,FALSE))*'By Speed'!$Q42*Scenario_VMT_4*$N29","v":0},{"$f":"(VLOOKUP($B29,'By Population'!$G$2:$K$14,5,FALSE))*'By Speed'!$R42*Scenario_VMT_4*$N29","v":0},{"$f":"(VLOOKUP($B29,'By Population'!$G$2:$K$14,5,FALSE))*'By Speed'!$S42*Scenario_VMT_4*$N29","v":0},{"$f":"(VLOOKUP($B29,'By Population'!$G$2:$K$14,5,FALSE))*'By Speed'!$T42*Scenario_VMT_4*$N29","v":0},{"$f":"(VLOOKUP($B29,'By Population'!$G$2:$K$14,5,FALSE))*'By Speed'!$U42*Scenario_VMT_4*$N29","v":0},0,{"$f":"(VLOOKUP($B29,'By Population'!$G$2:$K$14,5,FALSE))*'By Speed'!$M42*Scenario_VMT_5*$N29","v":0},{"$f":"(VLOOKUP($B29,'By Population'!$G$2:$K$14,5,FALSE))*'By Speed'!$N42*Scenario_VMT_5*$N29","v":0},{"$f":"(VLOOKUP($B29,'By Population'!$G$2:$K$14,5,FALSE))*'By Speed'!$O42*Scenario_VMT_5*$N29","v":0},{"$f":"(VLOOKUP($B29,'By Population'!$G$2:$K$14,5,FALSE))*'By Speed'!$P42*Scenario_VMT_5*$N29","v":0},{"$f":"(VLOOKUP($B29,'By Population'!$G$2:$K$14,5,FALSE))*'By Speed'!$Q42*Scenario_VMT_5*$N29","v":0},{"$f":"(VLOOKUP($B29,'By Population'!$G$2:$K$14,5,FALSE))*'By Speed'!$R42*Scenario_VMT_5*$N29","v":0},{"$f":"(VLOOKUP($B29,'By Population'!$G$2:$K$14,5,FALSE))*'By Speed'!$S42*Scenario_VMT_5*$N29","v":0},{"$f":"(VLOOKUP($B29,'By Population'!$G$2:$K$14,5,FALSE))*'By Speed'!$T42*Scenario_VMT_5*$N29","v":0},{"$f":"(VLOOKUP($B29,'By Population'!$G$2:$K$14,5,FALSE))*'By Speed'!$U42*Scenario_VMT_5*$N29","v":0},0]
[27,"LDA_GAS",70,"LDA_GAS_70",{"$f":"(VLOOKUP($B30,'By Population'!$G$2:$K$14,5,FALSE))*'By Speed'!$M43*Scenario_VMT_EX*$N30","v":0},{"$f":"(VLOOKUP($B30,'By Population'!$G$2:$K$14,5,FALSE))*'By Speed'!$N43*Scenario_VMT_EX*$N30","v":0},{"$f":"(VLOOKUP($B30,'By Population'!$G$2:$K$14,5,FALSE))*'By Speed'!$O43*Scenario_VMT_EX*$N30","v":0},{"$f":"(VLOOKUP($B30,'By Population'!$G$2:$K$14,5,FALSE))*'By Speed'!$P43*Scenario_VMT_EX*$N30","v":0},{"$f":"(VLOOKUP($B30,'By Population'!$G$2:$K$14,5,FALSE))*'By Speed'!$Q43*Scenario_VMT_EX*$N30","v":0},{"$f":"(VLOOKUP($B30,'By Population'!$G$2:$K$14,5,FALSE))*'By Speed'!$R43*Scenario_VMT_EX*$N30","v":0},{"$f":"(VLOOKUP($B30,'By Population'!$G$2:$K$14,5,FALSE))*'By Speed'!$S43*Scenario_VMT_EX*$N30","v":0},{"$f":"(VLOOKUP($B30,'By Population'!$G$2:$K$14,5,FALSE))*'By Speed'!$T43*Scenario_VMT_EX*$N30","v":0},{"$f":"(VLOOKUP($B30,'By Population'!$G$2:$K$14,5,FALSE))*'By Speed'!$U43*Scenario_VMT_EX*$N30","v":0},0,{"$f":"(VLOOKUP($B30,'By Population'!$G$2:$K$14,5,FALSE))*'By Speed'!$M43*Scenario_VMT_1*$N30","v":0},{"$f":"(VLOOKUP($B30,'By Population'!$G$2:$K$14,5,FALSE))*'By Speed'!$N43*Scenario_VMT_1*$N30","v":0},{"$f":"(VLOOKUP($B30,'By Population'!$G$2:$K$14,5,FALSE))*'By Speed'!$O43*Scenario_VMT_1*$N30","v":0},{"$f":"(VLOOKUP($B30,'By Population'!$G$2:$K$14,5,FALSE))*'By Speed'!$P43*Scenario_VMT_1*$N30","v":0},{"$f":"(VLOOKUP($B30,'By Population'!$G$2:$K$14,5,FALSE))*'By Speed'!$Q43*Scenario_VMT_1*$N30","v":0},{"$f":"(VLOOKUP($B30,'By Population'!$G$2:$K$14,5,FALSE))*'By Speed'!$R43*Scenario_VMT_1*$N30","v":0},{"$f":"(VLOOKUP($B30,'By Population'!$G$2:$K$14,5,FALSE))*'By Speed'!$S43*Scenario_VMT_1*$N30","v":0},{"$f":"(VLOOKUP($B30,'By Population'!$G$2:$K$14,5,FALSE))*'By Speed'!$T43*Scenario_VMT_1*$N30","v":0},{"$f":"(VLOOKUP($B30,'By Population'!$G$2:$K$14,5,FALSE))*'By Speed'!$U43*Scenario_VMT_1*$N30","v":0},0,{"$f":"(VLOOKUP($B30,'By Population'!$G$2:$K$14,5,FALSE))*'By Speed'!$M43*Scenario_VMT_2*$N30","v":0},{"$f":"(VLOOKUP($B30,'By Population'!$G$2:$K$14,5,FALSE))*'By Speed'!$N43*Scenario_VMT_2*$N30","v":0},{"$f":"(VLOOKUP($B30,'By Population'!$G$2:$K$14,5,FALSE))*'By Speed'!$O43*Scenario_VMT_2*$N30","v":0},{"$f":"(VLOOKUP($B30,'By Population'!$G$2:$K$14,5,FALSE))*'By Speed'!$P43*Scenario_VMT_2*$N30","v":0},{"$f":"(VLOOKUP($B30,'By Population'!$G$2:$K$14,5,FALSE))*'By Speed'!$Q43*Scenario_VMT_2*$N30","v":0},{"$f":"(VLOOKUP($B30,'By Population'!$G$2:$K$14,5,FALSE))*'By Speed'!$R43*Scenario_VMT_2*$N30","v":0},{"$f":"(VLOOKUP($B30,'By Population'!$G$2:$K$14,5,FALSE))*'By Speed'!$S43*Scenario_VMT_2*$N30","v":0},{"$f":"(VLOOKUP($B30,'By Population'!$G$2:$K$14,5,FALSE))*'By Speed'!$T43*Scenario_VMT_2*$N30","v":0},{"$f":"(VLOOKUP($B30,'By Population'!$G$2:$K$14,5,FALSE))*'By Speed'!$U43*Scenario_VMT_2*$N30","v":0},0,{"$f":"(VLOOKUP($B30,'By Population'!$G$2:$K$14,5,FALSE))*'By Speed'!$M43*Scenario_VMT_3*$N30","v":0},{"$f":"(VLOOKUP($B30,'By Population'!$G$2:$K$14,5,FALSE))*'By Speed'!$N43*Scenario_VMT_3*$N30","v":0},{"$f":"(VLOOKUP($B30,'By Population'!$G$2:$K$14,5,FALSE))*'By Speed'!$O43*Scenario_VMT_3*$N30","v":0},{"$f":"(VLOOKUP($B30,'By Population'!$G$2:$K$14,5,FALSE))*'By Speed'!$P43*Scenario_VMT_3*$N30","v":0},{"$f":"(VLOOKUP($B30,'By Population'!$G$2:$K$14,5,FALSE))*'By Speed'!$Q43*Scenario_VMT_3*$N30","v":0},{"$f":"(VLOOKUP($B30,'By Population'!$G$2:$K$14,5,FALSE))*'By Speed'!$R43*Scenario_VMT_3*$N30","v":0},{"$f":"(VLOOKUP($B30,'By Population'!$G$2:$K$14,5,FALSE))*'By Speed'!$S43*Scenario_VMT_3*$N30","v":0},{"$f":"(VLOOKUP($B30,'By Population'!$G$2:$K$14,5,FALSE))*'By Speed'!$T43*Scenario_VMT_3*$N30","v":0},{"$f":"(VLOOKUP($B30,'By Population'!$G$2:$K$14,5,FALSE))*'By Speed'!$U43*Scenario_VMT_3*$N30","v":0},0,{"$f":"(VLOOKUP($B30,'By Population'!$G$2:$K$14,5,FALSE))*'By Speed'!$M43*Scenario_VMT_4*$N30","v":0},{"$f":"(VLOOKUP($B30,'By Population'!$G$2:$K$14,5,FALSE))*'By Speed'!$N43*Scenario_VMT_4*$N30","v":0},{"$f":"(VLOOKUP($B30,'By Population'!$G$2:$K$14,5,FALSE))*'By Speed'!$O43*Scenario_VMT_4*$N30","v":0},{"$f":"(VLOOKUP($B30,'By Population'!$G$2:$K$14,5,FALSE))*'By Speed'!$P43*Scenario_VMT_4*$N30","v":0},{"$f":"(VLOOKUP($B30,'By Population'!$G$2:$K$14,5,FALSE))*'By Speed'!$Q43*Scenario_VMT_4*$N30","v":0},{"$f":"(VLOOKUP($B30,'By Population'!$G$2:$K$14,5,FALSE))*'By Speed'!$R43*Scenario_VMT_4*$N30","v":0},{"$f":"(VLOOKUP($B30,'By Population'!$G$2:$K$14,5,FALSE))*'By Speed'!$S43*Scenario_VMT_4*$N30","v":0},{"$f":"(VLOOKUP($B30,'By Population'!$G$2:$K$14,5,FALSE))*'By Speed'!$T43*Scenario_VMT_4*$N30","v":0},{"$f":"(VLOOKUP($B30,'By Population'!$G$2:$K$14,5,FALSE))*'By Speed'!$U43*Scenario_VMT_4*$N30","v":0},0,{"$f":"(VLOOKUP($B30,'By Population'!$G$2:$K$14,5,FALSE))*'By Speed'!$M43*Scenario_VMT_5*$N30","v":0},{"$f":"(VLOOKUP($B30,'By Population'!$G$2:$K$14,5,FALSE))*'By Speed'!$N43*Scenario_VMT_5*$N30","v":0},{"$f":"(VLOOKUP($B30,'By Population'!$G$2:$K$14,5,FALSE))*'By Speed'!$O43*Scenario_VMT_5*$N30","v":0},{"$f":"(VLOOKUP($B30,'By Population'!$G$2:$K$14,5,FALSE))*'By Speed'!$P43*Scenario_VMT_5*$N30","v":0},{"$f":"(VLOOKUP($B30,'By Population'!$G$2:$K$14,5,FALSE))*'By Speed'!$Q43*Scenario_VMT_5*$N30","v":0},{"$f":"(VLOOKUP($B30,'By Population'!$G$2:$K$14,5,FALSE))*'By Speed'!$R43*Scenario_VMT_5*$N30","v":0},{"$f":"(VLOOKUP($B30,'By Population'!$G$2:$K$14,5,FALSE))*'By Speed'!$S43*Scenario_VMT_5*$N30","v":0},{"$f":"(VLOOKUP($B30,'By Population'!$G$2:$K$14,5,FALSE))*'By Speed'!$T43*Scenario_VMT_5*$N30","v":0},{"$f":"(VLOOKUP($B30,'By Population'!$G$2:$K$14,5,FALSE))*'By Speed'!$U43*Scenario_VMT_5*$N30","v":0},0]
[32,"LDT1_DSL",10,"LDT1_DSL_10",{"$f":"(VLOOKUP($B31,'By Population'!$G$2:$K$14,5,FALSE))*'By Speed'!$M44*Scenario_VMT_EX*$N31","v":0},{"$f":"(VLOOKUP($B31,'By Population'!$G$2:$K$14,5,FALSE))*'By Speed'!$N44*Scenario_VMT_EX*$N31","v":0},{"$f":"(VLOOKUP($B31,'By Population'!$G$2:$K$14,5,FALSE))*'By Speed'!$O44*Scenario_VMT_EX*$N31","v":0},{"$f":"(VLOOKUP($B31,'By Population'!$G$2:$K$14,5,FALSE))*'By Speed'!$P44*Scenario_VMT_EX*$N31","v":0},{"$f":"(VLOOKUP($B31,'By Population'!$G$2:$K$14,5,FALSE))*'By Speed'!$Q44*Scenario_VMT_EX*$N31","v":0},{"$f":"(VLOOKUP($B31,'By Population'!$G$2:$K$14,5,FALSE))*'By Speed'!$R44*Scenario_VMT_EX*$N31","v":0},{"$f":"(VLOOKUP($B31,'By Population'!$G$2:$K$14,5,FALSE))*'By Speed'!$S44*Scenario_VMT_EX*$N31","v":0},{"$f":"(VLOOKUP($B31,'By Population'!$G$2:$K$14,5,FALSE))*'By Speed'!$T44*Scenario_VMT_EX*$N31","v":0},{"$f":"(VLOOKUP($B31,'By Population'!$G$2:$K$14,5,FALSE))*'By Speed'!$U44*Scenario_VMT_EX*$N31","v":0},0,{"$f":"(VLOOKUP($B31,'By Population'!$G$2:$K$14,5,FALSE))*'By Speed'!$M44*Scenario_VMT_1*$N31","v":0},{"$f":"(VLOOKUP($B31,'By Population'!$G$2:$K$14,5,FALSE))*'By Speed'!$N44*Scenario_VMT_1*$N31","v":0},{"$f":"(VLOOKUP($B31,'By Population'!$G$2:$K$14,5,FALSE))*'By Speed'!$O44*Scenario_VMT_1*$N31","v":0},{"$f":"(VLOOKUP($B31,'By Population'!$G$2:$K$14,5,FALSE))*'By Speed'!$P44*Scenario_VMT_1*$N31","v":0},{"$f":"(VLOOKUP($B31,'By Population'!$G$2:$K$14,5,FALSE))*'By Speed'!$Q44*Scenario_VMT_1*$N31","v":0},{"$f":"(VLOOKUP($B31,'By Population'!$G$2:$K$14,5,FALSE))*'By Speed'!$R44*Scenario_VMT_1*$N31","v":0},{"$f":"(VLOOKUP($B31,'By Population'!$G$2:$K$14,5,FALSE))*'By Speed'!$S44*Scenario_VMT_1*$N31","v":0},{"$f":"(VLOOKUP($B31,'By Population'!$G$2:$K$14,5,FALSE))*'By Speed'!$T44*Scenario_VMT_1*$N31","v":0},{"$f":"(VLOOKUP($B31,'By Population'!$G$2:$K$14,5,FALSE))*'By Speed'!$U44*Scenario_VMT_1*$N31","v":0},0,{"$f":"(VLOOKUP($B31,'By Population'!$G$2:$K$14,5,FALSE))*'By Speed'!$M44*Scenario_VMT_2*$N31","v":0},{"$f":"(VLOOKUP($B31,'By Population'!$G$2:$K$14,5,FALSE))*'By Speed'!$N44*Scenario_VMT_2*$N31","v":0},{"$f":"(VLOOKUP($B31,'By Population'!$G$2:$K$14,5,FALSE))*'By Speed'!$O44*Scenario_VMT_2*$N31","v":0},{"$f":"(VLOOKUP($B31,'By Population'!$G$2:$K$14,5,FALSE))*'By Speed'!$P44*Scenario_VMT_2*$N31","v":0},{"$f":"(VLOOKUP($B31,'By Population'!$G$2:$K$14,5,FALSE))*'By Speed'!$Q44*Scenario_VMT_2*$N31","v":0},{"$f":"(VLOOKUP($B31,'By Population'!$G$2:$K$14,5,FALSE))*'By Speed'!$R44*Scenario_VMT_2*$N31","v":0},{"$f":"(VLOOKUP($B31,'By Population'!$G$2:$K$14,5,FALSE))*'By Speed'!$S44*Scenario_VMT_2*$N31","v":0},{"$f":"(VLOOKUP($B31,'By Population'!$G$2:$K$14,5,FALSE))*'By Speed'!$T44*Scenario_VMT_2*$N31","v":0},{"$f":"(VLOOKUP($B31,'By Population'!$G$2:$K$14,5,FALSE))*'By Speed'!$U44*Scenario_VMT_2*$N31","v":0},0,{"$f":"(VLOOKUP($B31,'By Population'!$G$2:$K$14,5,FALSE))*'By Speed'!$M44*Scenario_VMT_3*$N31","v":0},{"$f":"(VLOOKUP($B31,'By Population'!$G$2:$K$14,5,FALSE))*'By Speed'!$N44*Scenario_VMT_3*$N31","v":0},{"$f":"(VLOOKUP($B31,'By Population'!$G$2:$K$14,5,FALSE))*'By Speed'!$O44*Scenario_VMT_3*$N31","v":0},{"$f":"(VLOOKUP($B31,'By Population'!$G$2:$K$14,5,FALSE))*'By Speed'!$P44*Scenario_VMT_3*$N31","v":0},{"$f":"(VLOOKUP($B31,'By Population'!$G$2:$K$14,5,FALSE))*'By Speed'!$Q44*Scenario_VMT_3*$N31","v":0},{"$f":"(VLOOKUP($B31,'By Population'!$G$2:$K$14,5,FALSE))*'By Speed'!$R44*Scenario_VMT_3*$N31","v":0},{"$f":"(VLOOKUP($B31,'By Population'!$G$2:$K$14,5,FALSE))*'By Speed'!$S44*Scenario_VMT_3*$N31","v":0},{"$f":"(VLOOKUP($B31,'By Population'!$G$2:$K$14,5,FALSE))*'By Speed'!$T44*Scenario_VMT_3*$N31","v":0},{"$f":"(VLOOKUP($B31,'By Population'!$G$2:$K$14,5,FALSE))*'By Speed'!$U44*Scenario_VMT_3*$N31","v":0},0,{"$f":"(VLOOKUP($B31,'By Population'!$G$2:$K$14,5,FALSE))*'By Speed'!$M44*Scenario_VMT_4*$N31","v":0},{"$f":"(VLOOKUP($B31,'By Population'!$G$2:$K$14,5,FALSE))*'By Speed'!$N44*Scenario_VMT_4*$N31","v":0},{"$f":"(VLOOKUP($B31,'By Population'!$G$2:$K$14,5,FALSE))*'By Speed'!$O44*Scenario_VMT_4*$N31","v":0},{"$f":"(VLOOKUP($B31,'By Population'!$G$2:$K$14,5,FALSE))*'By Speed'!$P44*Scenario_VMT_4*$N31","v":0},{"$f":"(VLOOKUP($B31,'By Population'!$G$2:$K$14,5,FALSE))*'By Speed'!$Q44*Scenario_VMT_4*$N31","v":0},{"$f":"(VLOOKUP($B31,'By Population'!$G$2:$K$14,5,FALSE))*'By Speed'!$R44*Scenario_VMT_4*$N31","v":0},{"$f":"(VLOOKUP($B31,'By Population'!$G$2:$K$14,5,FALSE))*'By Speed'!$S44*Scenario_VMT_4*$N31","v":0},{"$f":"(VLOOKUP($B31,'By Population'!$G$2:$K$14,5,FALSE))*'By Speed'!$T44*Scenario_VMT_4*$N31","v":0},{"$f":"(VLOOKUP($B31,'By Population'!$G$2:$K$14,5,FALSE))*'By Speed'!$U44*Scenario_VMT_4*$N31","v":0},0,{"$f":"(VLOOKUP($B31,'By Population'!$G$2:$K$14,5,FALSE))*'By Speed'!$M44*Scenario_VMT_5*$N31","v":0},{"$f":"(VLOOKUP($B31,'By Population'!$G$2:$K$14,5,FALSE))*'By Speed'!$N44*Scenario_VMT_5*$N31","v":0},{"$f":"(VLOOKUP($B31,'By Population'!$G$2:$K$14,5,FALSE))*'By Speed'!$O44*Scenario_VMT_5*$N31","v":0},{"$f":"(VLOOKUP($B31,'By Population'!$G$2:$K$14,5,FALSE))*'By Speed'!$P44*Scenario_VMT_5*$N31","v":0},{"$f":"(VLOOKUP($B31,'By Population'!$G$2:$K$14,5,FALSE))*'By Speed'!$Q44*Scenario_VMT_5*$N31","v":0},{"$f":"(VLOOKUP($B31,'By Population'!$G$2:$K$14,5,FALSE))*'By Speed'!$R44*Scenario_VMT_5*$N31","v":0},{"$f":"(VLOOKUP($B31,'By Population'!$G$2:$K$14,5,FALSE))*'By Speed'!$S44*Scenario_VMT_5*$N31","v":0},{"$f":"(VLOOKUP($B31,'By Population'!$G$2:$K$14,5,FALSE))*'By Speed'!$T44*Scenario_VMT_5*$N31","v":0},{"$f":"(VLOOKUP($B31,'By Population'!$G$2:$K$14,5,FALSE))*'By Speed'!$U44*Scenario_VMT_5*$N31","v":0},0]
[34,"LDT1_DSL",15,"LDT1_DSL_15",{"$f":"(VLOOKUP($B32,'By Population'!$G$2:$K$14,5,FALSE))*'By Speed'!$M45*Scenario_VMT_EX*$N32","v":0},{"$f":"(VLOOKUP($B32,'By Population'!$G$2:$K$14,5,FALSE))*'By Speed'!$N45*Scenario_VMT_EX*$N32","v":0},{"$f":"(VLOOKUP($B32,'By Population'!$G$2:$K$14,5,FALSE))*'By Speed'!$O45*Scenario_VMT_EX*$N32","v":0},{"$f":"(VLOOKUP($B32,'By Population'!$G$2:$K$14,5,FALSE))*'By Speed'!$P45*Scenario_VMT_EX*$N32","v":0},{"$f":"(VLOOKUP($B32,'By Population'!$G$2:$K$14,5,FALSE))*'By Speed'!$Q45*Scenario_VMT_EX*$N32","v":0},{"$f":"(VLOOKUP($B32,'By Population'!$G$2:$K$14,5,FALSE))*'By Speed'!$R45*Scenario_VMT_EX*$N32","v":0},{"$f":"(VLOOKUP($B32,'By Population'!$G$2:$K$14,5,FALSE))*'By Speed'!$S45*Scenario_VMT_EX*$N32","v":0},{"$f":"(VLOOKUP($B32,'By Population'!$G$2:$K$14,5,FALSE))*'By Speed'!$T45*Scenario_VMT_EX*$N32","v":0},{"$f":"(VLOOKUP($B32,'By Population'!$G$2:$K$14,5,FALSE))*'By Speed'!$U45*Scenario_VMT_EX*$N32","v":0},0,{"$f":"(VLOOKUP($B32,'By Population'!$G$2:$K$14,5,FALSE))*'By Speed'!$M45*Scenario_VMT_1*$N32","v":0},{"$f":"(VLOOKUP($B32,'By Population'!$G$2:$K$14,5,FALSE))*'By Speed'!$N45*Scenario_VMT_1*$N32","v":0},{"$f":"(VLOOKUP($B32,'By Population'!$G$2:$K$14,5,FALSE))*'By Speed'!$O45*Scenario_VMT_1*$N32","v":0},{"$f":"(VLOOKUP($B32,'By Population'!$G$2:$K$14,5,FALSE))*'By Speed'!$P45*Scenario_VMT_1*$N32","v":0},{"$f":"(VLOOKUP($B32,'By Population'!$G$2:$K$14,5,FALSE))*'By Speed'!$Q45*Scenario_VMT_1*$N32","v":0},{"$f":"(VLOOKUP($B32,'By Population'!$G$2:$K$14,5,FALSE))*'By Speed'!$R45*Scenario_VMT_1*$N32","v":0},{"$f":"(VLOOKUP($B32,'By Population'!$G$2:$K$14,5,FALSE))*'By Speed'!$S45*Scenario_VMT_1*$N32","v":0},{"$f":"(VLOOKUP($B32,'By Population'!$G$2:$K$14,5,FALSE))*'By Speed'!$T45*Scenario_VMT_1*$N32","v":0},{"$f":"(VLOOKUP($B32,'By Population'!$G$2:$K$14,5,FALSE))*'By Speed'!$U45*Scenario_VMT_1*$N32","v":0},0,{"$f":"(VLOOKUP($B32,'By Population'!$G$2:$K$14,5,FALSE))*'By Speed'!$M45*Scenario_VMT_2*$N32","v":0},{"$f":"(VLOOKUP($B32,'By Population'!$G$2:$K$14,5,FALSE))*'By Speed'!$N45*Scenario_VMT_2*$N32","v":0},{"$f":"(VLOOKUP($B32,'By Population'!$G$2:$K$14,5,FALSE))*'By Speed'!$O45*Scenario_VMT_2*$N32","v":0},{"$f":"(VLOOKUP($B32,'By Population'!$G$2:$K$14,5,FALSE))*'By Speed'!$P45*Scenario_VMT_2*$N32","v":0},{"$f":"(VLOOKUP($B32,'By Population'!$G$2:$K$14,5,FALSE))*'By Speed'!$Q45*Scenario_VMT_2*$N32","v":0},{"$f":"(VLOOKUP($B32,'By Population'!$G$2:$K$14,5,FALSE))*'By Speed'!$R45*Scenario_VMT_2*$N32","v":0},{"$f":"(VLOOKUP($B32,'By Population'!$G$2:$K$14,5,FALSE))*'By Speed'!$S45*Scenario_VMT_2*$N32","v":0},{"$f":"(VLOOKUP($B32,'By Population'!$G$2:$K$14,5,FALSE))*'By Speed'!$T45*Scenario_VMT_2*$N32","v":0},{"$f":"(VLOOKUP($B32,'By Population'!$G$2:$K$14,5,FALSE))*'By Speed'!$U45*Scenario_VMT_2*$N32","v":0},0,{"$f":"(VLOOKUP($B32,'By Population'!$G$2:$K$14,5,FALSE))*'By Speed'!$M45*Scenario_VMT_3*$N32","v":0},{"$f":"(VLOOKUP($B32,'By Population'!$G$2:$K$14,5,FALSE))*'By Speed'!$N45*Scenario_VMT_3*$N32","v":0},{"$f":"(VLOOKUP($B32,'By Population'!$G$2:$K$14,5,FALSE))*'By Speed'!$O45*Scenario_VMT_3*$N32","v":0},{"$f":"(VLOOKUP($B32,'By Population'!$G$2:$K$14,5,FALSE))*'By Speed'!$P45*Scenario_VMT_3*$N32","v":0},{"$f":"(VLOOKUP($B32,'By Population'!$G$2:$K$14,5,FALSE))*'By Speed'!$Q45*Scenario_VMT_3*$N32","v":0},{"$f":"(VLOOKUP($B32,'By Population'!$G$2:$K$14,5,FALSE))*'By Speed'!$R45*Scenario_VMT_3*$N32","v":0},{"$f":"(VLOOKUP($B32,'By Population'!$G$2:$K$14,5,FALSE))*'By Speed'!$S45*Scenario_VMT_3*$N32","v":0},{"$f":"(VLOOKUP($B32,'By Population'!$G$2:$K$14,5,FALSE))*'By Speed'!$T45*Scenario_VMT_3*$N32","v":0},{"$f":"(VLOOKUP($B32,'By Population'!$G$2:$K$14,5,FALSE))*'By Speed'!$U45*Scenario_VMT_3*$N32","v":0},0,{"$f":"(VLOOKUP($B32,'By Population'!$G$2:$K$14,5,FALSE))*'By Speed'!$M45*Scenario_VMT_4*$N32","v":0},{"$f":"(VLOOKUP($B32,'By Population'!$G$2:$K$14,5,FALSE))*'By Speed'!$N45*Scenario_VMT_4*$N32","v":0},{"$f":"(VLOOKUP($B32,'By Population'!$G$2:$K$14,5,FALSE))*'By Speed'!$O45*Scenario_VMT_4*$N32","v":0},{"$f":"(VLOOKUP($B32,'By Population'!$G$2:$K$14,5,FALSE))*'By Speed'!$P45*Scenario_VMT_4*$N32","v":0},{"$f":"(VLOOKUP($B32,'By Population'!$G$2:$K$14,5,FALSE))*'By Speed'!$Q45*Scenario_VMT_4*$N32","v":0},{"$f":"(VLOOKUP($B32,'By Population'!$G$2:$K$14,5,FALSE))*'By Speed'!$R45*Scenario_VMT_4*$N32","v":0},{"$f":"(VLOOKUP($B32,'By Population'!$G$2:$K$14,5,FALSE))*'By Speed'!$S45*Scenario_VMT_4*$N32","v":0},{"$f":"(VLOOKUP($B32,'By Population'!$G$2:$K$14,5,FALSE))*'By Speed'!$T45*Scenario_VMT_4*$N32","v":0},{"$f":"(VLOOKUP($B32,'By Population'!$G$2:$K$14,5,FALSE))*'By Speed'!$U45*Scenario_VMT_4*$N32","v":0},0,{"$f":"(VLOOKUP($B32,'By Population'!$G$2:$K$14,5,FALSE))*'By Speed'!$M45*Scenario_VMT_5*$N32","v":0},{"$f":"(VLOOKUP($B32,'By Population'!$G$2:$K$14,5,FALSE))*'By Speed'!$N45*Scenario_VMT_5*$N32","v":0},{"$f":"(VLOOKUP($B32,'By Population'!$G$2:$K$14,5,FALSE))*'By Speed'!$O45*Scenario_VMT_5*$N32","v":0},{"$f":"(VLOOKUP($B32,'By Population'!$G$2:$K$14,5,FALSE))*'By Speed'!$P45*Scenario_VMT_5*$N32","v":0},{"$f":"(VLOOKUP($B32,'By Population'!$G$2:$K$14,5,FALSE))*'By Speed'!$Q45*Scenario_VMT_5*$N32","v":0},{"$f":"(VLOOKUP($B32,'By Population'!$G$2:$K$14,5,FALSE))*'By Speed'!$R45*Scenario_VMT_5*$N32","v":0},{"$f":"(VLOOKUP($B32,'By Population'!$G$2:$K$14,5,FALSE))*'By Speed'!$S45*Scenario_VMT_5*$N32","v":0},{"$f":"(VLOOKUP($B32,'By Population'!$G$2:$K$14,5,FALSE))*'By Speed'!$T45*Scenario_VMT_5*$N32","v":0},{"$f":"(VLOOKUP($B32,'By Population'!$G$2:$K$14,5,FALSE))*'By Speed'!$U45*Scenario_VMT_5*$N32","v":0},0]
[36,"LDT1_DSL",20,"LDT1_DSL_20",{"$f":"(VLOOKUP($B33,'By Population'!$G$2:$K$14,5,FALSE))*'By Speed'!$M46*Scenario_VMT_EX*$N33","v":0},{"$f":"(VLOOKUP($B33,'By Population'!$G$2:$K$14,5,FALSE))*'By Speed'!$N46*Scenario_VMT_EX*$N33","v":0},{"$f":"(VLOOKUP($B33,'By Population'!$G$2:$K$14,5,FALSE))*'By Speed'!$O46*Scenario_VMT_EX*$N33","v":0},{"$f":"(VLOOKUP($B33,'By Population'!$G$2:$K$14,5,FALSE))*'By Speed'!$P46*Scenario_VMT_EX*$N33","v":0},{"$f":"(VLOOKUP($B33,'By Population'!$G$2:$K$14,5,FALSE))*'By Speed'!$Q46*Scenario_VMT_EX*$N33","v":0},{"$f":"(VLOOKUP($B33,'By Population'!$G$2:$K$14,5,FALSE))*'By Speed'!$R46*Scenario_VMT_EX*$N33","v":0},{"$f":"(VLOOKUP($B33,'By Population'!$G$2:$K$14,5,FALSE))*'By Speed'!$S46*Scenario_VMT_EX*$N33","v":0},{"$f":"(VLOOKUP($B33,'By Population'!$G$2:$K$14,5,FALSE))*'By Speed'!$T46*Scenario_VMT_EX*$N33","v":0},{"$f":"(VLOOKUP($B33,'By Population'!$G$2:$K$14,5,FALSE))*'By Speed'!$U46*Scenario_VMT_EX*$N33","v":0},0,{"$f":"(VLOOKUP($B33,'By Population'!$G$2:$K$14,5,FALSE))*'By Speed'!$M46*Scenario_VMT_1*$N33","v":0},{"$f":"(VLOOKUP($B33,'By Population'!$G$2:$K$14,5,FALSE))*'By Speed'!$N46*Scenario_VMT_1*$N33","v":0},{"$f":"(VLOOKUP($B33,'By Population'!$G$2:$K$14,5,FALSE))*'By Speed'!$O46*Scenario_VMT_1*$N33","v":0},{"$f":"(VLOOKUP($B33,'By Population'!$G$2:$K$14,5,FALSE))*'By Speed'!$P46*Scenario_VMT_1*$N33","v":0},{"$f":"(VLOOKUP($B33,'By Population'!$G$2:$K$14,5,FALSE))*'By Speed'!$Q46*Scenario_VMT_1*$N33","v":0},{"$f":"(VLOOKUP($B33,'By Population'!$G$2:$K$14,5,FALSE))*'By Speed'!$R46*Scenario_VMT_1*$N33","v":0},{"$f":"(VLOOKUP($B33,'By Population'!$G$2:$K$14,5,FALSE))*'By Speed'!$S46*Scenario_VMT_1*$N33","v":0},{"$f":"(VLOOKUP($B33,'By Population'!$G$2:$K$14,5,FALSE))*'By Speed'!$T46*Scenario_VMT_1*$N33","v":0},{"$f":"(VLOOKUP($B33,'By Population'!$G$2:$K$14,5,FALSE))*'By Speed'!$U46*Scenario_VMT_1*$N33","v":0},0,{"$f":"(VLOOKUP($B33,'By Population'!$G$2:$K$14,5,FALSE))*'By Speed'!$M46*Scenario_VMT_2*$N33","v":0},{"$f":"(VLOOKUP($B33,'By Population'!$G$2:$K$14,5,FALSE))*'By Speed'!$N46*Scenario_VMT_2*$N33","v":0},{"$f":"(VLOOKUP($B33,'By Population'!$G$2:$K$14,5,FALSE))*'By Speed'!$O46*Scenario_VMT_2*$N33","v":0},{"$f":"(VLOOKUP($B33,'By Population'!$G$2:$K$14,5,FALSE))*'By Speed'!$P46*Scenario_VMT_2*$N33","v":0},{"$f":"(VLOOKUP($B33,'By Population'!$G$2:$K$14,5,FALSE))*'By Speed'!$Q46*Scenario_VMT_2*$N33","v":0},{"$f":"(VLOOKUP($B33,'By Population'!$G$2:$K$14,5,FALSE))*'By Speed'!$R46*Scenario_VMT_2*$N33","v":0},{"$f":"(VLOOKUP($B33,'By Population'!$G$2:$K$14,5,FALSE))*'By Speed'!$S46*Scenario_VMT_2*$N33","v":0},{"$f":"(VLOOKUP($B33,'By Population'!$G$2:$K$14,5,FALSE))*'By Speed'!$T46*Scenario_VMT_2*$N33","v":0},{"$f":"(VLOOKUP($B33,'By Population'!$G$2:$K$14,5,FALSE))*'By Speed'!$U46*Scenario_VMT_2*$N33","v":0},0,{"$f":"(VLOOKUP($B33,'By Population'!$G$2:$K$14,5,FALSE))*'By Speed'!$M46*Scenario_VMT_3*$N33","v":0},{"$f":"(VLOOKUP($B33,'By Population'!$G$2:$K$14,5,FALSE))*'By Speed'!$N46*Scenario_VMT_3*$N33","v":0},{"$f":"(VLOOKUP($B33,'By Population'!$G$2:$K$14,5,FALSE))*'By Speed'!$O46*Scenario_VMT_3*$N33","v":0},{"$f":"(VLOOKUP($B33,'By Population'!$G$2:$K$14,5,FALSE))*'By Speed'!$P46*Scenario_VMT_3*$N33","v":0},{"$f":"(VLOOKUP($B33,'By Population'!$G$2:$K$14,5,FALSE))*'By Speed'!$Q46*Scenario_VMT_3*$N33","v":0},{"$f":"(VLOOKUP($B33,'By Population'!$G$2:$K$14,5,FALSE))*'By Speed'!$R46*Scenario_VMT_3*$N33","v":0},{"$f":"(VLOOKUP($B33,'By Population'!$G$2:$K$14,5,FALSE))*'By Speed'!$S46*Scenario_VMT_3*$N33","v":0},{"$f":"(VLOOKUP($B33,'By Population'!$G$2:$K$14,5,FALSE))*'By Speed'!$T46*Scenario_VMT_3*$N33","v":0},{"$f":"(VLOOKUP($B33,'By Population'!$G$2:$K$14,5,FALSE))*'By Speed'!$U46*Scenario_VMT_3*$N33","v":0},0,{"$f":"(VLOOKUP($B33,'By Population'!$G$2:$K$14,5,FALSE))*'By Speed'!$M46*Scenario_VMT_4*$N33","v":0},{"$f":"(VLOOKUP($B33,'By Population'!$G$2:$K$14,5,FALSE))*'By Speed'!$N46*Scenario_VMT_4*$N33","v":0},{"$f":"(VLOOKUP($B33,'By Population'!$G$2:$K$14,5,FALSE))*'By Speed'!$O46*Scenario_VMT_4*$N33","v":0},{"$f":"(VLOOKUP($B33,'By Population'!$G$2:$K$14,5,FALSE))*'By Speed'!$P46*Scenario_VMT_4*$N33","v":0},{"$f":"(VLOOKUP($B33,'By Population'!$G$2:$K$14,5,FALSE))*'By Speed'!$Q46*Scenario_VMT_4*$N33","v":0},{"$f":"(VLOOKUP($B33,'By Population'!$G$2:$K$14,5,FALSE))*'By Speed'!$R46*Scenario_VMT_4*$N33","v":0},{"$f":"(VLOOKUP($B33,'By Population'!$G$2:$K$14,5,FALSE))*'By Speed'!$S46*Scenario_VMT_4*$N33","v":0},{"$f":"(VLOOKUP($B33,'By Population'!$G$2:$K$14,5,FALSE))*'By Speed'!$T46*Scenario_VMT_4*$N33","v":0},{"$f":"(VLOOKUP($B33,'By Population'!$G$2:$K$14,5,FALSE))*'By Speed'!$U46*Scenario_VMT_4*$N33","v":0},0,{"$f":"(VLOOKUP($B33,'By Population'!$G$2:$K$14,5,FALSE))*'By Speed'!$M46*Scenario_VMT_5*$N33","v":0},{"$f":"(VLOOKUP($B33,'By Population'!$G$2:$K$14,5,FALSE))*'By Speed'!$N46*Scenario_VMT_5*$N33","v":0},{"$f":"(VLOOKUP($B33,'By Population'!$G$2:$K$14,5,FALSE))*'By Speed'!$O46*Scenario_VMT_5*$N33","v":0},{"$f":"(VLOOKUP($B33,'By Population'!$G$2:$K$14,5,FALSE))*'By Speed'!$P46*Scenario_VMT_5*$N33","v":0},{"$f":"(VLOOKUP($B33,'By Population'!$G$2:$K$14,5,FALSE))*'By Speed'!$Q46*Scenario_VMT_5*$N33","v":0},{"$f":"(VLOOKUP($B33,'By Population'!$G$2:$K$14,5,FALSE))*'By Speed'!$R46*Scenario_VMT_5*$N33","v":0},{"$f":"(VLOOKUP($B33,'By Population'!$G$2:$K$14,5,FALSE))*'By Speed'!$S46*Scenario_VMT_5*$N33","v":0},{"$f":"(VLOOKUP($B33,'By Population'!$G$2:$K$14,5,FALSE))*'By Speed'!$T46*Scenario_VMT_5*$N33","v":0},{"$f":"(VLOOKUP($B33,'By Population'!$G$2:$K$14,5,FALSE))*'By Speed'!$U46*Scenario_VMT_5*$N33","v":0},0]
[38,"LDT1_DSL",25,"LDT1_DSL_25",{"$f":"(VLOOKUP($B34,'By Population'!$G$2:$K$14,5,FALSE))*'By Speed'!$M47*Scenario_VMT_EX*$N34","v":0},{"$f":"(VLOOKUP($B34,'By Population'!$G$2:$K$14,5,FALSE))*'By Speed'!$N47*Scenario_VMT_EX*$N34","v":0},{"$f":"(VLOOKUP($B34,'By Population'!$G$2:$K$14,5,FALSE))*'By Speed'!$O47*Scenario_VMT_EX*$N34","v":0},{"$f":"(VLOOKUP($B34,'By Population'!$G$2:$K$14,5,FALSE))*'By Speed'!$P47*Scenario_VMT_EX*$N34","v":0},{"$f":"(VLOOKUP($B34,'By Population'!$G$2:$K$14,5,FALSE))*'By Speed'!$Q47*Scenario_VMT_EX*$N34","v":0},{"$f":"(VLOOKUP($B34,'By Population'!$G$2:$K$14,5,FALSE))*'By Speed'!$R47*Scenario_VMT_EX*$N34","v":0},{"$f":"(VLOOKUP($B34,'By Population'!$G$2:$K$14,5,FALSE))*'By Speed'!$S47*Scenario_VMT_EX*$N34","v":0},{"$f":"(VLOOKUP($B34,'By Population'!$G$2:$K$14,5,FALSE))*'By Speed'!$T47*Scenario_VMT_EX*$N34","v":0},{"$f":"(VLOOKUP($B34,'By Population'!$G$2:$K$14,5,FALSE))*'By Speed'!$U47*Scenario_VMT_EX*$N34","v":0},1,{"$f":"(VLOOKUP($B34,'By Population'!$G$2:$K$14,5,FALSE))*'By Speed'!$M47*Scenario_VMT_1*$N34","v":0},{"$f":"(VLOOKUP($B34,'By Population'!$G$2:$K$14,5,FALSE))*'By Speed'!$N47*Scenario_VMT_1*$N34","v":0},{"$f":"(VLOOKUP($B34,'By Population'!$G$2:$K$14,5,FALSE))*'By Speed'!$O47*Scenario_VMT_1*$N34","v":0},{"$f":"(VLOOKUP($B34,'By Population'!$G$2:$K$14,5,FALSE))*'By Speed'!$P47*Scenario_VMT_1*$N34","v":0},{"$f":"(VLOOKUP($B34,'By Population'!$G$2:$K$14,5,FALSE))*'By Speed'!$Q47*Scenario_VMT_1*$N34","v":0},{"$f":"(VLOOKUP($B34,'By Population'!$G$2:$K$14,5,FALSE))*'By Speed'!$R47*Scenario_VMT_1*$N34","v":0},{"$f":"(VLOOKUP($B34,'By Population'!$G$2:$K$14,5,FALSE))*'By Speed'!$S47*Scenario_VMT_1*$N34","v":0},{"$f":"(VLOOKUP($B34,'By Population'!$G$2:$K$14,5,FALSE))*'By Speed'!$T47*Scenario_VMT_1*$N34","v":0},{"$f":"(VLOOKUP($B34,'By Population'!$G$2:$K$14,5,FALSE))*'By Speed'!$U47*Scenario_VMT_1*$N34","v":0},0,{"$f":"(VLOOKUP($B34,'By Population'!$G$2:$K$14,5,FALSE))*'By Speed'!$M47*Scenario_VMT_2*$N34","v":0},{"$f":"(VLOOKUP($B34,'By Population'!$G$2:$K$14,5,FALSE))*'By Speed'!$N47*Scenario_VMT_2*$N34","v":0},{"$f":"(VLOOKUP($B34,'By Population'!$G$2:$K$14,5,FALSE))*'By Speed'!$O47*Scenario_VMT_2*$N34","v":0},{"$f":"(VLOOKUP($B34,'By Population'!$G$2:$K$14,5,FALSE))*'By Speed'!$P47*Scenario_VMT_2*$N34","v":0},{"$f":"(VLOOKUP($B34,'By Population'!$G$2:$K$14,5,FALSE))*'By Speed'!$Q47*Scenario_VMT_2*$N34","v":0},{"$f":"(VLOOKUP($B34,'By Population'!$G$2:$K$14,5,FALSE))*'By Speed'!$R47*Scenario_VMT_2*$N34","v":0},{"$f":"(VLOOKUP($B34,'By Population'!$G$2:$K$14,5,FALSE))*'By Speed'!$S47*Scenario_VMT_2*$N34","v":0},{"$f":"(VLOOKUP($B34,'By Population'!$G$2:$K$14,5,FALSE))*'By Speed'!$T47*Scenario_VMT_2*$N34","v":0},{"$f":"(VLOOKUP($B34,'By Population'!$G$2:$K$14,5,FALSE))*'By Speed'!$U47*Scenario_VMT_2*$N34","v":0},0,{"$f":"(VLOOKUP($B34,'By Population'!$G$2:$K$14,5,FALSE))*'By Speed'!$M47*Scenario_VMT_3*$N34","v":0},{"$f":"(VLOOKUP($B34,'By Population'!$G$2:$K$14,5,FALSE))*'By Speed'!$N47*Scenario_VMT_3*$N34","v":0},{"$f":"(VLOOKUP($B34,'By Population'!$G$2:$K$14,5,FALSE))*'By Speed'!$O47*Scenario_VMT_3*$N34","v":0},{"$f":"(VLOOKUP($B34,'By Population'!$G$2:$K$14,5,FALSE))*'By Speed'!$P47*Scenario_VMT_3*$N34","v":0},{"$f":"(VLOOKUP($B34,'By Population'!$G$2:$K$14,5,FALSE))*'By Speed'!$Q47*Scenario_VMT_3*$N34","v":0},{"$f":"(VLOOKUP($B34,'By Population'!$G$2:$K$14,5,FALSE))*'By Speed'!$R47*Scenario_VMT_3*$N34","v":0},{"$f":"(VLOOKUP($B34,'By Population'!$G$2:$K$14,5,FALSE))*'By Speed'!$S47*Scenario_VMT_3*$N34","v":0},{"$f":"(VLOOKUP($B34,'By Population'!$G$2:$K$14,5,FALSE))*'By Speed'!$T47*Scenario_VMT_3*$N34","v":0},{"$f":"(VLOOKUP($B34,'By Population'!$G$2:$K$14,5,FALSE))*'By Speed'!$U47*Scenario_VMT_3*$N34","v":0},0,{"$f":"(VLOOKUP($B34,'By Population'!$G$2:$K$14,5,FALSE))*'By Speed'!$M47*Scenario_VMT_4*$N34","v":0},{"$f":"(VLOOKUP($B34,'By Population'!$G$2:$K$14,5,FALSE))*'By Speed'!$N47*Scenario_VMT_4*$N34","v":0},{"$f":"(VLOOKUP($B34,'By Population'!$G$2:$K$14,5,FALSE))*'By Speed'!$O47*Scenario_VMT_4*$N34","v":0},{"$f":"(VLOOKUP($B34,'By Population'!$G$2:$K$14,5,FALSE))*'By Speed'!$P47*Scenario_VMT_4*$N34","v":0},{"$f":"(VLOOKUP($B34,'By Population'!$G$2:$K$14,5,FALSE))*'By Speed'!$Q47*Scenario_VMT_4*$N34","v":0},{"$f":"(VLOOKUP($B34,'By Population'!$G$2:$K$14,5,FALSE))*'By Speed'!$R47*Scenario_VMT_4*$N34","v":0},{"$f":"(VLOOKUP($B34,'By Population'!$G$2:$K$14,5,FALSE))*'By Speed'!$S47*Scenario_VMT_4*$N34","v":0},{"$f":"(VLOOKUP($B34,'By Population'!$G$2:$K$14,5,FALSE))*'By Speed'!$T47*Scenario_VMT_4*$N34","v":0},{"$f":"(VLOOKUP($B34,'By Population'!$G$2:$K$14,5,FALSE))*'By Speed'!$U47*Scenario_VMT_4*$N34","v":0},0,{"$f":"(VLOOKUP($B34,'By Population'!$G$2:$K$14,5,FALSE))*'By Speed'!$M47*Scenario_VMT_5*$N34","v":0},{"$f":"(VLOOKUP($B34,'By Population'!$G$2:$K$14,5,FALSE))*'By Speed'!$N47*Scenario_VMT_5*$N34","v":0},{"$f":"(VLOOKUP($B34,'By Population'!$G$2:$K$14,5,FALSE))*'By Speed'!$O47*Scenario_VMT_5*$N34","v":0},{"$f":"(VLOOKUP($B34,'By Population'!$G$2:$K$14,5,FALSE))*'By Speed'!$P47*Scenario_VMT_5*$N34","v":0},{"$f":"(VLOOKUP($B34,'By Population'!$G$2:$K$14,5,FALSE))*'By Speed'!$Q47*Scenario_VMT_5*$N34","v":0},{"$f":"(VLOOKUP($B34,'By Population'!$G$2:$K$14,5,FALSE))*'By Speed'!$R47*Scenario_VMT_5*$N34","v":0},{"$f":"(VLOOKUP($B34,'By Population'!$G$2:$K$14,5,FALSE))*'By Speed'!$S47*Scenario_VMT_5*$N34","v":0},{"$f":"(VLOOKUP($B34,'By Population'!$G$2:$K$14,5,FALSE))*'By Speed'!$T47*Scenario_VMT_5*$N34","v":0},{"$f":"(VLOOKUP($B34,'By Population'!$G$2:$K$14,5,FALSE))*'By Speed'!$U47*Scenario_VMT_5*$N34","v":0},0]
[40,"LDT1_DSL",30,"LDT1_DSL_30",{"$f":"(VLOOKUP($B35,'By Population'!$G$2:$K$14,5,FALSE))*'By Speed'!$M48*Scenario_VMT_EX*$N35","v":0},{"$f":"(VLOOKUP($B35,'By Population'!$G$2:$K$14,5,FALSE))*'By Speed'!$N48*Scenario_VMT_EX*$N35","v":0},{"$f":"(VLOOKUP($B35,'By Population'!$G$2:$K$14,5,FALSE))*'By Speed'!$O48*Scenario_VMT_EX*$N35","v":0},{"$f":"(VLOOKUP($B35,'By Population'!$G$2:$K$14,5,FALSE))*'By Speed'!$P48*Scenario_VMT_EX*$N35","v":0},{"$f":"(VLOOKUP($B35,'By Population'!$G$2:$K$14,5,FALSE))*'By Speed'!$Q48*Scenario_VMT_EX*$N35","v":0},{"$f":"(VLOOKUP($B35,'By Population'!$G$2:$K$14,5,FALSE))*'By Speed'!$R48*Scenario_VMT_EX*$N35","v":0},{"$f":"(VLOOKUP($B35,'By Population'!$G$2:$K$14,5,FALSE))*'By Speed'!$S48*Scenario_VMT_EX*$N35","v":0},{"$f":"(VLOOKUP($B35,'By Population'!$G$2:$K$14,5,FALSE))*'By Speed'!$T48*Scenario_VMT_EX*$N35","v":0},{"$f":"(VLOOKUP($B35,'By Population'!$G$2:$K$14,5,FALSE))*'By Speed'!$U48*Scenario_VMT_EX*$N35","v":0},0,{"$f":"(VLOOKUP($B35,'By Population'!$G$2:$K$14,5,FALSE))*'By Speed'!$M48*Scenario_VMT_1*$N35","v":0},{"$f":"(VLOOKUP($B35,'By Population'!$G$2:$K$14,5,FALSE))*'By Speed'!$N48*Scenario_VMT_1*$N35","v":0},{"$f":"(VLOOKUP($B35,'By Population'!$G$2:$K$14,5,FALSE))*'By Speed'!$O48*Scenario_VMT_1*$N35","v":0},{"$f":"(VLOOKUP($B35,'By Population'!$G$2:$K$14,5,FALSE))*'By Speed'!$P48*Scenario_VMT_1*$N35","v":0},{"$f":"(VLOOKUP($B35,'By Population'!$G$2:$K$14,5,FALSE))*'By Speed'!$Q48*Scenario_VMT_1*$N35","v":0},{"$f":"(VLOOKUP($B35,'By Population'!$G$2:$K$14,5,FALSE))*'By Speed'!$R48*Scenario_VMT_1*$N35","v":0},{"$f":"(VLOOKUP($B35,'By Population'!$G$2:$K$14,5,FALSE))*'By Speed'!$S48*Scenario_VMT_1*$N35","v":0},{"$f":"(VLOOKUP($B35,'By Population'!$G$2:$K$14,5,FALSE))*'By Speed'!$T48*Scenario_VMT_1*$N35","v":0},{"$f":"(VLOOKUP($B35,'By Population'!$G$2:$K$14,5,FALSE))*'By Speed'!$U48*Scenario_VMT_1*$N35","v":0},{"$f":"IF(M35=Scenario_Speed_1,1,0)","v":0},{"$f":"(VLOOKUP($B35,'By Population'!$G$2:$K$14,5,FALSE))*'By Speed'!$M48*Scenario_VMT_2*$N35","v":0},{"$f":"(VLOOKUP($B35,'By Population'!$G$2:$K$14,5,FALSE))*'By Speed'!$N48*Scenario_VMT_2*$N35","v":0},{"$f":"(VLOOKUP($B35,'By Population'!$G$2:$K$14,5,FALSE))*'By Speed'!$O48*Scenario_VMT_2*$N35","v":0},{"$f":"(VLOOKUP($B35,'By Population'!$G$2:$K$14,5,FALSE))*'By Speed'!$P48*Scenario_VMT_2*$N35","v":0},{"$f":"(VLOOKUP($B35,'By Population'!$G$2:$K$14,5,FALSE))*'By Speed'!$Q48*Scenario_VMT_2*$N35","v":0},{"$f":"(VLOOKUP($B35,'By Population'!$G$2:$K$14,5,FALSE))*'By Speed'!$R48*Scenario_VMT_2*$N35","v":0},{"$f":"(VLOOKUP($B35,'By Population'!$G$2:$K$14,5,FALSE))*'By Speed'!$S48*Scenario_VMT_2*$N35","v":0},{"$f":"(VLOOKUP($B35,'By Population'!$G$2:$K$14,5,FALSE))*'By Speed'!$T48*Scenario_VMT_2*$N35","v":0},{"$f":"(VLOOKUP($B35,'By Population'!$G$2:$K$14,5,FALSE))*'By Speed'!$U48*Scenario_VMT_2*$N35","v":0},{"$f":"IF(W35=Scenario_Speed_2,1,0)","v":0},{"$f":"(VLOOKUP($B35,'By Population'!$G$2:$K$14,5,FALSE))*'By Speed'!$M48*Scenario_VMT_3*$N35","v":0},{"$f":"(VLOOKUP($B35,'By Population'!$G$2:$K$14,5,FALSE))*'By Speed'!$N48*Scenario_VMT_3*$N35","v":0},{"$f":"(VLOOKUP($B35,'By Population'!$G$2:$K$14,5,FALSE))*'By Speed'!$O48*Scenario_VMT_3*$N35","v":0},{"$f":"(VLOOKUP($B35,'By Population'!$G$2:$K$14,5,FALSE))*'By Speed'!$P48*Scenario_VMT_3*$N35","v":0},{"$f":"(VLOOKUP($B35,'By Population'!$G$2:$K$14,5,FALSE))*'By Speed'!$Q48*Scenario_VMT_3*$N35","v":0},{"$f":"(VLOOKUP($B35,'By Population'!$G$2:$K$14,5,FALSE))*'By Speed'!$R48*Scenario_VMT_3*$N35","v":0},{"$f":"(VLOOKUP($B35,'By Population'!$G$2:$K$14,5,FALSE))*'By Speed'!$S48*Scenario_VMT_3*$N35","v":0},{"$f":"(VLOOKUP($B35,'By Population'!$G$2:$K$14,5,FALSE))*'By Speed'!$T48*Scenario_VMT_3*$N35","v":0},{"$f":"(VLOOKUP($B35,'By Population'!$G$2:$K$14,5,FALSE))*'By Speed'!$U48*Scenario_VMT_3*$N35","v":0},{"$f":"IF(AG35=Scenario_Speed_3,1,0)","v":0},{"$f":"(VLOOKUP($B35,'By Population'!$G$2:$K$14,5,FALSE))*'By Speed'!$M48*Scenario_VMT_4*$N35","v":0},{"$f":"(VLOOKUP($B35,'By Population'!$G$2:$K$14,5,FALSE))*'By Speed'!$N48*Scenario_VMT_4*$N35","v":0},{"$f":"(VLOOKUP($B35,'By Population'!$G$2:$K$14,5,FALSE))*'By Speed'!$O48*Scenario_VMT_4*$N35","v":0},{"$f":"(VLOOKUP($B35,'By Population'!$G$2:$K$14,5,FALSE))*'By Speed'!$P48*Scenario_VMT_4*$N35","v":0},{"$f":"(VLOOKUP($B35,'By Population'!$G$2:$K$14,5,FALSE))*'By Speed'!$Q48*Scenario_VMT_4*$N35","v":0},{"$f":"(VLOOKUP($B35,'By Population'!$G$2:$K$14,5,FALSE))*'By Speed'!$R48*Scenario_VMT_4*$N35","v":0},{"$f":"(VLOOKUP($B35,'By Population'!$G$2:$K$14,5,FALSE))*'By Speed'!$S48*Scenario_VMT_4*$N35","v":0},{"$f":"(VLOOKUP($B35,'By Population'!$G$2:$K$14,5,FALSE))*'By Speed'!$T48*Scenario_VMT_4*$N35","v":0},{"$f":"(VLOOKUP($B35,'By Population'!$G$2:$K$14,5,FALSE))*'By Speed'!$U48*Scenario_VMT_4*$N35","v":0},{"$f":"IF(AQ35=Scenario_Speed_4,1,0)","v":0},{"$f":"(VLOOKUP($B35,'By Population'!$G$2:$K$14,5,FALSE))*'By Speed'!$M48*Scenario_VMT_5*$N35","v":0},{"$f":"(VLOOKUP($B35,'By Population'!$G$2:$K$14,5,FALSE))*'By Speed'!$N48*Scenario_VMT_5*$N35","v":0},{"$f":"(VLOOKUP($B35,'By Population'!$G$2:$K$14,5,FALSE))*'By Speed'!$O48*Scenario_VMT_5*$N35","v":0},{"$f":"(VLOOKUP($B35,'By Population'!$G$2:$K$14,5,FALSE))*'By Speed'!$P48*Scenario_VMT_5*$N35","v":0},{"$f":"(VLOOKUP($B35,'By Population'!$G$2:$K$14,5,FALSE))*'By Speed'!$Q48*Scenario_VMT_5*$N35","v":0},{"$f":"(VLOOKUP($B35,'By Population'!$G$2:$K$14,5,FALSE))*'By Speed'!$R48*Scenario_VMT_5*$N35","v":0},{"$f":"(VLOOKUP($B35,'By Population'!$G$2:$K$14,5,FALSE))*'By Speed'!$S48*Scenario_VMT_5*$N35","v":0},{"$f":"(VLOOKUP($B35,'By Population'!$G$2:$K$14,5,FALSE))*'By Speed'!$T48*Scenario_VMT_5*$N35","v":0},{"$f":"(VLOOKUP($B35,'By Population'!$G$2:$K$14,5,FALSE))*'By Speed'!$U48*Scenario_VMT_5*$N35","v":0},{"$f":"IF(BA35=Scenario_Speed_5,1,0)","v":0}]
[42,"LDT1_DSL",35,"LDT1_DSL_35",{"$f":"(VLOOKUP($B36,'By Population'!$G$2:$K$14,5,FALSE))*'By Speed'!$M49*Scenario_VMT_EX*$N36","v":0},{"$f":"(VLOOKUP($B36,'By Population'!$G$2:$K$14,5,FALSE))*'By Speed'!$N49*Scenario_VMT_EX*$N36","v":0},{"$f":"(VLOOKUP($B36,'By Population'!$G$2:$K$14,5,FALSE))*'By Speed'!$O49*Scenario_VMT_EX*$N36","v":0},{"$f":"(VLOOKUP($B36,'By Population'!$G$2:$K$14,5,FALSE))*'By Speed'!$P49*Scenario_VMT_EX*$N36","v":0},{"$f":"(VLOOKUP($B36,'By Population'!$G$2:$K$14,5,FALSE))*'By Speed'!$Q49*Scenario_VMT_EX*$N36","v":0},{"$f":"(VLOOKUP($B36,'By Population'!$G$2:$K$14,5,FALSE))*'By Speed'!$R49*Scenario_VMT_EX*$N36","v":0},{"$f":"(VLOOKUP($B36,'By Population'!$G$2:$K$14,5,FALSE))*'By Speed'!$S49*Scenario_VMT_EX*$N36","v":0},{"$f":"(VLOOKUP($B36,'By Population'!$G$2:$K$14,5,FALSE))*'By Speed'!$T49*Scenario_VMT_EX*$N36","v":0},{"$f":"(VLOOKUP($B36,'By Population'!$G$2:$K$14,5,FALSE))*'By Speed'!$U49*Scenario_VMT_EX*$N36","v":0},0,{"$f":"(VLOOKUP($B36,'By Population'!$G$2:$K$14,5,FALSE))*'By Speed'!$M49*Scenario_VMT_1*$N36","v":0},{"$f":"(VLOOKUP($B36,'By Population'!$G$2:$K$14,5,FALSE))*'By Speed'!$N49*Scenario_VMT_1*$N36","v":0},{"$f":"(VLOOKUP($B36,'By Population'!$G$2:$K$14,5,FALSE))*'By Speed'!$O49*Scenario_VMT_1*$N36","v":0},{"$f":"(VLOOKUP($B36,'By Population'!$G$2:$K$14,5,FALSE))*'By Speed'!$P49*Scenario_VMT_1*$N36","v":0},{"$f":"(VLOOKUP($B36,'By Population'!$G$2:$K$14,5,FALSE))*'By Speed'!$Q49*Scenario_VMT_1*$N36","v":0},{"$f":"(VLOOKUP($B36,'By Population'!$G$2:$K$14,5,FALSE))*'By Speed'!$R49*Scenario_VMT_1*$N36","v":0},{"$f":"(VLOOKUP($B36,'By Population'!$G$2:$K$14,5,FALSE))*'By Speed'!$S49*Scenario_VMT_1*$N36","v":0},{"$f":"(VLOOKUP($B36,'By Population'!$G$2:$K$14,5,FALSE))*'By Speed'!$T49*Scenario_VMT_1*$N36","v":0},{"$f":"(VLOOKUP($B36,'By Population'!$G$2:$K$14,5,FALSE))*'By Speed'!$U49*Scenario_VMT_1*$N36","v":0},0,{"$f":"(VLOOKUP($B36,'By Population'!$G$2:$K$14,5,FALSE))*'By Speed'!$M49*Scenario_VMT_2*$N36","v":0},{"$f":"(VLOOKUP($B36,'By Population'!$G$2:$K$14,5,FALSE))*'By Speed'!$N49*Scenario_VMT_2*$N36","v":0},{"$f":"(VLOOKUP($B36,'By Population'!$G$2:$K$14,5,FALSE))*'By Speed'!$O49*Scenario_VMT_2*$N36","v":0},{"$f":"(VLOOKUP($B36,'By Population'!$G$2:$K$14,5,FALSE))*'By Speed'!$P49*Scenario_VMT_2*$N36","v":0},{"$f":"(VLOOKUP($B36,'By Population'!$G$2:$K$14,5,FALSE))*'By Speed'!$Q49*Scenario_VMT_2*$N36","v":0},{"$f":"(VLOOKUP($B36,'By Population'!$G$2:$K$14,5,FALSE))*'By Speed'!$R49*Scenario_VMT_2*$N36","v":0},{"$f":"(VLOOKUP($B36,'By Population'!$G$2:$K$14,5,FALSE))*'By Speed'!$S49*Scenario_VMT_2*$N36","v":0},{"$f":"(VLOOKUP($B36,'By Population'!$G$2:$K$14,5,FALSE))*'By Speed'!$T49*Scenario_VMT_2*$N36","v":0},{"$f":"(VLOOKUP($B36,'By Population'!$G$2:$K$14,5,FALSE))*'By Speed'!$U49*Scenario_VMT_2*$N36","v":0},0,{"$f":"(VLOOKUP($B36,'By Population'!$G$2:$K$14,5,FALSE))*'By Speed'!$M49*Scenario_VMT_3*$N36","v":0},{"$f":"(VLOOKUP($B36,'By Population'!$G$2:$K$14,5,FALSE))*'By Speed'!$N49*Scenario_VMT_3*$N36","v":0},{"$f":"(VLOOKUP($B36,'By Population'!$G$2:$K$14,5,FALSE))*'By Speed'!$O49*Scenario_VMT_3*$N36","v":0},{"$f":"(VLOOKUP($B36,'By Population'!$G$2:$K$14,5,FALSE))*'By Speed'!$P49*Scenario_VMT_3*$N36","v":0},{"$f":"(VLOOKUP($B36,'By Population'!$G$2:$K$14,5,FALSE))*'By Speed'!$Q49*Scenario_VMT_3*$N36","v":0},{"$f":"(VLOOKUP($B36,'By Population'!$G$2:$K$14,5,FALSE))*'By Speed'!$R49*Scenario_VMT_3*$N36","v":0},{"$f":"(VLOOKUP($B36,'By Population'!$G$2:$K$14,5,FALSE))*'By Speed'!$S49*Scenario_VMT_3*$N36","v":0},{"$f":"(VLOOKUP($B36,'By Population'!$G$2:$K$14,5,FALSE))*'By Speed'!$T49*Scenario_VMT_3*$N36","v":0},{"$f":"(VLOOKUP($B36,'By Population'!$G$2:$K$14,5,FALSE))*'By Speed'!$U49*Scenario_VMT_3*$N36","v":0},0,{"$f":"(VLOOKUP($B36,'By Population'!$G$2:$K$14,5,FALSE))*'By Speed'!$M49*Scenario_VMT_4*$N36","v":0},{"$f":"(VLOOKUP($B36,'By Population'!$G$2:$K$14,5,FALSE))*'By Speed'!$N49*Scenario_VMT_4*$N36","v":0},{"$f":"(VLOOKUP($B36,'By Population'!$G$2:$K$14,5,FALSE))*'By Speed'!$O49*Scenario_VMT_4*$N36","v":0},{"$f":"(VLOOKUP($B36,'By Population'!$G$2:$K$14,5,FALSE))*'By Speed'!$P49*Scenario_VMT_4*$N36","v":0},{"$f":"(VLOOKUP($B36,'By Population'!$G$2:$K$14,5,FALSE))*'By Speed'!$Q49*Scenario_VMT_4*$N36","v":0},{"$f":"(VLOOKUP($B36,'By Population'!$G$2:$K$14,5,FALSE))*'By Speed'!$R49*Scenario_VMT_4*$N36","v":0},{"$f":"(VLOOKUP($B36,'By Population'!$G$2:$K$14,5,FALSE))*'By Speed'!$S49*Scenario_VMT_4*$N36","v":0},{"$f":"(VLOOKUP($B36,'By Population'!$G$2:$K$14,5,FALSE))*'By Speed'!$T49*Scenario_VMT_4*$N36","v":0},{"$f":"(VLOOKUP($B36,'By Population'!$G$2:$K$14,5,FALSE))*'By Speed'!$U49*Scenario_VMT_4*$N36","v":0},0,{"$f":"(VLOOKUP($B36,'By Population'!$G$2:$K$14,5,FALSE))*'By Speed'!$M49*Scenario_VMT_5*$N36","v":0},{"$f":"(VLOOKUP($B36,'By Population'!$G$2:$K$14,5,FALSE))*'By Speed'!$N49*Scenario_VMT_5*$N36","v":0},{"$f":"(VLOOKUP($B36,'By Population'!$G$2:$K$14,5,FALSE))*'By Speed'!$O49*Scenario_VMT_5*$N36","v":0},{"$f":"(VLOOKUP($B36,'By Population'!$G$2:$K$14,5,FALSE))*'By Speed'!$P49*Scenario_VMT_5*$N36","v":0},{"$f":"(VLOOKUP($B36,'By Population'!$G$2:$K$14,5,FALSE))*'By Speed'!$Q49*Scenario_VMT_5*$N36","v":0},{"$f":"(VLOOKUP($B36,'By Population'!$G$2:$K$14,5,FALSE))*'By Speed'!$R49*Scenario_VMT_5*$N36","v":0},{"$f":"(VLOOKUP($B36,'By Population'!$G$2:$K$14,5,FALSE))*'By Speed'!$S49*Scenario_VMT_5*$N36","v":0},{"$f":"(VLOOKUP($B36,'By Population'!$G$2:$K$14,5,FALSE))*'By Speed'!$T49*Scenario_VMT_5*$N36","v":0},{"$f":"(VLOOKUP($B36,'By Population'!$G$2:$K$14,5,FALSE))*'By Speed'!$U49*Scenario_VMT_5*$N36","v":0},0]
[44,"LDT1_DSL",40,"LDT1_DSL_40",{"$f":"(VLOOKUP($B37,'By Population'!$G$2:$K$14,5,FALSE))*'By Speed'!$M50*Scenario_VMT_EX*$N37","v":0},{"$f":"(VLOOKUP($B37,'By Population'!$G$2:$K$14,5,FALSE))*'By Speed'!$N50*Scenario_VMT_EX*$N37","v":0},{"$f":"(VLOOKUP($B37,'By Population'!$G$2:$K$14,5,FALSE))*'By Speed'!$O50*Scenario_VMT_EX*$N37","v":0},{"$f":"(VLOOKUP($B37,'By Population'!$G$2:$K$14,5,FALSE))*'By Speed'!$P50*Scenario_VMT_EX*$N37","v":0},{"$f":"(VLOOKUP($B37,'By Population'!$G$2:$K$14,5,FALSE))*'By Speed'!$Q50*Scenario_VMT_EX*$N37","v":0},{"$f":"(VLOOKUP($B37,'By Population'!$G$2:$K$14,5,FALSE))*'By Speed'!$R50*Scenario_VMT_EX*$N37","v":0},{"$f":"(VLOOKUP($B37,'By Population'!$G$2:$K$14,5,FALSE))*'By Speed'!$S50*Scenario_VMT_EX*$N37","v":0},{"$f":"(VLOOKUP($B37,'By Population'!$G$2:$K$14,5,FALSE))*'By Speed'!$T50*Scenario_VMT_EX*$N37","v":0},{"$f":"(VLOOKUP($B37,'By Population'!$G$2:$K$14,5,FALSE))*'By Speed'!$U50*Scenario_VMT_EX*$N37","v":0},0,{"$f":"(VLOOKUP($B37,'By Population'!$G$2:$K$14,5,FALSE))*'By Speed'!$M50*Scenario_VMT_1*$N37","v":0},{"$f":"(VLOOKUP($B37,'By Population'!$G$2:$K$14,5,FALSE))*'By Speed'!$N50*Scenario_VMT_1*$N37","v":0},{"$f":"(VLOOKUP($B37,'By Population'!$G$2:$K$14,5,FALSE))*'By Speed'!$O50*Scenario_VMT_1*$N37","v":0},{"$f":"(VLOOKUP($B37,'By Population'!$G$2:$K$14,5,FALSE))*'By Speed'!$P50*Scenario_VMT_1*$N37","v":0},{"$f":"(VLOOKUP($B37,'By Population'!$G$2:$K$14,5,FALSE))*'By Speed'!$Q50*Scenario_VMT_1*$N37","v":0},{"$f":"(VLOOKUP($B37,'By Population'!$G$2:$K$14,5,FALSE))*'By Speed'!$R50*Scenario_VMT_1*$N37","v":0},{"$f":"(VLOOKUP($B37,'By Population'!$G$2:$K$14,5,FALSE))*'By Speed'!$S50*Scenario_VMT_1*$N37","v":0},{"$f":"(VLOOKUP($B37,'By Population'!$G$2:$K$14,5,FALSE))*'By Speed'!$T50*Scenario_VMT_1*$N37","v":0},{"$f":"(VLOOKUP($B37,'By Population'!$G$2:$K$14,5,FALSE))*'By Speed'!$U50*Scenario_VMT_1*$N37","v":0},0,{"$f":"(VLOOKUP($B37,'By Population'!$G$2:$K$14,5,FALSE))*'By Speed'!$M50*Scenario_VMT_2*$N37","v":0},{"$f":"(VLOOKUP($B37,'By Population'!$G$2:$K$14,5,FALSE))*'By Speed'!$N50*Scenario_VMT_2*$N37","v":0},{"$f":"(VLOOKUP($B37,'By Population'!$G$2:$K$14,5,FALSE))*'By Speed'!$O50*Scenario_VMT_2*$N37","v":0},{"$f":"(VLOOKUP($B37,'By Population'!$G$2:$K$14,5,FALSE))*'By Speed'!$P50*Scenario_VMT_2*$N37","v":0},{"$f":"(VLOOKUP($B37,'By Population'!$G$2:$K$14,5,FALSE))*'By Speed'!$Q50*Scenario_VMT_2*$N37","v":0},{"$f":"(VLOOKUP($B37,'By Population'!$G$2:$K$14,5,FALSE))*'By Speed'!$R50*Scenario_VMT_2*$N37","v":0},{"$f":"(VLOOKUP($B37,'By Population'!$G$2:$K$14,5,FALSE))*'By Speed'!$S50*Scenario_VMT_2*$N37","v":0},{"$f":"(VLOOKUP($B37,'By Population'!$G$2:$K$14,5,FALSE))*'By Speed'!$T50*Scenario_VMT_2*$N37","v":0},{"$f":"(VLOOKUP($B37,'By Population'!$G$2:$K$14,5,FALSE))*'By Speed'!$U50*Scenario_VMT_2*$N37","v":0},0,{"$f":"(VLOOKUP($B37,'By Population'!$G$2:$K$14,5,FALSE))*'By Speed'!$M50*Scenario_VMT_3*$N37","v":0},{"$f":"(VLOOKUP($B37,'By Population'!$G$2:$K$14,5,FALSE))*'By Speed'!$N50*Scenario_VMT_3*$N37","v":0},{"$f":"(VLOOKUP($B37,'By Population'!$G$2:$K$14,5,FALSE))*'By Speed'!$O50*Scenario_VMT_3*$N37","v":0},{"$f":"(VLOOKUP($B37,'By Population'!$G$2:$K$14,5,FALSE))*'By Speed'!$P50*Scenario_VMT_3*$N37","v":0},{"$f":"(VLOOKUP($B37,'By Population'!$G$2:$K$14,5,FALSE))*'By Speed'!$Q50*Scenario_VMT_3*$N37","v":0},{"$f":"(VLOOKUP($B37,'By Population'!$G$2:$K$14,5,FALSE))*'By Speed'!$R50*Scenario_VMT_3*$N37","v":0},{"$f":"(VLOOKUP($B37,'By Population'!$G$2:$K$14,5,FALSE))*'By Speed'!$S50*Scenario_VMT_3*$N37","v":0},{"$f":"(VLOOKUP($B37,'By Population'!$G$2:$K$14,5,FALSE))*'By Speed'!$T50*Scenario_VMT_3*$N37","v":0},{"$f":"(VLOOKUP($B37,'By Population'!$G$2:$K$14,5,FALSE))*'By Speed'!$U50*Scenario_VMT_3*$N37","v":0},0,{"$f":"(VLOOKUP($B37,'By Population'!$G$2:$K$14,5,FALSE))*'By Speed'!$M50*Scenario_VMT_4*$N37","v":0},{"$f":"(VLOOKUP($B37,'By Population'!$G$2:$K$14,5,FALSE))*'By Speed'!$N50*Scenario_VMT_4*$N37","v":0},{"$f":"(VLOOKUP($B37,'By Population'!$G$2:$K$14,5,FALSE))*'By Speed'!$O50*Scenario_VMT_4*$N37","v":0},{"$f":"(VLOOKUP($B37,'By Population'!$G$2:$K$14,5,FALSE))*'By Speed'!$P50*Scenario_VMT_4*$N37","v":0},{"$f":"(VLOOKUP($B37,'By Population'!$G$2:$K$14,5,FALSE))*'By Speed'!$Q50*Scenario_VMT_4*$N37","v":0},{"$f":"(VLOOKUP($B37,'By Population'!$G$2:$K$14,5,FALSE))*'By Speed'!$R50*Scenario_VMT_4*$N37","v":0},{"$f":"(VLOOKUP($B37,'By Population'!$G$2:$K$14,5,FALSE))*'By Speed'!$S50*Scenario_VMT_4*$N37","v":0},{"$f":"(VLOOKUP($B37,'By Population'!$G$2:$K$14,5,FALSE))*'By Speed'!$T50*Scenario_VMT_4*$N37","v":0},{"$f":"(VLOOKUP($B37,'By Population'!$G$2:$K$14,5,FALSE))*'By Speed'!$U50*Scenario_VMT_4*$N37","v":0},0,{"$f":"(VLOOKUP($B37,'By Population'!$G$2:$K$14,5,FALSE))*'By Speed'!$M50*Scenario_VMT_5*$N37","v":0},{"$f":"(VLOOKUP($B37,'By Population'!$G$2:$K$14,5,FALSE))*'By Speed'!$N50*Scenario_VMT_5*$N37","v":0},{"$f":"(VLOOKUP($B37,'By Population'!$G$2:$K$14,5,FALSE))*'By Speed'!$O50*Scenario_VMT_5*$N37","v":0},{"$f":"(VLOOKUP($B37,'By Population'!$G$2:$K$14,5,FALSE))*'By Speed'!$P50*Scenario_VMT_5*$N37","v":0},{"$f":"(VLOOKUP($B37,'By Population'!$G$2:$K$14,5,FALSE))*'By Speed'!$Q50*Scenario_VMT_5*$N37","v":0},{"$f":"(VLOOKUP($B37,'By Population'!$G$2:$K$14,5,FALSE))*'By Speed'!$R50*Scenario_VMT_5*$N37","v":0},{"$f":"(VLOOKUP($B37,'By Population'!$G$2:$K$14,5,FALSE))*'By Speed'!$S50*Scenario_VMT_5*$N37","v":0},{"$f":"(VLOOKUP($B37,'By Population'!$G$2:$K$14,5,FALSE))*'By Speed'!$T50*Scenario_VMT_5*$N37","v":0},{"$f":"(VLOOKUP($B37,'By Population'!$G$2:$K$14,5,FALSE))*'By Speed'!$U50*Scenario_VMT_5*$N37","v":0},0]
[46,"LDT1_DSL",45,"LDT1_DSL_45",{"$f":"(VLOOKUP($B38,'By Population'!$G$2:$K$14,5,FALSE))*'By Speed'!$M51*Scenario_VMT_EX*$N38","v":0},{"$f":"(VLOOKUP($B38,'By Population'!$G$2:$K$14,5,FALSE))*'By Speed'!$N51*Scenario_VMT_EX*$N38","v":0},{"$f":"(VLOOKUP($B38,'By Population'!$G$2:$K$14,5,FALSE))*'By Speed'!$O51*Scenario_VMT_EX*$N38","v":0},{"$f":"(VLOOKUP($B38,'By Population'!$G$2:$K$14,5,FALSE))*'By Speed'!$P51*Scenario_VMT_EX*$N38","v":0},{"$f":"(VLOOKUP($B38,'By Population'!$G$2:$K$14,5,FALSE))*'By Speed'!$Q51*Scenario_VMT_EX*$N38","v":0},{"$f":"(VLOOKUP($B38,'By Population'!$G$2:$K$14,5,FALSE))*'By Speed'!$R51*Scenario_VMT_EX*$N38","v":0},{"$f":"(VLOOKUP($B38,'By Population'!$G$2:$K$14,5,FALSE))*'By Speed'!$S51*Scenario_VMT_EX*$N38","v":0},{"$f":"(VLOOKUP($B38,'By Population'!$G$2:$K$14,5,FALSE))*'By Speed'!$T51*Scenario_VMT_EX*$N38","v":0},{"$f":"(VLOOKUP($B38,'By Population'!$G$2:$K$14,5,FALSE))*'By Speed'!$U51*Scenario_VMT_EX*$N38","v":0},0,{"$f":"(VLOOKUP($B38,'By Population'!$G$2:$K$14,5,FALSE))*'By Speed'!$M51*Scenario_VMT_1*$N38","v":0},{"$f":"(VLOOKUP($B38,'By Population'!$G$2:$K$14,5,FALSE))*'By Speed'!$N51*Scenario_VMT_1*$N38","v":0},{"$f":"(VLOOKUP($B38,'By Population'!$G$2:$K$14,5,FALSE))*'By Speed'!$O51*Scenario_VMT_1*$N38","v":0},{"$f":"(VLOOKUP($B38,'By Population'!$G$2:$K$14,5,FALSE))*'By Speed'!$P51*Scenario_VMT_1*$N38","v":0},{"$f":"(VLOOKUP($B38,'By Population'!$G$2:$K$14,5,FALSE))*'By Speed'!$Q51*Scenario_VMT_1*$N38","v":0},{"$f":"(VLOOKUP($B38,'By Population'!$G$2:$K$14,5,FALSE))*'By Speed'!$R51*Scenario_VMT_1*$N38","v":0},{"$f":"(VLOOKUP($B38,'By Population'!$G$2:$K$14,5,FALSE))*'By Speed'!$S51*Scenario_VMT_1*$N38","v":0},{"$f":"(VLOOKUP($B38,'By Population'!$G$2:$K$14,5,FALSE))*'By Speed'!$T51*Scenario_VMT_1*$N38","v":0},{"$f":"(VLOOKUP($B38,'By Population'!$G$2:$K$14,5,FALSE))*'By Speed'!$U51*Scenario_VMT_1*$N38","v":0},0,{"$f":"(VLOOKUP($B38,'By Population'!$G$2:$K$14,5,FALSE))*'By Speed'!$M51*Scenario_VMT_2*$N38","v":0},{"$f":"(VLOOKUP($B38,'By Population'!$G$2:$K$14,5,FALSE))*'By Speed'!$N51*Scenario_VMT_2*$N38","v":0},{"$f":"(VLOOKUP($B38,'By Population'!$G$2:$K$14,5,FALSE))*'By Speed'!$O51*Scenario_VMT_2*$N38","v":0},{"$f":"(VLOOKUP($B38,'By Population'!$G$2:$K$14,5,FALSE))*'By Speed'!$P51*Scenario_VMT_2*$N38","v":0},{"$f":"(VLOOKUP($B38,'By Population'!$G$2:$K$14,5,FALSE))*'By Speed'!$Q51*Scenario_VMT_2*$N38","v":0},{"$f":"(VLOOKUP($B38,'By Population'!$G$2:$K$14,5,FALSE))*'By Speed'!$R51*Scenario_VMT_2*$N38","v":0},{"$f":"(VLOOKUP($B38,'By Population'!$G$2:$K$14,5,FALSE))*'By Speed'!$S51*Scenario_VMT_2*$N38","v":0},{"$f":"(VLOOKUP($B38,'By Population'!$G$2:$K$14,5,FALSE))*'By Speed'!$T51*Scenario_VMT_2*$N38","v":0},{"$f":"(VLOOKUP($B38,'By Population'!$G$2:$K$14,5,FALSE))*'By Speed'!$U51*Scenario_VMT_2*$N38","v":0},0,{"$f":"(VLOOKUP($B38,'By Population'!$G$2:$K$14,5,FALSE))*'By Speed'!$M51*Scenario_VMT_3*$N38","v":0},{"$f":"(VLOOKUP($B38,'By Population'!$G$2:$K$14,5,FALSE))*'By Speed'!$N51*Scenario_VMT_3*$N38","v":0},{"$f":"(VLOOKUP($B38,'By Population'!$G$2:$K$14,5,FALSE))*'By Speed'!$O51*Scenario_VMT_3*$N38","v":0},{"$f":"(VLOOKUP($B38,'By Population'!$G$2:$K$14,5,FALSE))*'By Speed'!$P51*Scenario_VMT_3*$N38","v":0},{"$f":"(VLOOKUP($B38,'By Population'!$G$2:$K$14,5,FALSE))*'By Speed'!$Q51*Scenario_VMT_3*$N38","v":0},{"$f":"(VLOOKUP($B38,'By Population'!$G$2:$K$14,5,FALSE))*'By Speed'!$R51*Scenario_VMT_3*$N38","v":0},{"$f":"(VLOOKUP($B38,'By Population'!$G$2:$K$14,5,FALSE))*'By Speed'!$S51*Scenario_VMT_3*$N38","v":0},{"$f":"(VLOOKUP($B38,'By Population'!$G$2:$K$14,5,FALSE))*'By Speed'!$T51*Scenario_VMT_3*$N38","v":0},{"$f":"(VLOOKUP($B38,'By Population'!$G$2:$K$14,5,FALSE))*'By Speed'!$U51*Scenario_VMT_3*$N38","v":0},0,{"$f":"(VLOOKUP($B38,'By Population'!$G$2:$K$14,5,FALSE))*'By Speed'!$M51*Scenario_VMT_4*$N38","v":0},{"$f":"(VLOOKUP($B38,'By Population'!$G$2:$K$14,5,FALSE))*'By Speed'!$N51*Scenario_VMT_4*$N38","v":0},{"$f":"(VLOOKUP($B38,'By Population'!$G$2:$K$14,5,FALSE))*'By Speed'!$O51*Scenario_VMT_4*$N38","v":0},{"$f":"(VLOOKUP($B38,'By Population'!$G$2:$K$14,5,FALSE))*'By Speed'!$P51*Scenario_VMT_4*$N38","v":0},{"$f":"(VLOOKUP($B38,'By Population'!$G$2:$K$14,5,FALSE))*'By Speed'!$Q51*Scenario_VMT_4*$N38","v":0},{"$f":"(VLOOKUP($B38,'By Population'!$G$2:$K$14,5,FALSE))*'By Speed'!$R51*Scenario_VMT_4*$N38","v":0},{"$f":"(VLOOKUP($B38,'By Population'!$G$2:$K$14,5,FALSE))*'By Speed'!$S51*Scenario_VMT_4*$N38","v":0},{"$f":"(VLOOKUP($B38,'By Population'!$G$2:$K$14,5,FALSE))*'By Speed'!$T51*Scenario_VMT_4*$N38","v":0},{"$f":"(VLOOKUP($B38,'By Population'!$G$2:$K$14,5,FALSE))*'By Speed'!$U51*Scenario_VMT_4*$N38","v":0},0,{"$f":"(VLOOKUP($B38,'By Population'!$G$2:$K$14,5,FALSE))*'By Speed'!$M51*Scenario_VMT_5*$N38","v":0},{"$f":"(VLOOKUP($B38,'By Population'!$G$2:$K$14,5,FALSE))*'By Speed'!$N51*Scenario_VMT_5*$N38","v":0},{"$f":"(VLOOKUP($B38,'By Population'!$G$2:$K$14,5,FALSE))*'By Speed'!$O51*Scenario_VMT_5*$N38","v":0},{"$f":"(VLOOKUP($B38,'By Population'!$G$2:$K$14,5,FALSE))*'By Speed'!$P51*Scenario_VMT_5*$N38","v":0},{"$f":"(VLOOKUP($B38,'By Population'!$G$2:$K$14,5,FALSE))*'By Speed'!$Q51*Scenario_VMT_5*$N38","v":0},{"$f":"(VLOOKUP($B38,'By Population'!$G$2:$K$14,5,FALSE))*'By Speed'!$R51*Scenario_VMT_5*$N38","v":0},{"$f":"(VLOOKUP($B38,'By Population'!$G$2:$K$14,5,FALSE))*'By Speed'!$S51*Scenario_VMT_5*$N38","v":0},{"$f":"(VLOOKUP($B38,'By Population'!$G$2:$K$14,5,FALSE))*'By Speed'!$T51*Scenario_VMT_5*$N38","v":0},{"$f":"(VLOOKUP($B38,'By Population'!$G$2:$K$14,5,FALSE))*'By Speed'!$U51*Scenario_VMT_5*$N38","v":0},0]
[30,"LDT1_DSL",5,"LDT1_DSL_5",{"$f":"(VLOOKUP($B39,'By Population'!$G$2:$K$14,5,FALSE))*'By Speed'!$M52*Scenario_VMT_EX*$N39","v":0},{"$f":"(VLOOKUP($B39,'By Population'!$G$2:$K$14,5,FALSE))*'By Speed'!$N52*Scenario_VMT_EX*$N39","v":0},{"$f":"(VLOOKUP($B39,'By Population'!$G$2:$K$14,5,FALSE))*'By Speed'!$O52*Scenario_VMT_EX*$N39","v":0},{"$f":"(VLOOKUP($B39,'By Population'!$G$2:$K$14,5,FALSE))*'By Speed'!$P52*Scenario_VMT_EX*$N39","v":0},{"$f":"(VLOOKUP($B39,'By Population'!$G$2:$K$14,5,FALSE))*'By Speed'!$Q52*Scenario_VMT_EX*$N39","v":0},{"$f":"(VLOOKUP($B39,'By Population'!$G$2:$K$14,5,FALSE))*'By Speed'!$R52*Scenario_VMT_EX*$N39","v":0},{"$f":"(VLOOKUP($B39,'By Population'!$G$2:$K$14,5,FALSE))*'By Speed'!$S52*Scenario_VMT_EX*$N39","v":0},{"$f":"(VLOOKUP($B39,'By Population'!$G$2:$K$14,5,FALSE))*'By Speed'!$T52*Scenario_VMT_EX*$N39","v":0},{"$f":"(VLOOKUP($B39,'By Population'!$G$2:$K$14,5,FALSE))*'By Speed'!$U52*Scenario_VMT_EX*$N39","v":0},0,{"$f":"(VLOOKUP($B39,'By Population'!$G$2:$K$14,5,FALSE))*'By Speed'!$M52*Scenario_VMT_1*$N39","v":0},{"$f":"(VLOOKUP($B39,'By Population'!$G$2:$K$14,5,FALSE))*'By Speed'!$N52*Scenario_VMT_1*$N39","v":0},{"$f":"(VLOOKUP($B39,'By Population'!$G$2:$K$14,5,FALSE))*'By Speed'!$O52*Scenario_VMT_1*$N39","v":0},{"$f":"(VLOOKUP($B39,'By Population'!$G$2:$K$14,5,FALSE))*'By Speed'!$P52*Scenario_VMT_1*$N39","v":0},{"$f":"(VLOOKUP($B39,'By Population'!$G$2:$K$14,5,FALSE))*'By Speed'!$Q52*Scenario_VMT_1*$N39","v":0},{"$f":"(VLOOKUP($B39,'By Population'!$G$2:$K$14,5,FALSE))*'By Speed'!$R52*Scenario_VMT_1*$N39","v":0},{"$f":"(VLOOKUP($B39,'By Population'!$G$2:$K$14,5,FALSE))*'By Speed'!$S52*Scenario_VMT_1*$N39","v":0},{"$f":"(VLOOKUP($B39,'By Population'!$G$2:$K$14,5,FALSE))*'By Speed'!$T52*Scenario_VMT_1*$N39","v":0},{"$f":"(VLOOKUP($B39,'By Population'!$G$2:$K$14,5,FALSE))*'By Speed'!$U52*Scenario_VMT_1*$N39","v":0},0,{"$f":"(VLOOKUP($B39,'By Population'!$G$2:$K$14,5,FALSE))*'By Speed'!$M52*Scenario_VMT_2*$N39","v":0},{"$f":"(VLOOKUP($B39,'By Population'!$G$2:$K$14,5,FALSE))*'By Speed'!$N52*Scenario_VMT_2*$N39","v":0},{"$f":"(VLOOKUP($B39,'By Population'!$G$2:$K$14,5,FALSE))*'By Speed'!$O52*Scenario_VMT_2*$N39","v":0},{"$f":"(VLOOKUP($B39,'By Population'!$G$2:$K$14,5,FALSE))*'By Speed'!$P52*Scenario_VMT_2*$N39","v":0},{"$f":"(VLOOKUP($B39,'By Population'!$G$2:$K$14,5,FALSE))*'By Speed'!$Q52*Scenario_VMT_2*$N39","v":0},{"$f":"(VLOOKUP($B39,'By Population'!$G$2:$K$14,5,FALSE))*'By Speed'!$R52*Scenario_VMT_2*$N39","v":0},{"$f":"(VLOOKUP($B39,'By Population'!$G$2:$K$14,5,FALSE))*'By Speed'!$S52*Scenario_VMT_2*$N39","v":0},{"$f":"(VLOOKUP($B39,'By Population'!$G$2:$K$14,5,FALSE))*'By Speed'!$T52*Scenario_VMT_2*$N39","v":0},{"$f":"(VLOOKUP($B39,'By Population'!$G$2:$K$14,5,FALSE))*'By Speed'!$U52*Scenario_VMT_2*$N39","v":0},0,{"$f":"(VLOOKUP($B39,'By Population'!$G$2:$K$14,5,FALSE))*'By Speed'!$M52*Scenario_VMT_3*$N39","v":0},{"$f":"(VLOOKUP($B39,'By Population'!$G$2:$K$14,5,FALSE))*'By Speed'!$N52*Scenario_VMT_3*$N39","v":0},{"$f":"(VLOOKUP($B39,'By Population'!$G$2:$K$14,5,FALSE))*'By Speed'!$O52*Scenario_VMT_3*$N39","v":0},{"$f":"(VLOOKUP($B39,'By Population'!$G$2:$K$14,5,FALSE))*'By Speed'!$P52*Scenario_VMT_3*$N39","v":0},{"$f":"(VLOOKUP($B39,'By Population'!$G$2:$K$14,5,FALSE))*'By Speed'!$Q52*Scenario_VMT_3*$N39","v":0},{"$f":"(VLOOKUP($B39,'By Population'!$G$2:$K$14,5,FALSE))*'By Speed'!$R52*Scenario_VMT_3*$N39","v":0},{"$f":"(VLOOKUP($B39,'By Population'!$G$2:$K$14,5,FALSE))*'By Speed'!$S52*Scenario_VMT_3*$N39","v":0},{"$f":"(VLOOKUP($B39,'By Population'!$G$2:$K$14,5,FALSE))*'By Speed'!$T52*Scenario_VMT_3*$N39","v":0},{"$f":"(VLOOKUP($B39,'By Population'!$G$2:$K$14,5,FALSE))*'By Speed'!$U52*Scenario_VMT_3*$N39","v":0},0,{"$f":"(VLOOKUP($B39,'By Population'!$G$2:$K$14,5,FALSE))*'By Speed'!$M52*Scenario_VMT_4*$N39","v":0},{"$f":"(VLOOKUP($B39,'By Population'!$G$2:$K$14,5,FALSE))*'By Speed'!$N52*Scenario_VMT_4*$N39","v":0},{"$f":"(VLOOKUP($B39,'By Population'!$G$2:$K$14,5,FALSE))*'By Speed'!$O52*Scenario_VMT_4*$N39","v":0},{"$f":"(VLOOKUP($B39,'By Population'!$G$2:$K$14,5,FALSE))*'By Speed'!$P52*Scenario_VMT_4*$N39","v":0},{"$f":"(VLOOKUP($B39,'By Population'!$G$2:$K$14,5,FALSE))*'By Speed'!$Q52*Scenario_VMT_4*$N39","v":0},{"$f":"(VLOOKUP($B39,'By Population'!$G$2:$K$14,5,FALSE))*'By Speed'!$R52*Scenario_VMT_4*$N39","v":0},{"$f":"(VLOOKUP($B39,'By Population'!$G$2:$K$14,5,FALSE))*'By Speed'!$S52*Scenario_VMT_4*$N39","v":0},{"$f":"(VLOOKUP($B39,'By Population'!$G$2:$K$14,5,FALSE))*'By Speed'!$T52*Scenario_VMT_4*$N39","v":0},{"$f":"(VLOOKUP($B39,'By Population'!$G$2:$K$14,5,FALSE))*'By Speed'!$U52*Scenario_VMT_4*$N39","v":0},0,{"$f":"(VLOOKUP($B39,'By Population'!$G$2:$K$14,5,FALSE))*'By Speed'!$M52*Scenario_VMT_5*$N39","v":0},{"$f":"(VLOOKUP($B39,'By Population'!$G$2:$K$14,5,FALSE))*'By Speed'!$N52*Scenario_VMT_5*$N39","v":0},{"$f":"(VLOOKUP($B39,'By Population'!$G$2:$K$14,5,FALSE))*'By Speed'!$O52*Scenario_VMT_5*$N39","v":0},{"$f":"(VLOOKUP($B39,'By Population'!$G$2:$K$14,5,FALSE))*'By Speed'!$P52*Scenario_VMT_5*$N39","v":0},{"$f":"(VLOOKUP($B39,'By Population'!$G$2:$K$14,5,FALSE))*'By Speed'!$Q52*Scenario_VMT_5*$N39","v":0},{"$f":"(VLOOKUP($B39,'By Population'!$G$2:$K$14,5,FALSE))*'By Speed'!$R52*Scenario_VMT_5*$N39","v":0},{"$f":"(VLOOKUP($B39,'By Population'!$G$2:$K$14,5,FALSE))*'By Speed'!$S52*Scenario_VMT_5*$N39","v":0},{"$f":"(VLOOKUP($B39,'By Population'!$G$2:$K$14,5,FALSE))*'By Speed'!$T52*Scenario_VMT_5*$N39","v":0},{"$f":"(VLOOKUP($B39,'By Population'!$G$2:$K$14,5,FALSE))*'By Speed'!$U52*Scenario_VMT_5*$N39","v":0},0]
[48,"LDT1_DSL",50,"LDT1_DSL_50",{"$f":"(VLOOKUP($B40,'By Population'!$G$2:$K$14,5,FALSE))*'By Speed'!$M53*Scenario_VMT_EX*$N40","v":0},{"$f":"(VLOOKUP($B40,'By Population'!$G$2:$K$14,5,FALSE))*'By Speed'!$N53*Scenario_VMT_EX*$N40","v":0},{"$f":"(VLOOKUP($B40,'By Population'!$G$2:$K$14,5,FALSE))*'By Speed'!$O53*Scenario_VMT_EX*$N40","v":0},{"$f":"(VLOOKUP($B40,'By Population'!$G$2:$K$14,5,FALSE))*'By Speed'!$P53*Scenario_VMT_EX*$N40","v":0},{"$f":"(VLOOKUP($B40,'By Population'!$G$2:$K$14,5,FALSE))*'By Speed'!$Q53*Scenario_VMT_EX*$N40","v":0},{"$f":"(VLOOKUP($B40,'By Population'!$G$2:$K$14,5,FALSE))*'By Speed'!$R53*Scenario_VMT_EX*$N40","v":0},{"$f":"(VLOOKUP($B40,'By Population'!$G$2:$K$14,5,FALSE))*'By Speed'!$S53*Scenario_VMT_EX*$N40","v":0},{"$f":"(VLOOKUP($B40,'By Population'!$G$2:$K$14,5,FALSE))*'By Speed'!$T53*Scenario_VMT_EX*$N40","v":0},{"$f":"(VLOOKUP($B40,'By Population'!$G$2:$K$14,5,FALSE))*'By Speed'!$U53*Scenario_VMT_EX*$N40","v":0},0,{"$f":"(VLOOKUP($B40,'By Population'!$G$2:$K$14,5,FALSE))*'By Speed'!$M53*Scenario_VMT_1*$N40","v":0},{"$f":"(VLOOKUP($B40,'By Population'!$G$2:$K$14,5,FALSE))*'By Speed'!$N53*Scenario_VMT_1*$N40","v":0},{"$f":"(VLOOKUP($B40,'By Population'!$G$2:$K$14,5,FALSE))*'By Speed'!$O53*Scenario_VMT_1*$N40","v":0},{"$f":"(VLOOKUP($B40,'By Population'!$G$2:$K$14,5,FALSE))*'By Speed'!$P53*Scenario_VMT_1*$N40","v":0},{"$f":"(VLOOKUP($B40,'By Population'!$G$2:$K$14,5,FALSE))*'By Speed'!$Q53*Scenario_VMT_1*$N40","v":0},{"$f":"(VLOOKUP($B40,'By Population'!$G$2:$K$14,5,FALSE))*'By Speed'!$R53*Scenario_VMT_1*$N40","v":0},{"$f":"(VLOOKUP($B40,'By Population'!$G$2:$K$14,5,FALSE))*'By Speed'!$S53*Scenario_VMT_1*$N40","v":0},{"$f":"(VLOOKUP($B40,'By Population'!$G$2:$K$14,5,FALSE))*'By Speed'!$T53*Scenario_VMT_1*$N40","v":0},{"$f":"(VLOOKUP($B40,'By Population'!$G$2:$K$14,5,FALSE))*'By Speed'!$U53*Scenario_VMT_1*$N40","v":0},0,{"$f":"(VLOOKUP($B40,'By Population'!$G$2:$K$14,5,FALSE))*'By Speed'!$M53*Scenario_VMT_2*$N40","v":0},{"$f":"(VLOOKUP($B40,'By Population'!$G$2:$K$14,5,FALSE))*'By Speed'!$N53*Scenario_VMT_2*$N40","v":0},{"$f":"(VLOOKUP($B40,'By Population'!$G$2:$K$14,5,FALSE))*'By Speed'!$O53*Scenario_VMT_2*$N40","v":0},{"$f":"(VLOOKUP($B40,'By Population'!$G$2:$K$14,5,FALSE))*'By Speed'!$P53*Scenario_VMT_2*$N40","v":0},{"$f":"(VLOOKUP($B40,'By Population'!$G$2:$K$14,5,FALSE))*'By Speed'!$Q53*Scenario_VMT_2*$N40","v":0},{"$f":"(VLOOKUP($B40,'By Population'!$G$2:$K$14,5,FALSE))*'By Speed'!$R53*Scenario_VMT_2*$N40","v":0},{"$f":"(VLOOKUP($B40,'By Population'!$G$2:$K$14,5,FALSE))*'By Speed'!$S53*Scenario_VMT_2*$N40","v":0},{"$f":"(VLOOKUP($B40,'By Population'!$G$2:$K$14,5,FALSE))*'By Speed'!$T53*Scenario_VMT_2*$N40","v":0},{"$f":"(VLOOKUP($B40,'By Population'!$G$2:$K$14,5,FALSE))*'By Speed'!$U53*Scenario_VMT_2*$N40","v":0},0,{"$f":"(VLOOKUP($B40,'By Population'!$G$2:$K$14,5,FALSE))*'By Speed'!$M53*Scenario_VMT_3*$N40","v":0},{"$f":"(VLOOKUP($B40,'By Population'!$G$2:$K$14,5,FALSE))*'By Speed'!$N53*Scenario_VMT_3*$N40","v":0},{"$f":"(VLOOKUP($B40,'By Population'!$G$2:$K$14,5,FALSE))*'By Speed'!$O53*Scenario_VMT_3*$N40","v":0},{"$f":"(VLOOKUP($B40,'By Population'!$G$2:$K$14,5,FALSE))*'By Speed'!$P53*Scenario_VMT_3*$N40","v":0},{"$f":"(VLOOKUP($B40,'By Population'!$G$2:$K$14,5,FALSE))*'By Speed'!$Q53*Scenario_VMT_3*$N40","v":0},{"$f":"(VLOOKUP($B40,'By Population'!$G$2:$K$14,5,FALSE))*'By Speed'!$R53*Scenario_VMT_3*$N40","v":0},{"$f":"(VLOOKUP($B40,'By Population'!$G$2:$K$14,5,FALSE))*'By Speed'!$S53*Scenario_VMT_3*$N40","v":0},{"$f":"(VLOOKUP($B40,'By Population'!$G$2:$K$14,5,FALSE))*'By Speed'!$T53*Scenario_VMT_3*$N40","v":0},{"$f":"(VLOOKUP($B40,'By Population'!$G$2:$K$14,5,FALSE))*'By Speed'!$U53*Scenario_VMT_3*$N40","v":0},0,{"$f":"(VLOOKUP($B40,'By Population'!$G$2:$K$14,5,FALSE))*'By Speed'!$M53*Scenario_VMT_4*$N40","v":0},{"$f":"(VLOOKUP($B40,'By Population'!$G$2:$K$14,5,FALSE))*'By Speed'!$N53*Scenario_VMT_4*$N40","v":0},{"$f":"(VLOOKUP($B40,'By Population'!$G$2:$K$14,5,FALSE))*'By Speed'!$O53*Scenario_VMT_4*$N40","v":0},{"$f":"(VLOOKUP($B40,'By Population'!$G$2:$K$14,5,FALSE))*'By Speed'!$P53*Scenario_VMT_4*$N40","v":0},{"$f":"(VLOOKUP($B40,'By Population'!$G$2:$K$14,5,FALSE))*'By Speed'!$Q53*Scenario_VMT_4*$N40","v":0},{"$f":"(VLOOKUP($B40,'By Population'!$G$2:$K$14,5,FALSE))*'By Speed'!$R53*Scenario_VMT_4*$N40","v":0},{"$f":"(VLOOKUP($B40,'By Population'!$G$2:$K$14,5,FALSE))*'By Speed'!$S53*Scenario_VMT_4*$N40","v":0},{"$f":"(VLOOKUP($B40,'By Population'!$G$2:$K$14,5,FALSE))*'By Speed'!$T53*Scenario_VMT_4*$N40","v":0},{"$f":"(VLOOKUP($B40,'By Population'!$G$2:$K$14,5,FALSE))*'By Speed'!$U53*Scenario_VMT_4*$N40","v":0},0,{"$f":"(VLOOKUP($B40,'By Population'!$G$2:$K$14,5,FALSE))*'By Speed'!$M53*Scenario_VMT_5*$N40","v":0},{"$f":"(VLOOKUP($B40,'By Population'!$G$2:$K$14,5,FALSE))*'By Speed'!$N53*Scenario_VMT_5*$N40","v":0},{"$f":"(VLOOKUP($B40,'By Population'!$G$2:$K$14,5,FALSE))*'By Speed'!$O53*Scenario_VMT_5*$N40","v":0},{"$f":"(VLOOKUP($B40,'By Population'!$G$2:$K$14,5,FALSE))*'By Speed'!$P53*Scenario_VMT_5*$N40","v":0},{"$f":"(VLOOKUP($B40,'By Population'!$G$2:$K$14,5,FALSE))*'By Speed'!$Q53*Scenario_VMT_5*$N40","v":0},{"$f":"(VLOOKUP($B40,'By Population'!$G$2:$K$14,5,FALSE))*'By Speed'!$R53*Scenario_VMT_5*$N40","v":0},{"$f":"(VLOOKUP($B40,'By Population'!$G$2:$K$14,5,FALSE))*'By Speed'!$S53*Scenario_VMT_5*$N40","v":0},{"$f":"(VLOOKUP($B40,'By Population'!$G$2:$K$14,5,FALSE))*'By Speed'!$T53*Scenario_VMT_5*$N40","v":0},{"$f":"(VLOOKUP($B40,'By Population'!$G$2:$K$14,5,FALSE))*'By Speed'!$U53*Scenario_VMT_5*$N40","v":0},0]
[50,"LDT1_DSL",55,"LDT1_DSL_55",{"$f":"(VLOOKUP($B41,'By Population'!$G$2:$K$14,5,FALSE))*'By Speed'!$M54*Scenario_VMT_EX*$N41","v":0},{"$f":"(VLOOKUP($B41,'By Population'!$G$2:$K$14,5,FALSE))*'By Speed'!$N54*Scenario_VMT_EX*$N41","v":0},{"$f":"(VLOOKUP($B41,'By Population'!$G$2:$K$14,5,FALSE))*'By Speed'!$O54*Scenario_VMT_EX*$N41","v":0},{"$f":"(VLOOKUP($B41,'By Population'!$G$2:$K$14,5,FALSE))*'By Speed'!$P54*Scenario_VMT_EX*$N41","v":0},{"$f":"(VLOOKUP($B41,'By Population'!$G$2:$K$14,5,FALSE))*'By Speed'!$Q54*Scenario_VMT_EX*$N41","v":0},{"$f":"(VLOOKUP($B41,'By Population'!$G$2:$K$14,5,FALSE))*'By Speed'!$R54*Scenario_VMT_EX*$N41","v":0},{"$f":"(VLOOKUP($B41,'By Population'!$G$2:$K$14,5,FALSE))*'By Speed'!$S54*Scenario_VMT_EX*$N41","v":0},{"$f":"(VLOOKUP($B41,'By Population'!$G$2:$K$14,5,FALSE))*'By Speed'!$T54*Scenario_VMT_EX*$N41","v":0},{"$f":"(VLOOKUP($B41,'By Population'!$G$2:$K$14,5,FALSE))*'By Speed'!$U54*Scenario_VMT_EX*$N41","v":0},0,{"$f":"(VLOOKUP($B41,'By Population'!$G$2:$K$14,5,FALSE))*'By Speed'!$M54*Scenario_VMT_1*$N41","v":0},{"$f":"(VLOOKUP($B41,'By Population'!$G$2:$K$14,5,FALSE))*'By Speed'!$N54*Scenario_VMT_1*$N41","v":0},{"$f":"(VLOOKUP($B41,'By Population'!$G$2:$K$14,5,FALSE))*'By Speed'!$O54*Scenario_VMT_1*$N41","v":0},{"$f":"(VLOOKUP($B41,'By Population'!$G$2:$K$14,5,FALSE))*'By Speed'!$P54*Scenario_VMT_1*$N41","v":0},{"$f":"(VLOOKUP($B41,'By Population'!$G$2:$K$14,5,FALSE))*'By Speed'!$Q54*Scenario_VMT_1*$N41","v":0},{"$f":"(VLOOKUP($B41,'By Population'!$G$2:$K$14,5,FALSE))*'By Speed'!$R54*Scenario_VMT_1*$N41","v":0},{"$f":"(VLOOKUP($B41,'By Population'!$G$2:$K$14,5,FALSE))*'By Speed'!$S54*Scenario_VMT_1*$N41","v":0},{"$f":"(VLOOKUP($B41,'By Population'!$G$2:$K$14,5,FALSE))*'By Speed'!$T54*Scenario_VMT_1*$N41","v":0},{"$f":"(VLOOKUP($B41,'By Population'!$G$2:$K$14,5,FALSE))*'By Speed'!$U54*Scenario_VMT_1*$N41","v":0},0,{"$f":"(VLOOKUP($B41,'By Population'!$G$2:$K$14,5,FALSE))*'By Speed'!$M54*Scenario_VMT_2*$N41","v":0},{"$f":"(VLOOKUP($B41,'By Population'!$G$2:$K$14,5,FALSE))*'By Speed'!$N54*Scenario_VMT_2*$N41","v":0},{"$f":"(VLOOKUP($B41,'By Population'!$G$2:$K$14,5,FALSE))*'By Speed'!$O54*Scenario_VMT_2*$N41","v":0},{"$f":"(VLOOKUP($B41,'By Population'!$G$2:$K$14,5,FALSE))*'By Speed'!$P54*Scenario_VMT_2*$N41","v":0},{"$f":"(VLOOKUP($B41,'By Population'!$G$2:$K$14,5,FALSE))*'By Speed'!$Q54*Scenario_VMT_2*$N41","v":0},{"$f":"(VLOOKUP($B41,'By Population'!$G$2:$K$14,5,FALSE))*'By Speed'!$R54*Scenario_VMT_2*$N41","v":0},{"$f":"(VLOOKUP($B41,'By Population'!$G$2:$K$14,5,FALSE))*'By Speed'!$S54*Scenario_VMT_2*$N41","v":0},{"$f":"(VLOOKUP($B41,'By Population'!$G$2:$K$14,5,FALSE))*'By Speed'!$T54*Scenario_VMT_2*$N41","v":0},{"$f":"(VLOOKUP($B41,'By Population'!$G$2:$K$14,5,FALSE))*'By Speed'!$U54*Scenario_VMT_2*$N41","v":0},0,{"$f":"(VLOOKUP($B41,'By Population'!$G$2:$K$14,5,FALSE))*'By Speed'!$M54*Scenario_VMT_3*$N41","v":0},{"$f":"(VLOOKUP($B41,'By Population'!$G$2:$K$14,5,FALSE))*'By Speed'!$N54*Scenario_VMT_3*$N41","v":0},{"$f":"(VLOOKUP($B41,'By Population'!$G$2:$K$14,5,FALSE))*'By Speed'!$O54*Scenario_VMT_3*$N41","v":0},{"$f":"(VLOOKUP($B41,'By Population'!$G$2:$K$14,5,FALSE))*'By Speed'!$P54*Scenario_VMT_3*$N41","v":0},{"$f":"(VLOOKUP($B41,'By Population'!$G$2:$K$14,5,FALSE))*'By Speed'!$Q54*Scenario_VMT_3*$N41","v":0},{"$f":"(VLOOKUP($B41,'By Population'!$G$2:$K$14,5,FALSE))*'By Speed'!$R54*Scenario_VMT_3*$N41","v":0},{"$f":"(VLOOKUP($B41,'By Population'!$G$2:$K$14,5,FALSE))*'By Speed'!$S54*Scenario_VMT_3*$N41","v":0},{"$f":"(VLOOKUP($B41,'By Population'!$G$2:$K$14,5,FALSE))*'By Speed'!$T54*Scenario_VMT_3*$N41","v":0},{"$f":"(VLOOKUP($B41,'By Population'!$G$2:$K$14,5,FALSE))*'By Speed'!$U54*Scenario_VMT_3*$N41","v":0},0,{"$f":"(VLOOKUP($B41,'By Population'!$G$2:$K$14,5,FALSE))*'By Speed'!$M54*Scenario_VMT_4*$N41","v":0},{"$f":"(VLOOKUP($B41,'By Population'!$G$2:$K$14,5,FALSE))*'By Speed'!$N54*Scenario_VMT_4*$N41","v":0},{"$f":"(VLOOKUP($B41,'By Population'!$G$2:$K$14,5,FALSE))*'By Speed'!$O54*Scenario_VMT_4*$N41","v":0},{"$f":"(VLOOKUP($B41,'By Population'!$G$2:$K$14,5,FALSE))*'By Speed'!$P54*Scenario_VMT_4*$N41","v":0},{"$f":"(VLOOKUP($B41,'By Population'!$G$2:$K$14,5,FALSE))*'By Speed'!$Q54*Scenario_VMT_4*$N41","v":0},{"$f":"(VLOOKUP($B41,'By Population'!$G$2:$K$14,5,FALSE))*'By Speed'!$R54*Scenario_VMT_4*$N41","v":0},{"$f":"(VLOOKUP($B41,'By Population'!$G$2:$K$14,5,FALSE))*'By Speed'!$S54*Scenario_VMT_4*$N41","v":0},{"$f":"(VLOOKUP($B41,'By Population'!$G$2:$K$14,5,FALSE))*'By Speed'!$T54*Scenario_VMT_4*$N41","v":0},{"$f":"(VLOOKUP($B41,'By Population'!$G$2:$K$14,5,FALSE))*'By Speed'!$U54*Scenario_VMT_4*$N41","v":0},0,{"$f":"(VLOOKUP($B41,'By Population'!$G$2:$K$14,5,FALSE))*'By Speed'!$M54*Scenario_VMT_5*$N41","v":0},{"$f":"(VLOOKUP($B41,'By Population'!$G$2:$K$14,5,FALSE))*'By Speed'!$N54*Scenario_VMT_5*$N41","v":0},{"$f":"(VLOOKUP($B41,'By Population'!$G$2:$K$14,5,FALSE))*'By Speed'!$O54*Scenario_VMT_5*$N41","v":0},{"$f":"(VLOOKUP($B41,'By Population'!$G$2:$K$14,5,FALSE))*'By Speed'!$P54*Scenario_VMT_5*$N41","v":0},{"$f":"(VLOOKUP($B41,'By Population'!$G$2:$K$14,5,FALSE))*'By Speed'!$Q54*Scenario_VMT_5*$N41","v":0},{"$f":"(VLOOKUP($B41,'By Population'!$G$2:$K$14,5,FALSE))*'By Speed'!$R54*Scenario_VMT_5*$N41","v":0},{"$f":"(VLOOKUP($B41,'By Population'!$G$2:$K$14,5,FALSE))*'By Speed'!$S54*Scenario_VMT_5*$N41","v":0},{"$f":"(VLOOKUP($B41,'By Population'!$G$2:$K$14,5,FALSE))*'By Speed'!$T54*Scenario_VMT_5*$N41","v":0},{"$f":"(VLOOKUP($B41,'By Population'!$G$2:$K$14,5,FALSE))*'By Speed'!$U54*Scenario_VMT_5*$N41","v":0},0]
[52,"LDT1_DSL",60,"LDT1_DSL_60",{"$f":"(VLOOKUP($B42,'By Population'!$G$2:$K$14,5,FALSE))*'By Speed'!$M55*Scenario_VMT_EX*$N42","v":0},{"$f":"(VLOOKUP($B42,'By Population'!$G$2:$K$14,5,FALSE))*'By Speed'!$N55*Scenario_VMT_EX*$N42","v":0},{"$f":"(VLOOKUP($B42,'By Population'!$G$2:$K$14,5,FALSE))*'By Speed'!$O55*Scenario_VMT_EX*$N42","v":0},{"$f":"(VLOOKUP($B42,'By Population'!$G$2:$K$14,5,FALSE))*'By Speed'!$P55*Scenario_VMT_EX*$N42","v":0},{"$f":"(VLOOKUP($B42,'By Population'!$G$2:$K$14,5,FALSE))*'By Speed'!$Q55*Scenario_VMT_EX*$N42","v":0},{"$f":"(VLOOKUP($B42,'By Population'!$G$2:$K$14,5,FALSE))*'By Speed'!$R55*Scenario_VMT_EX*$N42","v":0},{"$f":"(VLOOKUP($B42,'By Population'!$G$2:$K$14,5,FALSE))*'By Speed'!$S55*Scenario_VMT_EX*$N42","v":0},{"$f":"(VLOOKUP($B42,'By Population'!$G$2:$K$14,5,FALSE))*'By Speed'!$T55*Scenario_VMT_EX*$N42","v":0},{"$f":"(VLOOKUP($B42,'By Population'!$G$2:$K$14,5,FALSE))*'By Speed'!$U55*Scenario_VMT_EX*$N42","v":0},0,{"$f":"(VLOOKUP($B42,'By Population'!$G$2:$K$14,5,FALSE))*'By Speed'!$M55*Scenario_VMT_1*$N42","v":0},{"$f":"(VLOOKUP($B42,'By Population'!$G$2:$K$14,5,FALSE))*'By Speed'!$N55*Scenario_VMT_1*$N42","v":0},{"$f":"(VLOOKUP($B42,'By Population'!$G$2:$K$14,5,FALSE))*'By Speed'!$O55*Scenario_VMT_1*$N42","v":0},{"$f":"(VLOOKUP($B42,'By Population'!$G$2:$K$14,5,FALSE))*'By Speed'!$P55*Scenario_VMT_1*$N42","v":0},{"$f":"(VLOOKUP($B42,'By Population'!$G$2:$K$14,5,FALSE))*'By Speed'!$Q55*Scenario_VMT_1*$N42","v":0},{"$f":"(VLOOKUP($B42,'By Population'!$G$2:$K$14,5,FALSE))*'By Speed'!$R55*Scenario_VMT_1*$N42","v":0},{"$f":"(VLOOKUP($B42,'By Population'!$G$2:$K$14,5,FALSE))*'By Speed'!$S55*Scenario_VMT_1*$N42","v":0},{"$f":"(VLOOKUP($B42,'By Population'!$G$2:$K$14,5,FALSE))*'By Speed'!$T55*Scenario_VMT_1*$N42","v":0},{"$f":"(VLOOKUP($B42,'By Population'!$G$2:$K$14,5,FALSE))*'By Speed'!$U55*Scenario_VMT_1*$N42","v":0},0,{"$f":"(VLOOKUP($B42,'By Population'!$G$2:$K$14,5,FALSE))*'By Speed'!$M55*Scenario_VMT_2*$N42","v":0},{"$f":"(VLOOKUP($B42,'By Population'!$G$2:$K$14,5,FALSE))*'By Speed'!$N55*Scenario_VMT_2*$N42","v":0},{"$f":"(VLOOKUP($B42,'By Population'!$G$2:$K$14,5,FALSE))*'By Speed'!$O55*Scenario_VMT_2*$N42","v":0},{"$f":"(VLOOKUP($B42,'By Population'!$G$2:$K$14,5,FALSE))*'By Speed'!$P55*Scenario_VMT_2*$N42","v":0},{"$f":"(VLOOKUP($B42,'By Population'!$G$2:$K$14,5,FALSE))*'By Speed'!$Q55*Scenario_VMT_2*$N42","v":0},{"$f":"(VLOOKUP($B42,'By Population'!$G$2:$K$14,5,FALSE))*'By Speed'!$R55*Scenario_VMT_2*$N42","v":0},{"$f":"(VLOOKUP($B42,'By Population'!$G$2:$K$14,5,FALSE))*'By Speed'!$S55*Scenario_VMT_2*$N42","v":0},{"$f":"(VLOOKUP($B42,'By Population'!$G$2:$K$14,5,FALSE))*'By Speed'!$T55*Scenario_VMT_2*$N42","v":0},{"$f":"(VLOOKUP($B42,'By Population'!$G$2:$K$14,5,FALSE))*'By Speed'!$U55*Scenario_VMT_2*$N42","v":0},0,{"$f":"(VLOOKUP($B42,'By Population'!$G$2:$K$14,5,FALSE))*'By Speed'!$M55*Scenario_VMT_3*$N42","v":0},{"$f":"(VLOOKUP($B42,'By Population'!$G$2:$K$14,5,FALSE))*'By Speed'!$N55*Scenario_VMT_3*$N42","v":0},{"$f":"(VLOOKUP($B42,'By Population'!$G$2:$K$14,5,FALSE))*'By Speed'!$O55*Scenario_VMT_3*$N42","v":0},{"$f":"(VLOOKUP($B42,'By Population'!$G$2:$K$14,5,FALSE))*'By Speed'!$P55*Scenario_VMT_3*$N42","v":0},{"$f":"(VLOOKUP($B42,'By Population'!$G$2:$K$14,5,FALSE))*'By Speed'!$Q55*Scenario_VMT_3*$N42","v":0},{"$f":"(VLOOKUP($B42,'By Population'!$G$2:$K$14,5,FALSE))*'By Speed'!$R55*Scenario_VMT_3*$N42","v":0},{"$f":"(VLOOKUP($B42,'By Population'!$G$2:$K$14,5,FALSE))*'By Speed'!$S55*Scenario_VMT_3*$N42","v":0},{"$f":"(VLOOKUP($B42,'By Population'!$G$2:$K$14,5,FALSE))*'By Speed'!$T55*Scenario_VMT_3*$N42","v":0},{"$f":"(VLOOKUP($B42,'By Population'!$G$2:$K$14,5,FALSE))*'By Speed'!$U55*Scenario_VMT_3*$N42","v":0},0,{"$f":"(VLOOKUP($B42,'By Population'!$G$2:$K$14,5,FALSE))*'By Speed'!$M55*Scenario_VMT_4*$N42","v":0},{"$f":"(VLOOKUP($B42,'By Population'!$G$2:$K$14,5,FALSE))*'By Speed'!$N55*Scenario_VMT_4*$N42","v":0},{"$f":"(VLOOKUP($B42,'By Population'!$G$2:$K$14,5,FALSE))*'By Speed'!$O55*Scenario_VMT_4*$N42","v":0},{"$f":"(VLOOKUP($B42,'By Population'!$G$2:$K$14,5,FALSE))*'By Speed'!$P55*Scenario_VMT_4*$N42","v":0},{"$f":"(VLOOKUP($B42,'By Population'!$G$2:$K$14,5,FALSE))*'By Speed'!$Q55*Scenario_VMT_4*$N42","v":0},{"$f":"(VLOOKUP($B42,'By Population'!$G$2:$K$14,5,FALSE))*'By Speed'!$R55*Scenario_VMT_4*$N42","v":0},{"$f":"(VLOOKUP($B42,'By Population'!$G$2:$K$14,5,FALSE))*'By Speed'!$S55*Scenario_VMT_4*$N42","v":0},{"$f":"(VLOOKUP($B42,'By Population'!$G$2:$K$14,5,FALSE))*'By Speed'!$T55*Scenario_VMT_4*$N42","v":0},{"$f":"(VLOOKUP($B42,'By Population'!$G$2:$K$14,5,FALSE))*'By Speed'!$U55*Scenario_VMT_4*$N42","v":0},0,{"$f":"(VLOOKUP($B42,'By Population'!$G$2:$K$14,5,FALSE))*'By Speed'!$M55*Scenario_VMT_5*$N42","v":0},{"$f":"(VLOOKUP($B42,'By Population'!$G$2:$K$14,5,FALSE))*'By Speed'!$N55*Scenario_VMT_5*$N42","v":0},{"$f":"(VLOOKUP($B42,'By Population'!$G$2:$K$14,5,FALSE))*'By Speed'!$O55*Scenario_VMT_5*$N42","v":0},{"$f":"(VLOOKUP($B42,'By Population'!$G$2:$K$14,5,FALSE))*'By Speed'!$P55*Scenario_VMT_5*$N42","v":0},{"$f":"(VLOOKUP($B42,'By Population'!$G$2:$K$14,5,FALSE))*'By Speed'!$Q55*Scenario_VMT_5*$N42","v":0},{"$f":"(VLOOKUP($B42,'By Population'!$G$2:$K$14,5,FALSE))*'By Speed'!$R55*Scenario_VMT_5*$N42","v":0},{"$f":"(VLOOKUP($B42,'By Population'!$G$2:$K$14,5,FALSE))*'By Speed'!$S55*Scenario_VMT_5*$N42","v":0},{"$f":"(VLOOKUP($B42,'By Population'!$G$2:$K$14,5,FALSE))*'By Speed'!$T55*Scenario_VMT_5*$N42","v":0},{"$f":"(VLOOKUP($B42,'By Population'!$G$2:$K$14,5,FALSE))*'By Speed'!$U55*Scenario_VMT_5*$N42","v":0},0]
[54,"LDT1_DSL",65,"LDT1_DSL_65",{"$f":"(VLOOKUP($B43,'By Population'!$G$2:$K$14,5,FALSE))*'By Speed'!$M56*Scenario_VMT_EX*$N43","v":0},{"$f":"(VLOOKUP($B43,'By Population'!$G$2:$K$14,5,FALSE))*'By Speed'!$N56*Scenario_VMT_EX*$N43","v":0},{"$f":"(VLOOKUP($B43,'By Population'!$G$2:$K$14,5,FALSE))*'By Speed'!$O56*Scenario_VMT_EX*$N43","v":0},{"$f":"(VLOOKUP($B43,'By Population'!$G$2:$K$14,5,FALSE))*'By Speed'!$P56*Scenario_VMT_EX*$N43","v":0},{"$f":"(VLOOKUP($B43,'By Population'!$G$2:$K$14,5,FALSE))*'By Speed'!$Q56*Scenario_VMT_EX*$N43","v":0},{"$f":"(VLOOKUP($B43,'By Population'!$G$2:$K$14,5,FALSE))*'By Speed'!$R56*Scenario_VMT_EX*$N43","v":0},{"$f":"(VLOOKUP($B43,'By Population'!$G$2:$K$14,5,FALSE))*'By Speed'!$S56*Scenario_VMT_EX*$N43","v":0},{"$f":"(VLOOKUP($B43,'By Population'!$G$2:$K$14,5,FALSE))*'By Speed'!$T56*Scenario_VMT_EX*$N43","v":0},{"$f":"(VLOOKUP($B43,'By Population'!$G$2:$K$14,5,FALSE))*'By Speed'!$U56*Scenario_VMT_EX*$N43","v":0},0,{"$f":"(VLOOKUP($B43,'By Population'!$G$2:$K$14,5,FALSE))*'By Speed'!$M56*Scenario_VMT_1*$N43","v":0},{"$f":"(VLOOKUP($B43,'By Population'!$G$2:$K$14,5,FALSE))*'By Speed'!$N56*Scenario_VMT_1*$N43","v":0},{"$f":"(VLOOKUP($B43,'By Population'!$G$2:$K$14,5,FALSE))*'By Speed'!$O56*Scenario_VMT_1*$N43","v":0},{"$f":"(VLOOKUP($B43,'By Population'!$G$2:$K$14,5,FALSE))*'By Speed'!$P56*Scenario_VMT_1*$N43","v":0},{"$f":"(VLOOKUP($B43,'By Population'!$G$2:$K$14,5,FALSE))*'By Speed'!$Q56*Scenario_VMT_1*$N43","v":0},{"$f":"(VLOOKUP($B43,'By Population'!$G$2:$K$14,5,FALSE))*'By Speed'!$R56*Scenario_VMT_1*$N43","v":0},{"$f":"(VLOOKUP($B43,'By Population'!$G$2:$K$14,5,FALSE))*'By Speed'!$S56*Scenario_VMT_1*$N43","v":0},{"$f":"(VLOOKUP($B43,'By Population'!$G$2:$K$14,5,FALSE))*'By Speed'!$T56*Scenario_VMT_1*$N43","v":0},{"$f":"(VLOOKUP($B43,'By Population'!$G$2:$K$14,5,FALSE))*'By Speed'!$U56*Scenario_VMT_1*$N43","v":0},0,{"$f":"(VLOOKUP($B43,'By Population'!$G$2:$K$14,5,FALSE))*'By Speed'!$M56*Scenario_VMT_2*$N43","v":0},{"$f":"(VLOOKUP($B43,'By Population'!$G$2:$K$14,5,FALSE))*'By Speed'!$N56*Scenario_VMT_2*$N43","v":0},{"$f":"(VLOOKUP($B43,'By Population'!$G$2:$K$14,5,FALSE))*'By Speed'!$O56*Scenario_VMT_2*$N43","v":0},{"$f":"(VLOOKUP($B43,'By Population'!$G$2:$K$14,5,FALSE))*'By Speed'!$P56*Scenario_VMT_2*$N43","v":0},{"$f":"(VLOOKUP($B43,'By Population'!$G$2:$K$14,5,FALSE))*'By Speed'!$Q56*Scenario_VMT_2*$N43","v":0},{"$f":"(VLOOKUP($B43,'By Population'!$G$2:$K$14,5,FALSE))*'By Speed'!$R56*Scenario_VMT_2*$N43","v":0},{"$f":"(VLOOKUP($B43,'By Population'!$G$2:$K$14,5,FALSE))*'By Speed'!$S56*Scenario_VMT_2*$N43","v":0},{"$f":"(VLOOKUP($B43,'By Population'!$G$2:$K$14,5,FALSE))*'By Speed'!$T56*Scenario_VMT_2*$N43","v":0},{"$f":"(VLOOKUP($B43,'By Population'!$G$2:$K$14,5,FALSE))*'By Speed'!$U56*Scenario_VMT_2*$N43","v":0},0,{"$f":"(VLOOKUP($B43,'By Population'!$G$2:$K$14,5,FALSE))*'By Speed'!$M56*Scenario_VMT_3*$N43","v":0},{"$f":"(VLOOKUP($B43,'By Population'!$G$2:$K$14,5,FALSE))*'By Speed'!$N56*Scenario_VMT_3*$N43","v":0},{"$f":"(VLOOKUP($B43,'By Population'!$G$2:$K$14,5,FALSE))*'By Speed'!$O56*Scenario_VMT_3*$N43","v":0},{"$f":"(VLOOKUP($B43,'By Population'!$G$2:$K$14,5,FALSE))*'By Speed'!$P56*Scenario_VMT_3*$N43","v":0},{"$f":"(VLOOKUP($B43,'By Population'!$G$2:$K$14,5,FALSE))*'By Speed'!$Q56*Scenario_VMT_3*$N43","v":0},{"$f":"(VLOOKUP($B43,'By Population'!$G$2:$K$14,5,FALSE))*'By Speed'!$R56*Scenario_VMT_3*$N43","v":0},{"$f":"(VLOOKUP($B43,'By Population'!$G$2:$K$14,5,FALSE))*'By Speed'!$S56*Scenario_VMT_3*$N43","v":0},{"$f":"(VLOOKUP($B43,'By Population'!$G$2:$K$14,5,FALSE))*'By Speed'!$T56*Scenario_VMT_3*$N43","v":0},{"$f":"(VLOOKUP($B43,'By Population'!$G$2:$K$14,5,FALSE))*'By Speed'!$U56*Scenario_VMT_3*$N43","v":0},0,{"$f":"(VLOOKUP($B43,'By Population'!$G$2:$K$14,5,FALSE))*'By Speed'!$M56*Scenario_VMT_4*$N43","v":0},{"$f":"(VLOOKUP($B43,'By Population'!$G$2:$K$14,5,FALSE))*'By Speed'!$N56*Scenario_VMT_4*$N43","v":0},{"$f":"(VLOOKUP($B43,'By Population'!$G$2:$K$14,5,FALSE))*'By Speed'!$O56*Scenario_VMT_4*$N43","v":0},{"$f":"(VLOOKUP($B43,'By Population'!$G$2:$K$14,5,FALSE))*'By Speed'!$P56*Scenario_VMT_4*$N43","v":0},{"$f":"(VLOOKUP($B43,'By Population'!$G$2:$K$14,5,FALSE))*'By Speed'!$Q56*Scenario_VMT_4*$N43","v":0},{"$f":"(VLOOKUP($B43,'By Population'!$G$2:$K$14,5,FALSE))*'By Speed'!$R56*Scenario_VMT_4*$N43","v":0},{"$f":"(VLOOKUP($B43,'By Population'!$G$2:$K$14,5,FALSE))*'By Speed'!$S56*Scenario_VMT_4*$N43","v":0},{"$f":"(VLOOKUP($B43,'By Population'!$G$2:$K$14,5,FALSE))*'By Speed'!$T56*Scenario_VMT_4*$N43","v":0},{"$f":"(VLOOKUP($B43,'By Population'!$G$2:$K$14,5,FALSE))*'By Speed'!$U56*Scenario_VMT_4*$N43","v":0},0,{"$f":"(VLOOKUP($B43,'By Population'!$G$2:$K$14,5,FALSE))*'By Speed'!$M56*Scenario_VMT_5*$N43","v":0},{"$f":"(VLOOKUP($B43,'By Population'!$G$2:$K$14,5,FALSE))*'By Speed'!$N56*Scenario_VMT_5*$N43","v":0},{"$f":"(VLOOKUP($B43,'By Population'!$G$2:$K$14,5,FALSE))*'By Speed'!$O56*Scenario_VMT_5*$N43","v":0},{"$f":"(VLOOKUP($B43,'By Population'!$G$2:$K$14,5,FALSE))*'By Speed'!$P56*Scenario_VMT_5*$N43","v":0},{"$f":"(VLOOKUP($B43,'By Population'!$G$2:$K$14,5,FALSE))*'By Speed'!$Q56*Scenario_VMT_5*$N43","v":0},{"$f":"(VLOOKUP($B43,'By Population'!$G$2:$K$14,5,FALSE))*'By Speed'!$R56*Scenario_VMT_5*$N43","v":0},{"$f":"(VLOOKUP($B43,'By Population'!$G$2:$K$14,5,FALSE))*'By Speed'!$S56*Scenario_VMT_5*$N43","v":0},{"$f":"(VLOOKUP($B43,'By Population'!$G$2:$K$14,5,FALSE))*'By Speed'!$T56*Scenario_VMT_5*$N43","v":0},{"$f":"(VLOOKUP($B43,'By Population'!$G$2:$K$14,5,FALSE))*'By Speed'!$U56*Scenario_VMT_5*$N43","v":0},0]
[56,"LDT1_DSL",70,"LDT1_DSL_70",{"$f":"(VLOOKUP($B44,'By Population'!$G$2:$K$14,5,FALSE))*'By Speed'!$M57*Scenario_VMT_EX*$N44","v":0},{"$f":"(VLOOKUP($B44,'By Population'!$G$2:$K$14,5,FALSE))*'By Speed'!$N57*Scenario_VMT_EX*$N44","v":0},{"$f":"(VLOOKUP($B44,'By Population'!$G$2:$K$14,5,FALSE))*'By Speed'!$O57*Scenario_VMT_EX*$N44","v":0},{"$f":"(VLOOKUP($B44,'By Population'!$G$2:$K$14,5,FALSE))*'By Speed'!$P57*Scenario_VMT_EX*$N44","v":0},{"$f":"(VLOOKUP($B44,'By Population'!$G$2:$K$14,5,FALSE))*'By Speed'!$Q57*Scenario_VMT_EX*$N44","v":0},{"$f":"(VLOOKUP($B44,'By Population'!$G$2:$K$14,5,FALSE))*'By Speed'!$R57*Scenario_VMT_EX*$N44","v":0},{"$f":"(VLOOKUP($B44,'By Population'!$G$2:$K$14,5,FALSE))*'By Speed'!$S57*Scenario_VMT_EX*$N44","v":0},{"$f":"(VLOOKUP($B44,'By Population'!$G$2:$K$14,5,FALSE))*'By Speed'!$T57*Scenario_VMT_EX*$N44","v":0},{"$f":"(VLOOKUP($B44,'By Population'!$G$2:$K$14,5,FALSE))*'By Speed'!$U57*Scenario_VMT_EX*$N44","v":0},0,{"$f":"(VLOOKUP($B44,'By Population'!$G$2:$K$14,5,FALSE))*'By Speed'!$M57*Scenario_VMT_1*$N44","v":0},{"$f":"(VLOOKUP($B44,'By Population'!$G$2:$K$14,5,FALSE))*'By Speed'!$N57*Scenario_VMT_1*$N44","v":0},{"$f":"(VLOOKUP($B44,'By Population'!$G$2:$K$14,5,FALSE))*'By Speed'!$O57*Scenario_VMT_1*$N44","v":0},{"$f":"(VLOOKUP($B44,'By Population'!$G$2:$K$14,5,FALSE))*'By Speed'!$P57*Scenario_VMT_1*$N44","v":0},{"$f":"(VLOOKUP($B44,'By Population'!$G$2:$K$14,5,FALSE))*'By Speed'!$Q57*Scenario_VMT_1*$N44","v":0},{"$f":"(VLOOKUP($B44,'By Population'!$G$2:$K$14,5,FALSE))*'By Speed'!$R57*Scenario_VMT_1*$N44","v":0},{"$f":"(VLOOKUP($B44,'By Population'!$G$2:$K$14,5,FALSE))*'By Speed'!$S57*Scenario_VMT_1*$N44","v":0},{"$f":"(VLOOKUP($B44,'By Population'!$G$2:$K$14,5,FALSE))*'By Speed'!$T57*Scenario_VMT_1*$N44","v":0},{"$f":"(VLOOKUP($B44,'By Population'!$G$2:$K$14,5,FALSE))*'By Speed'!$U57*Scenario_VMT_1*$N44","v":0},0,{"$f":"(VLOOKUP($B44,'By Population'!$G$2:$K$14,5,FALSE))*'By Speed'!$M57*Scenario_VMT_2*$N44","v":0},{"$f":"(VLOOKUP($B44,'By Population'!$G$2:$K$14,5,FALSE))*'By Speed'!$N57*Scenario_VMT_2*$N44","v":0},{"$f":"(VLOOKUP($B44,'By Population'!$G$2:$K$14,5,FALSE))*'By Speed'!$O57*Scenario_VMT_2*$N44","v":0},{"$f":"(VLOOKUP($B44,'By Population'!$G$2:$K$14,5,FALSE))*'By Speed'!$P57*Scenario_VMT_2*$N44","v":0},{"$f":"(VLOOKUP($B44,'By Population'!$G$2:$K$14,5,FALSE))*'By Speed'!$Q57*Scenario_VMT_2*$N44","v":0},{"$f":"(VLOOKUP($B44,'By Population'!$G$2:$K$14,5,FALSE))*'By Speed'!$R57*Scenario_VMT_2*$N44","v":0},{"$f":"(VLOOKUP($B44,'By Population'!$G$2:$K$14,5,FALSE))*'By Speed'!$S57*Scenario_VMT_2*$N44","v":0},{"$f":"(VLOOKUP($B44,'By Population'!$G$2:$K$14,5,FALSE))*'By Speed'!$T57*Scenario_VMT_2*$N44","v":0},{"$f":"(VLOOKUP($B44,'By Population'!$G$2:$K$14,5,FALSE))*'By Speed'!$U57*Scenario_VMT_2*$N44","v":0},0,{"$f":"(VLOOKUP($B44,'By Population'!$G$2:$K$14,5,FALSE))*'By Speed'!$M57*Scenario_VMT_3*$N44","v":0},{"$f":"(VLOOKUP($B44,'By Population'!$G$2:$K$14,5,FALSE))*'By Speed'!$N57*Scenario_VMT_3*$N44","v":0},{"$f":"(VLOOKUP($B44,'By Population'!$G$2:$K$14,5,FALSE))*'By Speed'!$O57*Scenario_VMT_3*$N44","v":0},{"$f":"(VLOOKUP($B44,'By Population'!$G$2:$K$14,5,FALSE))*'By Speed'!$P57*Scenario_VMT_3*$N44","v":0},{"$f":"(VLOOKUP($B44,'By Population'!$G$2:$K$14,5,FALSE))*'By Speed'!$Q57*Scenario_VMT_3*$N44","v":0},{"$f":"(VLOOKUP($B44,'By Population'!$G$2:$K$14,5,FALSE))*'By Speed'!$R57*Scenario_VMT_3*$N44","v":0},{"$f":"(VLOOKUP($B44,'By Population'!$G$2:$K$14,5,FALSE))*'By Speed'!$S57*Scenario_VMT_3*$N44","v":0},{"$f":"(VLOOKUP($B44,'By Population'!$G$2:$K$14,5,FALSE))*'By Speed'!$T57*Scenario_VMT_3*$N44","v":0},{"$f":"(VLOOKUP($B44,'By Population'!$G$2:$K$14,5,FALSE))*'By Speed'!$U57*Scenario_VMT_3*$N44","v":0},0,{"$f":"(VLOOKUP($B44,'By Population'!$G$2:$K$14,5,FALSE))*'By Speed'!$M57*Scenario_VMT_4*$N44","v":0},{"$f":"(VLOOKUP($B44,'By Population'!$G$2:$K$14,5,FALSE))*'By Speed'!$N57*Scenario_VMT_4*$N44","v":0},{"$f":"(VLOOKUP($B44,'By Population'!$G$2:$K$14,5,FALSE))*'By Speed'!$O57*Scenario_VMT_4*$N44","v":0},{"$f":"(VLOOKUP($B44,'By Population'!$G$2:$K$14,5,FALSE))*'By Speed'!$P57*Scenario_VMT_4*$N44","v":0},{"$f":"(VLOOKUP($B44,'By Population'!$G$2:$K$14,5,FALSE))*'By Speed'!$Q57*Scenario_VMT_4*$N44","v":0},{"$f":"(VLOOKUP($B44,'By Population'!$G$2:$K$14,5,FALSE))*'By Speed'!$R57*Scenario_VMT_4*$N44","v":0},{"$f":"(VLOOKUP($B44,'By Population'!$G$2:$K$14,5,FALSE))*'By Speed'!$S57*Scenario_VMT_4*$N44","v":0},{"$f":"(VLOOKUP($B44,'By Population'!$G$2:$K$14,5,FALSE))*'By Speed'!$T57*Scenario_VMT_4*$N44","v":0},{"$f":"(VLOOKUP($B44,'By Population'!$G$2:$K$14,5,FALSE))*'By Speed'!$U57*Scenario_VMT_4*$N44","v":0},0,{"$f":"(VLOOKUP($B44,'By Population'!$G$2:$K$14,5,FALSE))*'By Speed'!$M57*Scenario_VMT_5*$N44","v":0},{"$f":"(VLOOKUP($B44,'By Population'!$G$2:$K$14,5,FALSE))*'By Speed'!$N57*Scenario_VMT_5*$N44","v":0},{"$f":"(VLOOKUP($B44,'By Population'!$G$2:$K$14,5,FALSE))*'By Speed'!$O57*Scenario_VMT_5*$N44","v":0},{"$f":"(VLOOKUP($B44,'By Population'!$G$2:$K$14,5,FALSE))*'By Speed'!$P57*Scenario_VMT_5*$N44","v":0},{"$f":"(VLOOKUP($B44,'By Population'!$G$2:$K$14,5,FALSE))*'By Speed'!$Q57*Scenario_VMT_5*$N44","v":0},{"$f":"(VLOOKUP($B44,'By Population'!$G$2:$K$14,5,FALSE))*'By Speed'!$R57*Scenario_VMT_5*$N44","v":0},{"$f":"(VLOOKUP($B44,'By Population'!$G$2:$K$14,5,FALSE))*'By Speed'!$S57*Scenario_VMT_5*$N44","v":0},{"$f":"(VLOOKUP($B44,'By Population'!$G$2:$K$14,5,FALSE))*'By Speed'!$T57*Scenario_VMT_5*$N44","v":0},{"$f":"(VLOOKUP($B44,'By Population'!$G$2:$K$14,5,FALSE))*'By Speed'!$U57*Scenario_VMT_5*$N44","v":0},0]
[31,"LDT1_GAS",10,"LDT1_GAS_10",{"$f":"(VLOOKUP($B45,'By Population'!$G$2:$K$14,5,FALSE))*'By Speed'!$M58*Scenario_VMT_EX*$N45","v":0},{"$f":"(VLOOKUP($B45,'By Population'!$G$2:$K$14,5,FALSE))*'By Speed'!$N58*Scenario_VMT_EX*$N45","v":0},{"$f":"(VLOOKUP($B45,'By Population'!$G$2:$K$14,5,FALSE))*'By Speed'!$O58*Scenario_VMT_EX*$N45","v":0},{"$f":"(VLOOKUP($B45,'By Population'!$G$2:$K$14,5,FALSE))*'By Speed'!$P58*Scenario_VMT_EX*$N45","v":0},{"$f":"(VLOOKUP($B45,'By Population'!$G$2:$K$14,5,FALSE))*'By Speed'!$Q58*Scenario_VMT_EX*$N45","v":0},{"$f":"(VLOOKUP($B45,'By Population'!$G$2:$K$14,5,FALSE))*'By Speed'!$R58*Scenario_VMT_EX*$N45","v":0},{"$f":"(VLOOKUP($B45,'By Population'!$G$2:$K$14,5,FALSE))*'By Speed'!$S58*Scenario_VMT_EX*$N45","v":0},{"$f":"(VLOOKUP($B45,'By Population'!$G$2:$K$14,5,FALSE))*'By Speed'!$T58*Scenario_VMT_EX*$N45","v":0},{"$f":"(VLOOKUP($B45,'By Population'!$G$2:$K$14,5,FALSE))*'By Speed'!$U58*Scenario_VMT_EX*$N45","v":0},0,{"$f":"(VLOOKUP($B45,'By Population'!$G$2:$K$14,5,FALSE))*'By Speed'!$M58*Scenario_VMT_1*$N45","v":0},{"$f":"(VLOOKUP($B45,'By Population'!$G$2:$K$14,5,FALSE))*'By Speed'!$N58*Scenario_VMT_1*$N45","v":0},{"$f":"(VLOOKUP($B45,'By Population'!$G$2:$K$14,5,FALSE))*'By Speed'!$O58*Scenario_VMT_1*$N45","v":0},{"$f":"(VLOOKUP($B45,'By Population'!$G$2:$K$14,5,FALSE))*'By Speed'!$P58*Scenario_VMT_1*$N45","v":0},{"$f":"(VLOOKUP($B45,'By Population'!$G$2:$K$14,5,FALSE))*'By Speed'!$Q58*Scenario_VMT_1*$N45","v":0},{"$f":"(VLOOKUP($B45,'By Population'!$G$2:$K$14,5,FALSE))*'By Speed'!$R58*Scenario_VMT_1*$N45","v":0},{"$f":"(VLOOKUP($B45,'By Population'!$G$2:$K$14,5,FALSE))*'By Speed'!$S58*Scenario_VMT_1*$N45","v":0},{"$f":"(VLOOKUP($B45,'By Population'!$G$2:$K$14,5,FALSE))*'By Speed'!$T58*Scenario_VMT_1*$N45","v":0},{"$f":"(VLOOKUP($B45,'By Population'!$G$2:$K$14,5,FALSE))*'By Speed'!$U58*Scenario_VMT_1*$N45","v":0},0,{"$f":"(VLOOKUP($B45,'By Population'!$G$2:$K$14,5,FALSE))*'By Speed'!$M58*Scenario_VMT_2*$N45","v":0},{"$f":"(VLOOKUP($B45,'By Population'!$G$2:$K$14,5,FALSE))*'By Speed'!$N58*Scenario_VMT_2*$N45","v":0},{"$f":"(VLOOKUP($B45,'By Population'!$G$2:$K$14,5,FALSE))*'By Speed'!$O58*Scenario_VMT_2*$N45","v":0},{"$f":"(VLOOKUP($B45,'By Population'!$G$2:$K$14,5,FALSE))*'By Speed'!$P58*Scenario_VMT_2*$N45","v":0},{"$f":"(VLOOKUP($B45,'By Population'!$G$2:$K$14,5,FALSE))*'By Speed'!$Q58*Scenario_VMT_2*$N45","v":0},{"$f":"(VLOOKUP($B45,'By Population'!$G$2:$K$14,5,FALSE))*'By Speed'!$R58*Scenario_VMT_2*$N45","v":0},{"$f":"(VLOOKUP($B45,'By Population'!$G$2:$K$14,5,FALSE))*'By Speed'!$S58*Scenario_VMT_2*$N45","v":0},{"$f":"(VLOOKUP($B45,'By Population'!$G$2:$K$14,5,FALSE))*'By Speed'!$T58*Scenario_VMT_2*$N45","v":0},{"$f":"(VLOOKUP($B45,'By Population'!$G$2:$K$14,5,FALSE))*'By Speed'!$U58*Scenario_VMT_2*$N45","v":0},0,{"$f":"(VLOOKUP($B45,'By Population'!$G$2:$K$14,5,FALSE))*'By Speed'!$M58*Scenario_VMT_3*$N45","v":0},{"$f":"(VLOOKUP($B45,'By Population'!$G$2:$K$14,5,FALSE))*'By Speed'!$N58*Scenario_VMT_3*$N45","v":0},{"$f":"(VLOOKUP($B45,'By Population'!$G$2:$K$14,5,FALSE))*'By Speed'!$O58*Scenario_VMT_3*$N45","v":0},{"$f":"(VLOOKUP($B45,'By Population'!$G$2:$K$14,5,FALSE))*'By Speed'!$P58*Scenario_VMT_3*$N45","v":0},{"$f":"(VLOOKUP($B45,'By Population'!$G$2:$K$14,5,FALSE))*'By Speed'!$Q58*Scenario_VMT_3*$N45","v":0},{"$f":"(VLOOKUP($B45,'By Population'!$G$2:$K$14,5,FALSE))*'By Speed'!$R58*Scenario_VMT_3*$N45","v":0},{"$f":"(VLOOKUP($B45,'By Population'!$G$2:$K$14,5,FALSE))*'By Speed'!$S58*Scenario_VMT_3*$N45","v":0},{"$f":"(VLOOKUP($B45,'By Population'!$G$2:$K$14,5,FALSE))*'By Speed'!$T58*Scenario_VMT_3*$N45","v":0},{"$f":"(VLOOKUP($B45,'By Population'!$G$2:$K$14,5,FALSE))*'By Speed'!$U58*Scenario_VMT_3*$N45","v":0},0,{"$f":"(VLOOKUP($B45,'By Population'!$G$2:$K$14,5,FALSE))*'By Speed'!$M58*Scenario_VMT_4*$N45","v":0},{"$f":"(VLOOKUP($B45,'By Population'!$G$2:$K$14,5,FALSE))*'By Speed'!$N58*Scenario_VMT_4*$N45","v":0},{"$f":"(VLOOKUP($B45,'By Population'!$G$2:$K$14,5,FALSE))*'By Speed'!$O58*Scenario_VMT_4*$N45","v":0},{"$f":"(VLOOKUP($B45,'By Population'!$G$2:$K$14,5,FALSE))*'By Speed'!$P58*Scenario_VMT_4*$N45","v":0},{"$f":"(VLOOKUP($B45,'By Population'!$G$2:$K$14,5,FALSE))*'By Speed'!$Q58*Scenario_VMT_4*$N45","v":0},{"$f":"(VLOOKUP($B45,'By Population'!$G$2:$K$14,5,FALSE))*'By Speed'!$R58*Scenario_VMT_4*$N45","v":0},{"$f":"(VLOOKUP($B45,'By Population'!$G$2:$K$14,5,FALSE))*'By Speed'!$S58*Scenario_VMT_4*$N45","v":0},{"$f":"(VLOOKUP($B45,'By Population'!$G$2:$K$14,5,FALSE))*'By Speed'!$T58*Scenario_VMT_4*$N45","v":0},{"$f":"(VLOOKUP($B45,'By Population'!$G$2:$K$14,5,FALSE))*'By Speed'!$U58*Scenario_VMT_4*$N45","v":0},0,{"$f":"(VLOOKUP($B45,'By Population'!$G$2:$K$14,5,FALSE))*'By Speed'!$M58*Scenario_VMT_5*$N45","v":0},{"$f":"(VLOOKUP($B45,'By Population'!$G$2:$K$14,5,FALSE))*'By Speed'!$N58*Scenario_VMT_5*$N45","v":0},{"$f":"(VLOOKUP($B45,'By Population'!$G$2:$K$14,5,FALSE))*'By Speed'!$O58*Scenario_VMT_5*$N45","v":0},{"$f":"(VLOOKUP($B45,'By Population'!$G$2:$K$14,5,FALSE))*'By Speed'!$P58*Scenario_VMT_5*$N45","v":0},{"$f":"(VLOOKUP($B45,'By Population'!$G$2:$K$14,5,FALSE))*'By Speed'!$Q58*Scenario_VMT_5*$N45","v":0},{"$f":"(VLOOKUP($B45,'By Population'!$G$2:$K$14,5,FALSE))*'By Speed'!$R58*Scenario_VMT_5*$N45","v":0},{"$f":"(VLOOKUP($B45,'By Population'!$G$2:$K$14,5,FALSE))*'By Speed'!$S58*Scenario_VMT_5*$N45","v":0},{"$f":"(VLOOKUP($B45,'By Population'!$G$2:$K$14,5,FALSE))*'By Speed'!$T58*Scenario_VMT_5*$N45","v":0},{"$f":"(VLOOKUP($B45,'By Population'!$G$2:$K$14,5,FALSE))*'By Speed'!$U58*Scenario_VMT_5*$N45","v":0},0]
[33,"LDT1_GAS",15,"LDT1_GAS_15",{"$f":"(VLOOKUP($B46,'By Population'!$G$2:$K$14,5,FALSE))*'By Speed'!$M59*Scenario_VMT_EX*$N46","v":0},{"$f":"(VLOOKUP($B46,'By Population'!$G$2:$K$14,5,FALSE))*'By Speed'!$N59*Scenario_VMT_EX*$N46","v":0},{"$f":"(VLOOKUP($B46,'By Population'!$G$2:$K$14,5,FALSE))*'By Speed'!$O59*Scenario_VMT_EX*$N46","v":0},{"$f":"(VLOOKUP($B46,'By Population'!$G$2:$K$14,5,FALSE))*'By Speed'!$P59*Scenario_VMT_EX*$N46","v":0},{"$f":"(VLOOKUP($B46,'By Population'!$G$2:$K$14,5,FALSE))*'By Speed'!$Q59*Scenario_VMT_EX*$N46","v":0},{"$f":"(VLOOKUP($B46,'By Population'!$G$2:$K$14,5,FALSE))*'By Speed'!$R59*Scenario_VMT_EX*$N46","v":0},{"$f":"(VLOOKUP($B46,'By Population'!$G$2:$K$14,5,FALSE))*'By Speed'!$S59*Scenario_VMT_EX*$N46","v":0},{"$f":"(VLOOKUP($B46,'By Population'!$G$2:$K$14,5,FALSE))*'By Speed'!$T59*Scenario_VMT_EX*$N46","v":0},{"$f":"(VLOOKUP($B46,'By Population'!$G$2:$K$14,5,FALSE))*'By Speed'!$U59*Scenario_VMT_EX*$N46","v":0},0,{"$f":"(VLOOKUP($B46,'By Population'!$G$2:$K$14,5,FALSE))*'By Speed'!$M59*Scenario_VMT_1*$N46","v":0},{"$f":"(VLOOKUP($B46,'By Population'!$G$2:$K$14,5,FALSE))*'By Speed'!$N59*Scenario_VMT_1*$N46","v":0},{"$f":"(VLOOKUP($B46,'By Population'!$G$2:$K$14,5,FALSE))*'By Speed'!$O59*Scenario_VMT_1*$N46","v":0},{"$f":"(VLOOKUP($B46,'By Population'!$G$2:$K$14,5,FALSE))*'By Speed'!$P59*Scenario_VMT_1*$N46","v":0},{"$f":"(VLOOKUP($B46,'By Population'!$G$2:$K$14,5,FALSE))*'By Speed'!$Q59*Scenario_VMT_1*$N46","v":0},{"$f":"(VLOOKUP($B46,'By Population'!$G$2:$K$14,5,FALSE))*'By Speed'!$R59*Scenario_VMT_1*$N46","v":0},{"$f":"(VLOOKUP($B46,'By Population'!$G$2:$K$14,5,FALSE))*'By Speed'!$S59*Scenario_VMT_1*$N46","v":0},{"$f":"(VLOOKUP($B46,'By Population'!$G$2:$K$14,5,FALSE))*'By Speed'!$T59*Scenario_VMT_1*$N46","v":0},{"$f":"(VLOOKUP($B46,'By Population'!$G$2:$K$14,5,FALSE))*'By Speed'!$U59*Scenario_VMT_1*$N46","v":0},0,{"$f":"(VLOOKUP($B46,'By Population'!$G$2:$K$14,5,FALSE))*'By Speed'!$M59*Scenario_VMT_2*$N46","v":0},{"$f":"(VLOOKUP($B46,'By Population'!$G$2:$K$14,5,FALSE))*'By Speed'!$N59*Scenario_VMT_2*$N46","v":0},{"$f":"(VLOOKUP($B46,'By Population'!$G$2:$K$14,5,FALSE))*'By Speed'!$O59*Scenario_VMT_2*$N46","v":0},{"$f":"(VLOOKUP($B46,'By Population'!$G$2:$K$14,5,FALSE))*'By Speed'!$P59*Scenario_VMT_2*$N46","v":0},{"$f":"(VLOOKUP($B46,'By Population'!$G$2:$K$14,5,FALSE))*'By Speed'!$Q59*Scenario_VMT_2*$N46","v":0},{"$f":"(VLOOKUP($B46,'By Population'!$G$2:$K$14,5,FALSE))*'By Speed'!$R59*Scenario_VMT_2*$N46","v":0},{"$f":"(VLOOKUP($B46,'By Population'!$G$2:$K$14,5,FALSE))*'By Speed'!$S59*Scenario_VMT_2*$N46","v":0},{"$f":"(VLOOKUP($B46,'By Population'!$G$2:$K$14,5,FALSE))*'By Speed'!$T59*Scenario_VMT_2*$N46","v":0},{"$f":"(VLOOKUP($B46,'By Population'!$G$2:$K$14,5,FALSE))*'By Speed'!$U59*Scenario_VMT_2*$N46","v":0},0,{"$f":"(VLOOKUP($B46,'By Population'!$G$2:$K$14,5,FALSE))*'By Speed'!$M59*Scenario_VMT_3*$N46","v":0},{"$f":"(VLOOKUP($B46,'By Population'!$G$2:$K$14,5,FALSE))*'By Speed'!$N59*Scenario_VMT_3*$N46","v":0},{"$f":"(VLOOKUP($B46,'By Population'!$G$2:$K$14,5,FALSE))*'By Speed'!$O59*Scenario_VMT_3*$N46","v":0},{"$f":"(VLOOKUP($B46,'By Population'!$G$2:$K$14,5,FALSE))*'By Speed'!$P59*Scenario_VMT_3*$N46","v":0},{"$f":"(VLOOKUP($B46,'By Population'!$G$2:$K$14,5,FALSE))*'By Speed'!$Q59*Scenario_VMT_3*$N46","v":0},{"$f":"(VLOOKUP($B46,'By Population'!$G$2:$K$14,5,FALSE))*'By Speed'!$R59*Scenario_VMT_3*$N46","v":0},{"$f":"(VLOOKUP($B46,'By Population'!$G$2:$K$14,5,FALSE))*'By Speed'!$S59*Scenario_VMT_3*$N46","v":0},{"$f":"(VLOOKUP($B46,'By Population'!$G$2:$K$14,5,FALSE))*'By Speed'!$T59*Scenario_VMT_3*$N46","v":0},{"$f":"(VLOOKUP($B46,'By Population'!$G$2:$K$14,5,FALSE))*'By Speed'!$U59*Scenario_VMT_3*$N46","v":0},0,{"$f":"(VLOOKUP($B46,'By Population'!$G$2:$K$14,5,FALSE))*'By Speed'!$M59*Scenario_VMT_4*$N46","v":0},{"$f":"(VLOOKUP($B46,'By Population'!$G$2:$K$14,5,FALSE))*'By Speed'!$N59*Scenario_VMT_4*$N46","v":0},{"$f":"(VLOOKUP($B46,'By Population'!$G$2:$K$14,5,FALSE))*'By Speed'!$O59*Scenario_VMT_4*$N46","v":0},{"$f":"(VLOOKUP($B46,'By Population'!$G$2:$K$14,5,FALSE))*'By Speed'!$P59*Scenario_VMT_4*$N46","v":0},{"$f":"(VLOOKUP($B46,'By Population'!$G$2:$K$14,5,FALSE))*'By Speed'!$Q59*Scenario_VMT_4*$N46","v":0},{"$f":"(VLOOKUP($B46,'By Population'!$G$2:$K$14,5,FALSE))*'By Speed'!$R59*Scenario_VMT_4*$N46","v":0},{"$f":"(VLOOKUP($B46,'By Population'!$G$2:$K$14,5,FALSE))*'By Speed'!$S59*Scenario_VMT_4*$N46","v":0},{"$f":"(VLOOKUP($B46,'By Population'!$G$2:$K$14,5,FALSE))*'By Speed'!$T59*Scenario_VMT_4*$N46","v":0},{"$f":"(VLOOKUP($B46,'By Population'!$G$2:$K$14,5,FALSE))*'By Speed'!$U59*Scenario_VMT_4*$N46","v":0},0,{"$f":"(VLOOKUP($B46,'By Population'!$G$2:$K$14,5,FALSE))*'By Speed'!$M59*Scenario_VMT_5*$N46","v":0},{"$f":"(VLOOKUP($B46,'By Population'!$G$2:$K$14,5,FALSE))*'By Speed'!$N59*Scenario_VMT_5*$N46","v":0},{"$f":"(VLOOKUP($B46,'By Population'!$G$2:$K$14,5,FALSE))*'By Speed'!$O59*Scenario_VMT_5*$N46","v":0},{"$f":"(VLOOKUP($B46,'By Population'!$G$2:$K$14,5,FALSE))*'By Speed'!$P59*Scenario_VMT_5*$N46","v":0},{"$f":"(VLOOKUP($B46,'By Population'!$G$2:$K$14,5,FALSE))*'By Speed'!$Q59*Scenario_VMT_5*$N46","v":0},{"$f":"(VLOOKUP($B46,'By Population'!$G$2:$K$14,5,FALSE))*'By Speed'!$R59*Scenario_VMT_5*$N46","v":0},{"$f":"(VLOOKUP($B46,'By Population'!$G$2:$K$14,5,FALSE))*'By Speed'!$S59*Scenario_VMT_5*$N46","v":0},{"$f":"(VLOOKUP($B46,'By Population'!$G$2:$K$14,5,FALSE))*'By Speed'!$T59*Scenario_VMT_5*$N46","v":0},{"$f":"(VLOOKUP($B46,'By Population'!$G$2:$K$14,5,FALSE))*'By Speed'!$U59*Scenario_VMT_5*$N46","v":0},0]
[35,"LDT1_GAS",20,"LDT1_GAS_20",{"$f":"(VLOOKUP($B47,'By Population'!$G$2:$K$14,5,FALSE))*'By Speed'!$M60*Scenario_VMT_EX*$N47","v":0},{"$f":"(VLOOKUP($B47,'By Population'!$G$2:$K$14,5,FALSE))*'By Speed'!$N60*Scenario_VMT_EX*$N47","v":0},{"$f":"(VLOOKUP($B47,'By Population'!$G$2:$K$14,5,FALSE))*'By Speed'!$O60*Scenario_VMT_EX*$N47","v":0},{"$f":"(VLOOKUP($B47,'By Population'!$G$2:$K$14,5,FALSE))*'By Speed'!$P60*Scenario_VMT_EX*$N47","v":0},{"$f":"(VLOOKUP($B47,'By Population'!$G$2:$K$14,5,FALSE))*'By Speed'!$Q60*Scenario_VMT_EX*$N47","v":0},{"$f":"(VLOOKUP($B47,'By Population'!$G$2:$K$14,5,FALSE))*'By Speed'!$R60*Scenario_VMT_EX*$N47","v":0},{"$f":"(VLOOKUP($B47,'By Population'!$G$2:$K$14,5,FALSE))*'By Speed'!$S60*Scenario_VMT_EX*$N47","v":0},{"$f":"(VLOOKUP($B47,'By Population'!$G$2:$K$14,5,FALSE))*'By Speed'!$T60*Scenario_VMT_EX*$N47","v":0},{"$f":"(VLOOKUP($B47,'By Population'!$G$2:$K$14,5,FALSE))*'By Speed'!$U60*Scenario_VMT_EX*$N47","v":0},0,{"$f":"(VLOOKUP($B47,'By Population'!$G$2:$K$14,5,FALSE))*'By Speed'!$M60*Scenario_VMT_1*$N47","v":0},{"$f":"(VLOOKUP($B47,'By Population'!$G$2:$K$14,5,FALSE))*'By Speed'!$N60*Scenario_VMT_1*$N47","v":0},{"$f":"(VLOOKUP($B47,'By Population'!$G$2:$K$14,5,FALSE))*'By Speed'!$O60*Scenario_VMT_1*$N47","v":0},{"$f":"(VLOOKUP($B47,'By Population'!$G$2:$K$14,5,FALSE))*'By Speed'!$P60*Scenario_VMT_1*$N47","v":0},{"$f":"(VLOOKUP($B47,'By Population'!$G$2:$K$14,5,FALSE))*'By Speed'!$Q60*Scenario_VMT_1*$N47","v":0},{"$f":"(VLOOKUP($B47,'By Population'!$G$2:$K$14,5,FALSE))*'By Speed'!$R60*Scenario_VMT_1*$N47","v":0},{"$f":"(VLOOKUP($B47,'By Population'!$G$2:$K$14,5,FALSE))*'By Speed'!$S60*Scenario_VMT_1*$N47","v":0},{"$f":"(VLOOKUP($B47,'By Population'!$G$2:$K$14,5,FALSE))*'By Speed'!$T60*Scenario_VMT_1*$N47","v":0},{"$f":"(VLOOKUP($B47,'By Population'!$G$2:$K$14,5,FALSE))*'By Speed'!$U60*Scenario_VMT_1*$N47","v":0},0,{"$f":"(VLOOKUP($B47,'By Population'!$G$2:$K$14,5,FALSE))*'By Speed'!$M60*Scenario_VMT_2*$N47","v":0},{"$f":"(VLOOKUP($B47,'By Population'!$G$2:$K$14,5,FALSE))*'By Speed'!$N60*Scenario_VMT_2*$N47","v":0},{"$f":"(VLOOKUP($B47,'By Population'!$G$2:$K$14,5,FALSE))*'By Speed'!$O60*Scenario_VMT_2*$N47","v":0},{"$f":"(VLOOKUP($B47,'By Population'!$G$2:$K$14,5,FALSE))*'By Speed'!$P60*Scenario_VMT_2*$N47","v":0},{"$f":"(VLOOKUP($B47,'By Population'!$G$2:$K$14,5,FALSE))*'By Speed'!$Q60*Scenario_VMT_2*$N47","v":0},{"$f":"(VLOOKUP($B47,'By Population'!$G$2:$K$14,5,FALSE))*'By Speed'!$R60*Scenario_VMT_2*$N47","v":0},{"$f":"(VLOOKUP($B47,'By Population'!$G$2:$K$14,5,FALSE))*'By Speed'!$S60*Scenario_VMT_2*$N47","v":0},{"$f":"(VLOOKUP($B47,'By Population'!$G$2:$K$14,5,FALSE))*'By Speed'!$T60*Scenario_VMT_2*$N47","v":0},{"$f":"(VLOOKUP($B47,'By Population'!$G$2:$K$14,5,FALSE))*'By Speed'!$U60*Scenario_VMT_2*$N47","v":0},0,{"$f":"(VLOOKUP($B47,'By Population'!$G$2:$K$14,5,FALSE))*'By Speed'!$M60*Scenario_VMT_3*$N47","v":0},{"$f":"(VLOOKUP($B47,'By Population'!$G$2:$K$14,5,FALSE))*'By Speed'!$N60*Scenario_VMT_3*$N47","v":0},{"$f":"(VLOOKUP($B47,'By Population'!$G$2:$K$14,5,FALSE))*'By Speed'!$O60*Scenario_VMT_3*$N47","v":0},{"$f":"(VLOOKUP($B47,'By Population'!$G$2:$K$14,5,FALSE))*'By Speed'!$P60*Scenario_VMT_3*$N47","v":0},{"$f":"(VLOOKUP($B47,'By Population'!$G$2:$K$14,5,FALSE))*'By Speed'!$Q60*Scenario_VMT_3*$N47","v":0},{"$f":"(VLOOKUP($B47,'By Population'!$G$2:$K$14,5,FALSE))*'By Speed'!$R60*Scenario_VMT_3*$N47","v":0},{"$f":"(VLOOKUP($B47,'By Population'!$G$2:$K$14,5,FALSE))*'By Speed'!$S60*Scenario_VMT_3*$N47","v":0},{"$f":"(VLOOKUP($B47,'By Population'!$G$2:$K$14,5,FALSE))*'By Speed'!$T60*Scenario_VMT_3*$N47","v":0},{"$f":"(VLOOKUP($B47,'By Population'!$G$2:$K$14,5,FALSE))*'By Speed'!$U60*Scenario_VMT_3*$N47","v":0},0,{"$f":"(VLOOKUP($B47,'By Population'!$G$2:$K$14,5,FALSE))*'By Speed'!$M60*Scenario_VMT_4*$N47","v":0},{"$f":"(VLOOKUP($B47,'By Population'!$G$2:$K$14,5,FALSE))*'By Speed'!$N60*Scenario_VMT_4*$N47","v":0},{"$f":"(VLOOKUP($B47,'By Population'!$G$2:$K$14,5,FALSE))*'By Speed'!$O60*Scenario_VMT_4*$N47","v":0},{"$f":"(VLOOKUP($B47,'By Population'!$G$2:$K$14,5,FALSE))*'By Speed'!$P60*Scenario_VMT_4*$N47","v":0},{"$f":"(VLOOKUP($B47,'By Population'!$G$2:$K$14,5,FALSE))*'By Speed'!$Q60*Scenario_VMT_4*$N47","v":0},{"$f":"(VLOOKUP($B47,'By Population'!$G$2:$K$14,5,FALSE))*'By Speed'!$R60*Scenario_VMT_4*$N47","v":0},{"$f":"(VLOOKUP($B47,'By Population'!$G$2:$K$14,5,FALSE))*'By Speed'!$S60*Scenario_VMT_4*$N47","v":0},{"$f":"(VLOOKUP($B47,'By Population'!$G$2:$K$14,5,FALSE))*'By Speed'!$T60*Scenario_VMT_4*$N47","v":0},{"$f":"(VLOOKUP($B47,'By Population'!$G$2:$K$14,5,FALSE))*'By Speed'!$U60*Scenario_VMT_4*$N47","v":0},0,{"$f":"(VLOOKUP($B47,'By Population'!$G$2:$K$14,5,FALSE))*'By Speed'!$M60*Scenario_VMT_5*$N47","v":0},{"$f":"(VLOOKUP($B47,'By Population'!$G$2:$K$14,5,FALSE))*'By Speed'!$N60*Scenario_VMT_5*$N47","v":0},{"$f":"(VLOOKUP($B47,'By Population'!$G$2:$K$14,5,FALSE))*'By Speed'!$O60*Scenario_VMT_5*$N47","v":0},{"$f":"(VLOOKUP($B47,'By Population'!$G$2:$K$14,5,FALSE))*'By Speed'!$P60*Scenario_VMT_5*$N47","v":0},{"$f":"(VLOOKUP($B47,'By Population'!$G$2:$K$14,5,FALSE))*'By Speed'!$Q60*Scenario_VMT_5*$N47","v":0},{"$f":"(VLOOKUP($B47,'By Population'!$G$2:$K$14,5,FALSE))*'By Speed'!$R60*Scenario_VMT_5*$N47","v":0},{"$f":"(VLOOKUP($B47,'By Population'!$G$2:$K$14,5,FALSE))*'By Speed'!$S60*Scenario_VMT_5*$N47","v":0},{"$f":"(VLOOKUP($B47,'By Population'!$G$2:$K$14,5,FALSE))*'By Speed'!$T60*Scenario_VMT_5*$N47","v":0},{"$f":"(VLOOKUP($B47,'By Population'!$G$2:$K$14,5,FALSE))*'By Speed'!$U60*Scenario_VMT_5*$N47","v":0},0]
[37,"LDT1_GAS",25,"LDT1_GAS_25",{"$f":"(VLOOKUP($B48,'By Population'!$G$2:$K$14,5,FALSE))*'By Speed'!$M61*Scenario_VMT_EX*$N48","v":0},{"$f":"(VLOOKUP($B48,'By Population'!$G$2:$K$14,5,FALSE))*'By Speed'!$N61*Scenario_VMT_EX*$N48","v":0},{"$f":"(VLOOKUP($B48,'By Population'!$G$2:$K$14,5,FALSE))*'By Speed'!$O61*Scenario_VMT_EX*$N48","v":0},{"$f":"(VLOOKUP($B48,'By Population'!$G$2:$K$14,5,FALSE))*'By Speed'!$P61*Scenario_VMT_EX*$N48","v":0},{"$f":"(VLOOKUP($B48,'By Population'!$G$2:$K$14,5,FALSE))*'By Speed'!$Q61*Scenario_VMT_EX*$N48","v":0},{"$f":"(VLOOKUP($B48,'By Population'!$G$2:$K$14,5,FALSE))*'By Speed'!$R61*Scenario_VMT_EX*$N48","v":0},{"$f":"(VLOOKUP($B48,'By Population'!$G$2:$K$14,5,FALSE))*'By Speed'!$S61*Scenario_VMT_EX*$N48","v":0},{"$f":"(VLOOKUP($B48,'By Population'!$G$2:$K$14,5,FALSE))*'By Speed'!$T61*Scenario_VMT_EX*$N48","v":0},{"$f":"(VLOOKUP($B48,'By Population'!$G$2:$K$14,5,FALSE))*'By Speed'!$U61*Scenario_VMT_EX*$N48","v":0},1,{"$f":"(VLOOKUP($B48,'By Population'!$G$2:$K$14,5,FALSE))*'By Speed'!$M61*Scenario_VMT_1*$N48","v":0},{"$f":"(VLOOKUP($B48,'By Population'!$G$2:$K$14,5,FALSE))*'By Speed'!$N61*Scenario_VMT_1*$N48","v":0},{"$f":"(VLOOKUP($B48,'By Population'!$G$2:$K$14,5,FALSE))*'By Speed'!$O61*Scenario_VMT_1*$N48","v":0},{"$f":"(VLOOKUP($B48,'By Population'!$G$2:$K$14,5,FALSE))*'By Speed'!$P61*Scenario_VMT_1*$N48","v":0},{"$f":"(VLOOKUP($B48,'By Population'!$G$2:$K$14,5,FALSE))*'By Speed'!$Q61*Scenario_VMT_1*$N48","v":0},{"$f":"(VLOOKUP($B48,'By Population'!$G$2:$K$14,5,FALSE))*'By Speed'!$R61*Scenario_VMT_1*$N48","v":0},{"$f":"(VLOOKUP($B48,'By Population'!$G$2:$K$14,5,FALSE))*'By Speed'!$S61*Scenario_VMT_1*$N48","v":0},{"$f":"(VLOOKUP($B48,'By Population'!$G$2:$K$14,5,FALSE))*'By Speed'!$T61*Scenario_VMT_1*$N48","v":0},{"$f":"(VLOOKUP($B48,'By Population'!$G$2:$K$14,5,FALSE))*'By Speed'!$U61*Scenario_VMT_1*$N48","v":0},0,{"$f":"(VLOOKUP($B48,'By Population'!$G$2:$K$14,5,FALSE))*'By Speed'!$M61*Scenario_VMT_2*$N48","v":0},{"$f":"(VLOOKUP($B48,'By Population'!$G$2:$K$14,5,FALSE))*'By Speed'!$N61*Scenario_VMT_2*$N48","v":0},{"$f":"(VLOOKUP($B48,'By Population'!$G$2:$K$14,5,FALSE))*'By Speed'!$O61*Scenario_VMT_2*$N48","v":0},{"$f":"(VLOOKUP($B48,'By Population'!$G$2:$K$14,5,FALSE))*'By Speed'!$P61*Scenario_VMT_2*$N48","v":0},{"$f":"(VLOOKUP($B48,'By Population'!$G$2:$K$14,5,FALSE))*'By Speed'!$Q61*Scenario_VMT_2*$N48","v":0},{"$f":"(VLOOKUP($B48,'By Population'!$G$2:$K$14,5,FALSE))*'By Speed'!$R61*Scenario_VMT_2*$N48","v":0},{"$f":"(VLOOKUP($B48,'By Population'!$G$2:$K$14,5,FALSE))*'By Speed'!$S61*Scenario_VMT_2*$N48","v":0},{"$f":"(VLOOKUP($B48,'By Population'!$G$2:$K$14,5,FALSE))*'By Speed'!$T61*Scenario_VMT_2*$N48","v":0},{"$f":"(VLOOKUP($B48,'By Population'!$G$2:$K$14,5,FALSE))*'By Speed'!$U61*Scenario_VMT_2*$N48","v":0},0,{"$f":"(VLOOKUP($B48,'By Population'!$G$2:$K$14,5,FALSE))*'By Speed'!$M61*Scenario_VMT_3*$N48","v":0},{"$f":"(VLOOKUP($B48,'By Population'!$G$2:$K$14,5,FALSE))*'By Speed'!$N61*Scenario_VMT_3*$N48","v":0},{"$f":"(VLOOKUP($B48,'By Population'!$G$2:$K$14,5,FALSE))*'By Speed'!$O61*Scenario_VMT_3*$N48","v":0},{"$f":"(VLOOKUP($B48,'By Population'!$G$2:$K$14,5,FALSE))*'By Speed'!$P61*Scenario_VMT_3*$N48","v":0},{"$f":"(VLOOKUP($B48,'By Population'!$G$2:$K$14,5,FALSE))*'By Speed'!$Q61*Scenario_VMT_3*$N48","v":0},{"$f":"(VLOOKUP($B48,'By Population'!$G$2:$K$14,5,FALSE))*'By Speed'!$R61*Scenario_VMT_3*$N48","v":0},{"$f":"(VLOOKUP($B48,'By Population'!$G$2:$K$14,5,FALSE))*'By Speed'!$S61*Scenario_VMT_3*$N48","v":0},{"$f":"(VLOOKUP($B48,'By Population'!$G$2:$K$14,5,FALSE))*'By Speed'!$T61*Scenario_VMT_3*$N48","v":0},{"$f":"(VLOOKUP($B48,'By Population'!$G$2:$K$14,5,FALSE))*'By Speed'!$U61*Scenario_VMT_3*$N48","v":0},0,{"$f":"(VLOOKUP($B48,'By Population'!$G$2:$K$14,5,FALSE))*'By Speed'!$M61*Scenario_VMT_4*$N48","v":0},{"$f":"(VLOOKUP($B48,'By Population'!$G$2:$K$14,5,FALSE))*'By Speed'!$N61*Scenario_VMT_4*$N48","v":0},{"$f":"(VLOOKUP($B48,'By Population'!$G$2:$K$14,5,FALSE))*'By Speed'!$O61*Scenario_VMT_4*$N48","v":0},{"$f":"(VLOOKUP($B48,'By Population'!$G$2:$K$14,5,FALSE))*'By Speed'!$P61*Scenario_VMT_4*$N48","v":0},{"$f":"(VLOOKUP($B48,'By Population'!$G$2:$K$14,5,FALSE))*'By Speed'!$Q61*Scenario_VMT_4*$N48","v":0},{"$f":"(VLOOKUP($B48,'By Population'!$G$2:$K$14,5,FALSE))*'By Speed'!$R61*Scenario_VMT_4*$N48","v":0},{"$f":"(VLOOKUP($B48,'By Population'!$G$2:$K$14,5,FALSE))*'By Speed'!$S61*Scenario_VMT_4*$N48","v":0},{"$f":"(VLOOKUP($B48,'By Population'!$G$2:$K$14,5,FALSE))*'By Speed'!$T61*Scenario_VMT_4*$N48","v":0},{"$f":"(VLOOKUP($B48,'By Population'!$G$2:$K$14,5,FALSE))*'By Speed'!$U61*Scenario_VMT_4*$N48","v":0},0,{"$f":"(VLOOKUP($B48,'By Population'!$G$2:$K$14,5,FALSE))*'By Speed'!$M61*Scenario_VMT_5*$N48","v":0},{"$f":"(VLOOKUP($B48,'By Population'!$G$2:$K$14,5,FALSE))*'By Speed'!$N61*Scenario_VMT_5*$N48","v":0},{"$f":"(VLOOKUP($B48,'By Population'!$G$2:$K$14,5,FALSE))*'By Speed'!$O61*Scenario_VMT_5*$N48","v":0},{"$f":"(VLOOKUP($B48,'By Population'!$G$2:$K$14,5,FALSE))*'By Speed'!$P61*Scenario_VMT_5*$N48","v":0},{"$f":"(VLOOKUP($B48,'By Population'!$G$2:$K$14,5,FALSE))*'By Speed'!$Q61*Scenario_VMT_5*$N48","v":0},{"$f":"(VLOOKUP($B48,'By Population'!$G$2:$K$14,5,FALSE))*'By Speed'!$R61*Scenario_VMT_5*$N48","v":0},{"$f":"(VLOOKUP($B48,'By Population'!$G$2:$K$14,5,FALSE))*'By Speed'!$S61*Scenario_VMT_5*$N48","v":0},{"$f":"(VLOOKUP($B48,'By Population'!$G$2:$K$14,5,FALSE))*'By Speed'!$T61*Scenario_VMT_5*$N48","v":0},{"$f":"(VLOOKUP($B48,'By Population'!$G$2:$K$14,5,FALSE))*'By Speed'!$U61*Scenario_VMT_5*$N48","v":0},0]
[39,"LDT1_GAS",30,"LDT1_GAS_30",{"$f":"(VLOOKUP($B49,'By Population'!$G$2:$K$14,5,FALSE))*'By Speed'!$M62*Scenario_VMT_EX*$N49","v":0},{"$f":"(VLOOKUP($B49,'By Population'!$G$2:$K$14,5,FALSE))*'By Speed'!$N62*Scenario_VMT_EX*$N49","v":0},{"$f":"(VLOOKUP($B49,'By Population'!$G$2:$K$14,5,FALSE))*'By Speed'!$O62*Scenario_VMT_EX*$N49","v":0},{"$f":"(VLOOKUP($B49,'By Population'!$G$2:$K$14,5,FALSE))*'By Speed'!$P62*Scenario_VMT_EX*$N49","v":0},{"$f":"(VLOOKUP($B49,'By Population'!$G$2:$K$14,5,FALSE))*'By Speed'!$Q62*Scenario_VMT_EX*$N49","v":0},{"$f":"(VLOOKUP($B49,'By Population'!$G$2:$K$14,5,FALSE))*'By Speed'!$R62*Scenario_VMT_EX*$N49","v":0},{"$f":"(VLOOKUP($B49,'By Population'!$G$2:$K$14,5,FALSE))*'By Speed'!$S62*Scenario_VMT_EX*$N49","v":0},{"$f":"(VLOOKUP($B49,'By Population'!$G$2:$K$14,5,FALSE))*'By Speed'!$T62*Scenario_VMT_EX*$N49","v":0},{"$f":"(VLOOKUP($B49,'By Population'!$G$2:$K$14,5,FALSE))*'By Speed'!$U62*Scenario_VMT_EX*$N49","v":0},0,{"$f":"(VLOOKUP($B49,'By Population'!$G$2:$K$14,5,FALSE))*'By Speed'!$M62*Scenario_VMT_1*$N49","v":0},{"$f":"(VLOOKUP($B49,'By Population'!$G$2:$K$14,5,FALSE))*'By Speed'!$N62*Scenario_VMT_1*$N49","v":0},{"$f":"(VLOOKUP($B49,'By Population'!$G$2:$K$14,5,FALSE))*'By Speed'!$O62*Scenario_VMT_1*$N49","v":0},{"$f":"(VLOOKUP($B49,'By Population'!$G$2:$K$14,5,FALSE))*'By Speed'!$P62*Scenario_VMT_1*$N49","v":0},{"$f":"(VLOOKUP($B49,'By Population'!$G$2:$K$14,5,FALSE))*'By Speed'!$Q62*Scenario_VMT_1*$N49","v":0},{"$f":"(VLOOKUP($B49,'By Population'!$G$2:$K$14,5,FALSE))*'By Speed'!$R62*Scenario_VMT_1*$N49","v":0},{"$f":"(VLOOKUP($B49,'By Population'!$G$2:$K$14,5,FALSE))*'By Speed'!$S62*Scenario_VMT_1*$N49","v":0},{"$f":"(VLOOKUP($B49,'By Population'!$G$2:$K$14,5,FALSE))*'By Speed'!$T62*Scenario_VMT_1*$N49","v":0},{"$f":"(VLOOKUP($B49,'By Population'!$G$2:$K$14,5,FALSE))*'By Speed'!$U62*Scenario_VMT_1*$N49","v":0},0,{"$f":"(VLOOKUP($B49,'By Population'!$G$2:$K$14,5,FALSE))*'By Speed'!$M62*Scenario_VMT_2*$N49","v":0},{"$f":"(VLOOKUP($B49,'By Population'!$G$2:$K$14,5,FALSE))*'By Speed'!$N62*Scenario_VMT_2*$N49","v":0},{"$f":"(VLOOKUP($B49,'By Population'!$G$2:$K$14,5,FALSE))*'By Speed'!$O62*Scenario_VMT_2*$N49","v":0},{"$f":"(VLOOKUP($B49,'By Population'!$G$2:$K$14,5,FALSE))*'By Speed'!$P62*Scenario_VMT_2*$N49","v":0},{"$f":"(VLOOKUP($B49,'By Population'!$G$2:$K$14,5,FALSE))*'By Speed'!$Q62*Scenario_VMT_2*$N49","v":0},{"$f":"(VLOOKUP($B49,'By Population'!$G$2:$K$14,5,FALSE))*'By Speed'!$R62*Scenario_VMT_2*$N49","v":0},{"$f":"(VLOOKUP($B49,'By Population'!$G$2:$K$14,5,FALSE))*'By Speed'!$S62*Scenario_VMT_2*$N49","v":0},{"$f":"(VLOOKUP($B49,'By Population'!$G$2:$K$14,5,FALSE))*'By Speed'!$T62*Scenario_VMT_2*$N49","v":0},{"$f":"(VLOOKUP($B49,'By Population'!$G$2:$K$14,5,FALSE))*'By Speed'!$U62*Scenario_VMT_2*$N49","v":0},0,{"$f":"(VLOOKUP($B49,'By Population'!$G$2:$K$14,5,FALSE))*'By Speed'!$M62*Scenario_VMT_3*$N49","v":0},{"$f":"(VLOOKUP($B49,'By Population'!$G$2:$K$14,5,FALSE))*'By Speed'!$N62*Scenario_VMT_3*$N49","v":0},{"$f":"(VLOOKUP($B49,'By Population'!$G$2:$K$14,5,FALSE))*'By Speed'!$O62*Scenario_VMT_3*$N49","v":0},{"$f":"(VLOOKUP($B49,'By Population'!$G$2:$K$14,5,FALSE))*'By Speed'!$P62*Scenario_VMT_3*$N49","v":0},{"$f":"(VLOOKUP($B49,'By Population'!$G$2:$K$14,5,FALSE))*'By Speed'!$Q62*Scenario_VMT_3*$N49","v":0},{"$f":"(VLOOKUP($B49,'By Population'!$G$2:$K$14,5,FALSE))*'By Speed'!$R62*Scenario_VMT_3*$N49","v":0},{"$f":"(VLOOKUP($B49,'By Population'!$G$2:$K$14,5,FALSE))*'By Speed'!$S62*Scenario_VMT_3*$N49","v":0},{"$f":"(VLOOKUP($B49,'By Population'!$G$2:$K$14,5,FALSE))*'By Speed'!$T62*Scenario_VMT_3*$N49","v":0},{"$f":"(VLOOKUP($B49,'By Population'!$G$2:$K$14,5,FALSE))*'By Speed'!$U62*Scenario_VMT_3*$N49","v":0},0,{"$f":"(VLOOKUP($B49,'By Population'!$G$2:$K$14,5,FALSE))*'By Speed'!$M62*Scenario_VMT_4*$N49","v":0},{"$f":"(VLOOKUP($B49,'By Population'!$G$2:$K$14,5,FALSE))*'By Speed'!$N62*Scenario_VMT_4*$N49","v":0},{"$f":"(VLOOKUP($B49,'By Population'!$G$2:$K$14,5,FALSE))*'By Speed'!$O62*Scenario_VMT_4*$N49","v":0},{"$f":"(VLOOKUP($B49,'By Population'!$G$2:$K$14,5,FALSE))*'By Speed'!$P62*Scenario_VMT_4*$N49","v":0},{"$f":"(VLOOKUP($B49,'By Population'!$G$2:$K$14,5,FALSE))*'By Speed'!$Q62*Scenario_VMT_4*$N49","v":0},{"$f":"(VLOOKUP($B49,'By Population'!$G$2:$K$14,5,FALSE))*'By Speed'!$R62*Scenario_VMT_4*$N49","v":0},{"$f":"(VLOOKUP($B49,'By Population'!$G$2:$K$14,5,FALSE))*'By Speed'!$S62*Scenario_VMT_4*$N49","v":0},{"$f":"(VLOOKUP($B49,'By Population'!$G$2:$K$14,5,FALSE))*'By Speed'!$T62*Scenario_VMT_4*$N49","v":0},{"$f":"(VLOOKUP($B49,'By Population'!$G$2:$K$14,5,FALSE))*'By Speed'!$U62*Scenario_VMT_4*$N49","v":0},0,{"$f":"(VLOOKUP($B49,'By Population'!$G$2:$K$14,5,FALSE))*'By Speed'!$M62*Scenario_VMT_5*$N49","v":0},{"$f":"(VLOOKUP($B49,'By Population'!$G$2:$K$14,5,FALSE))*'By Speed'!$N62*Scenario_VMT_5*$N49","v":0},{"$f":"(VLOOKUP($B49,'By Population'!$G$2:$K$14,5,FALSE))*'By Speed'!$O62*Scenario_VMT_5*$N49","v":0},{"$f":"(VLOOKUP($B49,'By Population'!$G$2:$K$14,5,FALSE))*'By Speed'!$P62*Scenario_VMT_5*$N49","v":0},{"$f":"(VLOOKUP($B49,'By Population'!$G$2:$K$14,5,FALSE))*'By Speed'!$Q62*Scenario_VMT_5*$N49","v":0},{"$f":"(VLOOKUP($B49,'By Population'!$G$2:$K$14,5,FALSE))*'By Speed'!$R62*Scenario_VMT_5*$N49","v":0},{"$f":"(VLOOKUP($B49,'By Population'!$G$2:$K$14,5,FALSE))*'By Speed'!$S62*Scenario_VMT_5*$N49","v":0},{"$f":"(VLOOKUP($B49,'By Population'!$G$2:$K$14,5,FALSE))*'By Speed'!$T62*Scenario_VMT_5*$N49","v":0},{"$f":"(VLOOKUP($B49,'By Population'!$G$2:$K$14,5,FALSE))*'By Speed'!$U62*Scenario_VMT_5*$N49","v":0},0]
[41,"LDT1_GAS",35,"LDT1_GAS_35",{"$f":"(VLOOKUP($B50,'By Population'!$G$2:$K$14,5,FALSE))*'By Speed'!$M63*Scenario_VMT_EX*$N50","v":0},{"$f":"(VLOOKUP($B50,'By Population'!$G$2:$K$14,5,FALSE))*'By Speed'!$N63*Scenario_VMT_EX*$N50","v":0},{"$f":"(VLOOKUP($B50,'By Population'!$G$2:$K$14,5,FALSE))*'By Speed'!$O63*Scenario_VMT_EX*$N50","v":0},{"$f":"(VLOOKUP($B50,'By Population'!$G$2:$K$14,5,FALSE))*'By Speed'!$P63*Scenario_VMT_EX*$N50","v":0},{"$f":"(VLOOKUP($B50,'By Population'!$G$2:$K$14,5,FALSE))*'By Speed'!$Q63*Scenario_VMT_EX*$N50","v":0},{"$f":"(VLOOKUP($B50,'By Population'!$G$2:$K$14,5,FALSE))*'By Speed'!$R63*Scenario_VMT_EX*$N50","v":0},{"$f":"(VLOOKUP($B50,'By Population'!$G$2:$K$14,5,FALSE))*'By Speed'!$S63*Scenario_VMT_EX*$N50","v":0},{"$f":"(VLOOKUP($B50,'By Population'!$G$2:$K$14,5,FALSE))*'By Speed'!$T63*Scenario_VMT_EX*$N50","v":0},{"$f":"(VLOOKUP($B50,'By Population'!$G$2:$K$14,5,FALSE))*'By Speed'!$U63*Scenario_VMT_EX*$N50","v":0},0,{"$f":"(VLOOKUP($B50,'By Population'!$G$2:$K$14,5,FALSE))*'By Speed'!$M63*Scenario_VMT_1*$N50","v":0},{"$f":"(VLOOKUP($B50,'By Population'!$G$2:$K$14,5,FALSE))*'By Speed'!$N63*Scenario_VMT_1*$N50","v":0},{"$f":"(VLOOKUP($B50,'By Population'!$G$2:$K$14,5,FALSE))*'By Speed'!$O63*Scenario_VMT_1*$N50","v":0},{"$f":"(VLOOKUP($B50,'By Population'!$G$2:$K$14,5,FALSE))*'By Speed'!$P63*Scenario_VMT_1*$N50","v":0},{"$f":"(VLOOKUP($B50,'By Population'!$G$2:$K$14,5,FALSE))*'By Speed'!$Q63*Scenario_VMT_1*$N50","v":0},{"$f":"(VLOOKUP($B50,'By Population'!$G$2:$K$14,5,FALSE))*'By Speed'!$R63*Scenario_VMT_1*$N50","v":0},{"$f":"(VLOOKUP($B50,'By Population'!$G$2:$K$14,5,FALSE))*'By Speed'!$S63*Scenario_VMT_1*$N50","v":0},{"$f":"(VLOOKUP($B50,'By Population'!$G$2:$K$14,5,FALSE))*'By Speed'!$T63*Scenario_VMT_1*$N50","v":0},{"$f":"(VLOOKUP($B50,'By Population'!$G$2:$K$14,5,FALSE))*'By Speed'!$U63*Scenario_VMT_1*$N50","v":0},0,{"$f":"(VLOOKUP($B50,'By Population'!$G$2:$K$14,5,FALSE))*'By Speed'!$M63*Scenario_VMT_2*$N50","v":0},{"$f":"(VLOOKUP($B50,'By Population'!$G$2:$K$14,5,FALSE))*'By Speed'!$N63*Scenario_VMT_2*$N50","v":0},{"$f":"(VLOOKUP($B50,'By Population'!$G$2:$K$14,5,FALSE))*'By Speed'!$O63*Scenario_VMT_2*$N50","v":0},{"$f":"(VLOOKUP($B50,'By Population'!$G$2:$K$14,5,FALSE))*'By Speed'!$P63*Scenario_VMT_2*$N50","v":0},{"$f":"(VLOOKUP($B50,'By Population'!$G$2:$K$14,5,FALSE))*'By Speed'!$Q63*Scenario_VMT_2*$N50","v":0},{"$f":"(VLOOKUP($B50,'By Population'!$G$2:$K$14,5,FALSE))*'By Speed'!$R63*Scenario_VMT_2*$N50","v":0},{"$f":"(VLOOKUP($B50,'By Population'!$G$2:$K$14,5,FALSE))*'By Speed'!$S63*Scenario_VMT_2*$N50","v":0},{"$f":"(VLOOKUP($B50,'By Population'!$G$2:$K$14,5,FALSE))*'By Speed'!$T63*Scenario_VMT_2*$N50","v":0},{"$f":"(VLOOKUP($B50,'By Population'!$G$2:$K$14,5,FALSE))*'By Speed'!$U63*Scenario_VMT_2*$N50","v":0},0,{"$f":"(VLOOKUP($B50,'By Population'!$G$2:$K$14,5,FALSE))*'By Speed'!$M63*Scenario_VMT_3*$N50","v":0},{"$f":"(VLOOKUP($B50,'By Population'!$G$2:$K$14,5,FALSE))*'By Speed'!$N63*Scenario_VMT_3*$N50","v":0},{"$f":"(VLOOKUP($B50,'By Population'!$G$2:$K$14,5,FALSE))*'By Speed'!$O63*Scenario_VMT_3*$N50","v":0},{"$f":"(VLOOKUP($B50,'By Population'!$G$2:$K$14,5,FALSE))*'By Speed'!$P63*Scenario_VMT_3*$N50","v":0},{"$f":"(VLOOKUP($B50,'By Population'!$G$2:$K$14,5,FALSE))*'By Speed'!$Q63*Scenario_VMT_3*$N50","v":0},{"$f":"(VLOOKUP($B50,'By Population'!$G$2:$K$14,5,FALSE))*'By Speed'!$R63*Scenario_VMT_3*$N50","v":0},{"$f":"(VLOOKUP($B50,'By Population'!$G$2:$K$14,5,FALSE))*'By Speed'!$S63*Scenario_VMT_3*$N50","v":0},{"$f":"(VLOOKUP($B50,'By Population'!$G$2:$K$14,5,FALSE))*'By Speed'!$T63*Scenario_VMT_3*$N50","v":0},{"$f":"(VLOOKUP($B50,'By Population'!$G$2:$K$14,5,FALSE))*'By Speed'!$U63*Scenario_VMT_3*$N50","v":0},0,{"$f":"(VLOOKUP($B50,'By Population'!$G$2:$K$14,5,FALSE))*'By Speed'!$M63*Scenario_VMT_4*$N50","v":0},{"$f":"(VLOOKUP($B50,'By Population'!$G$2:$K$14,5,FALSE))*'By Speed'!$N63*Scenario_VMT_4*$N50","v":0},{"$f":"(VLOOKUP($B50,'By Population'!$G$2:$K$14,5,FALSE))*'By Speed'!$O63*Scenario_VMT_4*$N50","v":0},{"$f":"(VLOOKUP($B50,'By Population'!$G$2:$K$14,5,FALSE))*'By Speed'!$P63*Scenario_VMT_4*$N50","v":0},{"$f":"(VLOOKUP($B50,'By Population'!$G$2:$K$14,5,FALSE))*'By Speed'!$Q63*Scenario_VMT_4*$N50","v":0},{"$f":"(VLOOKUP($B50,'By Population'!$G$2:$K$14,5,FALSE))*'By Speed'!$R63*Scenario_VMT_4*$N50","v":0},{"$f":"(VLOOKUP($B50,'By Population'!$G$2:$K$14,5,FALSE))*'By Speed'!$S63*Scenario_VMT_4*$N50","v":0},{"$f":"(VLOOKUP($B50,'By Population'!$G$2:$K$14,5,FALSE))*'By Speed'!$T63*Scenario_VMT_4*$N50","v":0},{"$f":"(VLOOKUP($B50,'By Population'!$G$2:$K$14,5,FALSE))*'By Speed'!$U63*Scenario_VMT_4*$N50","v":0},0,{"$f":"(VLOOKUP($B50,'By Population'!$G$2:$K$14,5,FALSE))*'By Speed'!$M63*Scenario_VMT_5*$N50","v":0},{"$f":"(VLOOKUP($B50,'By Population'!$G$2:$K$14,5,FALSE))*'By Speed'!$N63*Scenario_VMT_5*$N50","v":0},{"$f":"(VLOOKUP($B50,'By Population'!$G$2:$K$14,5,FALSE))*'By Speed'!$O63*Scenario_VMT_5*$N50","v":0},{"$f":"(VLOOKUP($B50,'By Population'!$G$2:$K$14,5,FALSE))*'By Speed'!$P63*Scenario_VMT_5*$N50","v":0},{"$f":"(VLOOKUP($B50,'By Population'!$G$2:$K$14,5,FALSE))*'By Speed'!$Q63*Scenario_VMT_5*$N50","v":0},{"$f":"(VLOOKUP($B50,'By Population'!$G$2:$K$14,5,FALSE))*'By Speed'!$R63*Scenario_VMT_5*$N50","v":0},{"$f":"(VLOOKUP($B50,'By Population'!$G$2:$K$14,5,FALSE))*'By Speed'!$S63*Scenario_VMT_5*$N50","v":0},{"$f":"(VLOOKUP($B50,'By Population'!$G$2:$K$14,5,FALSE))*'By Speed'!$T63*Scenario_VMT_5*$N50","v":0},{"$f":"(VLOOKUP($B50,'By Population'!$G$2:$K$14,5,FALSE))*'By Speed'!$U63*Scenario_VMT_5*$N50","v":0},0]
[43,"LDT1_GAS",40,"LDT1_GAS_40",{"$f":"(VLOOKUP($B51,'By Population'!$G$2:$K$14,5,FALSE))*'By Speed'!$M64*Scenario_VMT_EX*$N51","v":0},{"$f":"(VLOOKUP($B51,'By Population'!$G$2:$K$14,5,FALSE))*'By Speed'!$N64*Scenario_VMT_EX*$N51","v":0},{"$f":"(VLOOKUP($B51,'By Population'!$G$2:$K$14,5,FALSE))*'By Speed'!$O64*Scenario_VMT_EX*$N51","v":0},{"$f":"(VLOOKUP($B51,'By Population'!$G$2:$K$14,5,FALSE))*'By Speed'!$P64*Scenario_VMT_EX*$N51","v":0},{"$f":"(VLOOKUP($B51,'By Population'!$G$2:$K$14,5,FALSE))*'By Speed'!$Q64*Scenario_VMT_EX*$N51","v":0},{"$f":"(VLOOKUP($B51,'By Population'!$G$2:$K$14,5,FALSE))*'By Speed'!$R64*Scenario_VMT_EX*$N51","v":0},{"$f":"(VLOOKUP($B51,'By Population'!$G$2:$K$14,5,FALSE))*'By Speed'!$S64*Scenario_VMT_EX*$N51","v":0},{"$f":"(VLOOKUP($B51,'By Population'!$G$2:$K$14,5,FALSE))*'By Speed'!$T64*Scenario_VMT_EX*$N51","v":0},{"$f":"(VLOOKUP($B51,'By Population'!$G$2:$K$14,5,FALSE))*'By Speed'!$U64*Scenario_VMT_EX*$N51","v":0},0,{"$f":"(VLOOKUP($B51,'By Population'!$G$2:$K$14,5,FALSE))*'By Speed'!$M64*Scenario_VMT_1*$N51","v":0},{"$f":"(VLOOKUP($B51,'By Population'!$G$2:$K$14,5,FALSE))*'By Speed'!$N64*Scenario_VMT_1*$N51","v":0},{"$f":"(VLOOKUP($B51,'By Population'!$G$2:$K$14,5,FALSE))*'By Speed'!$O64*Scenario_VMT_1*$N51","v":0},{"$f":"(VLOOKUP($B51,'By Population'!$G$2:$K$14,5,FALSE))*'By Speed'!$P64*Scenario_VMT_1*$N51","v":0},{"$f":"(VLOOKUP($B51,'By Population'!$G$2:$K$14,5,FALSE))*'By Speed'!$Q64*Scenario_VMT_1*$N51","v":0},{"$f":"(VLOOKUP($B51,'By Population'!$G$2:$K$14,5,FALSE))*'By Speed'!$R64*Scenario_VMT_1*$N51","v":0},{"$f":"(VLOOKUP($B51,'By Population'!$G$2:$K$14,5,FALSE))*'By Speed'!$S64*Scenario_VMT_1*$N51","v":0},{"$f":"(VLOOKUP($B51,'By Population'!$G$2:$K$14,5,FALSE))*'By Speed'!$T64*Scenario_VMT_1*$N51","v":0},{"$f":"(VLOOKUP($B51,'By Population'!$G$2:$K$14,5,FALSE))*'By Speed'!$U64*Scenario_VMT_1*$N51","v":0},0,{"$f":"(VLOOKUP($B51,'By Population'!$G$2:$K$14,5,FALSE))*'By Speed'!$M64*Scenario_VMT_2*$N51","v":0},{"$f":"(VLOOKUP($B51,'By Population'!$G$2:$K$14,5,FALSE))*'By Speed'!$N64*Scenario_VMT_2*$N51","v":0},{"$f":"(VLOOKUP($B51,'By Population'!$G$2:$K$14,5,FALSE))*'By Speed'!$O64*Scenario_VMT_2*$N51","v":0},{"$f":"(VLOOKUP($B51,'By Population'!$G$2:$K$14,5,FALSE))*'By Speed'!$P64*Scenario_VMT_2*$N51","v":0},{"$f":"(VLOOKUP($B51,'By Population'!$G$2:$K$14,5,FALSE))*'By Speed'!$Q64*Scenario_VMT_2*$N51","v":0},{"$f":"(VLOOKUP($B51,'By Population'!$G$2:$K$14,5,FALSE))*'By Speed'!$R64*Scenario_VMT_2*$N51","v":0},{"$f":"(VLOOKUP($B51,'By Population'!$G$2:$K$14,5,FALSE))*'By Speed'!$S64*Scenario_VMT_2*$N51","v":0},{"$f":"(VLOOKUP($B51,'By Population'!$G$2:$K$14,5,FALSE))*'By Speed'!$T64*Scenario_VMT_2*$N51","v":0},{"$f":"(VLOOKUP($B51,'By Population'!$G$2:$K$14,5,FALSE))*'By Speed'!$U64*Scenario_VMT_2*$N51","v":0},0,{"$f":"(VLOOKUP($B51,'By Population'!$G$2:$K$14,5,FALSE))*'By Speed'!$M64*Scenario_VMT_3*$N51","v":0},{"$f":"(VLOOKUP($B51,'By Population'!$G$2:$K$14,5,FALSE))*'By Speed'!$N64*Scenario_VMT_3*$N51","v":0},{"$f":"(VLOOKUP($B51,'By Population'!$G$2:$K$14,5,FALSE))*'By Speed'!$O64*Scenario_VMT_3*$N51","v":0},{"$f":"(VLOOKUP($B51,'By Population'!$G$2:$K$14,5,FALSE))*'By Speed'!$P64*Scenario_VMT_3*$N51","v":0},{"$f":"(VLOOKUP($B51,'By Population'!$G$2:$K$14,5,FALSE))*'By Speed'!$Q64*Scenario_VMT_3*$N51","v":0},{"$f":"(VLOOKUP($B51,'By Population'!$G$2:$K$14,5,FALSE))*'By Speed'!$R64*Scenario_VMT_3*$N51","v":0},{"$f":"(VLOOKUP($B51,'By Population'!$G$2:$K$14,5,FALSE))*'By Speed'!$S64*Scenario_VMT_3*$N51","v":0},{"$f":"(VLOOKUP($B51,'By Population'!$G$2:$K$14,5,FALSE))*'By Speed'!$T64*Scenario_VMT_3*$N51","v":0},{"$f":"(VLOOKUP($B51,'By Population'!$G$2:$K$14,5,FALSE))*'By Speed'!$U64*Scenario_VMT_3*$N51","v":0},0,{"$f":"(VLOOKUP($B51,'By Population'!$G$2:$K$14,5,FALSE))*'By Speed'!$M64*Scenario_VMT_4*$N51","v":0},{"$f":"(VLOOKUP($B51,'By Population'!$G$2:$K$14,5,FALSE))*'By Speed'!$N64*Scenario_VMT_4*$N51","v":0},{"$f":"(VLOOKUP($B51,'By Population'!$G$2:$K$14,5,FALSE))*'By Speed'!$O64*Scenario_VMT_4*$N51","v":0},{"$f":"(VLOOKUP($B51,'By Population'!$G$2:$K$14,5,FALSE))*'By Speed'!$P64*Scenario_VMT_4*$N51","v":0},{"$f":"(VLOOKUP($B51,'By Population'!$G$2:$K$14,5,FALSE))*'By Speed'!$Q64*Scenario_VMT_4*$N51","v":0},{"$f":"(VLOOKUP($B51,'By Population'!$G$2:$K$14,5,FALSE))*'By Speed'!$R64*Scenario_VMT_4*$N51","v":0},{"$f":"(VLOOKUP($B51,'By Population'!$G$2:$K$14,5,FALSE))*'By Speed'!$S64*Scenario_VMT_4*$N51","v":0},{"$f":"(VLOOKUP($B51,'By Population'!$G$2:$K$14,5,FALSE))*'By Speed'!$T64*Scenario_VMT_4*$N51","v":0},{"$f":"(VLOOKUP($B51,'By Population'!$G$2:$K$14,5,FALSE))*'By Speed'!$U64*Scenario_VMT_4*$N51","v":0},0,{"$f":"(VLOOKUP($B51,'By Population'!$G$2:$K$14,5,FALSE))*'By Speed'!$M64*Scenario_VMT_5*$N51","v":0},{"$f":"(VLOOKUP($B51,'By Population'!$G$2:$K$14,5,FALSE))*'By Speed'!$N64*Scenario_VMT_5*$N51","v":0},{"$f":"(VLOOKUP($B51,'By Population'!$G$2:$K$14,5,FALSE))*'By Speed'!$O64*Scenario_VMT_5*$N51","v":0},{"$f":"(VLOOKUP($B51,'By Population'!$G$2:$K$14,5,FALSE))*'By Speed'!$P64*Scenario_VMT_5*$N51","v":0},{"$f":"(VLOOKUP($B51,'By Population'!$G$2:$K$14,5,FALSE))*'By Speed'!$Q64*Scenario_VMT_5*$N51","v":0},{"$f":"(VLOOKUP($B51,'By Population'!$G$2:$K$14,5,FALSE))*'By Speed'!$R64*Scenario_VMT_5*$N51","v":0},{"$f":"(VLOOKUP($B51,'By Population'!$G$2:$K$14,5,FALSE))*'By Speed'!$S64*Scenario_VMT_5*$N51","v":0},{"$f":"(VLOOKUP($B51,'By Population'!$G$2:$K$14,5,FALSE))*'By Speed'!$T64*Scenario_VMT_5*$N51","v":0},{"$f":"(VLOOKUP($B51,'By Population'!$G$2:$K$14,5,FALSE))*'By Speed'!$U64*Scenario_VMT_5*$N51","v":0},0]
[45,"LDT1_GAS",45,"LDT1_GAS_45",{"$f":"(VLOOKUP($B52,'By Population'!$G$2:$K$14,5,FALSE))*'By Speed'!$M65*Scenario_VMT_EX*$N52","v":0},{"$f":"(VLOOKUP($B52,'By Population'!$G$2:$K$14,5,FALSE))*'By Speed'!$N65*Scenario_VMT_EX*$N52","v":0},{"$f":"(VLOOKUP($B52,'By Population'!$G$2:$K$14,5,FALSE))*'By Speed'!$O65*Scenario_VMT_EX*$N52","v":0},{"$f":"(VLOOKUP($B52,'By Population'!$G$2:$K$14,5,FALSE))*'By Speed'!$P65*Scenario_VMT_EX*$N52","v":0},{"$f":"(VLOOKUP($B52,'By Population'!$G$2:$K$14,5,FALSE))*'By Speed'!$Q65*Scenario_VMT_EX*$N52","v":0},{"$f":"(VLOOKUP($B52,'By Population'!$G$2:$K$14,5,FALSE))*'By Speed'!$R65*Scenario_VMT_EX*$N52","v":0},{"$f":"(VLOOKUP($B52,'By Population'!$G$2:$K$14,5,FALSE))*'By Speed'!$S65*Scenario_VMT_EX*$N52","v":0},{"$f":"(VLOOKUP($B52,'By Population'!$G$2:$K$14,5,FALSE))*'By Speed'!$T65*Scenario_VMT_EX*$N52","v":0},{"$f":"(VLOOKUP($B52,'By Population'!$G$2:$K$14,5,FALSE))*'By Speed'!$U65*Scenario_VMT_EX*$N52","v":0},0,{"$f":"(VLOOKUP($B52,'By Population'!$G$2:$K$14,5,FALSE))*'By Speed'!$M65*Scenario_VMT_1*$N52","v":0},{"$f":"(VLOOKUP($B52,'By Population'!$G$2:$K$14,5,FALSE))*'By Speed'!$N65*Scenario_VMT_1*$N52","v":0},{"$f":"(VLOOKUP($B52,'By Population'!$G$2:$K$14,5,FALSE))*'By Speed'!$O65*Scenario_VMT_1*$N52","v":0},{"$f":"(VLOOKUP($B52,'By Population'!$G$2:$K$14,5,FALSE))*'By Speed'!$P65*Scenario_VMT_1*$N52","v":0},{"$f":"(VLOOKUP($B52,'By Population'!$G$2:$K$14,5,FALSE))*'By Speed'!$Q65*Scenario_VMT_1*$N52","v":0},{"$f":"(VLOOKUP($B52,'By Population'!$G$2:$K$14,5,FALSE))*'By Speed'!$R65*Scenario_VMT_1*$N52","v":0},{"$f":"(VLOOKUP($B52,'By Population'!$G$2:$K$14,5,FALSE))*'By Speed'!$S65*Scenario_VMT_1*$N52","v":0},{"$f":"(VLOOKUP($B52,'By Population'!$G$2:$K$14,5,FALSE))*'By Speed'!$T65*Scenario_VMT_1*$N52","v":0},{"$f":"(VLOOKUP($B52,'By Population'!$G$2:$K$14,5,FALSE))*'By Speed'!$U65*Scenario_VMT_1*$N52","v":0},0,{"$f":"(VLOOKUP($B52,'By Population'!$G$2:$K$14,5,FALSE))*'By Speed'!$M65*Scenario_VMT_2*$N52","v":0},{"$f":"(VLOOKUP($B52,'By Population'!$G$2:$K$14,5,FALSE))*'By Speed'!$N65*Scenario_VMT_2*$N52","v":0},{"$f":"(VLOOKUP($B52,'By Population'!$G$2:$K$14,5,FALSE))*'By Speed'!$O65*Scenario_VMT_2*$N52","v":0},{"$f":"(VLOOKUP($B52,'By Population'!$G$2:$K$14,5,FALSE))*'By Speed'!$P65*Scenario_VMT_2*$N52","v":0},{"$f":"(VLOOKUP($B52,'By Population'!$G$2:$K$14,5,FALSE))*'By Speed'!$Q65*Scenario_VMT_2*$N52","v":0},{"$f":"(VLOOKUP($B52,'By Population'!$G$2:$K$14,5,FALSE))*'By Speed'!$R65*Scenario_VMT_2*$N52","v":0},{"$f":"(VLOOKUP($B52,'By Population'!$G$2:$K$14,5,FALSE))*'By Speed'!$S65*Scenario_VMT_2*$N52","v":0},{"$f":"(VLOOKUP($B52,'By Population'!$G$2:$K$14,5,FALSE))*'By Speed'!$T65*Scenario_VMT_2*$N52","v":0},{"$f":"(VLOOKUP($B52,'By Population'!$G$2:$K$14,5,FALSE))*'By Speed'!$U65*Scenario_VMT_2*$N52","v":0},0,{"$f":"(VLOOKUP($B52,'By Population'!$G$2:$K$14,5,FALSE))*'By Speed'!$M65*Scenario_VMT_3*$N52","v":0},{"$f":"(VLOOKUP($B52,'By Population'!$G$2:$K$14,5,FALSE))*'By Speed'!$N65*Scenario_VMT_3*$N52","v":0},{"$f":"(VLOOKUP($B52,'By Population'!$G$2:$K$14,5,FALSE))*'By Speed'!$O65*Scenario_VMT_3*$N52","v":0},{"$f":"(VLOOKUP($B52,'By Population'!$G$2:$K$14,5,FALSE))*'By Speed'!$P65*Scenario_VMT_3*$N52","v":0},{"$f":"(VLOOKUP($B52,'By Population'!$G$2:$K$14,5,FALSE))*'By Speed'!$Q65*Scenario_VMT_3*$N52","v":0},{"$f":"(VLOOKUP($B52,'By Population'!$G$2:$K$14,5,FALSE))*'By Speed'!$R65*Scenario_VMT_3*$N52","v":0},{"$f":"(VLOOKUP($B52,'By Population'!$G$2:$K$14,5,FALSE))*'By Speed'!$S65*Scenario_VMT_3*$N52","v":0},{"$f":"(VLOOKUP($B52,'By Population'!$G$2:$K$14,5,FALSE))*'By Speed'!$T65*Scenario_VMT_3*$N52","v":0},{"$f":"(VLOOKUP($B52,'By Population'!$G$2:$K$14,5,FALSE))*'By Speed'!$U65*Scenario_VMT_3*$N52","v":0},0,{"$f":"(VLOOKUP($B52,'By Population'!$G$2:$K$14,5,FALSE))*'By Speed'!$M65*Scenario_VMT_4*$N52","v":0},{"$f":"(VLOOKUP($B52,'By Population'!$G$2:$K$14,5,FALSE))*'By Speed'!$N65*Scenario_VMT_4*$N52","v":0},{"$f":"(VLOOKUP($B52,'By Population'!$G$2:$K$14,5,FALSE))*'By Speed'!$O65*Scenario_VMT_4*$N52","v":0},{"$f":"(VLOOKUP($B52,'By Population'!$G$2:$K$14,5,FALSE))*'By Speed'!$P65*Scenario_VMT_4*$N52","v":0},{"$f":"(VLOOKUP($B52,'By Population'!$G$2:$K$14,5,FALSE))*'By Speed'!$Q65*Scenario_VMT_4*$N52","v":0},{"$f":"(VLOOKUP($B52,'By Population'!$G$2:$K$14,5,FALSE))*'By Speed'!$R65*Scenario_VMT_4*$N52","v":0},{"$f":"(VLOOKUP($B52,'By Population'!$G$2:$K$14,5,FALSE))*'By Speed'!$S65*Scenario_VMT_4*$N52","v":0},{"$f":"(VLOOKUP($B52,'By Population'!$G$2:$K$14,5,FALSE))*'By Speed'!$T65*Scenario_VMT_4*$N52","v":0},{"$f":"(VLOOKUP($B52,'By Population'!$G$2:$K$14,5,FALSE))*'By Speed'!$U65*Scenario_VMT_4*$N52","v":0},0,{"$f":"(VLOOKUP($B52,'By Population'!$G$2:$K$14,5,FALSE))*'By Speed'!$M65*Scenario_VMT_5*$N52","v":0},{"$f":"(VLOOKUP($B52,'By Population'!$G$2:$K$14,5,FALSE))*'By Speed'!$N65*Scenario_VMT_5*$N52","v":0},{"$f":"(VLOOKUP($B52,'By Population'!$G$2:$K$14,5,FALSE))*'By Speed'!$O65*Scenario_VMT_5*$N52","v":0},{"$f":"(VLOOKUP($B52,'By Population'!$G$2:$K$14,5,FALSE))*'By Speed'!$P65*Scenario_VMT_5*$N52","v":0},{"$f":"(VLOOKUP($B52,'By Population'!$G$2:$K$14,5,FALSE))*'By Speed'!$Q65*Scenario_VMT_5*$N52","v":0},{"$f":"(VLOOKUP($B52,'By Population'!$G$2:$K$14,5,FALSE))*'By Speed'!$R65*Scenario_VMT_5*$N52","v":0},{"$f":"(VLOOKUP($B52,'By Population'!$G$2:$K$14,5,FALSE))*'By Speed'!$S65*Scenario_VMT_5*$N52","v":0},{"$f":"(VLOOKUP($B52,'By Population'!$G$2:$K$14,5,FALSE))*'By Speed'!$T65*Scenario_VMT_5*$N52","v":0},{"$f":"(VLOOKUP($B52,'By Population'!$G$2:$K$14,5,FALSE))*'By Speed'!$U65*Scenario_VMT_5*$N52","v":0},0]
[29,"LDT1_GAS",5,"LDT1_GAS_5",{"$f":"(VLOOKUP($B53,'By Population'!$G$2:$K$14,5,FALSE))*'By Speed'!$M66*Scenario_VMT_EX*$N53","v":0},{"$f":"(VLOOKUP($B53,'By Population'!$G$2:$K$14,5,FALSE))*'By Speed'!$N66*Scenario_VMT_EX*$N53","v":0},{"$f":"(VLOOKUP($B53,'By Population'!$G$2:$K$14,5,FALSE))*'By Speed'!$O66*Scenario_VMT_EX*$N53","v":0},{"$f":"(VLOOKUP($B53,'By Population'!$G$2:$K$14,5,FALSE))*'By Speed'!$P66*Scenario_VMT_EX*$N53","v":0},{"$f":"(VLOOKUP($B53,'By Population'!$G$2:$K$14,5,FALSE))*'By Speed'!$Q66*Scenario_VMT_EX*$N53","v":0},{"$f":"(VLOOKUP($B53,'By Population'!$G$2:$K$14,5,FALSE))*'By Speed'!$R66*Scenario_VMT_EX*$N53","v":0},{"$f":"(VLOOKUP($B53,'By Population'!$G$2:$K$14,5,FALSE))*'By Speed'!$S66*Scenario_VMT_EX*$N53","v":0},{"$f":"(VLOOKUP($B53,'By Population'!$G$2:$K$14,5,FALSE))*'By Speed'!$T66*Scenario_VMT_EX*$N53","v":0},{"$f":"(VLOOKUP($B53,'By Population'!$G$2:$K$14,5,FALSE))*'By Speed'!$U66*Scenario_VMT_EX*$N53","v":0},0,{"$f":"(VLOOKUP($B53,'By Population'!$G$2:$K$14,5,FALSE))*'By Speed'!$M66*Scenario_VMT_1*$N53","v":0},{"$f":"(VLOOKUP($B53,'By Population'!$G$2:$K$14,5,FALSE))*'By Speed'!$N66*Scenario_VMT_1*$N53","v":0},{"$f":"(VLOOKUP($B53,'By Population'!$G$2:$K$14,5,FALSE))*'By Speed'!$O66*Scenario_VMT_1*$N53","v":0},{"$f":"(VLOOKUP($B53,'By Population'!$G$2:$K$14,5,FALSE))*'By Speed'!$P66*Scenario_VMT_1*$N53","v":0},{"$f":"(VLOOKUP($B53,'By Population'!$G$2:$K$14,5,FALSE))*'By Speed'!$Q66*Scenario_VMT_1*$N53","v":0},{"$f":"(VLOOKUP($B53,'By Population'!$G$2:$K$14,5,FALSE))*'By Speed'!$R66*Scenario_VMT_1*$N53","v":0},{"$f":"(VLOOKUP($B53,'By Population'!$G$2:$K$14,5,FALSE))*'By Speed'!$S66*Scenario_VMT_1*$N53","v":0},{"$f":"(VLOOKUP($B53,'By Population'!$G$2:$K$14,5,FALSE))*'By Speed'!$T66*Scenario_VMT_1*$N53","v":0},{"$f":"(VLOOKUP($B53,'By Population'!$G$2:$K$14,5,FALSE))*'By Speed'!$U66*Scenario_VMT_1*$N53","v":0},0,{"$f":"(VLOOKUP($B53,'By Population'!$G$2:$K$14,5,FALSE))*'By Speed'!$M66*Scenario_VMT_2*$N53","v":0},{"$f":"(VLOOKUP($B53,'By Population'!$G$2:$K$14,5,FALSE))*'By Speed'!$N66*Scenario_VMT_2*$N53","v":0},{"$f":"(VLOOKUP($B53,'By Population'!$G$2:$K$14,5,FALSE))*'By Speed'!$O66*Scenario_VMT_2*$N53","v":0},{"$f":"(VLOOKUP($B53,'By Population'!$G$2:$K$14,5,FALSE))*'By Speed'!$P66*Scenario_VMT_2*$N53","v":0},{"$f":"(VLOOKUP($B53,'By Population'!$G$2:$K$14,5,FALSE))*'By Speed'!$Q66*Scenario_VMT_2*$N53","v":0},{"$f":"(VLOOKUP($B53,'By Population'!$G$2:$K$14,5,FALSE))*'By Speed'!$R66*Scenario_VMT_2*$N53","v":0},{"$f":"(VLOOKUP($B53,'By Population'!$G$2:$K$14,5,FALSE))*'By Speed'!$S66*Scenario_VMT_2*$N53","v":0},{"$f":"(VLOOKUP($B53,'By Population'!$G$2:$K$14,5,FALSE))*'By Speed'!$T66*Scenario_VMT_2*$N53","v":0},{"$f":"(VLOOKUP($B53,'By Population'!$G$2:$K$14,5,FALSE))*'By Speed'!$U66*Scenario_VMT_2*$N53","v":0},0,{"$f":"(VLOOKUP($B53,'By Population'!$G$2:$K$14,5,FALSE))*'By Speed'!$M66*Scenario_VMT_3*$N53","v":0},{"$f":"(VLOOKUP($B53,'By Population'!$G$2:$K$14,5,FALSE))*'By Speed'!$N66*Scenario_VMT_3*$N53","v":0},{"$f":"(VLOOKUP($B53,'By Population'!$G$2:$K$14,5,FALSE))*'By Speed'!$O66*Scenario_VMT_3*$N53","v":0},{"$f":"(VLOOKUP($B53,'By Population'!$G$2:$K$14,5,FALSE))*'By Speed'!$P66*Scenario_VMT_3*$N53","v":0},{"$f":"(VLOOKUP($B53,'By Population'!$G$2:$K$14,5,FALSE))*'By Speed'!$Q66*Scenario_VMT_3*$N53","v":0},{"$f":"(VLOOKUP($B53,'By Population'!$G$2:$K$14,5,FALSE))*'By Speed'!$R66*Scenario_VMT_3*$N53","v":0},{"$f":"(VLOOKUP($B53,'By Population'!$G$2:$K$14,5,FALSE))*'By Speed'!$S66*Scenario_VMT_3*$N53","v":0},{"$f":"(VLOOKUP($B53,'By Population'!$G$2:$K$14,5,FALSE))*'By Speed'!$T66*Scenario_VMT_3*$N53","v":0},{"$f":"(VLOOKUP($B53,'By Population'!$G$2:$K$14,5,FALSE))*'By Speed'!$U66*Scenario_VMT_3*$N53","v":0},0,{"$f":"(VLOOKUP($B53,'By Population'!$G$2:$K$14,5,FALSE))*'By Speed'!$M66*Scenario_VMT_4*$N53","v":0},{"$f":"(VLOOKUP($B53,'By Population'!$G$2:$K$14,5,FALSE))*'By Speed'!$N66*Scenario_VMT_4*$N53","v":0},{"$f":"(VLOOKUP($B53,'By Population'!$G$2:$K$14,5,FALSE))*'By Speed'!$O66*Scenario_VMT_4*$N53","v":0},{"$f":"(VLOOKUP($B53,'By Population'!$G$2:$K$14,5,FALSE))*'By Speed'!$P66*Scenario_VMT_4*$N53","v":0},{"$f":"(VLOOKUP($B53,'By Population'!$G$2:$K$14,5,FALSE))*'By Speed'!$Q66*Scenario_VMT_4*$N53","v":0},{"$f":"(VLOOKUP($B53,'By Population'!$G$2:$K$14,5,FALSE))*'By Speed'!$R66*Scenario_VMT_4*$N53","v":0},{"$f":"(VLOOKUP($B53,'By Population'!$G$2:$K$14,5,FALSE))*'By Speed'!$S66*Scenario_VMT_4*$N53","v":0},{"$f":"(VLOOKUP($B53,'By Population'!$G$2:$K$14,5,FALSE))*'By Speed'!$T66*Scenario_VMT_4*$N53","v":0},{"$f":"(VLOOKUP($B53,'By Population'!$G$2:$K$14,5,FALSE))*'By Speed'!$U66*Scenario_VMT_4*$N53","v":0},0,{"$f":"(VLOOKUP($B53,'By Population'!$G$2:$K$14,5,FALSE))*'By Speed'!$M66*Scenario_VMT_5*$N53","v":0},{"$f":"(VLOOKUP($B53,'By Population'!$G$2:$K$14,5,FALSE))*'By Speed'!$N66*Scenario_VMT_5*$N53","v":0},{"$f":"(VLOOKUP($B53,'By Population'!$G$2:$K$14,5,FALSE))*'By Speed'!$O66*Scenario_VMT_5*$N53","v":0},{"$f":"(VLOOKUP($B53,'By Population'!$G$2:$K$14,5,FALSE))*'By Speed'!$P66*Scenario_VMT_5*$N53","v":0},{"$f":"(VLOOKUP($B53,'By Population'!$G$2:$K$14,5,FALSE))*'By Speed'!$Q66*Scenario_VMT_5*$N53","v":0},{"$f":"(VLOOKUP($B53,'By Population'!$G$2:$K$14,5,FALSE))*'By Speed'!$R66*Scenario_VMT_5*$N53","v":0},{"$f":"(VLOOKUP($B53,'By Population'!$G$2:$K$14,5,FALSE))*'By Speed'!$S66*Scenario_VMT_5*$N53","v":0},{"$f":"(VLOOKUP($B53,'By Population'!$G$2:$K$14,5,FALSE))*'By Speed'!$T66*Scenario_VMT_5*$N53","v":0},{"$f":"(VLOOKUP($B53,'By Population'!$G$2:$K$14,5,FALSE))*'By Speed'!$U66*Scenario_VMT_5*$N53","v":0},0]
[47,"LDT1_GAS",50,"LDT1_GAS_50",{"$f":"(VLOOKUP($B54,'By Population'!$G$2:$K$14,5,FALSE))*'By Speed'!$M67*Scenario_VMT_EX*$N54","v":0},{"$f":"(VLOOKUP($B54,'By Population'!$G$2:$K$14,5,FALSE))*'By Speed'!$N67*Scenario_VMT_EX*$N54","v":0},{"$f":"(VLOOKUP($B54,'By Population'!$G$2:$K$14,5,FALSE))*'By Speed'!$O67*Scenario_VMT_EX*$N54","v":0},{"$f":"(VLOOKUP($B54,'By Population'!$G$2:$K$14,5,FALSE))*'By Speed'!$P67*Scenario_VMT_EX*$N54","v":0},{"$f":"(VLOOKUP($B54,'By Population'!$G$2:$K$14,5,FALSE))*'By Speed'!$Q67*Scenario_VMT_EX*$N54","v":0},{"$f":"(VLOOKUP($B54,'By Population'!$G$2:$K$14,5,FALSE))*'By Speed'!$R67*Scenario_VMT_EX*$N54","v":0},{"$f":"(VLOOKUP($B54,'By Population'!$G$2:$K$14,5,FALSE))*'By Speed'!$S67*Scenario_VMT_EX*$N54","v":0},{"$f":"(VLOOKUP($B54,'By Population'!$G$2:$K$14,5,FALSE))*'By Speed'!$T67*Scenario_VMT_EX*$N54","v":0},{"$f":"(VLOOKUP($B54,'By Population'!$G$2:$K$14,5,FALSE))*'By Speed'!$U67*Scenario_VMT_EX*$N54","v":0},0,{"$f":"(VLOOKUP($B54,'By Population'!$G$2:$K$14,5,FALSE))*'By Speed'!$M67*Scenario_VMT_1*$N54","v":0},{"$f":"(VLOOKUP($B54,'By Population'!$G$2:$K$14,5,FALSE))*'By Speed'!$N67*Scenario_VMT_1*$N54","v":0},{"$f":"(VLOOKUP($B54,'By Population'!$G$2:$K$14,5,FALSE))*'By Speed'!$O67*Scenario_VMT_1*$N54","v":0},{"$f":"(VLOOKUP($B54,'By Population'!$G$2:$K$14,5,FALSE))*'By Speed'!$P67*Scenario_VMT_1*$N54","v":0},{"$f":"(VLOOKUP($B54,'By Population'!$G$2:$K$14,5,FALSE))*'By Speed'!$Q67*Scenario_VMT_1*$N54","v":0},{"$f":"(VLOOKUP($B54,'By Population'!$G$2:$K$14,5,FALSE))*'By Speed'!$R67*Scenario_VMT_1*$N54","v":0},{"$f":"(VLOOKUP($B54,'By Population'!$G$2:$K$14,5,FALSE))*'By Speed'!$S67*Scenario_VMT_1*$N54","v":0},{"$f":"(VLOOKUP($B54,'By Population'!$G$2:$K$14,5,FALSE))*'By Speed'!$T67*Scenario_VMT_1*$N54","v":0},{"$f":"(VLOOKUP($B54,'By Population'!$G$2:$K$14,5,FALSE))*'By Speed'!$U67*Scenario_VMT_1*$N54","v":0},0,{"$f":"(VLOOKUP($B54,'By Population'!$G$2:$K$14,5,FALSE))*'By Speed'!$M67*Scenario_VMT_2*$N54","v":0},{"$f":"(VLOOKUP($B54,'By Population'!$G$2:$K$14,5,FALSE))*'By Speed'!$N67*Scenario_VMT_2*$N54","v":0},{"$f":"(VLOOKUP($B54,'By Population'!$G$2:$K$14,5,FALSE))*'By Speed'!$O67*Scenario_VMT_2*$N54","v":0},{"$f":"(VLOOKUP($B54,'By Population'!$G$2:$K$14,5,FALSE))*'By Speed'!$P67*Scenario_VMT_2*$N54","v":0},{"$f":"(VLOOKUP($B54,'By Population'!$G$2:$K$14,5,FALSE))*'By Speed'!$Q67*Scenario_VMT_2*$N54","v":0},{"$f":"(VLOOKUP($B54,'By Population'!$G$2:$K$14,5,FALSE))*'By Speed'!$R67*Scenario_VMT_2*$N54","v":0},{"$f":"(VLOOKUP($B54,'By Population'!$G$2:$K$14,5,FALSE))*'By Speed'!$S67*Scenario_VMT_2*$N54","v":0},{"$f":"(VLOOKUP($B54,'By Population'!$G$2:$K$14,5,FALSE))*'By Speed'!$T67*Scenario_VMT_2*$N54","v":0},{"$f":"(VLOOKUP($B54,'By Population'!$G$2:$K$14,5,FALSE))*'By Speed'!$U67*Scenario_VMT_2*$N54","v":0},0,{"$f":"(VLOOKUP($B54,'By Population'!$G$2:$K$14,5,FALSE))*'By Speed'!$M67*Scenario_VMT_3*$N54","v":0},{"$f":"(VLOOKUP($B54,'By Population'!$G$2:$K$14,5,FALSE))*'By Speed'!$N67*Scenario_VMT_3*$N54","v":0},{"$f":"(VLOOKUP($B54,'By Population'!$G$2:$K$14,5,FALSE))*'By Speed'!$O67*Scenario_VMT_3*$N54","v":0},{"$f":"(VLOOKUP($B54,'By Population'!$G$2:$K$14,5,FALSE))*'By Speed'!$P67*Scenario_VMT_3*$N54","v":0},{"$f":"(VLOOKUP($B54,'By Population'!$G$2:$K$14,5,FALSE))*'By Speed'!$Q67*Scenario_VMT_3*$N54","v":0},{"$f":"(VLOOKUP($B54,'By Population'!$G$2:$K$14,5,FALSE))*'By Speed'!$R67*Scenario_VMT_3*$N54","v":0},{"$f":"(VLOOKUP($B54,'By Population'!$G$2:$K$14,5,FALSE))*'By Speed'!$S67*Scenario_VMT_3*$N54","v":0},{"$f":"(VLOOKUP($B54,'By Population'!$G$2:$K$14,5,FALSE))*'By Speed'!$T67*Scenario_VMT_3*$N54","v":0},{"$f":"(VLOOKUP($B54,'By Population'!$G$2:$K$14,5,FALSE))*'By Speed'!$U67*Scenario_VMT_3*$N54","v":0},0,{"$f":"(VLOOKUP($B54,'By Population'!$G$2:$K$14,5,FALSE))*'By Speed'!$M67*Scenario_VMT_4*$N54","v":0},{"$f":"(VLOOKUP($B54,'By Population'!$G$2:$K$14,5,FALSE))*'By Speed'!$N67*Scenario_VMT_4*$N54","v":0},{"$f":"(VLOOKUP($B54,'By Population'!$G$2:$K$14,5,FALSE))*'By Speed'!$O67*Scenario_VMT_4*$N54","v":0},{"$f":"(VLOOKUP($B54,'By Population'!$G$2:$K$14,5,FALSE))*'By Speed'!$P67*Scenario_VMT_4*$N54","v":0},{"$f":"(VLOOKUP($B54,'By Population'!$G$2:$K$14,5,FALSE))*'By Speed'!$Q67*Scenario_VMT_4*$N54","v":0},{"$f":"(VLOOKUP($B54,'By Population'!$G$2:$K$14,5,FALSE))*'By Speed'!$R67*Scenario_VMT_4*$N54","v":0},{"$f":"(VLOOKUP($B54,'By Population'!$G$2:$K$14,5,FALSE))*'By Speed'!$S67*Scenario_VMT_4*$N54","v":0},{"$f":"(VLOOKUP($B54,'By Population'!$G$2:$K$14,5,FALSE))*'By Speed'!$T67*Scenario_VMT_4*$N54","v":0},{"$f":"(VLOOKUP($B54,'By Population'!$G$2:$K$14,5,FALSE))*'By Speed'!$U67*Scenario_VMT_4*$N54","v":0},0,{"$f":"(VLOOKUP($B54,'By Population'!$G$2:$K$14,5,FALSE))*'By Speed'!$M67*Scenario_VMT_5*$N54","v":0},{"$f":"(VLOOKUP($B54,'By Population'!$G$2:$K$14,5,FALSE))*'By Speed'!$N67*Scenario_VMT_5*$N54","v":0},{"$f":"(VLOOKUP($B54,'By Population'!$G$2:$K$14,5,FALSE))*'By Speed'!$O67*Scenario_VMT_5*$N54","v":0},{"$f":"(VLOOKUP($B54,'By Population'!$G$2:$K$14,5,FALSE))*'By Speed'!$P67*Scenario_VMT_5*$N54","v":0},{"$f":"(VLOOKUP($B54,'By Population'!$G$2:$K$14,5,FALSE))*'By Speed'!$Q67*Scenario_VMT_5*$N54","v":0},{"$f":"(VLOOKUP($B54,'By Population'!$G$2:$K$14,5,FALSE))*'By Speed'!$R67*Scenario_VMT_5*$N54","v":0},{"$f":"(VLOOKUP($B54,'By Population'!$G$2:$K$14,5,FALSE))*'By Speed'!$S67*Scenario_VMT_5*$N54","v":0},{"$f":"(VLOOKUP($B54,'By Population'!$G$2:$K$14,5,FALSE))*'By Speed'!$T67*Scenario_VMT_5*$N54","v":0},{"$f":"(VLOOKUP($B54,'By Population'!$G$2:$K$14,5,FALSE))*'By Speed'!$U67*Scenario_VMT_5*$N54","v":0},0]
[49,"LDT1_GAS",55,"LDT1_GAS_55",{"$f":"(VLOOKUP($B55,'By Population'!$G$2:$K$14,5,FALSE))*'By Speed'!$M68*Scenario_VMT_EX*$N55","v":0},{"$f":"(VLOOKUP($B55,'By Population'!$G$2:$K$14,5,FALSE))*'By Speed'!$N68*Scenario_VMT_EX*$N55","v":0},{"$f":"(VLOOKUP($B55,'By Population'!$G$2:$K$14,5,FALSE))*'By Speed'!$O68*Scenario_VMT_EX*$N55","v":0},{"$f":"(VLOOKUP($B55,'By Population'!$G$2:$K$14,5,FALSE))*'By Speed'!$P68*Scenario_VMT_EX*$N55","v":0},{"$f":"(VLOOKUP($B55,'By Population'!$G$2:$K$14,5,FALSE))*'By Speed'!$Q68*Scenario_VMT_EX*$N55","v":0},{"$f":"(VLOOKUP($B55,'By Population'!$G$2:$K$14,5,FALSE))*'By Speed'!$R68*Scenario_VMT_EX*$N55","v":0},{"$f":"(VLOOKUP($B55,'By Population'!$G$2:$K$14,5,FALSE))*'By Speed'!$S68*Scenario_VMT_EX*$N55","v":0},{"$f":"(VLOOKUP($B55,'By Population'!$G$2:$K$14,5,FALSE))*'By Speed'!$T68*Scenario_VMT_EX*$N55","v":0},{"$f":"(VLOOKUP($B55,'By Population'!$G$2:$K$14,5,FALSE))*'By Speed'!$U68*Scenario_VMT_EX*$N55","v":0},0,{"$f":"(VLOOKUP($B55,'By Population'!$G$2:$K$14,5,FALSE))*'By Speed'!$M68*Scenario_VMT_1*$N55","v":0},{"$f":"(VLOOKUP($B55,'By Population'!$G$2:$K$14,5,FALSE))*'By Speed'!$N68*Scenario_VMT_1*$N55","v":0},{"$f":"(VLOOKUP($B55,'By Population'!$G$2:$K$14,5,FALSE))*'By Speed'!$O68*Scenario_VMT_1*$N55","v":0},{"$f":"(VLOOKUP($B55,'By Population'!$G$2:$K$14,5,FALSE))*'By Speed'!$P68*Scenario_VMT_1*$N55","v":0},{"$f":"(VLOOKUP($B55,'By Population'!$G$2:$K$14,5,FALSE))*'By Speed'!$Q68*Scenario_VMT_1*$N55","v":0},{"$f":"(VLOOKUP($B55,'By Population'!$G$2:$K$14,5,FALSE))*'By Speed'!$R68*Scenario_VMT_1*$N55","v":0},{"$f":"(VLOOKUP($B55,'By Population'!$G$2:$K$14,5,FALSE))*'By Speed'!$S68*Scenario_VMT_1*$N55","v":0},{"$f":"(VLOOKUP($B55,'By Population'!$G$2:$K$14,5,FALSE))*'By Speed'!$T68*Scenario_VMT_1*$N55","v":0},{"$f":"(VLOOKUP($B55,'By Population'!$G$2:$K$14,5,FALSE))*'By Speed'!$U68*Scenario_VMT_1*$N55","v":0},0,{"$f":"(VLOOKUP($B55,'By Population'!$G$2:$K$14,5,FALSE))*'By Speed'!$M68*Scenario_VMT_2*$N55","v":0},{"$f":"(VLOOKUP($B55,'By Population'!$G$2:$K$14,5,FALSE))*'By Speed'!$N68*Scenario_VMT_2*$N55","v":0},{"$f":"(VLOOKUP($B55,'By Population'!$G$2:$K$14,5,FALSE))*'By Speed'!$O68*Scenario_VMT_2*$N55","v":0},{"$f":"(VLOOKUP($B55,'By Population'!$G$2:$K$14,5,FALSE))*'By Speed'!$P68*Scenario_VMT_2*$N55","v":0},{"$f":"(VLOOKUP($B55,'By Population'!$G$2:$K$14,5,FALSE))*'By Speed'!$Q68*Scenario_VMT_2*$N55","v":0},{"$f":"(VLOOKUP($B55,'By Population'!$G$2:$K$14,5,FALSE))*'By Speed'!$R68*Scenario_VMT_2*$N55","v":0},{"$f":"(VLOOKUP($B55,'By Population'!$G$2:$K$14,5,FALSE))*'By Speed'!$S68*Scenario_VMT_2*$N55","v":0},{"$f":"(VLOOKUP($B55,'By Population'!$G$2:$K$14,5,FALSE))*'By Speed'!$T68*Scenario_VMT_2*$N55","v":0},{"$f":"(VLOOKUP($B55,'By Population'!$G$2:$K$14,5,FALSE))*'By Speed'!$U68*Scenario_VMT_2*$N55","v":0},0,{"$f":"(VLOOKUP($B55,'By Population'!$G$2:$K$14,5,FALSE))*'By Speed'!$M68*Scenario_VMT_3*$N55","v":0},{"$f":"(VLOOKUP($B55,'By Population'!$G$2:$K$14,5,FALSE))*'By Speed'!$N68*Scenario_VMT_3*$N55","v":0},{"$f":"(VLOOKUP($B55,'By Population'!$G$2:$K$14,5,FALSE))*'By Speed'!$O68*Scenario_VMT_3*$N55","v":0},{"$f":"(VLOOKUP($B55,'By Population'!$G$2:$K$14,5,FALSE))*'By Speed'!$P68*Scenario_VMT_3*$N55","v":0},{"$f":"(VLOOKUP($B55,'By Population'!$G$2:$K$14,5,FALSE))*'By Speed'!$Q68*Scenario_VMT_3*$N55","v":0},{"$f":"(VLOOKUP($B55,'By Population'!$G$2:$K$14,5,FALSE))*'By Speed'!$R68*Scenario_VMT_3*$N55","v":0},{"$f":"(VLOOKUP($B55,'By Population'!$G$2:$K$14,5,FALSE))*'By Speed'!$S68*Scenario_VMT_3*$N55","v":0},{"$f":"(VLOOKUP($B55,'By Population'!$G$2:$K$14,5,FALSE))*'By Speed'!$T68*Scenario_VMT_3*$N55","v":0},{"$f":"(VLOOKUP($B55,'By Population'!$G$2:$K$14,5,FALSE))*'By Speed'!$U68*Scenario_VMT_3*$N55","v":0},0,{"$f":"(VLOOKUP($B55,'By Population'!$G$2:$K$14,5,FALSE))*'By Speed'!$M68*Scenario_VMT_4*$N55","v":0},{"$f":"(VLOOKUP($B55,'By Population'!$G$2:$K$14,5,FALSE))*'By Speed'!$N68*Scenario_VMT_4*$N55","v":0},{"$f":"(VLOOKUP($B55,'By Population'!$G$2:$K$14,5,FALSE))*'By Speed'!$O68*Scenario_VMT_4*$N55","v":0},{"$f":"(VLOOKUP($B55,'By Population'!$G$2:$K$14,5,FALSE))*'By Speed'!$P68*Scenario_VMT_4*$N55","v":0},{"$f":"(VLOOKUP($B55,'By Population'!$G$2:$K$14,5,FALSE))*'By Speed'!$Q68*Scenario_VMT_4*$N55","v":0},{"$f":"(VLOOKUP($B55,'By Population'!$G$2:$K$14,5,FALSE))*'By Speed'!$R68*Scenario_VMT_4*$N55","v":0},{"$f":"(VLOOKUP($B55,'By Population'!$G$2:$K$14,5,FALSE))*'By Speed'!$S68*Scenario_VMT_4*$N55","v":0},{"$f":"(VLOOKUP($B55,'By Population'!$G$2:$K$14,5,FALSE))*'By Speed'!$T68*Scenario_VMT_4*$N55","v":0},{"$f":"(VLOOKUP($B55,'By Population'!$G$2:$K$14,5,FALSE))*'By Speed'!$U68*Scenario_VMT_4*$N55","v":0},0,{"$f":"(VLOOKUP($B55,'By Population'!$G$2:$K$14,5,FALSE))*'By Speed'!$M68*Scenario_VMT_5*$N55","v":0},{"$f":"(VLOOKUP($B55,'By Population'!$G$2:$K$14,5,FALSE))*'By Speed'!$N68*Scenario_VMT_5*$N55","v":0},{"$f":"(VLOOKUP($B55,'By Population'!$G$2:$K$14,5,FALSE))*'By Speed'!$O68*Scenario_VMT_5*$N55","v":0},{"$f":"(VLOOKUP($B55,'By Population'!$G$2:$K$14,5,FALSE))*'By Speed'!$P68*Scenario_VMT_5*$N55","v":0},{"$f":"(VLOOKUP($B55,'By Population'!$G$2:$K$14,5,FALSE))*'By Speed'!$Q68*Scenario_VMT_5*$N55","v":0},{"$f":"(VLOOKUP($B55,'By Population'!$G$2:$K$14,5,FALSE))*'By Speed'!$R68*Scenario_VMT_5*$N55","v":0},{"$f":"(VLOOKUP($B55,'By Population'!$G$2:$K$14,5,FALSE))*'By Speed'!$S68*Scenario_VMT_5*$N55","v":0},{"$f":"(VLOOKUP($B55,'By Population'!$G$2:$K$14,5,FALSE))*'By Speed'!$T68*Scenario_VMT_5*$N55","v":0},{"$f":"(VLOOKUP($B55,'By Population'!$G$2:$K$14,5,FALSE))*'By Speed'!$U68*Scenario_VMT_5*$N55","v":0},0]
[51,"LDT1_GAS",60,"LDT1_GAS_60",{"$f":"(VLOOKUP($B56,'By Population'!$G$2:$K$14,5,FALSE))*'By Speed'!$M69*Scenario_VMT_EX*$N56","v":0},{"$f":"(VLOOKUP($B56,'By Population'!$G$2:$K$14,5,FALSE))*'By Speed'!$N69*Scenario_VMT_EX*$N56","v":0},{"$f":"(VLOOKUP($B56,'By Population'!$G$2:$K$14,5,FALSE))*'By Speed'!$O69*Scenario_VMT_EX*$N56","v":0},{"$f":"(VLOOKUP($B56,'By Population'!$G$2:$K$14,5,FALSE))*'By Speed'!$P69*Scenario_VMT_EX*$N56","v":0},{"$f":"(VLOOKUP($B56,'By Population'!$G$2:$K$14,5,FALSE))*'By Speed'!$Q69*Scenario_VMT_EX*$N56","v":0},{"$f":"(VLOOKUP($B56,'By Population'!$G$2:$K$14,5,FALSE))*'By Speed'!$R69*Scenario_VMT_EX*$N56","v":0},{"$f":"(VLOOKUP($B56,'By Population'!$G$2:$K$14,5,FALSE))*'By Speed'!$S69*Scenario_VMT_EX*$N56","v":0},{"$f":"(VLOOKUP($B56,'By Population'!$G$2:$K$14,5,FALSE))*'By Speed'!$T69*Scenario_VMT_EX*$N56","v":0},{"$f":"(VLOOKUP($B56,'By Population'!$G$2:$K$14,5,FALSE))*'By Speed'!$U69*Scenario_VMT_EX*$N56","v":0},0,{"$f":"(VLOOKUP($B56,'By Population'!$G$2:$K$14,5,FALSE))*'By Speed'!$M69*Scenario_VMT_1*$N56","v":0},{"$f":"(VLOOKUP($B56,'By Population'!$G$2:$K$14,5,FALSE))*'By Speed'!$N69*Scenario_VMT_1*$N56","v":0},{"$f":"(VLOOKUP($B56,'By Population'!$G$2:$K$14,5,FALSE))*'By Speed'!$O69*Scenario_VMT_1*$N56","v":0},{"$f":"(VLOOKUP($B56,'By Population'!$G$2:$K$14,5,FALSE))*'By Speed'!$P69*Scenario_VMT_1*$N56","v":0},{"$f":"(VLOOKUP($B56,'By Population'!$G$2:$K$14,5,FALSE))*'By Speed'!$Q69*Scenario_VMT_1*$N56","v":0},{"$f":"(VLOOKUP($B56,'By Population'!$G$2:$K$14,5,FALSE))*'By Speed'!$R69*Scenario_VMT_1*$N56","v":0},{"$f":"(VLOOKUP($B56,'By Population'!$G$2:$K$14,5,FALSE))*'By Speed'!$S69*Scenario_VMT_1*$N56","v":0},{"$f":"(VLOOKUP($B56,'By Population'!$G$2:$K$14,5,FALSE))*'By Speed'!$T69*Scenario_VMT_1*$N56","v":0},{"$f":"(VLOOKUP($B56,'By Population'!$G$2:$K$14,5,FALSE))*'By Speed'!$U69*Scenario_VMT_1*$N56","v":0},0,{"$f":"(VLOOKUP($B56,'By Population'!$G$2:$K$14,5,FALSE))*'By Speed'!$M69*Scenario_VMT_2*$N56","v":0},{"$f":"(VLOOKUP($B56,'By Population'!$G$2:$K$14,5,FALSE))*'By Speed'!$N69*Scenario_VMT_2*$N56","v":0},{"$f":"(VLOOKUP($B56,'By Population'!$G$2:$K$14,5,FALSE))*'By Speed'!$O69*Scenario_VMT_2*$N56","v":0},{"$f":"(VLOOKUP($B56,'By Population'!$G$2:$K$14,5,FALSE))*'By Speed'!$P69*Scenario_VMT_2*$N56","v":0},{"$f":"(VLOOKUP($B56,'By Population'!$G$2:$K$14,5,FALSE))*'By Speed'!$Q69*Scenario_VMT_2*$N56","v":0},{"$f":"(VLOOKUP($B56,'By Population'!$G$2:$K$14,5,FALSE))*'By Speed'!$R69*Scenario_VMT_2*$N56","v":0},{"$f":"(VLOOKUP($B56,'By Population'!$G$2:$K$14,5,FALSE))*'By Speed'!$S69*Scenario_VMT_2*$N56","v":0},{"$f":"(VLOOKUP($B56,'By Population'!$G$2:$K$14,5,FALSE))*'By Speed'!$T69*Scenario_VMT_2*$N56","v":0},{"$f":"(VLOOKUP($B56,'By Population'!$G$2:$K$14,5,FALSE))*'By Speed'!$U69*Scenario_VMT_2*$N56","v":0},0,{"$f":"(VLOOKUP($B56,'By Population'!$G$2:$K$14,5,FALSE))*'By Speed'!$M69*Scenario_VMT_3*$N56","v":0},{"$f":"(VLOOKUP($B56,'By Population'!$G$2:$K$14,5,FALSE))*'By Speed'!$N69*Scenario_VMT_3*$N56","v":0},{"$f":"(VLOOKUP($B56,'By Population'!$G$2:$K$14,5,FALSE))*'By Speed'!$O69*Scenario_VMT_3*$N56","v":0},{"$f":"(VLOOKUP($B56,'By Population'!$G$2:$K$14,5,FALSE))*'By Speed'!$P69*Scenario_VMT_3*$N56","v":0},{"$f":"(VLOOKUP($B56,'By Population'!$G$2:$K$14,5,FALSE))*'By Speed'!$Q69*Scenario_VMT_3*$N56","v":0},{"$f":"(VLOOKUP($B56,'By Population'!$G$2:$K$14,5,FALSE))*'By Speed'!$R69*Scenario_VMT_3*$N56","v":0},{"$f":"(VLOOKUP($B56,'By Population'!$G$2:$K$14,5,FALSE))*'By Speed'!$S69*Scenario_VMT_3*$N56","v":0},{"$f":"(VLOOKUP($B56,'By Population'!$G$2:$K$14,5,FALSE))*'By Speed'!$T69*Scenario_VMT_3*$N56","v":0},{"$f":"(VLOOKUP($B56,'By Population'!$G$2:$K$14,5,FALSE))*'By Speed'!$U69*Scenario_VMT_3*$N56","v":0},0,{"$f":"(VLOOKUP($B56,'By Population'!$G$2:$K$14,5,FALSE))*'By Speed'!$M69*Scenario_VMT_4*$N56","v":0},{"$f":"(VLOOKUP($B56,'By Population'!$G$2:$K$14,5,FALSE))*'By Speed'!$N69*Scenario_VMT_4*$N56","v":0},{"$f":"(VLOOKUP($B56,'By Population'!$G$2:$K$14,5,FALSE))*'By Speed'!$O69*Scenario_VMT_4*$N56","v":0},{"$f":"(VLOOKUP($B56,'By Population'!$G$2:$K$14,5,FALSE))*'By Speed'!$P69*Scenario_VMT_4*$N56","v":0},{"$f":"(VLOOKUP($B56,'By Population'!$G$2:$K$14,5,FALSE))*'By Speed'!$Q69*Scenario_VMT_4*$N56","v":0},{"$f":"(VLOOKUP($B56,'By Population'!$G$2:$K$14,5,FALSE))*'By Speed'!$R69*Scenario_VMT_4*$N56","v":0},{"$f":"(VLOOKUP($B56,'By Population'!$G$2:$K$14,5,FALSE))*'By Speed'!$S69*Scenario_VMT_4*$N56","v":0},{"$f":"(VLOOKUP($B56,'By Population'!$G$2:$K$14,5,FALSE))*'By Speed'!$T69*Scenario_VMT_4*$N56","v":0},{"$f":"(VLOOKUP($B56,'By Population'!$G$2:$K$14,5,FALSE))*'By Speed'!$U69*Scenario_VMT_4*$N56","v":0},0,{"$f":"(VLOOKUP($B56,'By Population'!$G$2:$K$14,5,FALSE))*'By Speed'!$M69*Scenario_VMT_5*$N56","v":0},{"$f":"(VLOOKUP($B56,'By Population'!$G$2:$K$14,5,FALSE))*'By Speed'!$N69*Scenario_VMT_5*$N56","v":0},{"$f":"(VLOOKUP($B56,'By Population'!$G$2:$K$14,5,FALSE))*'By Speed'!$O69*Scenario_VMT_5*$N56","v":0},{"$f":"(VLOOKUP($B56,'By Population'!$G$2:$K$14,5,FALSE))*'By Speed'!$P69*Scenario_VMT_5*$N56","v":0},{"$f":"(VLOOKUP($B56,'By Population'!$G$2:$K$14,5,FALSE))*'By Speed'!$Q69*Scenario_VMT_5*$N56","v":0},{"$f":"(VLOOKUP($B56,'By Population'!$G$2:$K$14,5,FALSE))*'By Speed'!$R69*Scenario_VMT_5*$N56","v":0},{"$f":"(VLOOKUP($B56,'By Population'!$G$2:$K$14,5,FALSE))*'By Speed'!$S69*Scenario_VMT_5*$N56","v":0},{"$f":"(VLOOKUP($B56,'By Population'!$G$2:$K$14,5,FALSE))*'By Speed'!$T69*Scenario_VMT_5*$N56","v":0},{"$f":"(VLOOKUP($B56,'By Population'!$G$2:$K$14,5,FALSE))*'By Speed'!$U69*Scenario_VMT_5*$N56","v":0},0]
[53,"LDT1_GAS",65,"LDT1_GAS_65",{"$f":"(VLOOKUP($B57,'By Population'!$G$2:$K$14,5,FALSE))*'By Speed'!$M70*Scenario_VMT_EX*$N57","v":0},{"$f":"(VLOOKUP($B57,'By Population'!$G$2:$K$14,5,FALSE))*'By Speed'!$N70*Scenario_VMT_EX*$N57","v":0},{"$f":"(VLOOKUP($B57,'By Population'!$G$2:$K$14,5,FALSE))*'By Speed'!$O70*Scenario_VMT_EX*$N57","v":0},{"$f":"(VLOOKUP($B57,'By Population'!$G$2:$K$14,5,FALSE))*'By Speed'!$P70*Scenario_VMT_EX*$N57","v":0},{"$f":"(VLOOKUP($B57,'By Population'!$G$2:$K$14,5,FALSE))*'By Speed'!$Q70*Scenario_VMT_EX*$N57","v":0},{"$f":"(VLOOKUP($B57,'By Population'!$G$2:$K$14,5,FALSE))*'By Speed'!$R70*Scenario_VMT_EX*$N57","v":0},{"$f":"(VLOOKUP($B57,'By Population'!$G$2:$K$14,5,FALSE))*'By Speed'!$S70*Scenario_VMT_EX*$N57","v":0},{"$f":"(VLOOKUP($B57,'By Population'!$G$2:$K$14,5,FALSE))*'By Speed'!$T70*Scenario_VMT_EX*$N57","v":0},{"$f":"(VLOOKUP($B57,'By Population'!$G$2:$K$14,5,FALSE))*'By Speed'!$U70*Scenario_VMT_EX*$N57","v":0},0,{"$f":"(VLOOKUP($B57,'By Population'!$G$2:$K$14,5,FALSE))*'By Speed'!$M70*Scenario_VMT_1*$N57","v":0},{"$f":"(VLOOKUP($B57,'By Population'!$G$2:$K$14,5,FALSE))*'By Speed'!$N70*Scenario_VMT_1*$N57","v":0},{"$f":"(VLOOKUP($B57,'By Population'!$G$2:$K$14,5,FALSE))*'By Speed'!$O70*Scenario_VMT_1*$N57","v":0},{"$f":"(VLOOKUP($B57,'By Population'!$G$2:$K$14,5,FALSE))*'By Speed'!$P70*Scenario_VMT_1*$N57","v":0},{"$f":"(VLOOKUP($B57,'By Population'!$G$2:$K$14,5,FALSE))*'By Speed'!$Q70*Scenario_VMT_1*$N57","v":0},{"$f":"(VLOOKUP($B57,'By Population'!$G$2:$K$14,5,FALSE))*'By Speed'!$R70*Scenario_VMT_1*$N57","v":0},{"$f":"(VLOOKUP($B57,'By Population'!$G$2:$K$14,5,FALSE))*'By Speed'!$S70*Scenario_VMT_1*$N57","v":0},{"$f":"(VLOOKUP($B57,'By Population'!$G$2:$K$14,5,FALSE))*'By Speed'!$T70*Scenario_VMT_1*$N57","v":0},{"$f":"(VLOOKUP($B57,'By Population'!$G$2:$K$14,5,FALSE))*'By Speed'!$U70*Scenario_VMT_1*$N57","v":0},0,{"$f":"(VLOOKUP($B57,'By Population'!$G$2:$K$14,5,FALSE))*'By Speed'!$M70*Scenario_VMT_2*$N57","v":0},{"$f":"(VLOOKUP($B57,'By Population'!$G$2:$K$14,5,FALSE))*'By Speed'!$N70*Scenario_VMT_2*$N57","v":0},{"$f":"(VLOOKUP($B57,'By Population'!$G$2:$K$14,5,FALSE))*'By Speed'!$O70*Scenario_VMT_2*$N57","v":0},{"$f":"(VLOOKUP($B57,'By Population'!$G$2:$K$14,5,FALSE))*'By Speed'!$P70*Scenario_VMT_2*$N57","v":0},{"$f":"(VLOOKUP($B57,'By Population'!$G$2:$K$14,5,FALSE))*'By Speed'!$Q70*Scenario_VMT_2*$N57","v":0},{"$f":"(VLOOKUP($B57,'By Population'!$G$2:$K$14,5,FALSE))*'By Speed'!$R70*Scenario_VMT_2*$N57","v":0},{"$f":"(VLOOKUP($B57,'By Population'!$G$2:$K$14,5,FALSE))*'By Speed'!$S70*Scenario_VMT_2*$N57","v":0},{"$f":"(VLOOKUP($B57,'By Population'!$G$2:$K$14,5,FALSE))*'By Speed'!$T70*Scenario_VMT_2*$N57","v":0},{"$f":"(VLOOKUP($B57,'By Population'!$G$2:$K$14,5,FALSE))*'By Speed'!$U70*Scenario_VMT_2*$N57","v":0},0,{"$f":"(VLOOKUP($B57,'By Population'!$G$2:$K$14,5,FALSE))*'By Speed'!$M70*Scenario_VMT_3*$N57","v":0},{"$f":"(VLOOKUP($B57,'By Population'!$G$2:$K$14,5,FALSE))*'By Speed'!$N70*Scenario_VMT_3*$N57","v":0},{"$f":"(VLOOKUP($B57,'By Population'!$G$2:$K$14,5,FALSE))*'By Speed'!$O70*Scenario_VMT_3*$N57","v":0},{"$f":"(VLOOKUP($B57,'By Population'!$G$2:$K$14,5,FALSE))*'By Speed'!$P70*Scenario_VMT_3*$N57","v":0},{"$f":"(VLOOKUP($B57,'By Population'!$G$2:$K$14,5,FALSE))*'By Speed'!$Q70*Scenario_VMT_3*$N57","v":0},{"$f":"(VLOOKUP($B57,'By Population'!$G$2:$K$14,5,FALSE))*'By Speed'!$R70*Scenario_VMT_3*$N57","v":0},{"$f":"(VLOOKUP($B57,'By Population'!$G$2:$K$14,5,FALSE))*'By Speed'!$S70*Scenario_VMT_3*$N57","v":0},{"$f":"(VLOOKUP($B57,'By Population'!$G$2:$K$14,5,FALSE))*'By Speed'!$T70*Scenario_VMT_3*$N57","v":0},{"$f":"(VLOOKUP($B57,'By Population'!$G$2:$K$14,5,FALSE))*'By Speed'!$U70*Scenario_VMT_3*$N57","v":0},0,{"$f":"(VLOOKUP($B57,'By Population'!$G$2:$K$14,5,FALSE))*'By Speed'!$M70*Scenario_VMT_4*$N57","v":0},{"$f":"(VLOOKUP($B57,'By Population'!$G$2:$K$14,5,FALSE))*'By Speed'!$N70*Scenario_VMT_4*$N57","v":0},{"$f":"(VLOOKUP($B57,'By Population'!$G$2:$K$14,5,FALSE))*'By Speed'!$O70*Scenario_VMT_4*$N57","v":0},{"$f":"(VLOOKUP($B57,'By Population'!$G$2:$K$14,5,FALSE))*'By Speed'!$P70*Scenario_VMT_4*$N57","v":0},{"$f":"(VLOOKUP($B57,'By Population'!$G$2:$K$14,5,FALSE))*'By Speed'!$Q70*Scenario_VMT_4*$N57","v":0},{"$f":"(VLOOKUP($B57,'By Population'!$G$2:$K$14,5,FALSE))*'By Speed'!$R70*Scenario_VMT_4*$N57","v":0},{"$f":"(VLOOKUP($B57,'By Population'!$G$2:$K$14,5,FALSE))*'By Speed'!$S70*Scenario_VMT_4*$N57","v":0},{"$f":"(VLOOKUP($B57,'By Population'!$G$2:$K$14,5,FALSE))*'By Speed'!$T70*Scenario_VMT_4*$N57","v":0},{"$f":"(VLOOKUP($B57,'By Population'!$G$2:$K$14,5,FALSE))*'By Speed'!$U70*Scenario_VMT_4*$N57","v":0},0,{"$f":"(VLOOKUP($B57,'By Population'!$G$2:$K$14,5,FALSE))*'By Speed'!$M70*Scenario_VMT_5*$N57","v":0},{"$f":"(VLOOKUP($B57,'By Population'!$G$2:$K$14,5,FALSE))*'By Speed'!$N70*Scenario_VMT_5*$N57","v":0},{"$f":"(VLOOKUP($B57,'By Population'!$G$2:$K$14,5,FALSE))*'By Speed'!$O70*Scenario_VMT_5*$N57","v":0},{"$f":"(VLOOKUP($B57,'By Population'!$G$2:$K$14,5,FALSE))*'By Speed'!$P70*Scenario_VMT_5*$N57","v":0},{"$f":"(VLOOKUP($B57,'By Population'!$G$2:$K$14,5,FALSE))*'By Speed'!$Q70*Scenario_VMT_5*$N57","v":0},{"$f":"(VLOOKUP($B57,'By Population'!$G$2:$K$14,5,FALSE))*'By Speed'!$R70*Scenario_VMT_5*$N57","v":0},{"$f":"(VLOOKUP($B57,'By Population'!$G$2:$K$14,5,FALSE))*'By Speed'!$S70*Scenario_VMT_5*$N57","v":0},{"$f":"(VLOOKUP($B57,'By Population'!$G$2:$K$14,5,FALSE))*'By Speed'!$T70*Scenario_VMT_5*$N57","v":0},{"$f":"(VLOOKUP($B57,'By Population'!$G$2:$K$14,5,FALSE))*'By Speed'!$U70*Scenario_VMT_5*$N57","v":0},0]
[55,"LDT1_GAS",70,"LDT1_GAS_70",{"$f":"(VLOOKUP($B58,'By Population'!$G$2:$K$14,5,FALSE))*'By Speed'!$M71*Scenario_VMT_EX*$N58","v":0},{"$f":"(VLOOKUP($B58,'By Population'!$G$2:$K$14,5,FALSE))*'By Speed'!$N71*Scenario_VMT_EX*$N58","v":0},{"$f":"(VLOOKUP($B58,'By Population'!$G$2:$K$14,5,FALSE))*'By Speed'!$O71*Scenario_VMT_EX*$N58","v":0},{"$f":"(VLOOKUP($B58,'By Population'!$G$2:$K$14,5,FALSE))*'By Speed'!$P71*Scenario_VMT_EX*$N58","v":0},{"$f":"(VLOOKUP($B58,'By Population'!$G$2:$K$14,5,FALSE))*'By Speed'!$Q71*Scenario_VMT_EX*$N58","v":0},{"$f":"(VLOOKUP($B58,'By Population'!$G$2:$K$14,5,FALSE))*'By Speed'!$R71*Scenario_VMT_EX*$N58","v":0},{"$f":"(VLOOKUP($B58,'By Population'!$G$2:$K$14,5,FALSE))*'By Speed'!$S71*Scenario_VMT_EX*$N58","v":0},{"$f":"(VLOOKUP($B58,'By Population'!$G$2:$K$14,5,FALSE))*'By Speed'!$T71*Scenario_VMT_EX*$N58","v":0},{"$f":"(VLOOKUP($B58,'By Population'!$G$2:$K$14,5,FALSE))*'By Speed'!$U71*Scenario_VMT_EX*$N58","v":0},0,{"$f":"(VLOOKUP($B58,'By Population'!$G$2:$K$14,5,FALSE))*'By Speed'!$M71*Scenario_VMT_1*$N58","v":0},{"$f":"(VLOOKUP($B58,'By Population'!$G$2:$K$14,5,FALSE))*'By Speed'!$N71*Scenario_VMT_1*$N58","v":0},{"$f":"(VLOOKUP($B58,'By Population'!$G$2:$K$14,5,FALSE))*'By Speed'!$O71*Scenario_VMT_1*$N58","v":0},{"$f":"(VLOOKUP($B58,'By Population'!$G$2:$K$14,5,FALSE))*'By Speed'!$P71*Scenario_VMT_1*$N58","v":0},{"$f":"(VLOOKUP($B58,'By Population'!$G$2:$K$14,5,FALSE))*'By Speed'!$Q71*Scenario_VMT_1*$N58","v":0},{"$f":"(VLOOKUP($B58,'By Population'!$G$2:$K$14,5,FALSE))*'By Speed'!$R71*Scenario_VMT_1*$N58","v":0},{"$f":"(VLOOKUP($B58,'By Population'!$G$2:$K$14,5,FALSE))*'By Speed'!$S71*Scenario_VMT_1*$N58","v":0},{"$f":"(VLOOKUP($B58,'By Population'!$G$2:$K$14,5,FALSE))*'By Speed'!$T71*Scenario_VMT_1*$N58","v":0},{"$f":"(VLOOKUP($B58,'By Population'!$G$2:$K$14,5,FALSE))*'By Speed'!$U71*Scenario_VMT_1*$N58","v":0},0,{"$f":"(VLOOKUP($B58,'By Population'!$G$2:$K$14,5,FALSE))*'By Speed'!$M71*Scenario_VMT_2*$N58","v":0},{"$f":"(VLOOKUP($B58,'By Population'!$G$2:$K$14,5,FALSE))*'By Speed'!$N71*Scenario_VMT_2*$N58","v":0},{"$f":"(VLOOKUP($B58,'By Population'!$G$2:$K$14,5,FALSE))*'By Speed'!$O71*Scenario_VMT_2*$N58","v":0},{"$f":"(VLOOKUP($B58,'By Population'!$G$2:$K$14,5,FALSE))*'By Speed'!$P71*Scenario_VMT_2*$N58","v":0},{"$f":"(VLOOKUP($B58,'By Population'!$G$2:$K$14,5,FALSE))*'By Speed'!$Q71*Scenario_VMT_2*$N58","v":0},{"$f":"(VLOOKUP($B58,'By Population'!$G$2:$K$14,5,FALSE))*'By Speed'!$R71*Scenario_VMT_2*$N58","v":0},{"$f":"(VLOOKUP($B58,'By Population'!$G$2:$K$14,5,FALSE))*'By Speed'!$S71*Scenario_VMT_2*$N58","v":0},{"$f":"(VLOOKUP($B58,'By Population'!$G$2:$K$14,5,FALSE))*'By Speed'!$T71*Scenario_VMT_2*$N58","v":0},{"$f":"(VLOOKUP($B58,'By Population'!$G$2:$K$14,5,FALSE))*'By Speed'!$U71*Scenario_VMT_2*$N58","v":0},0,{"$f":"(VLOOKUP($B58,'By Population'!$G$2:$K$14,5,FALSE))*'By Speed'!$M71*Scenario_VMT_3*$N58","v":0},{"$f":"(VLOOKUP($B58,'By Population'!$G$2:$K$14,5,FALSE))*'By Speed'!$N71*Scenario_VMT_3*$N58","v":0},{"$f":"(VLOOKUP($B58,'By Population'!$G$2:$K$14,5,FALSE))*'By Speed'!$O71*Scenario_VMT_3*$N58","v":0},{"$f":"(VLOOKUP($B58,'By Population'!$G$2:$K$14,5,FALSE))*'By Speed'!$P71*Scenario_VMT_3*$N58","v":0},{"$f":"(VLOOKUP($B58,'By Population'!$G$2:$K$14,5,FALSE))*'By Speed'!$Q71*Scenario_VMT_3*$N58","v":0},{"$f":"(VLOOKUP($B58,'By Population'!$G$2:$K$14,5,FALSE))*'By Speed'!$R71*Scenario_VMT_3*$N58","v":0},{"$f":"(VLOOKUP($B58,'By Population'!$G$2:$K$14,5,FALSE))*'By Speed'!$S71*Scenario_VMT_3*$N58","v":0},{"$f":"(VLOOKUP($B58,'By Population'!$G$2:$K$14,5,FALSE))*'By Speed'!$T71*Scenario_VMT_3*$N58","v":0},{"$f":"(VLOOKUP($B58,'By Population'!$G$2:$K$14,5,FALSE))*'By Speed'!$U71*Scenario_VMT_3*$N58","v":0},0,{"$f":"(VLOOKUP($B58,'By Population'!$G$2:$K$14,5,FALSE))*'By Speed'!$M71*Scenario_VMT_4*$N58","v":0},{"$f":"(VLOOKUP($B58,'By Population'!$G$2:$K$14,5,FALSE))*'By Speed'!$N71*Scenario_VMT_4*$N58","v":0},{"$f":"(VLOOKUP($B58,'By Population'!$G$2:$K$14,5,FALSE))*'By Speed'!$O71*Scenario_VMT_4*$N58","v":0},{"$f":"(VLOOKUP($B58,'By Population'!$G$2:$K$14,5,FALSE))*'By Speed'!$P71*Scenario_VMT_4*$N58","v":0},{"$f":"(VLOOKUP($B58,'By Population'!$G$2:$K$14,5,FALSE))*'By Speed'!$Q71*Scenario_VMT_4*$N58","v":0},{"$f":"(VLOOKUP($B58,'By Population'!$G$2:$K$14,5,FALSE))*'By Speed'!$R71*Scenario_VMT_4*$N58","v":0},{"$f":"(VLOOKUP($B58,'By Population'!$G$2:$K$14,5,FALSE))*'By Speed'!$S71*Scenario_VMT_4*$N58","v":0},{"$f":"(VLOOKUP($B58,'By Population'!$G$2:$K$14,5,FALSE))*'By Speed'!$T71*Scenario_VMT_4*$N58","v":0},{"$f":"(VLOOKUP($B58,'By Population'!$G$2:$K$14,5,FALSE))*'By Speed'!$U71*Scenario_VMT_4*$N58","v":0},0,{"$f":"(VLOOKUP($B58,'By Population'!$G$2:$K$14,5,FALSE))*'By Speed'!$M71*Scenario_VMT_5*$N58","v":0},{"$f":"(VLOOKUP($B58,'By Population'!$G$2:$K$14,5,FALSE))*'By Speed'!$N71*Scenario_VMT_5*$N58","v":0},{"$f":"(VLOOKUP($B58,'By Population'!$G$2:$K$14,5,FALSE))*'By Speed'!$O71*Scenario_VMT_5*$N58","v":0},{"$f":"(VLOOKUP($B58,'By Population'!$G$2:$K$14,5,FALSE))*'By Speed'!$P71*Scenario_VMT_5*$N58","v":0},{"$f":"(VLOOKUP($B58,'By Population'!$G$2:$K$14,5,FALSE))*'By Speed'!$Q71*Scenario_VMT_5*$N58","v":0},{"$f":"(VLOOKUP($B58,'By Population'!$G$2:$K$14,5,FALSE))*'By Speed'!$R71*Scenario_VMT_5*$N58","v":0},{"$f":"(VLOOKUP($B58,'By Population'!$G$2:$K$14,5,FALSE))*'By Speed'!$S71*Scenario_VMT_5*$N58","v":0},{"$f":"(VLOOKUP($B58,'By Population'!$G$2:$K$14,5,FALSE))*'By Speed'!$T71*Scenario_VMT_5*$N58","v":0},{"$f":"(VLOOKUP($B58,'By Population'!$G$2:$K$14,5,FALSE))*'By Speed'!$U71*Scenario_VMT_5*$N58","v":0},0]
[60,"LDT2_DSL",10,"LDT2_DSL_10",{"$f":"(VLOOKUP($B59,'By Population'!$G$2:$K$14,5,FALSE))*'By Speed'!$M72*Scenario_VMT_EX*$N59","v":0},{"$f":"(VLOOKUP($B59,'By Population'!$G$2:$K$14,5,FALSE))*'By Speed'!$N72*Scenario_VMT_EX*$N59","v":0},{"$f":"(VLOOKUP($B59,'By Population'!$G$2:$K$14,5,FALSE))*'By Speed'!$O72*Scenario_VMT_EX*$N59","v":0},{"$f":"(VLOOKUP($B59,'By Population'!$G$2:$K$14,5,FALSE))*'By Speed'!$P72*Scenario_VMT_EX*$N59","v":0},{"$f":"(VLOOKUP($B59,'By Population'!$G$2:$K$14,5,FALSE))*'By Speed'!$Q72*Scenario_VMT_EX*$N59","v":0},{"$f":"(VLOOKUP($B59,'By Population'!$G$2:$K$14,5,FALSE))*'By Speed'!$R72*Scenario_VMT_EX*$N59","v":0},{"$f":"(VLOOKUP($B59,'By Population'!$G$2:$K$14,5,FALSE))*'By Speed'!$S72*Scenario_VMT_EX*$N59","v":0},{"$f":"(VLOOKUP($B59,'By Population'!$G$2:$K$14,5,FALSE))*'By Speed'!$T72*Scenario_VMT_EX*$N59","v":0},{"$f":"(VLOOKUP($B59,'By Population'!$G$2:$K$14,5,FALSE))*'By Speed'!$U72*Scenario_VMT_EX*$N59","v":0},0,{"$f":"(VLOOKUP($B59,'By Population'!$G$2:$K$14,5,FALSE))*'By Speed'!$M72*Scenario_VMT_1*$N59","v":0},{"$f":"(VLOOKUP($B59,'By Population'!$G$2:$K$14,5,FALSE))*'By Speed'!$N72*Scenario_VMT_1*$N59","v":0},{"$f":"(VLOOKUP($B59,'By Population'!$G$2:$K$14,5,FALSE))*'By Speed'!$O72*Scenario_VMT_1*$N59","v":0},{"$f":"(VLOOKUP($B59,'By Population'!$G$2:$K$14,5,FALSE))*'By Speed'!$P72*Scenario_VMT_1*$N59","v":0},{"$f":"(VLOOKUP($B59,'By Population'!$G$2:$K$14,5,FALSE))*'By Speed'!$Q72*Scenario_VMT_1*$N59","v":0},{"$f":"(VLOOKUP($B59,'By Population'!$G$2:$K$14,5,FALSE))*'By Speed'!$R72*Scenario_VMT_1*$N59","v":0},{"$f":"(VLOOKUP($B59,'By Population'!$G$2:$K$14,5,FALSE))*'By Speed'!$S72*Scenario_VMT_1*$N59","v":0},{"$f":"(VLOOKUP($B59,'By Population'!$G$2:$K$14,5,FALSE))*'By Speed'!$T72*Scenario_VMT_1*$N59","v":0},{"$f":"(VLOOKUP($B59,'By Population'!$G$2:$K$14,5,FALSE))*'By Speed'!$U72*Scenario_VMT_1*$N59","v":0},0,{"$f":"(VLOOKUP($B59,'By Population'!$G$2:$K$14,5,FALSE))*'By Speed'!$M72*Scenario_VMT_2*$N59","v":0},{"$f":"(VLOOKUP($B59,'By Population'!$G$2:$K$14,5,FALSE))*'By Speed'!$N72*Scenario_VMT_2*$N59","v":0},{"$f":"(VLOOKUP($B59,'By Population'!$G$2:$K$14,5,FALSE))*'By Speed'!$O72*Scenario_VMT_2*$N59","v":0},{"$f":"(VLOOKUP($B59,'By Population'!$G$2:$K$14,5,FALSE))*'By Speed'!$P72*Scenario_VMT_2*$N59","v":0},{"$f":"(VLOOKUP($B59,'By Population'!$G$2:$K$14,5,FALSE))*'By Speed'!$Q72*Scenario_VMT_2*$N59","v":0},{"$f":"(VLOOKUP($B59,'By Population'!$G$2:$K$14,5,FALSE))*'By Speed'!$R72*Scenario_VMT_2*$N59","v":0},{"$f":"(VLOOKUP($B59,'By Population'!$G$2:$K$14,5,FALSE))*'By Speed'!$S72*Scenario_VMT_2*$N59","v":0},{"$f":"(VLOOKUP($B59,'By Population'!$G$2:$K$14,5,FALSE))*'By Speed'!$T72*Scenario_VMT_2*$N59","v":0},{"$f":"(VLOOKUP($B59,'By Population'!$G$2:$K$14,5,FALSE))*'By Speed'!$U72*Scenario_VMT_2*$N59","v":0},0,{"$f":"(VLOOKUP($B59,'By Population'!$G$2:$K$14,5,FALSE))*'By Speed'!$M72*Scenario_VMT_3*$N59","v":0},{"$f":"(VLOOKUP($B59,'By Population'!$G$2:$K$14,5,FALSE))*'By Speed'!$N72*Scenario_VMT_3*$N59","v":0},{"$f":"(VLOOKUP($B59,'By Population'!$G$2:$K$14,5,FALSE))*'By Speed'!$O72*Scenario_VMT_3*$N59","v":0},{"$f":"(VLOOKUP($B59,'By Population'!$G$2:$K$14,5,FALSE))*'By Speed'!$P72*Scenario_VMT_3*$N59","v":0},{"$f":"(VLOOKUP($B59,'By Population'!$G$2:$K$14,5,FALSE))*'By Speed'!$Q72*Scenario_VMT_3*$N59","v":0},{"$f":"(VLOOKUP($B59,'By Population'!$G$2:$K$14,5,FALSE))*'By Speed'!$R72*Scenario_VMT_3*$N59","v":0},{"$f":"(VLOOKUP($B59,'By Population'!$G$2:$K$14,5,FALSE))*'By Speed'!$S72*Scenario_VMT_3*$N59","v":0},{"$f":"(VLOOKUP($B59,'By Population'!$G$2:$K$14,5,FALSE))*'By Speed'!$T72*Scenario_VMT_3*$N59","v":0},{"$f":"(VLOOKUP($B59,'By Population'!$G$2:$K$14,5,FALSE))*'By Speed'!$U72*Scenario_VMT_3*$N59","v":0},0,{"$f":"(VLOOKUP($B59,'By Population'!$G$2:$K$14,5,FALSE))*'By Speed'!$M72*Scenario_VMT_4*$N59","v":0},{"$f":"(VLOOKUP($B59,'By Population'!$G$2:$K$14,5,FALSE))*'By Speed'!$N72*Scenario_VMT_4*$N59","v":0},{"$f":"(VLOOKUP($B59,'By Population'!$G$2:$K$14,5,FALSE))*'By Speed'!$O72*Scenario_VMT_4*$N59","v":0},{"$f":"(VLOOKUP($B59,'By Population'!$G$2:$K$14,5,FALSE))*'By Speed'!$P72*Scenario_VMT_4*$N59","v":0},{"$f":"(VLOOKUP($B59,'By Population'!$G$2:$K$14,5,FALSE))*'By Speed'!$Q72*Scenario_VMT_4*$N59","v":0},{"$f":"(VLOOKUP($B59,'By Population'!$G$2:$K$14,5,FALSE))*'By Speed'!$R72*Scenario_VMT_4*$N59","v":0},{"$f":"(VLOOKUP($B59,'By Population'!$G$2:$K$14,5,FALSE))*'By Speed'!$S72*Scenario_VMT_4*$N59","v":0},{"$f":"(VLOOKUP($B59,'By Population'!$G$2:$K$14,5,FALSE))*'By Speed'!$T72*Scenario_VMT_4*$N59","v":0},{"$f":"(VLOOKUP($B59,'By Population'!$G$2:$K$14,5,FALSE))*'By Speed'!$U72*Scenario_VMT_4*$N59","v":0},0,{"$f":"(VLOOKUP($B59,'By Population'!$G$2:$K$14,5,FALSE))*'By Speed'!$M72*Scenario_VMT_5*$N59","v":0},{"$f":"(VLOOKUP($B59,'By Population'!$G$2:$K$14,5,FALSE))*'By Speed'!$N72*Scenario_VMT_5*$N59","v":0},{"$f":"(VLOOKUP($B59,'By Population'!$G$2:$K$14,5,FALSE))*'By Speed'!$O72*Scenario_VMT_5*$N59","v":0},{"$f":"(VLOOKUP($B59,'By Population'!$G$2:$K$14,5,FALSE))*'By Speed'!$P72*Scenario_VMT_5*$N59","v":0},{"$f":"(VLOOKUP($B59,'By Population'!$G$2:$K$14,5,FALSE))*'By Speed'!$Q72*Scenario_VMT_5*$N59","v":0},{"$f":"(VLOOKUP($B59,'By Population'!$G$2:$K$14,5,FALSE))*'By Speed'!$R72*Scenario_VMT_5*$N59","v":0},{"$f":"(VLOOKUP($B59,'By Population'!$G$2:$K$14,5,FALSE))*'By Speed'!$S72*Scenario_VMT_5*$N59","v":0},{"$f":"(VLOOKUP($B59,'By Population'!$G$2:$K$14,5,FALSE))*'By Speed'!$T72*Scenario_VMT_5*$N59","v":0},{"$f":"(VLOOKUP($B59,'By Population'!$G$2:$K$14,5,FALSE))*'By Speed'!$U72*Scenario_VMT_5*$N59","v":0},0]
[62,"LDT2_DSL",15,"LDT2_DSL_15",{"$f":"(VLOOKUP($B60,'By Population'!$G$2:$K$14,5,FALSE))*'By Speed'!$M73*Scenario_VMT_EX*$N60","v":0},{"$f":"(VLOOKUP($B60,'By Population'!$G$2:$K$14,5,FALSE))*'By Speed'!$N73*Scenario_VMT_EX*$N60","v":0},{"$f":"(VLOOKUP($B60,'By Population'!$G$2:$K$14,5,FALSE))*'By Speed'!$O73*Scenario_VMT_EX*$N60","v":0},{"$f":"(VLOOKUP($B60,'By Population'!$G$2:$K$14,5,FALSE))*'By Speed'!$P73*Scenario_VMT_EX*$N60","v":0},{"$f":"(VLOOKUP($B60,'By Population'!$G$2:$K$14,5,FALSE))*'By Speed'!$Q73*Scenario_VMT_EX*$N60","v":0},{"$f":"(VLOOKUP($B60,'By Population'!$G$2:$K$14,5,FALSE))*'By Speed'!$R73*Scenario_VMT_EX*$N60","v":0},{"$f":"(VLOOKUP($B60,'By Population'!$G$2:$K$14,5,FALSE))*'By Speed'!$S73*Scenario_VMT_EX*$N60","v":0},{"$f":"(VLOOKUP($B60,'By Population'!$G$2:$K$14,5,FALSE))*'By Speed'!$T73*Scenario_VMT_EX*$N60","v":0},{"$f":"(VLOOKUP($B60,'By Population'!$G$2:$K$14,5,FALSE))*'By Speed'!$U73*Scenario_VMT_EX*$N60","v":0},0,{"$f":"(VLOOKUP($B60,'By Population'!$G$2:$K$14,5,FALSE))*'By Speed'!$M73*Scenario_VMT_1*$N60","v":0},{"$f":"(VLOOKUP($B60,'By Population'!$G$2:$K$14,5,FALSE))*'By Speed'!$N73*Scenario_VMT_1*$N60","v":0},{"$f":"(VLOOKUP($B60,'By Population'!$G$2:$K$14,5,FALSE))*'By Speed'!$O73*Scenario_VMT_1*$N60","v":0},{"$f":"(VLOOKUP($B60,'By Population'!$G$2:$K$14,5,FALSE))*'By Speed'!$P73*Scenario_VMT_1*$N60","v":0},{"$f":"(VLOOKUP($B60,'By Population'!$G$2:$K$14,5,FALSE))*'By Speed'!$Q73*Scenario_VMT_1*$N60","v":0},{"$f":"(VLOOKUP($B60,'By Population'!$G$2:$K$14,5,FALSE))*'By Speed'!$R73*Scenario_VMT_1*$N60","v":0},{"$f":"(VLOOKUP($B60,'By Population'!$G$2:$K$14,5,FALSE))*'By Speed'!$S73*Scenario_VMT_1*$N60","v":0},{"$f":"(VLOOKUP($B60,'By Population'!$G$2:$K$14,5,FALSE))*'By Speed'!$T73*Scenario_VMT_1*$N60","v":0},{"$f":"(VLOOKUP($B60,'By Population'!$G$2:$K$14,5,FALSE))*'By Speed'!$U73*Scenario_VMT_1*$N60","v":0},0,{"$f":"(VLOOKUP($B60,'By Population'!$G$2:$K$14,5,FALSE))*'By Speed'!$M73*Scenario_VMT_2*$N60","v":0},{"$f":"(VLOOKUP($B60,'By Population'!$G$2:$K$14,5,FALSE))*'By Speed'!$N73*Scenario_VMT_2*$N60","v":0},{"$f":"(VLOOKUP($B60,'By Population'!$G$2:$K$14,5,FALSE))*'By Speed'!$O73*Scenario_VMT_2*$N60","v":0},{"$f":"(VLOOKUP($B60,'By Population'!$G$2:$K$14,5,FALSE))*'By Speed'!$P73*Scenario_VMT_2*$N60","v":0},{"$f":"(VLOOKUP($B60,'By Population'!$G$2:$K$14,5,FALSE))*'By Speed'!$Q73*Scenario_VMT_2*$N60","v":0},{"$f":"(VLOOKUP($B60,'By Population'!$G$2:$K$14,5,FALSE))*'By Speed'!$R73*Scenario_VMT_2*$N60","v":0},{"$f":"(VLOOKUP($B60,'By Population'!$G$2:$K$14,5,FALSE))*'By Speed'!$S73*Scenario_VMT_2*$N60","v":0},{"$f":"(VLOOKUP($B60,'By Population'!$G$2:$K$14,5,FALSE))*'By Speed'!$T73*Scenario_VMT_2*$N60","v":0},{"$f":"(VLOOKUP($B60,'By Population'!$G$2:$K$14,5,FALSE))*'By Speed'!$U73*Scenario_VMT_2*$N60","v":0},0,{"$f":"(VLOOKUP($B60,'By Population'!$G$2:$K$14,5,FALSE))*'By Speed'!$M73*Scenario_VMT_3*$N60","v":0},{"$f":"(VLOOKUP($B60,'By Population'!$G$2:$K$14,5,FALSE))*'By Speed'!$N73*Scenario_VMT_3*$N60","v":0},{"$f":"(VLOOKUP($B60,'By Population'!$G$2:$K$14,5,FALSE))*'By Speed'!$O73*Scenario_VMT_3*$N60","v":0},{"$f":"(VLOOKUP($B60,'By Population'!$G$2:$K$14,5,FALSE))*'By Speed'!$P73*Scenario_VMT_3*$N60","v":0},{"$f":"(VLOOKUP($B60,'By Population'!$G$2:$K$14,5,FALSE))*'By Speed'!$Q73*Scenario_VMT_3*$N60","v":0},{"$f":"(VLOOKUP($B60,'By Population'!$G$2:$K$14,5,FALSE))*'By Speed'!$R73*Scenario_VMT_3*$N60","v":0},{"$f":"(VLOOKUP($B60,'By Population'!$G$2:$K$14,5,FALSE))*'By Speed'!$S73*Scenario_VMT_3*$N60","v":0},{"$f":"(VLOOKUP($B60,'By Population'!$G$2:$K$14,5,FALSE))*'By Speed'!$T73*Scenario_VMT_3*$N60","v":0},{"$f":"(VLOOKUP($B60,'By Population'!$G$2:$K$14,5,FALSE))*'By Speed'!$U73*Scenario_VMT_3*$N60","v":0},0,{"$f":"(VLOOKUP($B60,'By Population'!$G$2:$K$14,5,FALSE))*'By Speed'!$M73*Scenario_VMT_4*$N60","v":0},{"$f":"(VLOOKUP($B60,'By Population'!$G$2:$K$14,5,FALSE))*'By Speed'!$N73*Scenario_VMT_4*$N60","v":0},{"$f":"(VLOOKUP($B60,'By Population'!$G$2:$K$14,5,FALSE))*'By Speed'!$O73*Scenario_VMT_4*$N60","v":0},{"$f":"(VLOOKUP($B60,'By Population'!$G$2:$K$14,5,FALSE))*'By Speed'!$P73*Scenario_VMT_4*$N60","v":0},{"$f":"(VLOOKUP($B60,'By Population'!$G$2:$K$14,5,FALSE))*'By Speed'!$Q73*Scenario_VMT_4*$N60","v":0},{"$f":"(VLOOKUP($B60,'By Population'!$G$2:$K$14,5,FALSE))*'By Speed'!$R73*Scenario_VMT_4*$N60","v":0},{"$f":"(VLOOKUP($B60,'By Population'!$G$2:$K$14,5,FALSE))*'By Speed'!$S73*Scenario_VMT_4*$N60","v":0},{"$f":"(VLOOKUP($B60,'By Population'!$G$2:$K$14,5,FALSE))*'By Speed'!$T73*Scenario_VMT_4*$N60","v":0},{"$f":"(VLOOKUP($B60,'By Population'!$G$2:$K$14,5,FALSE))*'By Speed'!$U73*Scenario_VMT_4*$N60","v":0},0,{"$f":"(VLOOKUP($B60,'By Population'!$G$2:$K$14,5,FALSE))*'By Speed'!$M73*Scenario_VMT_5*$N60","v":0},{"$f":"(VLOOKUP($B60,'By Population'!$G$2:$K$14,5,FALSE))*'By Speed'!$N73*Scenario_VMT_5*$N60","v":0},{"$f":"(VLOOKUP($B60,'By Population'!$G$2:$K$14,5,FALSE))*'By Speed'!$O73*Scenario_VMT_5*$N60","v":0},{"$f":"(VLOOKUP($B60,'By Population'!$G$2:$K$14,5,FALSE))*'By Speed'!$P73*Scenario_VMT_5*$N60","v":0},{"$f":"(VLOOKUP($B60,'By Population'!$G$2:$K$14,5,FALSE))*'By Speed'!$Q73*Scenario_VMT_5*$N60","v":0},{"$f":"(VLOOKUP($B60,'By Population'!$G$2:$K$14,5,FALSE))*'By Speed'!$R73*Scenario_VMT_5*$N60","v":0},{"$f":"(VLOOKUP($B60,'By Population'!$G$2:$K$14,5,FALSE))*'By Speed'!$S73*Scenario_VMT_5*$N60","v":0},{"$f":"(VLOOKUP($B60,'By Population'!$G$2:$K$14,5,FALSE))*'By Speed'!$T73*Scenario_VMT_5*$N60","v":0},{"$f":"(VLOOKUP($B60,'By Population'!$G$2:$K$14,5,FALSE))*'By Speed'!$U73*Scenario_VMT_5*$N60","v":0},0]
[64,"LDT2_DSL",20,"LDT2_DSL_20",{"$f":"(VLOOKUP($B61,'By Population'!$G$2:$K$14,5,FALSE))*'By Speed'!$M74*Scenario_VMT_EX*$N61","v":0},{"$f":"(VLOOKUP($B61,'By Population'!$G$2:$K$14,5,FALSE))*'By Speed'!$N74*Scenario_VMT_EX*$N61","v":0},{"$f":"(VLOOKUP($B61,'By Population'!$G$2:$K$14,5,FALSE))*'By Speed'!$O74*Scenario_VMT_EX*$N61","v":0},{"$f":"(VLOOKUP($B61,'By Population'!$G$2:$K$14,5,FALSE))*'By Speed'!$P74*Scenario_VMT_EX*$N61","v":0},{"$f":"(VLOOKUP($B61,'By Population'!$G$2:$K$14,5,FALSE))*'By Speed'!$Q74*Scenario_VMT_EX*$N61","v":0},{"$f":"(VLOOKUP($B61,'By Population'!$G$2:$K$14,5,FALSE))*'By Speed'!$R74*Scenario_VMT_EX*$N61","v":0},{"$f":"(VLOOKUP($B61,'By Population'!$G$2:$K$14,5,FALSE))*'By Speed'!$S74*Scenario_VMT_EX*$N61","v":0},{"$f":"(VLOOKUP($B61,'By Population'!$G$2:$K$14,5,FALSE))*'By Speed'!$T74*Scenario_VMT_EX*$N61","v":0},{"$f":"(VLOOKUP($B61,'By Population'!$G$2:$K$14,5,FALSE))*'By Speed'!$U74*Scenario_VMT_EX*$N61","v":0},0,{"$f":"(VLOOKUP($B61,'By Population'!$G$2:$K$14,5,FALSE))*'By Speed'!$M74*Scenario_VMT_1*$N61","v":0},{"$f":"(VLOOKUP($B61,'By Population'!$G$2:$K$14,5,FALSE))*'By Speed'!$N74*Scenario_VMT_1*$N61","v":0},{"$f":"(VLOOKUP($B61,'By Population'!$G$2:$K$14,5,FALSE))*'By Speed'!$O74*Scenario_VMT_1*$N61","v":0},{"$f":"(VLOOKUP($B61,'By Population'!$G$2:$K$14,5,FALSE))*'By Speed'!$P74*Scenario_VMT_1*$N61","v":0},{"$f":"(VLOOKUP($B61,'By Population'!$G$2:$K$14,5,FALSE))*'By Speed'!$Q74*Scenario_VMT_1*$N61","v":0},{"$f":"(VLOOKUP($B61,'By Population'!$G$2:$K$14,5,FALSE))*'By Speed'!$R74*Scenario_VMT_1*$N61","v":0},{"$f":"(VLOOKUP($B61,'By Population'!$G$2:$K$14,5,FALSE))*'By Speed'!$S74*Scenario_VMT_1*$N61","v":0},{"$f":"(VLOOKUP($B61,'By Population'!$G$2:$K$14,5,FALSE))*'By Speed'!$T74*Scenario_VMT_1*$N61","v":0},{"$f":"(VLOOKUP($B61,'By Population'!$G$2:$K$14,5,FALSE))*'By Speed'!$U74*Scenario_VMT_1*$N61","v":0},0,{"$f":"(VLOOKUP($B61,'By Population'!$G$2:$K$14,5,FALSE))*'By Speed'!$M74*Scenario_VMT_2*$N61","v":0},{"$f":"(VLOOKUP($B61,'By Population'!$G$2:$K$14,5,FALSE))*'By Speed'!$N74*Scenario_VMT_2*$N61","v":0},{"$f":"(VLOOKUP($B61,'By Population'!$G$2:$K$14,5,FALSE))*'By Speed'!$O74*Scenario_VMT_2*$N61","v":0},{"$f":"(VLOOKUP($B61,'By Population'!$G$2:$K$14,5,FALSE))*'By Speed'!$P74*Scenario_VMT_2*$N61","v":0},{"$f":"(VLOOKUP($B61,'By Population'!$G$2:$K$14,5,FALSE))*'By Speed'!$Q74*Scenario_VMT_2*$N61","v":0},{"$f":"(VLOOKUP($B61,'By Population'!$G$2:$K$14,5,FALSE))*'By Speed'!$R74*Scenario_VMT_2*$N61","v":0},{"$f":"(VLOOKUP($B61,'By Population'!$G$2:$K$14,5,FALSE))*'By Speed'!$S74*Scenario_VMT_2*$N61","v":0},{"$f":"(VLOOKUP($B61,'By Population'!$G$2:$K$14,5,FALSE))*'By Speed'!$T74*Scenario_VMT_2*$N61","v":0},{"$f":"(VLOOKUP($B61,'By Population'!$G$2:$K$14,5,FALSE))*'By Speed'!$U74*Scenario_VMT_2*$N61","v":0},0,{"$f":"(VLOOKUP($B61,'By Population'!$G$2:$K$14,5,FALSE))*'By Speed'!$M74*Scenario_VMT_3*$N61","v":0},{"$f":"(VLOOKUP($B61,'By Population'!$G$2:$K$14,5,FALSE))*'By Speed'!$N74*Scenario_VMT_3*$N61","v":0},{"$f":"(VLOOKUP($B61,'By Population'!$G$2:$K$14,5,FALSE))*'By Speed'!$O74*Scenario_VMT_3*$N61","v":0},{"$f":"(VLOOKUP($B61,'By Population'!$G$2:$K$14,5,FALSE))*'By Speed'!$P74*Scenario_VMT_3*$N61","v":0},{"$f":"(VLOOKUP($B61,'By Population'!$G$2:$K$14,5,FALSE))*'By Speed'!$Q74*Scenario_VMT_3*$N61","v":0},{"$f":"(VLOOKUP($B61,'By Population'!$G$2:$K$14,5,FALSE))*'By Speed'!$R74*Scenario_VMT_3*$N61","v":0},{"$f":"(VLOOKUP($B61,'By Population'!$G$2:$K$14,5,FALSE))*'By Speed'!$S74*Scenario_VMT_3*$N61","v":0},{"$f":"(VLOOKUP($B61,'By Population'!$G$2:$K$14,5,FALSE))*'By Speed'!$T74*Scenario_VMT_3*$N61","v":0},{"$f":"(VLOOKUP($B61,'By Population'!$G$2:$K$14,5,FALSE))*'By Speed'!$U74*Scenario_VMT_3*$N61","v":0},0,{"$f":"(VLOOKUP($B61,'By Population'!$G$2:$K$14,5,FALSE))*'By Speed'!$M74*Scenario_VMT_4*$N61","v":0},{"$f":"(VLOOKUP($B61,'By Population'!$G$2:$K$14,5,FALSE))*'By Speed'!$N74*Scenario_VMT_4*$N61","v":0},{"$f":"(VLOOKUP($B61,'By Population'!$G$2:$K$14,5,FALSE))*'By Speed'!$O74*Scenario_VMT_4*$N61","v":0},{"$f":"(VLOOKUP($B61,'By Population'!$G$2:$K$14,5,FALSE))*'By Speed'!$P74*Scenario_VMT_4*$N61","v":0},{"$f":"(VLOOKUP($B61,'By Population'!$G$2:$K$14,5,FALSE))*'By Speed'!$Q74*Scenario_VMT_4*$N61","v":0},{"$f":"(VLOOKUP($B61,'By Population'!$G$2:$K$14,5,FALSE))*'By Speed'!$R74*Scenario_VMT_4*$N61","v":0},{"$f":"(VLOOKUP($B61,'By Population'!$G$2:$K$14,5,FALSE))*'By Speed'!$S74*Scenario_VMT_4*$N61","v":0},{"$f":"(VLOOKUP($B61,'By Population'!$G$2:$K$14,5,FALSE))*'By Speed'!$T74*Scenario_VMT_4*$N61","v":0},{"$f":"(VLOOKUP($B61,'By Population'!$G$2:$K$14,5,FALSE))*'By Speed'!$U74*Scenario_VMT_4*$N61","v":0},0,{"$f":"(VLOOKUP($B61,'By Population'!$G$2:$K$14,5,FALSE))*'By Speed'!$M74*Scenario_VMT_5*$N61","v":0},{"$f":"(VLOOKUP($B61,'By Population'!$G$2:$K$14,5,FALSE))*'By Speed'!$N74*Scenario_VMT_5*$N61","v":0},{"$f":"(VLOOKUP($B61,'By Population'!$G$2:$K$14,5,FALSE))*'By Speed'!$O74*Scenario_VMT_5*$N61","v":0},{"$f":"(VLOOKUP($B61,'By Population'!$G$2:$K$14,5,FALSE))*'By Speed'!$P74*Scenario_VMT_5*$N61","v":0},{"$f":"(VLOOKUP($B61,'By Population'!$G$2:$K$14,5,FALSE))*'By Speed'!$Q74*Scenario_VMT_5*$N61","v":0},{"$f":"(VLOOKUP($B61,'By Population'!$G$2:$K$14,5,FALSE))*'By Speed'!$R74*Scenario_VMT_5*$N61","v":0},{"$f":"(VLOOKUP($B61,'By Population'!$G$2:$K$14,5,FALSE))*'By Speed'!$S74*Scenario_VMT_5*$N61","v":0},{"$f":"(VLOOKUP($B61,'By Population'!$G$2:$K$14,5,FALSE))*'By Speed'!$T74*Scenario_VMT_5*$N61","v":0},{"$f":"(VLOOKUP($B61,'By Population'!$G$2:$K$14,5,FALSE))*'By Speed'!$U74*Scenario_VMT_5*$N61","v":0},0]
[66,"LDT2_DSL",25,"LDT2_DSL_25",{"$f":"(VLOOKUP($B62,'By Population'!$G$2:$K$14,5,FALSE))*'By Speed'!$M75*Scenario_VMT_EX*$N62","v":0},{"$f":"(VLOOKUP($B62,'By Population'!$G$2:$K$14,5,FALSE))*'By Speed'!$N75*Scenario_VMT_EX*$N62","v":0},{"$f":"(VLOOKUP($B62,'By Population'!$G$2:$K$14,5,FALSE))*'By Speed'!$O75*Scenario_VMT_EX*$N62","v":0},{"$f":"(VLOOKUP($B62,'By Population'!$G$2:$K$14,5,FALSE))*'By Speed'!$P75*Scenario_VMT_EX*$N62","v":0},{"$f":"(VLOOKUP($B62,'By Population'!$G$2:$K$14,5,FALSE))*'By Speed'!$Q75*Scenario_VMT_EX*$N62","v":0},{"$f":"(VLOOKUP($B62,'By Population'!$G$2:$K$14,5,FALSE))*'By Speed'!$R75*Scenario_VMT_EX*$N62","v":0},{"$f":"(VLOOKUP($B62,'By Population'!$G$2:$K$14,5,FALSE))*'By Speed'!$S75*Scenario_VMT_EX*$N62","v":0},{"$f":"(VLOOKUP($B62,'By Population'!$G$2:$K$14,5,FALSE))*'By Speed'!$T75*Scenario_VMT_EX*$N62","v":0},{"$f":"(VLOOKUP($B62,'By Population'!$G$2:$K$14,5,FALSE))*'By Speed'!$U75*Scenario_VMT_EX*$N62","v":0},1,{"$f":"(VLOOKUP($B62,'By Population'!$G$2:$K$14,5,FALSE))*'By Speed'!$M75*Scenario_VMT_1*$N62","v":0},{"$f":"(VLOOKUP($B62,'By Population'!$G$2:$K$14,5,FALSE))*'By Speed'!$N75*Scenario_VMT_1*$N62","v":0},{"$f":"(VLOOKUP($B62,'By Population'!$G$2:$K$14,5,FALSE))*'By Speed'!$O75*Scenario_VMT_1*$N62","v":0},{"$f":"(VLOOKUP($B62,'By Population'!$G$2:$K$14,5,FALSE))*'By Speed'!$P75*Scenario_VMT_1*$N62","v":0},{"$f":"(VLOOKUP($B62,'By Population'!$G$2:$K$14,5,FALSE))*'By Speed'!$Q75*Scenario_VMT_1*$N62","v":0},{"$f":"(VLOOKUP($B62,'By Population'!$G$2:$K$14,5,FALSE))*'By Speed'!$R75*Scenario_VMT_1*$N62","v":0},{"$f":"(VLOOKUP($B62,'By Population'!$G$2:$K$14,5,FALSE))*'By Speed'!$S75*Scenario_VMT_1*$N62","v":0},{"$f":"(VLOOKUP($B62,'By Population'!$G$2:$K$14,5,FALSE))*'By Speed'!$T75*Scenario_VMT_1*$N62","v":0},{"$f":"(VLOOKUP($B62,'By Population'!$G$2:$K$14,5,FALSE))*'By Speed'!$U75*Scenario_VMT_1*$N62","v":0},0,{"$f":"(VLOOKUP($B62,'By Population'!$G$2:$K$14,5,FALSE))*'By Speed'!$M75*Scenario_VMT_2*$N62","v":0},{"$f":"(VLOOKUP($B62,'By Population'!$G$2:$K$14,5,FALSE))*'By Speed'!$N75*Scenario_VMT_2*$N62","v":0},{"$f":"(VLOOKUP($B62,'By Population'!$G$2:$K$14,5,FALSE))*'By Speed'!$O75*Scenario_VMT_2*$N62","v":0},{"$f":"(VLOOKUP($B62,'By Population'!$G$2:$K$14,5,FALSE))*'By Speed'!$P75*Scenario_VMT_2*$N62","v":0},{"$f":"(VLOOKUP($B62,'By Population'!$G$2:$K$14,5,FALSE))*'By Speed'!$Q75*Scenario_VMT_2*$N62","v":0},{"$f":"(VLOOKUP($B62,'By Population'!$G$2:$K$14,5,FALSE))*'By Speed'!$R75*Scenario_VMT_2*$N62","v":0},{"$f":"(VLOOKUP($B62,'By Population'!$G$2:$K$14,5,FALSE))*'By Speed'!$S75*Scenario_VMT_2*$N62","v":0},{"$f":"(VLOOKUP($B62,'By Population'!$G$2:$K$14,5,FALSE))*'By Speed'!$T75*Scenario_VMT_2*$N62","v":0},{"$f":"(VLOOKUP($B62,'By Population'!$G$2:$K$14,5,FALSE))*'By Speed'!$U75*Scenario_VMT_2*$N62","v":0},0,{"$f":"(VLOOKUP($B62,'By Population'!$G$2:$K$14,5,FALSE))*'By Speed'!$M75*Scenario_VMT_3*$N62","v":0},{"$f":"(VLOOKUP($B62,'By Population'!$G$2:$K$14,5,FALSE))*'By Speed'!$N75*Scenario_VMT_3*$N62","v":0},{"$f":"(VLOOKUP($B62,'By Population'!$G$2:$K$14,5,FALSE))*'By Speed'!$O75*Scenario_VMT_3*$N62","v":0},{"$f":"(VLOOKUP($B62,'By Population'!$G$2:$K$14,5,FALSE))*'By Speed'!$P75*Scenario_VMT_3*$N62","v":0},{"$f":"(VLOOKUP($B62,'By Population'!$G$2:$K$14,5,FALSE))*'By Speed'!$Q75*Scenario_VMT_3*$N62","v":0},{"$f":"(VLOOKUP($B62,'By Population'!$G$2:$K$14,5,FALSE))*'By Speed'!$R75*Scenario_VMT_3*$N62","v":0},{"$f":"(VLOOKUP($B62,'By Population'!$G$2:$K$14,5,FALSE))*'By Speed'!$S75*Scenario_VMT_3*$N62","v":0},{"$f":"(VLOOKUP($B62,'By Population'!$G$2:$K$14,5,FALSE))*'By Speed'!$T75*Scenario_VMT_3*$N62","v":0},{"$f":"(VLOOKUP($B62,'By Population'!$G$2:$K$14,5,FALSE))*'By Speed'!$U75*Scenario_VMT_3*$N62","v":0},0,{"$f":"(VLOOKUP($B62,'By Population'!$G$2:$K$14,5,FALSE))*'By Speed'!$M75*Scenario_VMT_4*$N62","v":0},{"$f":"(VLOOKUP($B62,'By Population'!$G$2:$K$14,5,FALSE))*'By Speed'!$N75*Scenario_VMT_4*$N62","v":0},{"$f":"(VLOOKUP($B62,'By Population'!$G$2:$K$14,5,FALSE))*'By Speed'!$O75*Scenario_VMT_4*$N62","v":0},{"$f":"(VLOOKUP($B62,'By Population'!$G$2:$K$14,5,FALSE))*'By Speed'!$P75*Scenario_VMT_4*$N62","v":0},{"$f":"(VLOOKUP($B62,'By Population'!$G$2:$K$14,5,FALSE))*'By Speed'!$Q75*Scenario_VMT_4*$N62","v":0},{"$f":"(VLOOKUP($B62,'By Population'!$G$2:$K$14,5,FALSE))*'By Speed'!$R75*Scenario_VMT_4*$N62","v":0},{"$f":"(VLOOKUP($B62,'By Population'!$G$2:$K$14,5,FALSE))*'By Speed'!$S75*Scenario_VMT_4*$N62","v":0},{"$f":"(VLOOKUP($B62,'By Population'!$G$2:$K$14,5,FALSE))*'By Speed'!$T75*Scenario_VMT_4*$N62","v":0},{"$f":"(VLOOKUP($B62,'By Population'!$G$2:$K$14,5,FALSE))*'By Speed'!$U75*Scenario_VMT_4*$N62","v":0},0,{"$f":"(VLOOKUP($B62,'By Population'!$G$2:$K$14,5,FALSE))*'By Speed'!$M75*Scenario_VMT_5*$N62","v":0},{"$f":"(VLOOKUP($B62,'By Population'!$G$2:$K$14,5,FALSE))*'By Speed'!$N75*Scenario_VMT_5*$N62","v":0},{"$f":"(VLOOKUP($B62,'By Population'!$G$2:$K$14,5,FALSE))*'By Speed'!$O75*Scenario_VMT_5*$N62","v":0},{"$f":"(VLOOKUP($B62,'By Population'!$G$2:$K$14,5,FALSE))*'By Speed'!$P75*Scenario_VMT_5*$N62","v":0},{"$f":"(VLOOKUP($B62,'By Population'!$G$2:$K$14,5,FALSE))*'By Speed'!$Q75*Scenario_VMT_5*$N62","v":0},{"$f":"(VLOOKUP($B62,'By Population'!$G$2:$K$14,5,FALSE))*'By Speed'!$R75*Scenario_VMT_5*$N62","v":0},{"$f":"(VLOOKUP($B62,'By Population'!$G$2:$K$14,5,FALSE))*'By Speed'!$S75*Scenario_VMT_5*$N62","v":0},{"$f":"(VLOOKUP($B62,'By Population'!$G$2:$K$14,5,FALSE))*'By Speed'!$T75*Scenario_VMT_5*$N62","v":0},{"$f":"(VLOOKUP($B62,'By Population'!$G$2:$K$14,5,FALSE))*'By Speed'!$U75*Scenario_VMT_5*$N62","v":0},0]
[68,"LDT2_DSL",30,"LDT2_DSL_30",{"$f":"(VLOOKUP($B63,'By Population'!$G$2:$K$14,5,FALSE))*'By Speed'!$M76*Scenario_VMT_EX*$N63","v":0},{"$f":"(VLOOKUP($B63,'By Population'!$G$2:$K$14,5,FALSE))*'By Speed'!$N76*Scenario_VMT_EX*$N63","v":0},{"$f":"(VLOOKUP($B63,'By Population'!$G$2:$K$14,5,FALSE))*'By Speed'!$O76*Scenario_VMT_EX*$N63","v":0},{"$f":"(VLOOKUP($B63,'By Population'!$G$2:$K$14,5,FALSE))*'By Speed'!$P76*Scenario_VMT_EX*$N63","v":0},{"$f":"(VLOOKUP($B63,'By Population'!$G$2:$K$14,5,FALSE))*'By Speed'!$Q76*Scenario_VMT_EX*$N63","v":0},{"$f":"(VLOOKUP($B63,'By Population'!$G$2:$K$14,5,FALSE))*'By Speed'!$R76*Scenario_VMT_EX*$N63","v":0},{"$f":"(VLOOKUP($B63,'By Population'!$G$2:$K$14,5,FALSE))*'By Speed'!$S76*Scenario_VMT_EX*$N63","v":0},{"$f":"(VLOOKUP($B63,'By Population'!$G$2:$K$14,5,FALSE))*'By Speed'!$T76*Scenario_VMT_EX*$N63","v":0},{"$f":"(VLOOKUP($B63,'By Population'!$G$2:$K$14,5,FALSE))*'By Speed'!$U76*Scenario_VMT_EX*$N63","v":0},0,{"$f":"(VLOOKUP($B63,'By Population'!$G$2:$K$14,5,FALSE))*'By Speed'!$M76*Scenario_VMT_1*$N63","v":0},{"$f":"(VLOOKUP($B63,'By Population'!$G$2:$K$14,5,FALSE))*'By Speed'!$N76*Scenario_VMT_1*$N63","v":0},{"$f":"(VLOOKUP($B63,'By Population'!$G$2:$K$14,5,FALSE))*'By Speed'!$O76*Scenario_VMT_1*$N63","v":0},{"$f":"(VLOOKUP($B63,'By Population'!$G$2:$K$14,5,FALSE))*'By Speed'!$P76*Scenario_VMT_1*$N63","v":0},{"$f":"(VLOOKUP($B63,'By Population'!$G$2:$K$14,5,FALSE))*'By Speed'!$Q76*Scenario_VMT_1*$N63","v":0},{"$f":"(VLOOKUP($B63,'By Population'!$G$2:$K$14,5,FALSE))*'By Speed'!$R76*Scenario_VMT_1*$N63","v":0},{"$f":"(VLOOKUP($B63,'By Population'!$G$2:$K$14,5,FALSE))*'By Speed'!$S76*Scenario_VMT_1*$N63","v":0},{"$f":"(VLOOKUP($B63,'By Population'!$G$2:$K$14,5,FALSE))*'By Speed'!$T76*Scenario_VMT_1*$N63","v":0},{"$f":"(VLOOKUP($B63,'By Population'!$G$2:$K$14,5,FALSE))*'By Speed'!$U76*Scenario_VMT_1*$N63","v":0},0,{"$f":"(VLOOKUP($B63,'By Population'!$G$2:$K$14,5,FALSE))*'By Speed'!$M76*Scenario_VMT_2*$N63","v":0},{"$f":"(VLOOKUP($B63,'By Population'!$G$2:$K$14,5,FALSE))*'By Speed'!$N76*Scenario_VMT_2*$N63","v":0},{"$f":"(VLOOKUP($B63,'By Population'!$G$2:$K$14,5,FALSE))*'By Speed'!$O76*Scenario_VMT_2*$N63","v":0},{"$f":"(VLOOKUP($B63,'By Population'!$G$2:$K$14,5,FALSE))*'By Speed'!$P76*Scenario_VMT_2*$N63","v":0},{"$f":"(VLOOKUP($B63,'By Population'!$G$2:$K$14,5,FALSE))*'By Speed'!$Q76*Scenario_VMT_2*$N63","v":0},{"$f":"(VLOOKUP($B63,'By Population'!$G$2:$K$14,5,FALSE))*'By Speed'!$R76*Scenario_VMT_2*$N63","v":0},{"$f":"(VLOOKUP($B63,'By Population'!$G$2:$K$14,5,FALSE))*'By Speed'!$S76*Scenario_VMT_2*$N63","v":0},{"$f":"(VLOOKUP($B63,'By Population'!$G$2:$K$14,5,FALSE))*'By Speed'!$T76*Scenario_VMT_2*$N63","v":0},{"$f":"(VLOOKUP($B63,'By Population'!$G$2:$K$14,5,FALSE))*'By Speed'!$U76*Scenario_VMT_2*$N63","v":0},0,{"$f":"(VLOOKUP($B63,'By Population'!$G$2:$K$14,5,FALSE))*'By Speed'!$M76*Scenario_VMT_3*$N63","v":0},{"$f":"(VLOOKUP($B63,'By Population'!$G$2:$K$14,5,FALSE))*'By Speed'!$N76*Scenario_VMT_3*$N63","v":0},{"$f":"(VLOOKUP($B63,'By Population'!$G$2:$K$14,5,FALSE))*'By Speed'!$O76*Scenario_VMT_3*$N63","v":0},{"$f":"(VLOOKUP($B63,'By Population'!$G$2:$K$14,5,FALSE))*'By Speed'!$P76*Scenario_VMT_3*$N63","v":0},{"$f":"(VLOOKUP($B63,'By Population'!$G$2:$K$14,5,FALSE))*'By Speed'!$Q76*Scenario_VMT_3*$N63","v":0},{"$f":"(VLOOKUP($B63,'By Population'!$G$2:$K$14,5,FALSE))*'By Speed'!$R76*Scenario_VMT_3*$N63","v":0},{"$f":"(VLOOKUP($B63,'By Population'!$G$2:$K$14,5,FALSE))*'By Speed'!$S76*Scenario_VMT_3*$N63","v":0},{"$f":"(VLOOKUP($B63,'By Population'!$G$2:$K$14,5,FALSE))*'By Speed'!$T76*Scenario_VMT_3*$N63","v":0},{"$f":"(VLOOKUP($B63,'By Population'!$G$2:$K$14,5,FALSE))*'By Speed'!$U76*Scenario_VMT_3*$N63","v":0},0,{"$f":"(VLOOKUP($B63,'By Population'!$G$2:$K$14,5,FALSE))*'By Speed'!$M76*Scenario_VMT_4*$N63","v":0},{"$f":"(VLOOKUP($B63,'By Population'!$G$2:$K$14,5,FALSE))*'By Speed'!$N76*Scenario_VMT_4*$N63","v":0},{"$f":"(VLOOKUP($B63,'By Population'!$G$2:$K$14,5,FALSE))*'By Speed'!$O76*Scenario_VMT_4*$N63","v":0},{"$f":"(VLOOKUP($B63,'By Population'!$G$2:$K$14,5,FALSE))*'By Speed'!$P76*Scenario_VMT_4*$N63","v":0},{"$f":"(VLOOKUP($B63,'By Population'!$G$2:$K$14,5,FALSE))*'By Speed'!$Q76*Scenario_VMT_4*$N63","v":0},{"$f":"(VLOOKUP($B63,'By Population'!$G$2:$K$14,5,FALSE))*'By Speed'!$R76*Scenario_VMT_4*$N63","v":0},{"$f":"(VLOOKUP($B63,'By Population'!$G$2:$K$14,5,FALSE))*'By Speed'!$S76*Scenario_VMT_4*$N63","v":0},{"$f":"(VLOOKUP($B63,'By Population'!$G$2:$K$14,5,FALSE))*'By Speed'!$T76*Scenario_VMT_4*$N63","v":0},{"$f":"(VLOOKUP($B63,'By Population'!$G$2:$K$14,5,FALSE))*'By Speed'!$U76*Scenario_VMT_4*$N63","v":0},0,{"$f":"(VLOOKUP($B63,'By Population'!$G$2:$K$14,5,FALSE))*'By Speed'!$M76*Scenario_VMT_5*$N63","v":0},{"$f":"(VLOOKUP($B63,'By Population'!$G$2:$K$14,5,FALSE))*'By Speed'!$N76*Scenario_VMT_5*$N63","v":0},{"$f":"(VLOOKUP($B63,'By Population'!$G$2:$K$14,5,FALSE))*'By Speed'!$O76*Scenario_VMT_5*$N63","v":0},{"$f":"(VLOOKUP($B63,'By Population'!$G$2:$K$14,5,FALSE))*'By Speed'!$P76*Scenario_VMT_5*$N63","v":0},{"$f":"(VLOOKUP($B63,'By Population'!$G$2:$K$14,5,FALSE))*'By Speed'!$Q76*Scenario_VMT_5*$N63","v":0},{"$f":"(VLOOKUP($B63,'By Population'!$G$2:$K$14,5,FALSE))*'By Speed'!$R76*Scenario_VMT_5*$N63","v":0},{"$f":"(VLOOKUP($B63,'By Population'!$G$2:$K$14,5,FALSE))*'By Speed'!$S76*Scenario_VMT_5*$N63","v":0},{"$f":"(VLOOKUP($B63,'By Population'!$G$2:$K$14,5,FALSE))*'By Speed'!$T76*Scenario_VMT_5*$N63","v":0},{"$f":"(VLOOKUP($B63,'By Population'!$G$2:$K$14,5,FALSE))*'By Speed'!$U76*Scenario_VMT_5*$N63","v":0},0]
[70,"LDT2_DSL",35,"LDT2_DSL_35",{"$f":"(VLOOKUP($B64,'By Population'!$G$2:$K$14,5,FALSE))*'By Speed'!$M77*Scenario_VMT_EX*$N64","v":0},{"$f":"(VLOOKUP($B64,'By Population'!$G$2:$K$14,5,FALSE))*'By Speed'!$N77*Scenario_VMT_EX*$N64","v":0},{"$f":"(VLOOKUP($B64,'By Population'!$G$2:$K$14,5,FALSE))*'By Speed'!$O77*Scenario_VMT_EX*$N64","v":0},{"$f":"(VLOOKUP($B64,'By Population'!$G$2:$K$14,5,FALSE))*'By Speed'!$P77*Scenario_VMT_EX*$N64","v":0},{"$f":"(VLOOKUP($B64,'By Population'!$G$2:$K$14,5,FALSE))*'By Speed'!$Q77*Scenario_VMT_EX*$N64","v":0},{"$f":"(VLOOKUP($B64,'By Population'!$G$2:$K$14,5,FALSE))*'By Speed'!$R77*Scenario_VMT_EX*$N64","v":0},{"$f":"(VLOOKUP($B64,'By Population'!$G$2:$K$14,5,FALSE))*'By Speed'!$S77*Scenario_VMT_EX*$N64","v":0},{"$f":"(VLOOKUP($B64,'By Population'!$G$2:$K$14,5,FALSE))*'By Speed'!$T77*Scenario_VMT_EX*$N64","v":0},{"$f":"(VLOOKUP($B64,'By Population'!$G$2:$K$14,5,FALSE))*'By Speed'!$U77*Scenario_VMT_EX*$N64","v":0},0,{"$f":"(VLOOKUP($B64,'By Population'!$G$2:$K$14,5,FALSE))*'By Speed'!$M77*Scenario_VMT_1*$N64","v":0},{"$f":"(VLOOKUP($B64,'By Population'!$G$2:$K$14,5,FALSE))*'By Speed'!$N77*Scenario_VMT_1*$N64","v":0},{"$f":"(VLOOKUP($B64,'By Population'!$G$2:$K$14,5,FALSE))*'By Speed'!$O77*Scenario_VMT_1*$N64","v":0},{"$f":"(VLOOKUP($B64,'By Population'!$G$2:$K$14,5,FALSE))*'By Speed'!$P77*Scenario_VMT_1*$N64","v":0},{"$f":"(VLOOKUP($B64,'By Population'!$G$2:$K$14,5,FALSE))*'By Speed'!$Q77*Scenario_VMT_1*$N64","v":0},{"$f":"(VLOOKUP($B64,'By Population'!$G$2:$K$14,5,FALSE))*'By Speed'!$R77*Scenario_VMT_1*$N64","v":0},{"$f":"(VLOOKUP($B64,'By Population'!$G$2:$K$14,5,FALSE))*'By Speed'!$S77*Scenario_VMT_1*$N64","v":0},{"$f":"(VLOOKUP($B64,'By Population'!$G$2:$K$14,5,FALSE))*'By Speed'!$T77*Scenario_VMT_1*$N64","v":0},{"$f":"(VLOOKUP($B64,'By Population'!$G$2:$K$14,5,FALSE))*'By Speed'!$U77*Scenario_VMT_1*$N64","v":0},0,{"$f":"(VLOOKUP($B64,'By Population'!$G$2:$K$14,5,FALSE))*'By Speed'!$M77*Scenario_VMT_2*$N64","v":0},{"$f":"(VLOOKUP($B64,'By Population'!$G$2:$K$14,5,FALSE))*'By Speed'!$N77*Scenario_VMT_2*$N64","v":0},{"$f":"(VLOOKUP($B64,'By Population'!$G$2:$K$14,5,FALSE))*'By Speed'!$O77*Scenario_VMT_2*$N64","v":0},{"$f":"(VLOOKUP($B64,'By Population'!$G$2:$K$14,5,FALSE))*'By Speed'!$P77*Scenario_VMT_2*$N64","v":0},{"$f":"(VLOOKUP($B64,'By Population'!$G$2:$K$14,5,FALSE))*'By Speed'!$Q77*Scenario_VMT_2*$N64","v":0},{"$f":"(VLOOKUP($B64,'By Population'!$G$2:$K$14,5,FALSE))*'By Speed'!$R77*Scenario_VMT_2*$N64","v":0},{"$f":"(VLOOKUP($B64,'By Population'!$G$2:$K$14,5,FALSE))*'By Speed'!$S77*Scenario_VMT_2*$N64","v":0},{"$f":"(VLOOKUP($B64,'By Population'!$G$2:$K$14,5,FALSE))*'By Speed'!$T77*Scenario_VMT_2*$N64","v":0},{"$f":"(VLOOKUP($B64,'By Population'!$G$2:$K$14,5,FALSE))*'By Speed'!$U77*Scenario_VMT_2*$N64","v":0},0,{"$f":"(VLOOKUP($B64,'By Population'!$G$2:$K$14,5,FALSE))*'By Speed'!$M77*Scenario_VMT_3*$N64","v":0},{"$f":"(VLOOKUP($B64,'By Population'!$G$2:$K$14,5,FALSE))*'By Speed'!$N77*Scenario_VMT_3*$N64","v":0},{"$f":"(VLOOKUP($B64,'By Population'!$G$2:$K$14,5,FALSE))*'By Speed'!$O77*Scenario_VMT_3*$N64","v":0},{"$f":"(VLOOKUP($B64,'By Population'!$G$2:$K$14,5,FALSE))*'By Speed'!$P77*Scenario_VMT_3*$N64","v":0},{"$f":"(VLOOKUP($B64,'By Population'!$G$2:$K$14,5,FALSE))*'By Speed'!$Q77*Scenario_VMT_3*$N64","v":0},{"$f":"(VLOOKUP($B64,'By Population'!$G$2:$K$14,5,FALSE))*'By Speed'!$R77*Scenario_VMT_3*$N64","v":0},{"$f":"(VLOOKUP($B64,'By Population'!$G$2:$K$14,5,FALSE))*'By Speed'!$S77*Scenario_VMT_3*$N64","v":0},{"$f":"(VLOOKUP($B64,'By Population'!$G$2:$K$14,5,FALSE))*'By Speed'!$T77*Scenario_VMT_3*$N64","v":0},{"$f":"(VLOOKUP($B64,'By Population'!$G$2:$K$14,5,FALSE))*'By Speed'!$U77*Scenario_VMT_3*$N64","v":0},0,{"$f":"(VLOOKUP($B64,'By Population'!$G$2:$K$14,5,FALSE))*'By Speed'!$M77*Scenario_VMT_4*$N64","v":0},{"$f":"(VLOOKUP($B64,'By Population'!$G$2:$K$14,5,FALSE))*'By Speed'!$N77*Scenario_VMT_4*$N64","v":0},{"$f":"(VLOOKUP($B64,'By Population'!$G$2:$K$14,5,FALSE))*'By Speed'!$O77*Scenario_VMT_4*$N64","v":0},{"$f":"(VLOOKUP($B64,'By Population'!$G$2:$K$14,5,FALSE))*'By Speed'!$P77*Scenario_VMT_4*$N64","v":0},{"$f":"(VLOOKUP($B64,'By Population'!$G$2:$K$14,5,FALSE))*'By Speed'!$Q77*Scenario_VMT_4*$N64","v":0},{"$f":"(VLOOKUP($B64,'By Population'!$G$2:$K$14,5,FALSE))*'By Speed'!$R77*Scenario_VMT_4*$N64","v":0},{"$f":"(VLOOKUP($B64,'By Population'!$G$2:$K$14,5,FALSE))*'By Speed'!$S77*Scenario_VMT_4*$N64","v":0},{"$f":"(VLOOKUP($B64,'By Population'!$G$2:$K$14,5,FALSE))*'By Speed'!$T77*Scenario_VMT_4*$N64","v":0},{"$f":"(VLOOKUP($B64,'By Population'!$G$2:$K$14,5,FALSE))*'By Speed'!$U77*Scenario_VMT_4*$N64","v":0},0,{"$f":"(VLOOKUP($B64,'By Population'!$G$2:$K$14,5,FALSE))*'By Speed'!$M77*Scenario_VMT_5*$N64","v":0},{"$f":"(VLOOKUP($B64,'By Population'!$G$2:$K$14,5,FALSE))*'By Speed'!$N77*Scenario_VMT_5*$N64","v":0},{"$f":"(VLOOKUP($B64,'By Population'!$G$2:$K$14,5,FALSE))*'By Speed'!$O77*Scenario_VMT_5*$N64","v":0},{"$f":"(VLOOKUP($B64,'By Population'!$G$2:$K$14,5,FALSE))*'By Speed'!$P77*Scenario_VMT_5*$N64","v":0},{"$f":"(VLOOKUP($B64,'By Population'!$G$2:$K$14,5,FALSE))*'By Speed'!$Q77*Scenario_VMT_5*$N64","v":0},{"$f":"(VLOOKUP($B64,'By Population'!$G$2:$K$14,5,FALSE))*'By Speed'!$R77*Scenario_VMT_5*$N64","v":0},{"$f":"(VLOOKUP($B64,'By Population'!$G$2:$K$14,5,FALSE))*'By Speed'!$S77*Scenario_VMT_5*$N64","v":0},{"$f":"(VLOOKUP($B64,'By Population'!$G$2:$K$14,5,FALSE))*'By Speed'!$T77*Scenario_VMT_5*$N64","v":0},{"$f":"(VLOOKUP($B64,'By Population'!$G$2:$K$14,5,FALSE))*'By Speed'!$U77*Scenario_VMT_5*$N64","v":0},0]
[72,"LDT2_DSL",40,"LDT2_DSL_40",{"$f":"(VLOOKUP($B65,'By Population'!$G$2:$K$14,5,FALSE))*'By Speed'!$M78*Scenario_VMT_EX*$N65","v":0},{"$f":"(VLOOKUP($B65,'By Population'!$G$2:$K$14,5,FALSE))*'By Speed'!$N78*Scenario_VMT_EX*$N65","v":0},{"$f":"(VLOOKUP($B65,'By Population'!$G$2:$K$14,5,FALSE))*'By Speed'!$O78*Scenario_VMT_EX*$N65","v":0},{"$f":"(VLOOKUP($B65,'By Population'!$G$2:$K$14,5,FALSE))*'By Speed'!$P78*Scenario_VMT_EX*$N65","v":0},{"$f":"(VLOOKUP($B65,'By Population'!$G$2:$K$14,5,FALSE))*'By Speed'!$Q78*Scenario_VMT_EX*$N65","v":0},{"$f":"(VLOOKUP($B65,'By Population'!$G$2:$K$14,5,FALSE))*'By Speed'!$R78*Scenario_VMT_EX*$N65","v":0},{"$f":"(VLOOKUP($B65,'By Population'!$G$2:$K$14,5,FALSE))*'By Speed'!$S78*Scenario_VMT_EX*$N65","v":0},{"$f":"(VLOOKUP($B65,'By Population'!$G$2:$K$14,5,FALSE))*'By Speed'!$T78*Scenario_VMT_EX*$N65","v":0},{"$f":"(VLOOKUP($B65,'By Population'!$G$2:$K$14,5,FALSE))*'By Speed'!$U78*Scenario_VMT_EX*$N65","v":0},0,{"$f":"(VLOOKUP($B65,'By Population'!$G$2:$K$14,5,FALSE))*'By Speed'!$M78*Scenario_VMT_1*$N65","v":0},{"$f":"(VLOOKUP($B65,'By Population'!$G$2:$K$14,5,FALSE))*'By Speed'!$N78*Scenario_VMT_1*$N65","v":0},{"$f":"(VLOOKUP($B65,'By Population'!$G$2:$K$14,5,FALSE))*'By Speed'!$O78*Scenario_VMT_1*$N65","v":0},{"$f":"(VLOOKUP($B65,'By Population'!$G$2:$K$14,5,FALSE))*'By Speed'!$P78*Scenario_VMT_1*$N65","v":0},{"$f":"(VLOOKUP($B65,'By Population'!$G$2:$K$14,5,FALSE))*'By Speed'!$Q78*Scenario_VMT_1*$N65","v":0},{"$f":"(VLOOKUP($B65,'By Population'!$G$2:$K$14,5,FALSE))*'By Speed'!$R78*Scenario_VMT_1*$N65","v":0},{"$f":"(VLOOKUP($B65,'By Population'!$G$2:$K$14,5,FALSE))*'By Speed'!$S78*Scenario_VMT_1*$N65","v":0},{"$f":"(VLOOKUP($B65,'By Population'!$G$2:$K$14,5,FALSE))*'By Speed'!$T78*Scenario_VMT_1*$N65","v":0},{"$f":"(VLOOKUP($B65,'By Population'!$G$2:$K$14,5,FALSE))*'By Speed'!$U78*Scenario_VMT_1*$N65","v":0},0,{"$f":"(VLOOKUP($B65,'By Population'!$G$2:$K$14,5,FALSE))*'By Speed'!$M78*Scenario_VMT_2*$N65","v":0},{"$f":"(VLOOKUP($B65,'By Population'!$G$2:$K$14,5,FALSE))*'By Speed'!$N78*Scenario_VMT_2*$N65","v":0},{"$f":"(VLOOKUP($B65,'By Population'!$G$2:$K$14,5,FALSE))*'By Speed'!$O78*Scenario_VMT_2*$N65","v":0},{"$f":"(VLOOKUP($B65,'By Population'!$G$2:$K$14,5,FALSE))*'By Speed'!$P78*Scenario_VMT_2*$N65","v":0},{"$f":"(VLOOKUP($B65,'By Population'!$G$2:$K$14,5,FALSE))*'By Speed'!$Q78*Scenario_VMT_2*$N65","v":0},{"$f":"(VLOOKUP($B65,'By Population'!$G$2:$K$14,5,FALSE))*'By Speed'!$R78*Scenario_VMT_2*$N65","v":0},{"$f":"(VLOOKUP($B65,'By Population'!$G$2:$K$14,5,FALSE))*'By Speed'!$S78*Scenario_VMT_2*$N65","v":0},{"$f":"(VLOOKUP($B65,'By Population'!$G$2:$K$14,5,FALSE))*'By Speed'!$T78*Scenario_VMT_2*$N65","v":0},{"$f":"(VLOOKUP($B65,'By Population'!$G$2:$K$14,5,FALSE))*'By Speed'!$U78*Scenario_VMT_2*$N65","v":0},0,{"$f":"(VLOOKUP($B65,'By Population'!$G$2:$K$14,5,FALSE))*'By Speed'!$M78*Scenario_VMT_3*$N65","v":0},{"$f":"(VLOOKUP($B65,'By Population'!$G$2:$K$14,5,FALSE))*'By Speed'!$N78*Scenario_VMT_3*$N65","v":0},{"$f":"(VLOOKUP($B65,'By Population'!$G$2:$K$14,5,FALSE))*'By Speed'!$O78*Scenario_VMT_3*$N65","v":0},{"$f":"(VLOOKUP($B65,'By Population'!$G$2:$K$14,5,FALSE))*'By Speed'!$P78*Scenario_VMT_3*$N65","v":0},{"$f":"(VLOOKUP($B65,'By Population'!$G$2:$K$14,5,FALSE))*'By Speed'!$Q78*Scenario_VMT_3*$N65","v":0},{"$f":"(VLOOKUP($B65,'By Population'!$G$2:$K$14,5,FALSE))*'By Speed'!$R78*Scenario_VMT_3*$N65","v":0},{"$f":"(VLOOKUP($B65,'By Population'!$G$2:$K$14,5,FALSE))*'By Speed'!$S78*Scenario_VMT_3*$N65","v":0},{"$f":"(VLOOKUP($B65,'By Population'!$G$2:$K$14,5,FALSE))*'By Speed'!$T78*Scenario_VMT_3*$N65","v":0},{"$f":"(VLOOKUP($B65,'By Population'!$G$2:$K$14,5,FALSE))*'By Speed'!$U78*Scenario_VMT_3*$N65","v":0},0,{"$f":"(VLOOKUP($B65,'By Population'!$G$2:$K$14,5,FALSE))*'By Speed'!$M78*Scenario_VMT_4*$N65","v":0},{"$f":"(VLOOKUP($B65,'By Population'!$G$2:$K$14,5,FALSE))*'By Speed'!$N78*Scenario_VMT_4*$N65","v":0},{"$f":"(VLOOKUP($B65,'By Population'!$G$2:$K$14,5,FALSE))*'By Speed'!$O78*Scenario_VMT_4*$N65","v":0},{"$f":"(VLOOKUP($B65,'By Population'!$G$2:$K$14,5,FALSE))*'By Speed'!$P78*Scenario_VMT_4*$N65","v":0},{"$f":"(VLOOKUP($B65,'By Population'!$G$2:$K$14,5,FALSE))*'By Speed'!$Q78*Scenario_VMT_4*$N65","v":0},{"$f":"(VLOOKUP($B65,'By Population'!$G$2:$K$14,5,FALSE))*'By Speed'!$R78*Scenario_VMT_4*$N65","v":0},{"$f":"(VLOOKUP($B65,'By Population'!$G$2:$K$14,5,FALSE))*'By Speed'!$S78*Scenario_VMT_4*$N65","v":0},{"$f":"(VLOOKUP($B65,'By Population'!$G$2:$K$14,5,FALSE))*'By Speed'!$T78*Scenario_VMT_4*$N65","v":0},{"$f":"(VLOOKUP($B65,'By Population'!$G$2:$K$14,5,FALSE))*'By Speed'!$U78*Scenario_VMT_4*$N65","v":0},0,{"$f":"(VLOOKUP($B65,'By Population'!$G$2:$K$14,5,FALSE))*'By Speed'!$M78*Scenario_VMT_5*$N65","v":0},{"$f":"(VLOOKUP($B65,'By Population'!$G$2:$K$14,5,FALSE))*'By Speed'!$N78*Scenario_VMT_5*$N65","v":0},{"$f":"(VLOOKUP($B65,'By Population'!$G$2:$K$14,5,FALSE))*'By Speed'!$O78*Scenario_VMT_5*$N65","v":0},{"$f":"(VLOOKUP($B65,'By Population'!$G$2:$K$14,5,FALSE))*'By Speed'!$P78*Scenario_VMT_5*$N65","v":0},{"$f":"(VLOOKUP($B65,'By Population'!$G$2:$K$14,5,FALSE))*'By Speed'!$Q78*Scenario_VMT_5*$N65","v":0},{"$f":"(VLOOKUP($B65,'By Population'!$G$2:$K$14,5,FALSE))*'By Speed'!$R78*Scenario_VMT_5*$N65","v":0},{"$f":"(VLOOKUP($B65,'By Population'!$G$2:$K$14,5,FALSE))*'By Speed'!$S78*Scenario_VMT_5*$N65","v":0},{"$f":"(VLOOKUP($B65,'By Population'!$G$2:$K$14,5,FALSE))*'By Speed'!$T78*Scenario_VMT_5*$N65","v":0},{"$f":"(VLOOKUP($B65,'By Population'!$G$2:$K$14,5,FALSE))*'By Speed'!$U78*Scenario_VMT_5*$N65","v":0},0]
[74,"LDT2_DSL",45,"LDT2_DSL_45",{"$f":"(VLOOKUP($B66,'By Population'!$G$2:$K$14,5,FALSE))*'By Speed'!$M79*Scenario_VMT_EX*$N66","v":0},{"$f":"(VLOOKUP($B66,'By Population'!$G$2:$K$14,5,FALSE))*'By Speed'!$N79*Scenario_VMT_EX*$N66","v":0},{"$f":"(VLOOKUP($B66,'By Population'!$G$2:$K$14,5,FALSE))*'By Speed'!$O79*Scenario_VMT_EX*$N66","v":0},{"$f":"(VLOOKUP($B66,'By Population'!$G$2:$K$14,5,FALSE))*'By Speed'!$P79*Scenario_VMT_EX*$N66","v":0},{"$f":"(VLOOKUP($B66,'By Population'!$G$2:$K$14,5,FALSE))*'By Speed'!$Q79*Scenario_VMT_EX*$N66","v":0},{"$f":"(VLOOKUP($B66,'By Population'!$G$2:$K$14,5,FALSE))*'By Speed'!$R79*Scenario_VMT_EX*$N66","v":0},{"$f":"(VLOOKUP($B66,'By Population'!$G$2:$K$14,5,FALSE))*'By Speed'!$S79*Scenario_VMT_EX*$N66","v":0},{"$f":"(VLOOKUP($B66,'By Population'!$G$2:$K$14,5,FALSE))*'By Speed'!$T79*Scenario_VMT_EX*$N66","v":0},{"$f":"(VLOOKUP($B66,'By Population'!$G$2:$K$14,5,FALSE))*'By Speed'!$U79*Scenario_VMT_EX*$N66","v":0},0,{"$f":"(VLOOKUP($B66,'By Population'!$G$2:$K$14,5,FALSE))*'By Speed'!$M79*Scenario_VMT_1*$N66","v":0},{"$f":"(VLOOKUP($B66,'By Population'!$G$2:$K$14,5,FALSE))*'By Speed'!$N79*Scenario_VMT_1*$N66","v":0},{"$f":"(VLOOKUP($B66,'By Population'!$G$2:$K$14,5,FALSE))*'By Speed'!$O79*Scenario_VMT_1*$N66","v":0},{"$f":"(VLOOKUP($B66,'By Population'!$G$2:$K$14,5,FALSE))*'By Speed'!$P79*Scenario_VMT_1*$N66","v":0},{"$f":"(VLOOKUP($B66,'By Population'!$G$2:$K$14,5,FALSE))*'By Speed'!$Q79*Scenario_VMT_1*$N66","v":0},{"$f":"(VLOOKUP($B66,'By Population'!$G$2:$K$14,5,FALSE))*'By Speed'!$R79*Scenario_VMT_1*$N66","v":0},{"$f":"(VLOOKUP($B66,'By Population'!$G$2:$K$14,5,FALSE))*'By Speed'!$S79*Scenario_VMT_1*$N66","v":0},{"$f":"(VLOOKUP($B66,'By Population'!$G$2:$K$14,5,FALSE))*'By Speed'!$T79*Scenario_VMT_1*$N66","v":0},{"$f":"(VLOOKUP($B66,'By Population'!$G$2:$K$14,5,FALSE))*'By Speed'!$U79*Scenario_VMT_1*$N66","v":0},0,{"$f":"(VLOOKUP($B66,'By Population'!$G$2:$K$14,5,FALSE))*'By Speed'!$M79*Scenario_VMT_2*$N66","v":0},{"$f":"(VLOOKUP($B66,'By Population'!$G$2:$K$14,5,FALSE))*'By Speed'!$N79*Scenario_VMT_2*$N66","v":0},{"$f":"(VLOOKUP($B66,'By Population'!$G$2:$K$14,5,FALSE))*'By Speed'!$O79*Scenario_VMT_2*$N66","v":0},{"$f":"(VLOOKUP($B66,'By Population'!$G$2:$K$14,5,FALSE))*'By Speed'!$P79*Scenario_VMT_2*$N66","v":0},{"$f":"(VLOOKUP($B66,'By Population'!$G$2:$K$14,5,FALSE))*'By Speed'!$Q79*Scenario_VMT_2*$N66","v":0},{"$f":"(VLOOKUP($B66,'By Population'!$G$2:$K$14,5,FALSE))*'By Speed'!$R79*Scenario_VMT_2*$N66","v":0},{"$f":"(VLOOKUP($B66,'By Population'!$G$2:$K$14,5,FALSE))*'By Speed'!$S79*Scenario_VMT_2*$N66","v":0},{"$f":"(VLOOKUP($B66,'By Population'!$G$2:$K$14,5,FALSE))*'By Speed'!$T79*Scenario_VMT_2*$N66","v":0},{"$f":"(VLOOKUP($B66,'By Population'!$G$2:$K$14,5,FALSE))*'By Speed'!$U79*Scenario_VMT_2*$N66","v":0},0,{"$f":"(VLOOKUP($B66,'By Population'!$G$2:$K$14,5,FALSE))*'By Speed'!$M79*Scenario_VMT_3*$N66","v":0},{"$f":"(VLOOKUP($B66,'By Population'!$G$2:$K$14,5,FALSE))*'By Speed'!$N79*Scenario_VMT_3*$N66","v":0},{"$f":"(VLOOKUP($B66,'By Population'!$G$2:$K$14,5,FALSE))*'By Speed'!$O79*Scenario_VMT_3*$N66","v":0},{"$f":"(VLOOKUP($B66,'By Population'!$G$2:$K$14,5,FALSE))*'By Speed'!$P79*Scenario_VMT_3*$N66","v":0},{"$f":"(VLOOKUP($B66,'By Population'!$G$2:$K$14,5,FALSE))*'By Speed'!$Q79*Scenario_VMT_3*$N66","v":0},{"$f":"(VLOOKUP($B66,'By Population'!$G$2:$K$14,5,FALSE))*'By Speed'!$R79*Scenario_VMT_3*$N66","v":0},{"$f":"(VLOOKUP($B66,'By Population'!$G$2:$K$14,5,FALSE))*'By Speed'!$S79*Scenario_VMT_3*$N66","v":0},{"$f":"(VLOOKUP($B66,'By Population'!$G$2:$K$14,5,FALSE))*'By Speed'!$T79*Scenario_VMT_3*$N66","v":0},{"$f":"(VLOOKUP($B66,'By Population'!$G$2:$K$14,5,FALSE))*'By Speed'!$U79*Scenario_VMT_3*$N66","v":0},0,{"$f":"(VLOOKUP($B66,'By Population'!$G$2:$K$14,5,FALSE))*'By Speed'!$M79*Scenario_VMT_4*$N66","v":0},{"$f":"(VLOOKUP($B66,'By Population'!$G$2:$K$14,5,FALSE))*'By Speed'!$N79*Scenario_VMT_4*$N66","v":0},{"$f":"(VLOOKUP($B66,'By Population'!$G$2:$K$14,5,FALSE))*'By Speed'!$O79*Scenario_VMT_4*$N66","v":0},{"$f":"(VLOOKUP($B66,'By Population'!$G$2:$K$14,5,FALSE))*'By Speed'!$P79*Scenario_VMT_4*$N66","v":0},{"$f":"(VLOOKUP($B66,'By Population'!$G$2:$K$14,5,FALSE))*'By Speed'!$Q79*Scenario_VMT_4*$N66","v":0},{"$f":"(VLOOKUP($B66,'By Population'!$G$2:$K$14,5,FALSE))*'By Speed'!$R79*Scenario_VMT_4*$N66","v":0},{"$f":"(VLOOKUP($B66,'By Population'!$G$2:$K$14,5,FALSE))*'By Speed'!$S79*Scenario_VMT_4*$N66","v":0},{"$f":"(VLOOKUP($B66,'By Population'!$G$2:$K$14,5,FALSE))*'By Speed'!$T79*Scenario_VMT_4*$N66","v":0},{"$f":"(VLOOKUP($B66,'By Population'!$G$2:$K$14,5,FALSE))*'By Speed'!$U79*Scenario_VMT_4*$N66","v":0},0,{"$f":"(VLOOKUP($B66,'By Population'!$G$2:$K$14,5,FALSE))*'By Speed'!$M79*Scenario_VMT_5*$N66","v":0},{"$f":"(VLOOKUP($B66,'By Population'!$G$2:$K$14,5,FALSE))*'By Speed'!$N79*Scenario_VMT_5*$N66","v":0},{"$f":"(VLOOKUP($B66,'By Population'!$G$2:$K$14,5,FALSE))*'By Speed'!$O79*Scenario_VMT_5*$N66","v":0},{"$f":"(VLOOKUP($B66,'By Population'!$G$2:$K$14,5,FALSE))*'By Speed'!$P79*Scenario_VMT_5*$N66","v":0},{"$f":"(VLOOKUP($B66,'By Population'!$G$2:$K$14,5,FALSE))*'By Speed'!$Q79*Scenario_VMT_5*$N66","v":0},{"$f":"(VLOOKUP($B66,'By Population'!$G$2:$K$14,5,FALSE))*'By Speed'!$R79*Scenario_VMT_5*$N66","v":0},{"$f":"(VLOOKUP($B66,'By Population'!$G$2:$K$14,5,FALSE))*'By Speed'!$S79*Scenario_VMT_5*$N66","v":0},{"$f":"(VLOOKUP($B66,'By Population'!$G$2:$K$14,5,FALSE))*'By Speed'!$T79*Scenario_VMT_5*$N66","v":0},{"$f":"(VLOOKUP($B66,'By Population'!$G$2:$K$14,5,FALSE))*'By Speed'!$U79*Scenario_VMT_5*$N66","v":0},0]
[58,"LDT2_DSL",5,"LDT2_DSL_5",{"$f":"(VLOOKUP($B67,'By Population'!$G$2:$K$14,5,FALSE))*'By Speed'!$M80*Scenario_VMT_EX*$N67","v":0},{"$f":"(VLOOKUP($B67,'By Population'!$G$2:$K$14,5,FALSE))*'By Speed'!$N80*Scenario_VMT_EX*$N67","v":0},{"$f":"(VLOOKUP($B67,'By Population'!$G$2:$K$14,5,FALSE))*'By Speed'!$O80*Scenario_VMT_EX*$N67","v":0},{"$f":"(VLOOKUP($B67,'By Population'!$G$2:$K$14,5,FALSE))*'By Speed'!$P80*Scenario_VMT_EX*$N67","v":0},{"$f":"(VLOOKUP($B67,'By Population'!$G$2:$K$14,5,FALSE))*'By Speed'!$Q80*Scenario_VMT_EX*$N67","v":0},{"$f":"(VLOOKUP($B67,'By Population'!$G$2:$K$14,5,FALSE))*'By Speed'!$R80*Scenario_VMT_EX*$N67","v":0},{"$f":"(VLOOKUP($B67,'By Population'!$G$2:$K$14,5,FALSE))*'By Speed'!$S80*Scenario_VMT_EX*$N67","v":0},{"$f":"(VLOOKUP($B67,'By Population'!$G$2:$K$14,5,FALSE))*'By Speed'!$T80*Scenario_VMT_EX*$N67","v":0},{"$f":"(VLOOKUP($B67,'By Population'!$G$2:$K$14,5,FALSE))*'By Speed'!$U80*Scenario_VMT_EX*$N67","v":0},0,{"$f":"(VLOOKUP($B67,'By Population'!$G$2:$K$14,5,FALSE))*'By Speed'!$M80*Scenario_VMT_1*$N67","v":0},{"$f":"(VLOOKUP($B67,'By Population'!$G$2:$K$14,5,FALSE))*'By Speed'!$N80*Scenario_VMT_1*$N67","v":0},{"$f":"(VLOOKUP($B67,'By Population'!$G$2:$K$14,5,FALSE))*'By Speed'!$O80*Scenario_VMT_1*$N67","v":0},{"$f":"(VLOOKUP($B67,'By Population'!$G$2:$K$14,5,FALSE))*'By Speed'!$P80*Scenario_VMT_1*$N67","v":0},{"$f":"(VLOOKUP($B67,'By Population'!$G$2:$K$14,5,FALSE))*'By Speed'!$Q80*Scenario_VMT_1*$N67","v":0},{"$f":"(VLOOKUP($B67,'By Population'!$G$2:$K$14,5,FALSE))*'By Speed'!$R80*Scenario_VMT_1*$N67","v":0},{"$f":"(VLOOKUP($B67,'By Population'!$G$2:$K$14,5,FALSE))*'By Speed'!$S80*Scenario_VMT_1*$N67","v":0},{"$f":"(VLOOKUP($B67,'By Population'!$G$2:$K$14,5,FALSE))*'By Speed'!$T80*Scenario_VMT_1*$N67","v":0},{"$f":"(VLOOKUP($B67,'By Population'!$G$2:$K$14,5,FALSE))*'By Speed'!$U80*Scenario_VMT_1*$N67","v":0},{"$f":"IF(M67=Scenario_Speed_1,1,0)","v":0},{"$f":"(VLOOKUP($B67,'By Population'!$G$2:$K$14,5,FALSE))*'By Speed'!$M80*Scenario_VMT_2*$N67","v":0},{"$f":"(VLOOKUP($B67,'By Population'!$G$2:$K$14,5,FALSE))*'By Speed'!$N80*Scenario_VMT_2*$N67","v":0},{"$f":"(VLOOKUP($B67,'By Population'!$G$2:$K$14,5,FALSE))*'By Speed'!$O80*Scenario_VMT_2*$N67","v":0},{"$f":"(VLOOKUP($B67,'By Population'!$G$2:$K$14,5,FALSE))*'By Speed'!$P80*Scenario_VMT_2*$N67","v":0},{"$f":"(VLOOKUP($B67,'By Population'!$G$2:$K$14,5,FALSE))*'By Speed'!$Q80*Scenario_VMT_2*$N67","v":0},{"$f":"(VLOOKUP($B67,'By Population'!$G$2:$K$14,5,FALSE))*'By Speed'!$R80*Scenario_VMT_2*$N67","v":0},{"$f":"(VLOOKUP($B67,'By Population'!$G$2:$K$14,5,FALSE))*'By Speed'!$S80*Scenario_VMT_2*$N67","v":0},{"$f":"(VLOOKUP($B67,'By Population'!$G$2:$K$14,5,FALSE))*'By Speed'!$T80*Scenario_VMT_2*$N67","v":0},{"$f":"(VLOOKUP($B67,'By Population'!$G$2:$K$14,5,FALSE))*'By Speed'!$U80*Scenario_VMT_2*$N67","v":0},{"$f":"IF(W67=Scenario_Speed_2,1,0)","v":0},{"$f":"(VLOOKUP($B67,'By Population'!$G$2:$K$14,5,FALSE))*'By Speed'!$M80*Scenario_VMT_3*$N67","v":0},{"$f":"(VLOOKUP($B67,'By Population'!$G$2:$K$14,5,FALSE))*'By Speed'!$N80*Scenario_VMT_3*$N67","v":0},{"$f":"(VLOOKUP($B67,'By Population'!$G$2:$K$14,5,FALSE))*'By Speed'!$O80*Scenario_VMT_3*$N67","v":0},{"$f":"(VLOOKUP($B67,'By Population'!$G$2:$K$14,5,FALSE))*'By Speed'!$P80*Scenario_VMT_3*$N67","v":0},{"$f":"(VLOOKUP($B67,'By Population'!$G$2:$K$14,5,FALSE))*'By Speed'!$Q80*Scenario_VMT_3*$N67","v":0},{"$f":"(VLOOKUP($B67,'By Population'!$G$2:$K$14,5,FALSE))*'By Speed'!$R80*Scenario_VMT_3*$N67","v":0},{"$f":"(VLOOKUP($B67,'By Population'!$G$2:$K$14,5,FALSE))*'By Speed'!$S80*Scenario_VMT_3*$N67","v":0},{"$f":"(VLOOKUP($B67,'By Population'!$G$2:$K$14,5,FALSE))*'By Speed'!$T80*Scenario_VMT_3*$N67","v":0},{"$f":"(VLOOKUP($B67,'By Population'!$G$2:$K$14,5,FALSE))*'By Speed'!$U80*Scenario_VMT_3*$N67","v":0},{"$f":"IF(AG67=Scenario_Speed_3,1,0)","v":0},{"$f":"(VLOOKUP($B67,'By Population'!$G$2:$K$14,5,FALSE))*'By Speed'!$M80*Scenario_VMT_4*$N67","v":0},{"$f":"(VLOOKUP($B67,'By Population'!$G$2:$K$14,5,FALSE))*'By Speed'!$N80*Scenario_VMT_4*$N67","v":0},{"$f":"(VLOOKUP($B67,'By Population'!$G$2:$K$14,5,FALSE))*'By Speed'!$O80*Scenario_VMT_4*$N67","v":0},{"$f":"(VLOOKUP($B67,'By Population'!$G$2:$K$14,5,FALSE))*'By Speed'!$P80*Scenario_VMT_4*$N67","v":0},{"$f":"(VLOOKUP($B67,'By Population'!$G$2:$K$14,5,FALSE))*'By Speed'!$Q80*Scenario_VMT_4*$N67","v":0},{"$f":"(VLOOKUP($B67,'By Population'!$G$2:$K$14,5,FALSE))*'By Speed'!$R80*Scenario_VMT_4*$N67","v":0},{"$f":"(VLOOKUP($B67,'By Population'!$G$2:$K$14,5,FALSE))*'By Speed'!$S80*Scenario_VMT_4*$N67","v":0},{"$f":"(VLOOKUP($B67,'By Population'!$G$2:$K$14,5,FALSE))*'By Speed'!$T80*Scenario_VMT_4*$N67","v":0},{"$f":"(VLOOKUP($B67,'By Population'!$G$2:$K$14,5,FALSE))*'By Speed'!$U80*Scenario_VMT_4*$N67","v":0},{"$f":"IF(AQ67=Scenario_Speed_4,1,0)","v":0},{"$f":"(VLOOKUP($B67,'By Population'!$G$2:$K$14,5,FALSE))*'By Speed'!$M80*Scenario_VMT_5*$N67","v":0},{"$f":"(VLOOKUP($B67,'By Population'!$G$2:$K$14,5,FALSE))*'By Speed'!$N80*Scenario_VMT_5*$N67","v":0},{"$f":"(VLOOKUP($B67,'By Population'!$G$2:$K$14,5,FALSE))*'By Speed'!$O80*Scenario_VMT_5*$N67","v":0},{"$f":"(VLOOKUP($B67,'By Population'!$G$2:$K$14,5,FALSE))*'By Speed'!$P80*Scenario_VMT_5*$N67","v":0},{"$f":"(VLOOKUP($B67,'By Population'!$G$2:$K$14,5,FALSE))*'By Speed'!$Q80*Scenario_VMT_5*$N67","v":0},{"$f":"(VLOOKUP($B67,'By Population'!$G$2:$K$14,5,FALSE))*'By Speed'!$R80*Scenario_VMT_5*$N67","v":0},{"$f":"(VLOOKUP($B67,'By Population'!$G$2:$K$14,5,FALSE))*'By Speed'!$S80*Scenario_VMT_5*$N67","v":0},{"$f":"(VLOOKUP($B67,'By Population'!$G$2:$K$14,5,FALSE))*'By Speed'!$T80*Scenario_VMT_5*$N67","v":0},{"$f":"(VLOOKUP($B67,'By Population'!$G$2:$K$14,5,FALSE))*'By Speed'!$U80*Scenario_VMT_5*$N67","v":0},{"$f":"IF(BA67=Scenario_Speed_5,1,0)","v":0}]
[76,"LDT2_DSL",50,"LDT2_DSL_50",{"$f":"(VLOOKUP($B68,'By Population'!$G$2:$K$14,5,FALSE))*'By Speed'!$M81*Scenario_VMT_EX*$N68","v":0},{"$f":"(VLOOKUP($B68,'By Population'!$G$2:$K$14,5,FALSE))*'By Speed'!$N81*Scenario_VMT_EX*$N68","v":0},{"$f":"(VLOOKUP($B68,'By Population'!$G$2:$K$14,5,FALSE))*'By Speed'!$O81*Scenario_VMT_EX*$N68","v":0},{"$f":"(VLOOKUP($B68,'By Population'!$G$2:$K$14,5,FALSE))*'By Speed'!$P81*Scenario_VMT_EX*$N68","v":0},{"$f":"(VLOOKUP($B68,'By Population'!$G$2:$K$14,5,FALSE))*'By Speed'!$Q81*Scenario_VMT_EX*$N68","v":0},{"$f":"(VLOOKUP($B68,'By Population'!$G$2:$K$14,5,FALSE))*'By Speed'!$R81*Scenario_VMT_EX*$N68","v":0},{"$f":"(VLOOKUP($B68,'By Population'!$G$2:$K$14,5,FALSE))*'By Speed'!$S81*Scenario_VMT_EX*$N68","v":0},{"$f":"(VLOOKUP($B68,'By Population'!$G$2:$K$14,5,FALSE))*'By Speed'!$T81*Scenario_VMT_EX*$N68","v":0},{"$f":"(VLOOKUP($B68,'By Population'!$G$2:$K$14,5,FALSE))*'By Speed'!$U81*Scenario_VMT_EX*$N68","v":0},{"$f":"IF(C68=Scenario_Speed_EX,1,0)","v":0},{"$f":"(VLOOKUP($B68,'By Population'!$G$2:$K$14,5,FALSE))*'By Speed'!$M81*Scenario_VMT_1*$N68","v":0},{"$f":"(VLOOKUP($B68,'By Population'!$G$2:$K$14,5,FALSE))*'By Speed'!$N81*Scenario_VMT_1*$N68","v":0},{"$f":"(VLOOKUP($B68,'By Population'!$G$2:$K$14,5,FALSE))*'By Speed'!$O81*Scenario_VMT_1*$N68","v":0},{"$f":"(VLOOKUP($B68,'By Population'!$G$2:$K$14,5,FALSE))*'By Speed'!$P81*Scenario_VMT_1*$N68","v":0},{"$f":"(VLOOKUP($B68,'By Population'!$G$2:$K$14,5,FALSE))*'By Speed'!$Q81*Scenario_VMT_1*$N68","v":0},{"$f":"(VLOOKUP($B68,'By Population'!$G$2:$K$14,5,FALSE))*'By Speed'!$R81*Scenario_VMT_1*$N68","v":0},{"$f":"(VLOOKUP($B68,'By Population'!$G$2:$K$14,5,FALSE))*'By Speed'!$S81*Scenario_VMT_1*$N68","v":0},{"$f":"(VLOOKUP($B68,'By Population'!$G$2:$K$14,5,FALSE))*'By Speed'!$T81*Scenario_VMT_1*$N68","v":0},{"$f":"(VLOOKUP($B68,'By Population'!$G$2:$K$14,5,FALSE))*'By Speed'!$U81*Scenario_VMT_1*$N68","v":0},0,{"$f":"(VLOOKUP($B68,'By Population'!$G$2:$K$14,5,FALSE))*'By Speed'!$M81*Scenario_VMT_2*$N68","v":0},{"$f":"(VLOOKUP($B68,'By Population'!$G$2:$K$14,5,FALSE))*'By Speed'!$N81*Scenario_VMT_2*$N68","v":0},{"$f":"(VLOOKUP($B68,'By Population'!$G$2:$K$14,5,FALSE))*'By Speed'!$O81*Scenario_VMT_2*$N68","v":0},{"$f":"(VLOOKUP($B68,'By Population'!$G$2:$K$14,5,FALSE))*'By Speed'!$P81*Scenario_VMT_2*$N68","v":0},{"$f":"(VLOOKUP($B68,'By Population'!$G$2:$K$14,5,FALSE))*'By Speed'!$Q81*Scenario_VMT_2*$N68","v":0},{"$f":"(VLOOKUP($B68,'By Population'!$G$2:$K$14,5,FALSE))*'By Speed'!$R81*Scenario_VMT_2*$N68","v":0},{"$f":"(VLOOKUP($B68,'By Population'!$G$2:$K$14,5,FALSE))*'By Speed'!$S81*Scenario_VMT_2*$N68","v":0},{"$f":"(VLOOKUP($B68,'By Population'!$G$2:$K$14,5,FALSE))*'By Speed'!$T81*Scenario_VMT_2*$N68","v":0},{"$f":"(VLOOKUP($B68,'By Population'!$G$2:$K$14,5,FALSE))*'By Speed'!$U81*Scenario_VMT_2*$N68","v":0},0,{"$f":"(VLOOKUP($B68,'By Population'!$G$2:$K$14,5,FALSE))*'By Speed'!$M81*Scenario_VMT_3*$N68","v":0},{"$f":"(VLOOKUP($B68,'By Population'!$G$2:$K$14,5,FALSE))*'By Speed'!$N81*Scenario_VMT_3*$N68","v":0},{"$f":"(VLOOKUP($B68,'By Population'!$G$2:$K$14,5,FALSE))*'By Speed'!$O81*Scenario_VMT_3*$N68","v":0},{"$f":"(VLOOKUP($B68,'By Population'!$G$2:$K$14,5,FALSE))*'By Speed'!$P81*Scenario_VMT_3*$N68","v":0},{"$f":"(VLOOKUP($B68,'By Population'!$G$2:$K$14,5,FALSE))*'By Speed'!$Q81*Scenario_VMT_3*$N68","v":0},{"$f":"(VLOOKUP($B68,'By Population'!$G$2:$K$14,5,FALSE))*'By Speed'!$R81*Scenario_VMT_3*$N68","v":0},{"$f":"(VLOOKUP($B68,'By Population'!$G$2:$K$14,5,FALSE))*'By Speed'!$S81*Scenario_VMT_3*$N68","v":0},{"$f":"(VLOOKUP($B68,'By Population'!$G$2:$K$14,5,FALSE))*'By Speed'!$T81*Scenario_VMT_3*$N68","v":0},{"$f":"(VLOOKUP($B68,'By Population'!$G$2:$K$14,5,FALSE))*'By Speed'!$U81*Scenario_VMT_3*$N68","v":0},0,{"$f":"(VLOOKUP($B68,'By Population'!$G$2:$K$14,5,FALSE))*'By Speed'!$M81*Scenario_VMT_4*$N68","v":0},{"$f":"(VLOOKUP($B68,'By Population'!$G$2:$K$14,5,FALSE))*'By Speed'!$N81*Scenario_VMT_4*$N68","v":0},{"$f":"(VLOOKUP($B68,'By Population'!$G$2:$K$14,5,FALSE))*'By Speed'!$O81*Scenario_VMT_4*$N68","v":0},{"$f":"(VLOOKUP($B68,'By Population'!$G$2:$K$14,5,FALSE))*'By Speed'!$P81*Scenario_VMT_4*$N68","v":0},{"$f":"(VLOOKUP($B68,'By Population'!$G$2:$K$14,5,FALSE))*'By Speed'!$Q81*Scenario_VMT_4*$N68","v":0},{"$f":"(VLOOKUP($B68,'By Population'!$G$2:$K$14,5,FALSE))*'By Speed'!$R81*Scenario_VMT_4*$N68","v":0},{"$f":"(VLOOKUP($B68,'By Population'!$G$2:$K$14,5,FALSE))*'By Speed'!$S81*Scenario_VMT_4*$N68","v":0},{"$f":"(VLOOKUP($B68,'By Population'!$G$2:$K$14,5,FALSE))*'By Speed'!$T81*Scenario_VMT_4*$N68","v":0},{"$f":"(VLOOKUP($B68,'By Population'!$G$2:$K$14,5,FALSE))*'By Speed'!$U81*Scenario_VMT_4*$N68","v":0},0,{"$f":"(VLOOKUP($B68,'By Population'!$G$2:$K$14,5,FALSE))*'By Speed'!$M81*Scenario_VMT_5*$N68","v":0},{"$f":"(VLOOKUP($B68,'By Population'!$G$2:$K$14,5,FALSE))*'By Speed'!$N81*Scenario_VMT_5*$N68","v":0},{"$f":"(VLOOKUP($B68,'By Population'!$G$2:$K$14,5,FALSE))*'By Speed'!$O81*Scenario_VMT_5*$N68","v":0},{"$f":"(VLOOKUP($B68,'By Population'!$G$2:$K$14,5,FALSE))*'By Speed'!$P81*Scenario_VMT_5*$N68","v":0},{"$f":"(VLOOKUP($B68,'By Population'!$G$2:$K$14,5,FALSE))*'By Speed'!$Q81*Scenario_VMT_5*$N68","v":0},{"$f":"(VLOOKUP($B68,'By Population'!$G$2:$K$14,5,FALSE))*'By Speed'!$R81*Scenario_VMT_5*$N68","v":0},{"$f":"(VLOOKUP($B68,'By Population'!$G$2:$K$14,5,FALSE))*'By Speed'!$S81*Scenario_VMT_5*$N68","v":0},{"$f":"(VLOOKUP($B68,'By Population'!$G$2:$K$14,5,FALSE))*'By Speed'!$T81*Scenario_VMT_5*$N68","v":0},{"$f":"(VLOOKUP($B68,'By Population'!$G$2:$K$14,5,FALSE))*'By Speed'!$U81*Scenario_VMT_5*$N68","v":0},0]
[78,"LDT2_DSL",55,"LDT2_DSL_55",{"$f":"(VLOOKUP($B69,'By Population'!$G$2:$K$14,5,FALSE))*'By Speed'!$M82*Scenario_VMT_EX*$N69","v":0},{"$f":"(VLOOKUP($B69,'By Population'!$G$2:$K$14,5,FALSE))*'By Speed'!$N82*Scenario_VMT_EX*$N69","v":0},{"$f":"(VLOOKUP($B69,'By Population'!$G$2:$K$14,5,FALSE))*'By Speed'!$O82*Scenario_VMT_EX*$N69","v":0},{"$f":"(VLOOKUP($B69,'By Population'!$G$2:$K$14,5,FALSE))*'By Speed'!$P82*Scenario_VMT_EX*$N69","v":0},{"$f":"(VLOOKUP($B69,'By Population'!$G$2:$K$14,5,FALSE))*'By Speed'!$Q82*Scenario_VMT_EX*$N69","v":0},{"$f":"(VLOOKUP($B69,'By Population'!$G$2:$K$14,5,FALSE))*'By Speed'!$R82*Scenario_VMT_EX*$N69","v":0},{"$f":"(VLOOKUP($B69,'By Population'!$G$2:$K$14,5,FALSE))*'By Speed'!$S82*Scenario_VMT_EX*$N69","v":0},{"$f":"(VLOOKUP($B69,'By Population'!$G$2:$K$14,5,FALSE))*'By Speed'!$T82*Scenario_VMT_EX*$N69","v":0},{"$f":"(VLOOKUP($B69,'By Population'!$G$2:$K$14,5,FALSE))*'By Speed'!$U82*Scenario_VMT_EX*$N69","v":0},0,{"$f":"(VLOOKUP($B69,'By Population'!$G$2:$K$14,5,FALSE))*'By Speed'!$M82*Scenario_VMT_1*$N69","v":0},{"$f":"(VLOOKUP($B69,'By Population'!$G$2:$K$14,5,FALSE))*'By Speed'!$N82*Scenario_VMT_1*$N69","v":0},{"$f":"(VLOOKUP($B69,'By Population'!$G$2:$K$14,5,FALSE))*'By Speed'!$O82*Scenario_VMT_1*$N69","v":0},{"$f":"(VLOOKUP($B69,'By Population'!$G$2:$K$14,5,FALSE))*'By Speed'!$P82*Scenario_VMT_1*$N69","v":0},{"$f":"(VLOOKUP($B69,'By Population'!$G$2:$K$14,5,FALSE))*'By Speed'!$Q82*Scenario_VMT_1*$N69","v":0},{"$f":"(VLOOKUP($B69,'By Population'!$G$2:$K$14,5,FALSE))*'By Speed'!$R82*Scenario_VMT_1*$N69","v":0},{"$f":"(VLOOKUP($B69,'By Population'!$G$2:$K$14,5,FALSE))*'By Speed'!$S82*Scenario_VMT_1*$N69","v":0},{"$f":"(VLOOKUP($B69,'By Population'!$G$2:$K$14,5,FALSE))*'By Speed'!$T82*Scenario_VMT_1*$N69","v":0},{"$f":"(VLOOKUP($B69,'By Population'!$G$2:$K$14,5,FALSE))*'By Speed'!$U82*Scenario_VMT_1*$N69","v":0},0,{"$f":"(VLOOKUP($B69,'By Population'!$G$2:$K$14,5,FALSE))*'By Speed'!$M82*Scenario_VMT_2*$N69","v":0},{"$f":"(VLOOKUP($B69,'By Population'!$G$2:$K$14,5,FALSE))*'By Speed'!$N82*Scenario_VMT_2*$N69","v":0},{"$f":"(VLOOKUP($B69,'By Population'!$G$2:$K$14,5,FALSE))*'By Speed'!$O82*Scenario_VMT_2*$N69","v":0},{"$f":"(VLOOKUP($B69,'By Population'!$G$2:$K$14,5,FALSE))*'By Speed'!$P82*Scenario_VMT_2*$N69","v":0},{"$f":"(VLOOKUP($B69,'By Population'!$G$2:$K$14,5,FALSE))*'By Speed'!$Q82*Scenario_VMT_2*$N69","v":0},{"$f":"(VLOOKUP($B69,'By Population'!$G$2:$K$14,5,FALSE))*'By Speed'!$R82*Scenario_VMT_2*$N69","v":0},{"$f":"(VLOOKUP($B69,'By Population'!$G$2:$K$14,5,FALSE))*'By Speed'!$S82*Scenario_VMT_2*$N69","v":0},{"$f":"(VLOOKUP($B69,'By Population'!$G$2:$K$14,5,FALSE))*'By Speed'!$T82*Scenario_VMT_2*$N69","v":0},{"$f":"(VLOOKUP($B69,'By Population'!$G$2:$K$14,5,FALSE))*'By Speed'!$U82*Scenario_VMT_2*$N69","v":0},0,{"$f":"(VLOOKUP($B69,'By Population'!$G$2:$K$14,5,FALSE))*'By Speed'!$M82*Scenario_VMT_3*$N69","v":0},{"$f":"(VLOOKUP($B69,'By Population'!$G$2:$K$14,5,FALSE))*'By Speed'!$N82*Scenario_VMT_3*$N69","v":0},{"$f":"(VLOOKUP($B69,'By Population'!$G$2:$K$14,5,FALSE))*'By Speed'!$O82*Scenario_VMT_3*$N69","v":0},{"$f":"(VLOOKUP($B69,'By Population'!$G$2:$K$14,5,FALSE))*'By Speed'!$P82*Scenario_VMT_3*$N69","v":0},{"$f":"(VLOOKUP($B69,'By Population'!$G$2:$K$14,5,FALSE))*'By Speed'!$Q82*Scenario_VMT_3*$N69","v":0},{"$f":"(VLOOKUP($B69,'By Population'!$G$2:$K$14,5,FALSE))*'By Speed'!$R82*Scenario_VMT_3*$N69","v":0},{"$f":"(VLOOKUP($B69,'By Population'!$G$2:$K$14,5,FALSE))*'By Speed'!$S82*Scenario_VMT_3*$N69","v":0},{"$f":"(VLOOKUP($B69,'By Population'!$G$2:$K$14,5,FALSE))*'By Speed'!$T82*Scenario_VMT_3*$N69","v":0},{"$f":"(VLOOKUP($B69,'By Population'!$G$2:$K$14,5,FALSE))*'By Speed'!$U82*Scenario_VMT_3*$N69","v":0},0,{"$f":"(VLOOKUP($B69,'By Population'!$G$2:$K$14,5,FALSE))*'By Speed'!$M82*Scenario_VMT_4*$N69","v":0},{"$f":"(VLOOKUP($B69,'By Population'!$G$2:$K$14,5,FALSE))*'By Speed'!$N82*Scenario_VMT_4*$N69","v":0},{"$f":"(VLOOKUP($B69,'By Population'!$G$2:$K$14,5,FALSE))*'By Speed'!$O82*Scenario_VMT_4*$N69","v":0},{"$f":"(VLOOKUP($B69,'By Population'!$G$2:$K$14,5,FALSE))*'By Speed'!$P82*Scenario_VMT_4*$N69","v":0},{"$f":"(VLOOKUP($B69,'By Population'!$G$2:$K$14,5,FALSE))*'By Speed'!$Q82*Scenario_VMT_4*$N69","v":0},{"$f":"(VLOOKUP($B69,'By Population'!$G$2:$K$14,5,FALSE))*'By Speed'!$R82*Scenario_VMT_4*$N69","v":0},{"$f":"(VLOOKUP($B69,'By Population'!$G$2:$K$14,5,FALSE))*'By Speed'!$S82*Scenario_VMT_4*$N69","v":0},{"$f":"(VLOOKUP($B69,'By Population'!$G$2:$K$14,5,FALSE))*'By Speed'!$T82*Scenario_VMT_4*$N69","v":0},{"$f":"(VLOOKUP($B69,'By Population'!$G$2:$K$14,5,FALSE))*'By Speed'!$U82*Scenario_VMT_4*$N69","v":0},0,{"$f":"(VLOOKUP($B69,'By Population'!$G$2:$K$14,5,FALSE))*'By Speed'!$M82*Scenario_VMT_5*$N69","v":0},{"$f":"(VLOOKUP($B69,'By Population'!$G$2:$K$14,5,FALSE))*'By Speed'!$N82*Scenario_VMT_5*$N69","v":0},{"$f":"(VLOOKUP($B69,'By Population'!$G$2:$K$14,5,FALSE))*'By Speed'!$O82*Scenario_VMT_5*$N69","v":0},{"$f":"(VLOOKUP($B69,'By Population'!$G$2:$K$14,5,FALSE))*'By Speed'!$P82*Scenario_VMT_5*$N69","v":0},{"$f":"(VLOOKUP($B69,'By Population'!$G$2:$K$14,5,FALSE))*'By Speed'!$Q82*Scenario_VMT_5*$N69","v":0},{"$f":"(VLOOKUP($B69,'By Population'!$G$2:$K$14,5,FALSE))*'By Speed'!$R82*Scenario_VMT_5*$N69","v":0},{"$f":"(VLOOKUP($B69,'By Population'!$G$2:$K$14,5,FALSE))*'By Speed'!$S82*Scenario_VMT_5*$N69","v":0},{"$f":"(VLOOKUP($B69,'By Population'!$G$2:$K$14,5,FALSE))*'By Speed'!$T82*Scenario_VMT_5*$N69","v":0},{"$f":"(VLOOKUP($B69,'By Population'!$G$2:$K$14,5,FALSE))*'By Speed'!$U82*Scenario_VMT_5*$N69","v":0},0]
[80,"LDT2_DSL",60,"LDT2_DSL_60",{"$f":"(VLOOKUP($B70,'By Population'!$G$2:$K$14,5,FALSE))*'By Speed'!$M83*Scenario_VMT_EX*$N70","v":0},{"$f":"(VLOOKUP($B70,'By Population'!$G$2:$K$14,5,FALSE))*'By Speed'!$N83*Scenario_VMT_EX*$N70","v":0},{"$f":"(VLOOKUP($B70,'By Population'!$G$2:$K$14,5,FALSE))*'By Speed'!$O83*Scenario_VMT_EX*$N70","v":0},{"$f":"(VLOOKUP($B70,'By Population'!$G$2:$K$14,5,FALSE))*'By Speed'!$P83*Scenario_VMT_EX*$N70","v":0},{"$f":"(VLOOKUP($B70,'By Population'!$G$2:$K$14,5,FALSE))*'By Speed'!$Q83*Scenario_VMT_EX*$N70","v":0},{"$f":"(VLOOKUP($B70,'By Population'!$G$2:$K$14,5,FALSE))*'By Speed'!$R83*Scenario_VMT_EX*$N70","v":0},{"$f":"(VLOOKUP($B70,'By Population'!$G$2:$K$14,5,FALSE))*'By Speed'!$S83*Scenario_VMT_EX*$N70","v":0},{"$f":"(VLOOKUP($B70,'By Population'!$G$2:$K$14,5,FALSE))*'By Speed'!$T83*Scenario_VMT_EX*$N70","v":0},{"$f":"(VLOOKUP($B70,'By Population'!$G$2:$K$14,5,FALSE))*'By Speed'!$U83*Scenario_VMT_EX*$N70","v":0},0,{"$f":"(VLOOKUP($B70,'By Population'!$G$2:$K$14,5,FALSE))*'By Speed'!$M83*Scenario_VMT_1*$N70","v":0},{"$f":"(VLOOKUP($B70,'By Population'!$G$2:$K$14,5,FALSE))*'By Speed'!$N83*Scenario_VMT_1*$N70","v":0},{"$f":"(VLOOKUP($B70,'By Population'!$G$2:$K$14,5,FALSE))*'By Speed'!$O83*Scenario_VMT_1*$N70","v":0},{"$f":"(VLOOKUP($B70,'By Population'!$G$2:$K$14,5,FALSE))*'By Speed'!$P83*Scenario_VMT_1*$N70","v":0},{"$f":"(VLOOKUP($B70,'By Population'!$G$2:$K$14,5,FALSE))*'By Speed'!$Q83*Scenario_VMT_1*$N70","v":0},{"$f":"(VLOOKUP($B70,'By Population'!$G$2:$K$14,5,FALSE))*'By Speed'!$R83*Scenario_VMT_1*$N70","v":0},{"$f":"(VLOOKUP($B70,'By Population'!$G$2:$K$14,5,FALSE))*'By Speed'!$S83*Scenario_VMT_1*$N70","v":0},{"$f":"(VLOOKUP($B70,'By Population'!$G$2:$K$14,5,FALSE))*'By Speed'!$T83*Scenario_VMT_1*$N70","v":0},{"$f":"(VLOOKUP($B70,'By Population'!$G$2:$K$14,5,FALSE))*'By Speed'!$U83*Scenario_VMT_1*$N70","v":0},0,{"$f":"(VLOOKUP($B70,'By Population'!$G$2:$K$14,5,FALSE))*'By Speed'!$M83*Scenario_VMT_2*$N70","v":0},{"$f":"(VLOOKUP($B70,'By Population'!$G$2:$K$14,5,FALSE))*'By Speed'!$N83*Scenario_VMT_2*$N70","v":0},{"$f":"(VLOOKUP($B70,'By Population'!$G$2:$K$14,5,FALSE))*'By Speed'!$O83*Scenario_VMT_2*$N70","v":0},{"$f":"(VLOOKUP($B70,'By Population'!$G$2:$K$14,5,FALSE))*'By Speed'!$P83*Scenario_VMT_2*$N70","v":0},{"$f":"(VLOOKUP($B70,'By Population'!$G$2:$K$14,5,FALSE))*'By Speed'!$Q83*Scenario_VMT_2*$N70","v":0},{"$f":"(VLOOKUP($B70,'By Population'!$G$2:$K$14,5,FALSE))*'By Speed'!$R83*Scenario_VMT_2*$N70","v":0},{"$f":"(VLOOKUP($B70,'By Population'!$G$2:$K$14,5,FALSE))*'By Speed'!$S83*Scenario_VMT_2*$N70","v":0},{"$f":"(VLOOKUP($B70,'By Population'!$G$2:$K$14,5,FALSE))*'By Speed'!$T83*Scenario_VMT_2*$N70","v":0},{"$f":"(VLOOKUP($B70,'By Population'!$G$2:$K$14,5,FALSE))*'By Speed'!$U83*Scenario_VMT_2*$N70","v":0},0,{"$f":"(VLOOKUP($B70,'By Population'!$G$2:$K$14,5,FALSE))*'By Speed'!$M83*Scenario_VMT_3*$N70","v":0},{"$f":"(VLOOKUP($B70,'By Population'!$G$2:$K$14,5,FALSE))*'By Speed'!$N83*Scenario_VMT_3*$N70","v":0},{"$f":"(VLOOKUP($B70,'By Population'!$G$2:$K$14,5,FALSE))*'By Speed'!$O83*Scenario_VMT_3*$N70","v":0},{"$f":"(VLOOKUP($B70,'By Population'!$G$2:$K$14,5,FALSE))*'By Speed'!$P83*Scenario_VMT_3*$N70","v":0},{"$f":"(VLOOKUP($B70,'By Population'!$G$2:$K$14,5,FALSE))*'By Speed'!$Q83*Scenario_VMT_3*$N70","v":0},{"$f":"(VLOOKUP($B70,'By Population'!$G$2:$K$14,5,FALSE))*'By Speed'!$R83*Scenario_VMT_3*$N70","v":0},{"$f":"(VLOOKUP($B70,'By Population'!$G$2:$K$14,5,FALSE))*'By Speed'!$S83*Scenario_VMT_3*$N70","v":0},{"$f":"(VLOOKUP($B70,'By Population'!$G$2:$K$14,5,FALSE))*'By Speed'!$T83*Scenario_VMT_3*$N70","v":0},{"$f":"(VLOOKUP($B70,'By Population'!$G$2:$K$14,5,FALSE))*'By Speed'!$U83*Scenario_VMT_3*$N70","v":0},0,{"$f":"(VLOOKUP($B70,'By Population'!$G$2:$K$14,5,FALSE))*'By Speed'!$M83*Scenario_VMT_4*$N70","v":0},{"$f":"(VLOOKUP($B70,'By Population'!$G$2:$K$14,5,FALSE))*'By Speed'!$N83*Scenario_VMT_4*$N70","v":0},{"$f":"(VLOOKUP($B70,'By Population'!$G$2:$K$14,5,FALSE))*'By Speed'!$O83*Scenario_VMT_4*$N70","v":0},{"$f":"(VLOOKUP($B70,'By Population'!$G$2:$K$14,5,FALSE))*'By Speed'!$P83*Scenario_VMT_4*$N70","v":0},{"$f":"(VLOOKUP($B70,'By Population'!$G$2:$K$14,5,FALSE))*'By Speed'!$Q83*Scenario_VMT_4*$N70","v":0},{"$f":"(VLOOKUP($B70,'By Population'!$G$2:$K$14,5,FALSE))*'By Speed'!$R83*Scenario_VMT_4*$N70","v":0},{"$f":"(VLOOKUP($B70,'By Population'!$G$2:$K$14,5,FALSE))*'By Speed'!$S83*Scenario_VMT_4*$N70","v":0},{"$f":"(VLOOKUP($B70,'By Population'!$G$2:$K$14,5,FALSE))*'By Speed'!$T83*Scenario_VMT_4*$N70","v":0},{"$f":"(VLOOKUP($B70,'By Population'!$G$2:$K$14,5,FALSE))*'By Speed'!$U83*Scenario_VMT_4*$N70","v":0},0,{"$f":"(VLOOKUP($B70,'By Population'!$G$2:$K$14,5,FALSE))*'By Speed'!$M83*Scenario_VMT_5*$N70","v":0},{"$f":"(VLOOKUP($B70,'By Population'!$G$2:$K$14,5,FALSE))*'By Speed'!$N83*Scenario_VMT_5*$N70","v":0},{"$f":"(VLOOKUP($B70,'By Population'!$G$2:$K$14,5,FALSE))*'By Speed'!$O83*Scenario_VMT_5*$N70","v":0},{"$f":"(VLOOKUP($B70,'By Population'!$G$2:$K$14,5,FALSE))*'By Speed'!$P83*Scenario_VMT_5*$N70","v":0},{"$f":"(VLOOKUP($B70,'By Population'!$G$2:$K$14,5,FALSE))*'By Speed'!$Q83*Scenario_VMT_5*$N70","v":0},{"$f":"(VLOOKUP($B70,'By Population'!$G$2:$K$14,5,FALSE))*'By Speed'!$R83*Scenario_VMT_5*$N70","v":0},{"$f":"(VLOOKUP($B70,'By Population'!$G$2:$K$14,5,FALSE))*'By Speed'!$S83*Scenario_VMT_5*$N70","v":0},{"$f":"(VLOOKUP($B70,'By Population'!$G$2:$K$14,5,FALSE))*'By Speed'!$T83*Scenario_VMT_5*$N70","v":0},{"$f":"(VLOOKUP($B70,'By Population'!$G$2:$K$14,5,FALSE))*'By Speed'!$U83*Scenario_VMT_5*$N70","v":0},0]
[82,"LDT2_DSL",65,"LDT2_DSL_65",{"$f":"(VLOOKUP($B71,'By Population'!$G$2:$K$14,5,FALSE))*'By Speed'!$M84*Scenario_VMT_EX*$N71","v":0},{"$f":"(VLOOKUP($B71,'By Population'!$G$2:$K$14,5,FALSE))*'By Speed'!$N84*Scenario_VMT_EX*$N71","v":0},{"$f":"(VLOOKUP($B71,'By Population'!$G$2:$K$14,5,FALSE))*'By Speed'!$O84*Scenario_VMT_EX*$N71","v":0},{"$f":"(VLOOKUP($B71,'By Population'!$G$2:$K$14,5,FALSE))*'By Speed'!$P84*Scenario_VMT_EX*$N71","v":0},{"$f":"(VLOOKUP($B71,'By Population'!$G$2:$K$14,5,FALSE))*'By Speed'!$Q84*Scenario_VMT_EX*$N71","v":0},{"$f":"(VLOOKUP($B71,'By Population'!$G$2:$K$14,5,FALSE))*'By Speed'!$R84*Scenario_VMT_EX*$N71","v":0},{"$f":"(VLOOKUP($B71,'By Population'!$G$2:$K$14,5,FALSE))*'By Speed'!$S84*Scenario_VMT_EX*$N71","v":0},{"$f":"(VLOOKUP($B71,'By Population'!$G$2:$K$14,5,FALSE))*'By Speed'!$T84*Scenario_VMT_EX*$N71","v":0},{"$f":"(VLOOKUP($B71,'By Population'!$G$2:$K$14,5,FALSE))*'By Speed'!$U84*Scenario_VMT_EX*$N71","v":0},0,{"$f":"(VLOOKUP($B71,'By Population'!$G$2:$K$14,5,FALSE))*'By Speed'!$M84*Scenario_VMT_1*$N71","v":0},{"$f":"(VLOOKUP($B71,'By Population'!$G$2:$K$14,5,FALSE))*'By Speed'!$N84*Scenario_VMT_1*$N71","v":0},{"$f":"(VLOOKUP($B71,'By Population'!$G$2:$K$14,5,FALSE))*'By Speed'!$O84*Scenario_VMT_1*$N71","v":0},{"$f":"(VLOOKUP($B71,'By Population'!$G$2:$K$14,5,FALSE))*'By Speed'!$P84*Scenario_VMT_1*$N71","v":0},{"$f":"(VLOOKUP($B71,'By Population'!$G$2:$K$14,5,FALSE))*'By Speed'!$Q84*Scenario_VMT_1*$N71","v":0},{"$f":"(VLOOKUP($B71,'By Population'!$G$2:$K$14,5,FALSE))*'By Speed'!$R84*Scenario_VMT_1*$N71","v":0},{"$f":"(VLOOKUP($B71,'By Population'!$G$2:$K$14,5,FALSE))*'By Speed'!$S84*Scenario_VMT_1*$N71","v":0},{"$f":"(VLOOKUP($B71,'By Population'!$G$2:$K$14,5,FALSE))*'By Speed'!$T84*Scenario_VMT_1*$N71","v":0},{"$f":"(VLOOKUP($B71,'By Population'!$G$2:$K$14,5,FALSE))*'By Speed'!$U84*Scenario_VMT_1*$N71","v":0},0,{"$f":"(VLOOKUP($B71,'By Population'!$G$2:$K$14,5,FALSE))*'By Speed'!$M84*Scenario_VMT_2*$N71","v":0},{"$f":"(VLOOKUP($B71,'By Population'!$G$2:$K$14,5,FALSE))*'By Speed'!$N84*Scenario_VMT_2*$N71","v":0},{"$f":"(VLOOKUP($B71,'By Population'!$G$2:$K$14,5,FALSE))*'By Speed'!$O84*Scenario_VMT_2*$N71","v":0},{"$f":"(VLOOKUP($B71,'By Population'!$G$2:$K$14,5,FALSE))*'By Speed'!$P84*Scenario_VMT_2*$N71","v":0},{"$f":"(VLOOKUP($B71,'By Population'!$G$2:$K$14,5,FALSE))*'By Speed'!$Q84*Scenario_VMT_2*$N71","v":0},{"$f":"(VLOOKUP($B71,'By Population'!$G$2:$K$14,5,FALSE))*'By Speed'!$R84*Scenario_VMT_2*$N71","v":0},{"$f":"(VLOOKUP($B71,'By Population'!$G$2:$K$14,5,FALSE))*'By Speed'!$S84*Scenario_VMT_2*$N71","v":0},{"$f":"(VLOOKUP($B71,'By Population'!$G$2:$K$14,5,FALSE))*'By Speed'!$T84*Scenario_VMT_2*$N71","v":0},{"$f":"(VLOOKUP($B71,'By Population'!$G$2:$K$14,5,FALSE))*'By Speed'!$U84*Scenario_VMT_2*$N71","v":0},0,{"$f":"(VLOOKUP($B71,'By Population'!$G$2:$K$14,5,FALSE))*'By Speed'!$M84*Scenario_VMT_3*$N71","v":0},{"$f":"(VLOOKUP($B71,'By Population'!$G$2:$K$14,5,FALSE))*'By Speed'!$N84*Scenario_VMT_3*$N71","v":0},{"$f":"(VLOOKUP($B71,'By Population'!$G$2:$K$14,5,FALSE))*'By Speed'!$O84*Scenario_VMT_3*$N71","v":0},{"$f":"(VLOOKUP($B71,'By Population'!$G$2:$K$14,5,FALSE))*'By Speed'!$P84*Scenario_VMT_3*$N71","v":0},{"$f":"(VLOOKUP($B71,'By Population'!$G$2:$K$14,5,FALSE))*'By Speed'!$Q84*Scenario_VMT_3*$N71","v":0},{"$f":"(VLOOKUP($B71,'By Population'!$G$2:$K$14,5,FALSE))*'By Speed'!$R84*Scenario_VMT_3*$N71","v":0},{"$f":"(VLOOKUP($B71,'By Population'!$G$2:$K$14,5,FALSE))*'By Speed'!$S84*Scenario_VMT_3*$N71","v":0},{"$f":"(VLOOKUP($B71,'By Population'!$G$2:$K$14,5,FALSE))*'By Speed'!$T84*Scenario_VMT_3*$N71","v":0},{"$f":"(VLOOKUP($B71,'By Population'!$G$2:$K$14,5,FALSE))*'By Speed'!$U84*Scenario_VMT_3*$N71","v":0},0,{"$f":"(VLOOKUP($B71,'By Population'!$G$2:$K$14,5,FALSE))*'By Speed'!$M84*Scenario_VMT_4*$N71","v":0},{"$f":"(VLOOKUP($B71,'By Population'!$G$2:$K$14,5,FALSE))*'By Speed'!$N84*Scenario_VMT_4*$N71","v":0},{"$f":"(VLOOKUP($B71,'By Population'!$G$2:$K$14,5,FALSE))*'By Speed'!$O84*Scenario_VMT_4*$N71","v":0},{"$f":"(VLOOKUP($B71,'By Population'!$G$2:$K$14,5,FALSE))*'By Speed'!$P84*Scenario_VMT_4*$N71","v":0},{"$f":"(VLOOKUP($B71,'By Population'!$G$2:$K$14,5,FALSE))*'By Speed'!$Q84*Scenario_VMT_4*$N71","v":0},{"$f":"(VLOOKUP($B71,'By Population'!$G$2:$K$14,5,FALSE))*'By Speed'!$R84*Scenario_VMT_4*$N71","v":0},{"$f":"(VLOOKUP($B71,'By Population'!$G$2:$K$14,5,FALSE))*'By Speed'!$S84*Scenario_VMT_4*$N71","v":0},{"$f":"(VLOOKUP($B71,'By Population'!$G$2:$K$14,5,FALSE))*'By Speed'!$T84*Scenario_VMT_4*$N71","v":0},{"$f":"(VLOOKUP($B71,'By Population'!$G$2:$K$14,5,FALSE))*'By Speed'!$U84*Scenario_VMT_4*$N71","v":0},0,{"$f":"(VLOOKUP($B71,'By Population'!$G$2:$K$14,5,FALSE))*'By Speed'!$M84*Scenario_VMT_5*$N71","v":0},{"$f":"(VLOOKUP($B71,'By Population'!$G$2:$K$14,5,FALSE))*'By Speed'!$N84*Scenario_VMT_5*$N71","v":0},{"$f":"(VLOOKUP($B71,'By Population'!$G$2:$K$14,5,FALSE))*'By Speed'!$O84*Scenario_VMT_5*$N71","v":0},{"$f":"(VLOOKUP($B71,'By Population'!$G$2:$K$14,5,FALSE))*'By Speed'!$P84*Scenario_VMT_5*$N71","v":0},{"$f":"(VLOOKUP($B71,'By Population'!$G$2:$K$14,5,FALSE))*'By Speed'!$Q84*Scenario_VMT_5*$N71","v":0},{"$f":"(VLOOKUP($B71,'By Population'!$G$2:$K$14,5,FALSE))*'By Speed'!$R84*Scenario_VMT_5*$N71","v":0},{"$f":"(VLOOKUP($B71,'By Population'!$G$2:$K$14,5,FALSE))*'By Speed'!$S84*Scenario_VMT_5*$N71","v":0},{"$f":"(VLOOKUP($B71,'By Population'!$G$2:$K$14,5,FALSE))*'By Speed'!$T84*Scenario_VMT_5*$N71","v":0},{"$f":"(VLOOKUP($B71,'By Population'!$G$2:$K$14,5,FALSE))*'By Speed'!$U84*Scenario_VMT_5*$N71","v":0},0]
[84,"LDT2_DSL",70,"LDT2_DSL_70",{"$f":"(VLOOKUP($B72,'By Population'!$G$2:$K$14,5,FALSE))*'By Speed'!$M85*Scenario_VMT_EX*$N72","v":0},{"$f":"(VLOOKUP($B72,'By Population'!$G$2:$K$14,5,FALSE))*'By Speed'!$N85*Scenario_VMT_EX*$N72","v":0},{"$f":"(VLOOKUP($B72,'By Population'!$G$2:$K$14,5,FALSE))*'By Speed'!$O85*Scenario_VMT_EX*$N72","v":0},{"$f":"(VLOOKUP($B72,'By Population'!$G$2:$K$14,5,FALSE))*'By Speed'!$P85*Scenario_VMT_EX*$N72","v":0},{"$f":"(VLOOKUP($B72,'By Population'!$G$2:$K$14,5,FALSE))*'By Speed'!$Q85*Scenario_VMT_EX*$N72","v":0},{"$f":"(VLOOKUP($B72,'By Population'!$G$2:$K$14,5,FALSE))*'By Speed'!$R85*Scenario_VMT_EX*$N72","v":0},{"$f":"(VLOOKUP($B72,'By Population'!$G$2:$K$14,5,FALSE))*'By Speed'!$S85*Scenario_VMT_EX*$N72","v":0},{"$f":"(VLOOKUP($B72,'By Population'!$G$2:$K$14,5,FALSE))*'By Speed'!$T85*Scenario_VMT_EX*$N72","v":0},{"$f":"(VLOOKUP($B72,'By Population'!$G$2:$K$14,5,FALSE))*'By Speed'!$U85*Scenario_VMT_EX*$N72","v":0},0,{"$f":"(VLOOKUP($B72,'By Population'!$G$2:$K$14,5,FALSE))*'By Speed'!$M85*Scenario_VMT_1*$N72","v":0},{"$f":"(VLOOKUP($B72,'By Population'!$G$2:$K$14,5,FALSE))*'By Speed'!$N85*Scenario_VMT_1*$N72","v":0},{"$f":"(VLOOKUP($B72,'By Population'!$G$2:$K$14,5,FALSE))*'By Speed'!$O85*Scenario_VMT_1*$N72","v":0},{"$f":"(VLOOKUP($B72,'By Population'!$G$2:$K$14,5,FALSE))*'By Speed'!$P85*Scenario_VMT_1*$N72","v":0},{"$f":"(VLOOKUP($B72,'By Population'!$G$2:$K$14,5,FALSE))*'By Speed'!$Q85*Scenario_VMT_1*$N72","v":0},{"$f":"(VLOOKUP($B72,'By Population'!$G$2:$K$14,5,FALSE))*'By Speed'!$R85*Scenario_VMT_1*$N72","v":0},{"$f":"(VLOOKUP($B72,'By Population'!$G$2:$K$14,5,FALSE))*'By Speed'!$S85*Scenario_VMT_1*$N72","v":0},{"$f":"(VLOOKUP($B72,'By Population'!$G$2:$K$14,5,FALSE))*'By Speed'!$T85*Scenario_VMT_1*$N72","v":0},{"$f":"(VLOOKUP($B72,'By Population'!$G$2:$K$14,5,FALSE))*'By Speed'!$U85*Scenario_VMT_1*$N72","v":0},0,{"$f":"(VLOOKUP($B72,'By Population'!$G$2:$K$14,5,FALSE))*'By Speed'!$M85*Scenario_VMT_2*$N72","v":0},{"$f":"(VLOOKUP($B72,'By Population'!$G$2:$K$14,5,FALSE))*'By Speed'!$N85*Scenario_VMT_2*$N72","v":0},{"$f":"(VLOOKUP($B72,'By Population'!$G$2:$K$14,5,FALSE))*'By Speed'!$O85*Scenario_VMT_2*$N72","v":0},{"$f":"(VLOOKUP($B72,'By Population'!$G$2:$K$14,5,FALSE))*'By Speed'!$P85*Scenario_VMT_2*$N72","v":0},{"$f":"(VLOOKUP($B72,'By Population'!$G$2:$K$14,5,FALSE))*'By Speed'!$Q85*Scenario_VMT_2*$N72","v":0},{"$f":"(VLOOKUP($B72,'By Population'!$G$2:$K$14,5,FALSE))*'By Speed'!$R85*Scenario_VMT_2*$N72","v":0},{"$f":"(VLOOKUP($B72,'By Population'!$G$2:$K$14,5,FALSE))*'By Speed'!$S85*Scenario_VMT_2*$N72","v":0},{"$f":"(VLOOKUP($B72,'By Population'!$G$2:$K$14,5,FALSE))*'By Speed'!$T85*Scenario_VMT_2*$N72","v":0},{"$f":"(VLOOKUP($B72,'By Population'!$G$2:$K$14,5,FALSE))*'By Speed'!$U85*Scenario_VMT_2*$N72","v":0},0,{"$f":"(VLOOKUP($B72,'By Population'!$G$2:$K$14,5,FALSE))*'By Speed'!$M85*Scenario_VMT_3*$N72","v":0},{"$f":"(VLOOKUP($B72,'By Population'!$G$2:$K$14,5,FALSE))*'By Speed'!$N85*Scenario_VMT_3*$N72","v":0},{"$f":"(VLOOKUP($B72,'By Population'!$G$2:$K$14,5,FALSE))*'By Speed'!$O85*Scenario_VMT_3*$N72","v":0},{"$f":"(VLOOKUP($B72,'By Population'!$G$2:$K$14,5,FALSE))*'By Speed'!$P85*Scenario_VMT_3*$N72","v":0},{"$f":"(VLOOKUP($B72,'By Population'!$G$2:$K$14,5,FALSE))*'By Speed'!$Q85*Scenario_VMT_3*$N72","v":0},{"$f":"(VLOOKUP($B72,'By Population'!$G$2:$K$14,5,FALSE))*'By Speed'!$R85*Scenario_VMT_3*$N72","v":0},{"$f":"(VLOOKUP($B72,'By Population'!$G$2:$K$14,5,FALSE))*'By Speed'!$S85*Scenario_VMT_3*$N72","v":0},{"$f":"(VLOOKUP($B72,'By Population'!$G$2:$K$14,5,FALSE))*'By Speed'!$T85*Scenario_VMT_3*$N72","v":0},{"$f":"(VLOOKUP($B72,'By Population'!$G$2:$K$14,5,FALSE))*'By Speed'!$U85*Scenario_VMT_3*$N72","v":0},0,{"$f":"(VLOOKUP($B72,'By Population'!$G$2:$K$14,5,FALSE))*'By Speed'!$M85*Scenario_VMT_4*$N72","v":0},{"$f":"(VLOOKUP($B72,'By Population'!$G$2:$K$14,5,FALSE))*'By Speed'!$N85*Scenario_VMT_4*$N72","v":0},{"$f":"(VLOOKUP($B72,'By Population'!$G$2:$K$14,5,FALSE))*'By Speed'!$O85*Scenario_VMT_4*$N72","v":0},{"$f":"(VLOOKUP($B72,'By Population'!$G$2:$K$14,5,FALSE))*'By Speed'!$P85*Scenario_VMT_4*$N72","v":0},{"$f":"(VLOOKUP($B72,'By Population'!$G$2:$K$14,5,FALSE))*'By Speed'!$Q85*Scenario_VMT_4*$N72","v":0},{"$f":"(VLOOKUP($B72,'By Population'!$G$2:$K$14,5,FALSE))*'By Speed'!$R85*Scenario_VMT_4*$N72","v":0},{"$f":"(VLOOKUP($B72,'By Population'!$G$2:$K$14,5,FALSE))*'By Speed'!$S85*Scenario_VMT_4*$N72","v":0},{"$f":"(VLOOKUP($B72,'By Population'!$G$2:$K$14,5,FALSE))*'By Speed'!$T85*Scenario_VMT_4*$N72","v":0},{"$f":"(VLOOKUP($B72,'By Population'!$G$2:$K$14,5,FALSE))*'By Speed'!$U85*Scenario_VMT_4*$N72","v":0},0,{"$f":"(VLOOKUP($B72,'By Population'!$G$2:$K$14,5,FALSE))*'By Speed'!$M85*Scenario_VMT_5*$N72","v":0},{"$f":"(VLOOKUP($B72,'By Population'!$G$2:$K$14,5,FALSE))*'By Speed'!$N85*Scenario_VMT_5*$N72","v":0},{"$f":"(VLOOKUP($B72,'By Population'!$G$2:$K$14,5,FALSE))*'By Speed'!$O85*Scenario_VMT_5*$N72","v":0},{"$f":"(VLOOKUP($B72,'By Population'!$G$2:$K$14,5,FALSE))*'By Speed'!$P85*Scenario_VMT_5*$N72","v":0},{"$f":"(VLOOKUP($B72,'By Population'!$G$2:$K$14,5,FALSE))*'By Speed'!$Q85*Scenario_VMT_5*$N72","v":0},{"$f":"(VLOOKUP($B72,'By Population'!$G$2:$K$14,5,FALSE))*'By Speed'!$R85*Scenario_VMT_5*$N72","v":0},{"$f":"(VLOOKUP($B72,'By Population'!$G$2:$K$14,5,FALSE))*'By Speed'!$S85*Scenario_VMT_5*$N72","v":0},{"$f":"(VLOOKUP($B72,'By Population'!$G$2:$K$14,5,FALSE))*'By Speed'!$T85*Scenario_VMT_5*$N72","v":0},{"$f":"(VLOOKUP($B72,'By Population'!$G$2:$K$14,5,FALSE))*'By Speed'!$U85*Scenario_VMT_5*$N72","v":0},0]
[59,"LDT2_GAS",10,"LDT2_GAS_10",{"$f":"(VLOOKUP($B73,'By Population'!$G$2:$K$14,5,FALSE))*'By Speed'!$M86*Scenario_VMT_EX*$N73","v":0},{"$f":"(VLOOKUP($B73,'By Population'!$G$2:$K$14,5,FALSE))*'By Speed'!$N86*Scenario_VMT_EX*$N73","v":0},{"$f":"(VLOOKUP($B73,'By Population'!$G$2:$K$14,5,FALSE))*'By Speed'!$O86*Scenario_VMT_EX*$N73","v":0},{"$f":"(VLOOKUP($B73,'By Population'!$G$2:$K$14,5,FALSE))*'By Speed'!$P86*Scenario_VMT_EX*$N73","v":0},{"$f":"(VLOOKUP($B73,'By Population'!$G$2:$K$14,5,FALSE))*'By Speed'!$Q86*Scenario_VMT_EX*$N73","v":0},{"$f":"(VLOOKUP($B73,'By Population'!$G$2:$K$14,5,FALSE))*'By Speed'!$R86*Scenario_VMT_EX*$N73","v":0},{"$f":"(VLOOKUP($B73,'By Population'!$G$2:$K$14,5,FALSE))*'By Speed'!$S86*Scenario_VMT_EX*$N73","v":0},{"$f":"(VLOOKUP($B73,'By Population'!$G$2:$K$14,5,FALSE))*'By Speed'!$T86*Scenario_VMT_EX*$N73","v":0},{"$f":"(VLOOKUP($B73,'By Population'!$G$2:$K$14,5,FALSE))*'By Speed'!$U86*Scenario_VMT_EX*$N73","v":0},0,{"$f":"(VLOOKUP($B73,'By Population'!$G$2:$K$14,5,FALSE))*'By Speed'!$M86*Scenario_VMT_1*$N73","v":0},{"$f":"(VLOOKUP($B73,'By Population'!$G$2:$K$14,5,FALSE))*'By Speed'!$N86*Scenario_VMT_1*$N73","v":0},{"$f":"(VLOOKUP($B73,'By Population'!$G$2:$K$14,5,FALSE))*'By Speed'!$O86*Scenario_VMT_1*$N73","v":0},{"$f":"(VLOOKUP($B73,'By Population'!$G$2:$K$14,5,FALSE))*'By Speed'!$P86*Scenario_VMT_1*$N73","v":0},{"$f":"(VLOOKUP($B73,'By Population'!$G$2:$K$14,5,FALSE))*'By Speed'!$Q86*Scenario_VMT_1*$N73","v":0},{"$f":"(VLOOKUP($B73,'By Population'!$G$2:$K$14,5,FALSE))*'By Speed'!$R86*Scenario_VMT_1*$N73","v":0},{"$f":"(VLOOKUP($B73,'By Population'!$G$2:$K$14,5,FALSE))*'By Speed'!$S86*Scenario_VMT_1*$N73","v":0},{"$f":"(VLOOKUP($B73,'By Population'!$G$2:$K$14,5,FALSE))*'By Speed'!$T86*Scenario_VMT_1*$N73","v":0},{"$f":"(VLOOKUP($B73,'By Population'!$G$2:$K$14,5,FALSE))*'By Speed'!$U86*Scenario_VMT_1*$N73","v":0},0,{"$f":"(VLOOKUP($B73,'By Population'!$G$2:$K$14,5,FALSE))*'By Speed'!$M86*Scenario_VMT_2*$N73","v":0},{"$f":"(VLOOKUP($B73,'By Population'!$G$2:$K$14,5,FALSE))*'By Speed'!$N86*Scenario_VMT_2*$N73","v":0},{"$f":"(VLOOKUP($B73,'By Population'!$G$2:$K$14,5,FALSE))*'By Speed'!$O86*Scenario_VMT_2*$N73","v":0},{"$f":"(VLOOKUP($B73,'By Population'!$G$2:$K$14,5,FALSE))*'By Speed'!$P86*Scenario_VMT_2*$N73","v":0},{"$f":"(VLOOKUP($B73,'By Population'!$G$2:$K$14,5,FALSE))*'By Speed'!$Q86*Scenario_VMT_2*$N73","v":0},{"$f":"(VLOOKUP($B73,'By Population'!$G$2:$K$14,5,FALSE))*'By Speed'!$R86*Scenario_VMT_2*$N73","v":0},{"$f":"(VLOOKUP($B73,'By Population'!$G$2:$K$14,5,FALSE))*'By Speed'!$S86*Scenario_VMT_2*$N73","v":0},{"$f":"(VLOOKUP($B73,'By Population'!$G$2:$K$14,5,FALSE))*'By Speed'!$T86*Scenario_VMT_2*$N73","v":0},{"$f":"(VLOOKUP($B73,'By Population'!$G$2:$K$14,5,FALSE))*'By Speed'!$U86*Scenario_VMT_2*$N73","v":0},0,{"$f":"(VLOOKUP($B73,'By Population'!$G$2:$K$14,5,FALSE))*'By Speed'!$M86*Scenario_VMT_3*$N73","v":0},{"$f":"(VLOOKUP($B73,'By Population'!$G$2:$K$14,5,FALSE))*'By Speed'!$N86*Scenario_VMT_3*$N73","v":0},{"$f":"(VLOOKUP($B73,'By Population'!$G$2:$K$14,5,FALSE))*'By Speed'!$O86*Scenario_VMT_3*$N73","v":0},{"$f":"(VLOOKUP($B73,'By Population'!$G$2:$K$14,5,FALSE))*'By Speed'!$P86*Scenario_VMT_3*$N73","v":0},{"$f":"(VLOOKUP($B73,'By Population'!$G$2:$K$14,5,FALSE))*'By Speed'!$Q86*Scenario_VMT_3*$N73","v":0},{"$f":"(VLOOKUP($B73,'By Population'!$G$2:$K$14,5,FALSE))*'By Speed'!$R86*Scenario_VMT_3*$N73","v":0},{"$f":"(VLOOKUP($B73,'By Population'!$G$2:$K$14,5,FALSE))*'By Speed'!$S86*Scenario_VMT_3*$N73","v":0},{"$f":"(VLOOKUP($B73,'By Population'!$G$2:$K$14,5,FALSE))*'By Speed'!$T86*Scenario_VMT_3*$N73","v":0},{"$f":"(VLOOKUP($B73,'By Population'!$G$2:$K$14,5,FALSE))*'By Speed'!$U86*Scenario_VMT_3*$N73","v":0},0,{"$f":"(VLOOKUP($B73,'By Population'!$G$2:$K$14,5,FALSE))*'By Speed'!$M86*Scenario_VMT_4*$N73","v":0},{"$f":"(VLOOKUP($B73,'By Population'!$G$2:$K$14,5,FALSE))*'By Speed'!$N86*Scenario_VMT_4*$N73","v":0},{"$f":"(VLOOKUP($B73,'By Population'!$G$2:$K$14,5,FALSE))*'By Speed'!$O86*Scenario_VMT_4*$N73","v":0},{"$f":"(VLOOKUP($B73,'By Population'!$G$2:$K$14,5,FALSE))*'By Speed'!$P86*Scenario_VMT_4*$N73","v":0},{"$f":"(VLOOKUP($B73,'By Population'!$G$2:$K$14,5,FALSE))*'By Speed'!$Q86*Scenario_VMT_4*$N73","v":0},{"$f":"(VLOOKUP($B73,'By Population'!$G$2:$K$14,5,FALSE))*'By Speed'!$R86*Scenario_VMT_4*$N73","v":0},{"$f":"(VLOOKUP($B73,'By Population'!$G$2:$K$14,5,FALSE))*'By Speed'!$S86*Scenario_VMT_4*$N73","v":0},{"$f":"(VLOOKUP($B73,'By Population'!$G$2:$K$14,5,FALSE))*'By Speed'!$T86*Scenario_VMT_4*$N73","v":0},{"$f":"(VLOOKUP($B73,'By Population'!$G$2:$K$14,5,FALSE))*'By Speed'!$U86*Scenario_VMT_4*$N73","v":0},0,{"$f":"(VLOOKUP($B73,'By Population'!$G$2:$K$14,5,FALSE))*'By Speed'!$M86*Scenario_VMT_5*$N73","v":0},{"$f":"(VLOOKUP($B73,'By Population'!$G$2:$K$14,5,FALSE))*'By Speed'!$N86*Scenario_VMT_5*$N73","v":0},{"$f":"(VLOOKUP($B73,'By Population'!$G$2:$K$14,5,FALSE))*'By Speed'!$O86*Scenario_VMT_5*$N73","v":0},{"$f":"(VLOOKUP($B73,'By Population'!$G$2:$K$14,5,FALSE))*'By Speed'!$P86*Scenario_VMT_5*$N73","v":0},{"$f":"(VLOOKUP($B73,'By Population'!$G$2:$K$14,5,FALSE))*'By Speed'!$Q86*Scenario_VMT_5*$N73","v":0},{"$f":"(VLOOKUP($B73,'By Population'!$G$2:$K$14,5,FALSE))*'By Speed'!$R86*Scenario_VMT_5*$N73","v":0},{"$f":"(VLOOKUP($B73,'By Population'!$G$2:$K$14,5,FALSE))*'By Speed'!$S86*Scenario_VMT_5*$N73","v":0},{"$f":"(VLOOKUP($B73,'By Population'!$G$2:$K$14,5,FALSE))*'By Speed'!$T86*Scenario_VMT_5*$N73","v":0},{"$f":"(VLOOKUP($B73,'By Population'!$G$2:$K$14,5,FALSE))*'By Speed'!$U86*Scenario_VMT_5*$N73","v":0},0]
[61,"LDT2_GAS",15,"LDT2_GAS_15",{"$f":"(VLOOKUP($B74,'By Population'!$G$2:$K$14,5,FALSE))*'By Speed'!$M87*Scenario_VMT_EX*$N74","v":0},{"$f":"(VLOOKUP($B74,'By Population'!$G$2:$K$14,5,FALSE))*'By Speed'!$N87*Scenario_VMT_EX*$N74","v":0},{"$f":"(VLOOKUP($B74,'By Population'!$G$2:$K$14,5,FALSE))*'By Speed'!$O87*Scenario_VMT_EX*$N74","v":0},{"$f":"(VLOOKUP($B74,'By Population'!$G$2:$K$14,5,FALSE))*'By Speed'!$P87*Scenario_VMT_EX*$N74","v":0},{"$f":"(VLOOKUP($B74,'By Population'!$G$2:$K$14,5,FALSE))*'By Speed'!$Q87*Scenario_VMT_EX*$N74","v":0},{"$f":"(VLOOKUP($B74,'By Population'!$G$2:$K$14,5,FALSE))*'By Speed'!$R87*Scenario_VMT_EX*$N74","v":0},{"$f":"(VLOOKUP($B74,'By Population'!$G$2:$K$14,5,FALSE))*'By Speed'!$S87*Scenario_VMT_EX*$N74","v":0},{"$f":"(VLOOKUP($B74,'By Population'!$G$2:$K$14,5,FALSE))*'By Speed'!$T87*Scenario_VMT_EX*$N74","v":0},{"$f":"(VLOOKUP($B74,'By Population'!$G$2:$K$14,5,FALSE))*'By Speed'!$U87*Scenario_VMT_EX*$N74","v":0},0,{"$f":"(VLOOKUP($B74,'By Population'!$G$2:$K$14,5,FALSE))*'By Speed'!$M87*Scenario_VMT_1*$N74","v":0},{"$f":"(VLOOKUP($B74,'By Population'!$G$2:$K$14,5,FALSE))*'By Speed'!$N87*Scenario_VMT_1*$N74","v":0},{"$f":"(VLOOKUP($B74,'By Population'!$G$2:$K$14,5,FALSE))*'By Speed'!$O87*Scenario_VMT_1*$N74","v":0},{"$f":"(VLOOKUP($B74,'By Population'!$G$2:$K$14,5,FALSE))*'By Speed'!$P87*Scenario_VMT_1*$N74","v":0},{"$f":"(VLOOKUP($B74,'By Population'!$G$2:$K$14,5,FALSE))*'By Speed'!$Q87*Scenario_VMT_1*$N74","v":0},{"$f":"(VLOOKUP($B74,'By Population'!$G$2:$K$14,5,FALSE))*'By Speed'!$R87*Scenario_VMT_1*$N74","v":0},{"$f":"(VLOOKUP($B74,'By Population'!$G$2:$K$14,5,FALSE))*'By Speed'!$S87*Scenario_VMT_1*$N74","v":0},{"$f":"(VLOOKUP($B74,'By Population'!$G$2:$K$14,5,FALSE))*'By Speed'!$T87*Scenario_VMT_1*$N74","v":0},{"$f":"(VLOOKUP($B74,'By Population'!$G$2:$K$14,5,FALSE))*'By Speed'!$U87*Scenario_VMT_1*$N74","v":0},0,{"$f":"(VLOOKUP($B74,'By Population'!$G$2:$K$14,5,FALSE))*'By Speed'!$M87*Scenario_VMT_2*$N74","v":0},{"$f":"(VLOOKUP($B74,'By Population'!$G$2:$K$14,5,FALSE))*'By Speed'!$N87*Scenario_VMT_2*$N74","v":0},{"$f":"(VLOOKUP($B74,'By Population'!$G$2:$K$14,5,FALSE))*'By Speed'!$O87*Scenario_VMT_2*$N74","v":0},{"$f":"(VLOOKUP($B74,'By Population'!$G$2:$K$14,5,FALSE))*'By Speed'!$P87*Scenario_VMT_2*$N74","v":0},{"$f":"(VLOOKUP($B74,'By Population'!$G$2:$K$14,5,FALSE))*'By Speed'!$Q87*Scenario_VMT_2*$N74","v":0},{"$f":"(VLOOKUP($B74,'By Population'!$G$2:$K$14,5,FALSE))*'By Speed'!$R87*Scenario_VMT_2*$N74","v":0},{"$f":"(VLOOKUP($B74,'By Population'!$G$2:$K$14,5,FALSE))*'By Speed'!$S87*Scenario_VMT_2*$N74","v":0},{"$f":"(VLOOKUP($B74,'By Population'!$G$2:$K$14,5,FALSE))*'By Speed'!$T87*Scenario_VMT_2*$N74","v":0},{"$f":"(VLOOKUP($B74,'By Population'!$G$2:$K$14,5,FALSE))*'By Speed'!$U87*Scenario_VMT_2*$N74","v":0},0,{"$f":"(VLOOKUP($B74,'By Population'!$G$2:$K$14,5,FALSE))*'By Speed'!$M87*Scenario_VMT_3*$N74","v":0},{"$f":"(VLOOKUP($B74,'By Population'!$G$2:$K$14,5,FALSE))*'By Speed'!$N87*Scenario_VMT_3*$N74","v":0},{"$f":"(VLOOKUP($B74,'By Population'!$G$2:$K$14,5,FALSE))*'By Speed'!$O87*Scenario_VMT_3*$N74","v":0},{"$f":"(VLOOKUP($B74,'By Population'!$G$2:$K$14,5,FALSE))*'By Speed'!$P87*Scenario_VMT_3*$N74","v":0},{"$f":"(VLOOKUP($B74,'By Population'!$G$2:$K$14,5,FALSE))*'By Speed'!$Q87*Scenario_VMT_3*$N74","v":0},{"$f":"(VLOOKUP($B74,'By Population'!$G$2:$K$14,5,FALSE))*'By Speed'!$R87*Scenario_VMT_3*$N74","v":0},{"$f":"(VLOOKUP($B74,'By Population'!$G$2:$K$14,5,FALSE))*'By Speed'!$S87*Scenario_VMT_3*$N74","v":0},{"$f":"(VLOOKUP($B74,'By Population'!$G$2:$K$14,5,FALSE))*'By Speed'!$T87*Scenario_VMT_3*$N74","v":0},{"$f":"(VLOOKUP($B74,'By Population'!$G$2:$K$14,5,FALSE))*'By Speed'!$U87*Scenario_VMT_3*$N74","v":0},0,{"$f":"(VLOOKUP($B74,'By Population'!$G$2:$K$14,5,FALSE))*'By Speed'!$M87*Scenario_VMT_4*$N74","v":0},{"$f":"(VLOOKUP($B74,'By Population'!$G$2:$K$14,5,FALSE))*'By Speed'!$N87*Scenario_VMT_4*$N74","v":0},{"$f":"(VLOOKUP($B74,'By Population'!$G$2:$K$14,5,FALSE))*'By Speed'!$O87*Scenario_VMT_4*$N74","v":0},{"$f":"(VLOOKUP($B74,'By Population'!$G$2:$K$14,5,FALSE))*'By Speed'!$P87*Scenario_VMT_4*$N74","v":0},{"$f":"(VLOOKUP($B74,'By Population'!$G$2:$K$14,5,FALSE))*'By Speed'!$Q87*Scenario_VMT_4*$N74","v":0},{"$f":"(VLOOKUP($B74,'By Population'!$G$2:$K$14,5,FALSE))*'By Speed'!$R87*Scenario_VMT_4*$N74","v":0},{"$f":"(VLOOKUP($B74,'By Population'!$G$2:$K$14,5,FALSE))*'By Speed'!$S87*Scenario_VMT_4*$N74","v":0},{"$f":"(VLOOKUP($B74,'By Population'!$G$2:$K$14,5,FALSE))*'By Speed'!$T87*Scenario_VMT_4*$N74","v":0},{"$f":"(VLOOKUP($B74,'By Population'!$G$2:$K$14,5,FALSE))*'By Speed'!$U87*Scenario_VMT_4*$N74","v":0},0,{"$f":"(VLOOKUP($B74,'By Population'!$G$2:$K$14,5,FALSE))*'By Speed'!$M87*Scenario_VMT_5*$N74","v":0},{"$f":"(VLOOKUP($B74,'By Population'!$G$2:$K$14,5,FALSE))*'By Speed'!$N87*Scenario_VMT_5*$N74","v":0},{"$f":"(VLOOKUP($B74,'By Population'!$G$2:$K$14,5,FALSE))*'By Speed'!$O87*Scenario_VMT_5*$N74","v":0},{"$f":"(VLOOKUP($B74,'By Population'!$G$2:$K$14,5,FALSE))*'By Speed'!$P87*Scenario_VMT_5*$N74","v":0},{"$f":"(VLOOKUP($B74,'By Population'!$G$2:$K$14,5,FALSE))*'By Speed'!$Q87*Scenario_VMT_5*$N74","v":0},{"$f":"(VLOOKUP($B74,'By Population'!$G$2:$K$14,5,FALSE))*'By Speed'!$R87*Scenario_VMT_5*$N74","v":0},{"$f":"(VLOOKUP($B74,'By Population'!$G$2:$K$14,5,FALSE))*'By Speed'!$S87*Scenario_VMT_5*$N74","v":0},{"$f":"(VLOOKUP($B74,'By Population'!$G$2:$K$14,5,FALSE))*'By Speed'!$T87*Scenario_VMT_5*$N74","v":0},{"$f":"(VLOOKUP($B74,'By Population'!$G$2:$K$14,5,FALSE))*'By Speed'!$U87*Scenario_VMT_5*$N74","v":0},0]
[63,"LDT2_GAS",20,"LDT2_GAS_20",{"$f":"(VLOOKUP($B75,'By Population'!$G$2:$K$14,5,FALSE))*'By Speed'!$M88*Scenario_VMT_EX*$N75","v":0},{"$f":"(VLOOKUP($B75,'By Population'!$G$2:$K$14,5,FALSE))*'By Speed'!$N88*Scenario_VMT_EX*$N75","v":0},{"$f":"(VLOOKUP($B75,'By Population'!$G$2:$K$14,5,FALSE))*'By Speed'!$O88*Scenario_VMT_EX*$N75","v":0},{"$f":"(VLOOKUP($B75,'By Population'!$G$2:$K$14,5,FALSE))*'By Speed'!$P88*Scenario_VMT_EX*$N75","v":0},{"$f":"(VLOOKUP($B75,'By Population'!$G$2:$K$14,5,FALSE))*'By Speed'!$Q88*Scenario_VMT_EX*$N75","v":0},{"$f":"(VLOOKUP($B75,'By Population'!$G$2:$K$14,5,FALSE))*'By Speed'!$R88*Scenario_VMT_EX*$N75","v":0},{"$f":"(VLOOKUP($B75,'By Population'!$G$2:$K$14,5,FALSE))*'By Speed'!$S88*Scenario_VMT_EX*$N75","v":0},{"$f":"(VLOOKUP($B75,'By Population'!$G$2:$K$14,5,FALSE))*'By Speed'!$T88*Scenario_VMT_EX*$N75","v":0},{"$f":"(VLOOKUP($B75,'By Population'!$G$2:$K$14,5,FALSE))*'By Speed'!$U88*Scenario_VMT_EX*$N75","v":0},0,{"$f":"(VLOOKUP($B75,'By Population'!$G$2:$K$14,5,FALSE))*'By Speed'!$M88*Scenario_VMT_1*$N75","v":0},{"$f":"(VLOOKUP($B75,'By Population'!$G$2:$K$14,5,FALSE))*'By Speed'!$N88*Scenario_VMT_1*$N75","v":0},{"$f":"(VLOOKUP($B75,'By Population'!$G$2:$K$14,5,FALSE))*'By Speed'!$O88*Scenario_VMT_1*$N75","v":0},{"$f":"(VLOOKUP($B75,'By Population'!$G$2:$K$14,5,FALSE))*'By Speed'!$P88*Scenario_VMT_1*$N75","v":0},{"$f":"(VLOOKUP($B75,'By Population'!$G$2:$K$14,5,FALSE))*'By Speed'!$Q88*Scenario_VMT_1*$N75","v":0},{"$f":"(VLOOKUP($B75,'By Population'!$G$2:$K$14,5,FALSE))*'By Speed'!$R88*Scenario_VMT_1*$N75","v":0},{"$f":"(VLOOKUP($B75,'By Population'!$G$2:$K$14,5,FALSE))*'By Speed'!$S88*Scenario_VMT_1*$N75","v":0},{"$f":"(VLOOKUP($B75,'By Population'!$G$2:$K$14,5,FALSE))*'By Speed'!$T88*Scenario_VMT_1*$N75","v":0},{"$f":"(VLOOKUP($B75,'By Population'!$G$2:$K$14,5,FALSE))*'By Speed'!$U88*Scenario_VMT_1*$N75","v":0},0,{"$f":"(VLOOKUP($B75,'By Population'!$G$2:$K$14,5,FALSE))*'By Speed'!$M88*Scenario_VMT_2*$N75","v":0},{"$f":"(VLOOKUP($B75,'By Population'!$G$2:$K$14,5,FALSE))*'By Speed'!$N88*Scenario_VMT_2*$N75","v":0},{"$f":"(VLOOKUP($B75,'By Population'!$G$2:$K$14,5,FALSE))*'By Speed'!$O88*Scenario_VMT_2*$N75","v":0},{"$f":"(VLOOKUP($B75,'By Population'!$G$2:$K$14,5,FALSE))*'By Speed'!$P88*Scenario_VMT_2*$N75","v":0},{"$f":"(VLOOKUP($B75,'By Population'!$G$2:$K$14,5,FALSE))*'By Speed'!$Q88*Scenario_VMT_2*$N75","v":0},{"$f":"(VLOOKUP($B75,'By Population'!$G$2:$K$14,5,FALSE))*'By Speed'!$R88*Scenario_VMT_2*$N75","v":0},{"$f":"(VLOOKUP($B75,'By Population'!$G$2:$K$14,5,FALSE))*'By Speed'!$S88*Scenario_VMT_2*$N75","v":0},{"$f":"(VLOOKUP($B75,'By Population'!$G$2:$K$14,5,FALSE))*'By Speed'!$T88*Scenario_VMT_2*$N75","v":0},{"$f":"(VLOOKUP($B75,'By Population'!$G$2:$K$14,5,FALSE))*'By Speed'!$U88*Scenario_VMT_2*$N75","v":0},0,{"$f":"(VLOOKUP($B75,'By Population'!$G$2:$K$14,5,FALSE))*'By Speed'!$M88*Scenario_VMT_3*$N75","v":0},{"$f":"(VLOOKUP($B75,'By Population'!$G$2:$K$14,5,FALSE))*'By Speed'!$N88*Scenario_VMT_3*$N75","v":0},{"$f":"(VLOOKUP($B75,'By Population'!$G$2:$K$14,5,FALSE))*'By Speed'!$O88*Scenario_VMT_3*$N75","v":0},{"$f":"(VLOOKUP($B75,'By Population'!$G$2:$K$14,5,FALSE))*'By Speed'!$P88*Scenario_VMT_3*$N75","v":0},{"$f":"(VLOOKUP($B75,'By Population'!$G$2:$K$14,5,FALSE))*'By Speed'!$Q88*Scenario_VMT_3*$N75","v":0},{"$f":"(VLOOKUP($B75,'By Population'!$G$2:$K$14,5,FALSE))*'By Speed'!$R88*Scenario_VMT_3*$N75","v":0},{"$f":"(VLOOKUP($B75,'By Population'!$G$2:$K$14,5,FALSE))*'By Speed'!$S88*Scenario_VMT_3*$N75","v":0},{"$f":"(VLOOKUP($B75,'By Population'!$G$2:$K$14,5,FALSE))*'By Speed'!$T88*Scenario_VMT_3*$N75","v":0},{"$f":"(VLOOKUP($B75,'By Population'!$G$2:$K$14,5,FALSE))*'By Speed'!$U88*Scenario_VMT_3*$N75","v":0},0,{"$f":"(VLOOKUP($B75,'By Population'!$G$2:$K$14,5,FALSE))*'By Speed'!$M88*Scenario_VMT_4*$N75","v":0},{"$f":"(VLOOKUP($B75,'By Population'!$G$2:$K$14,5,FALSE))*'By Speed'!$N88*Scenario_VMT_4*$N75","v":0},{"$f":"(VLOOKUP($B75,'By Population'!$G$2:$K$14,5,FALSE))*'By Speed'!$O88*Scenario_VMT_4*$N75","v":0},{"$f":"(VLOOKUP($B75,'By Population'!$G$2:$K$14,5,FALSE))*'By Speed'!$P88*Scenario_VMT_4*$N75","v":0},{"$f":"(VLOOKUP($B75,'By Population'!$G$2:$K$14,5,FALSE))*'By Speed'!$Q88*Scenario_VMT_4*$N75","v":0},{"$f":"(VLOOKUP($B75,'By Population'!$G$2:$K$14,5,FALSE))*'By Speed'!$R88*Scenario_VMT_4*$N75","v":0},{"$f":"(VLOOKUP($B75,'By Population'!$G$2:$K$14,5,FALSE))*'By Speed'!$S88*Scenario_VMT_4*$N75","v":0},{"$f":"(VLOOKUP($B75,'By Population'!$G$2:$K$14,5,FALSE))*'By Speed'!$T88*Scenario_VMT_4*$N75","v":0},{"$f":"(VLOOKUP($B75,'By Population'!$G$2:$K$14,5,FALSE))*'By Speed'!$U88*Scenario_VMT_4*$N75","v":0},0,{"$f":"(VLOOKUP($B75,'By Population'!$G$2:$K$14,5,FALSE))*'By Speed'!$M88*Scenario_VMT_5*$N75","v":0},{"$f":"(VLOOKUP($B75,'By Population'!$G$2:$K$14,5,FALSE))*'By Speed'!$N88*Scenario_VMT_5*$N75","v":0},{"$f":"(VLOOKUP($B75,'By Population'!$G$2:$K$14,5,FALSE))*'By Speed'!$O88*Scenario_VMT_5*$N75","v":0},{"$f":"(VLOOKUP($B75,'By Population'!$G$2:$K$14,5,FALSE))*'By Speed'!$P88*Scenario_VMT_5*$N75","v":0},{"$f":"(VLOOKUP($B75,'By Population'!$G$2:$K$14,5,FALSE))*'By Speed'!$Q88*Scenario_VMT_5*$N75","v":0},{"$f":"(VLOOKUP($B75,'By Population'!$G$2:$K$14,5,FALSE))*'By Speed'!$R88*Scenario_VMT_5*$N75","v":0},{"$f":"(VLOOKUP($B75,'By Population'!$G$2:$K$14,5,FALSE))*'By Speed'!$S88*Scenario_VMT_5*$N75","v":0},{"$f":"(VLOOKUP($B75,'By Population'!$G$2:$K$14,5,FALSE))*'By Speed'!$T88*Scenario_VMT_5*$N75","v":0},{"$f":"(VLOOKUP($B75,'By Population'!$G$2:$K$14,5,FALSE))*'By Speed'!$U88*Scenario_VMT_5*$N75","v":0},0]
[65,"LDT2_GAS",25,"LDT2_GAS_25",{"$f":"(VLOOKUP($B76,'By Population'!$G$2:$K$14,5,FALSE))*'By Speed'!$M89*Scenario_VMT_EX*$N76","v":0},{"$f":"(VLOOKUP($B76,'By Population'!$G$2:$K$14,5,FALSE))*'By Speed'!$N89*Scenario_VMT_EX*$N76","v":0},{"$f":"(VLOOKUP($B76,'By Population'!$G$2:$K$14,5,FALSE))*'By Speed'!$O89*Scenario_VMT_EX*$N76","v":0},{"$f":"(VLOOKUP($B76,'By Population'!$G$2:$K$14,5,FALSE))*'By Speed'!$P89*Scenario_VMT_EX*$N76","v":0},{"$f":"(VLOOKUP($B76,'By Population'!$G$2:$K$14,5,FALSE))*'By Speed'!$Q89*Scenario_VMT_EX*$N76","v":0},{"$f":"(VLOOKUP($B76,'By Population'!$G$2:$K$14,5,FALSE))*'By Speed'!$R89*Scenario_VMT_EX*$N76","v":0},{"$f":"(VLOOKUP($B76,'By Population'!$G$2:$K$14,5,FALSE))*'By Speed'!$S89*Scenario_VMT_EX*$N76","v":0},{"$f":"(VLOOKUP($B76,'By Population'!$G$2:$K$14,5,FALSE))*'By Speed'!$T89*Scenario_VMT_EX*$N76","v":0},{"$f":"(VLOOKUP($B76,'By Population'!$G$2:$K$14,5,FALSE))*'By Speed'!$U89*Scenario_VMT_EX*$N76","v":0},1,{"$f":"(VLOOKUP($B76,'By Population'!$G$2:$K$14,5,FALSE))*'By Speed'!$M89*Scenario_VMT_1*$N76","v":0},{"$f":"(VLOOKUP($B76,'By Population'!$G$2:$K$14,5,FALSE))*'By Speed'!$N89*Scenario_VMT_1*$N76","v":0},{"$f":"(VLOOKUP($B76,'By Population'!$G$2:$K$14,5,FALSE))*'By Speed'!$O89*Scenario_VMT_1*$N76","v":0},{"$f":"(VLOOKUP($B76,'By Population'!$G$2:$K$14,5,FALSE))*'By Speed'!$P89*Scenario_VMT_1*$N76","v":0},{"$f":"(VLOOKUP($B76,'By Population'!$G$2:$K$14,5,FALSE))*'By Speed'!$Q89*Scenario_VMT_1*$N76","v":0},{"$f":"(VLOOKUP($B76,'By Population'!$G$2:$K$14,5,FALSE))*'By Speed'!$R89*Scenario_VMT_1*$N76","v":0},{"$f":"(VLOOKUP($B76,'By Population'!$G$2:$K$14,5,FALSE))*'By Speed'!$S89*Scenario_VMT_1*$N76","v":0},{"$f":"(VLOOKUP($B76,'By Population'!$G$2:$K$14,5,FALSE))*'By Speed'!$T89*Scenario_VMT_1*$N76","v":0},{"$f":"(VLOOKUP($B76,'By Population'!$G$2:$K$14,5,FALSE))*'By Speed'!$U89*Scenario_VMT_1*$N76","v":0},0,{"$f":"(VLOOKUP($B76,'By Population'!$G$2:$K$14,5,FALSE))*'By Speed'!$M89*Scenario_VMT_2*$N76","v":0},{"$f":"(VLOOKUP($B76,'By Population'!$G$2:$K$14,5,FALSE))*'By Speed'!$N89*Scenario_VMT_2*$N76","v":0},{"$f":"(VLOOKUP($B76,'By Population'!$G$2:$K$14,5,FALSE))*'By Speed'!$O89*Scenario_VMT_2*$N76","v":0},{"$f":"(VLOOKUP($B76,'By Population'!$G$2:$K$14,5,FALSE))*'By Speed'!$P89*Scenario_VMT_2*$N76","v":0},{"$f":"(VLOOKUP($B76,'By Population'!$G$2:$K$14,5,FALSE))*'By Speed'!$Q89*Scenario_VMT_2*$N76","v":0},{"$f":"(VLOOKUP($B76,'By Population'!$G$2:$K$14,5,FALSE))*'By Speed'!$R89*Scenario_VMT_2*$N76","v":0},{"$f":"(VLOOKUP($B76,'By Population'!$G$2:$K$14,5,FALSE))*'By Speed'!$S89*Scenario_VMT_2*$N76","v":0},{"$f":"(VLOOKUP($B76,'By Population'!$G$2:$K$14,5,FALSE))*'By Speed'!$T89*Scenario_VMT_2*$N76","v":0},{"$f":"(VLOOKUP($B76,'By Population'!$G$2:$K$14,5,FALSE))*'By Speed'!$U89*Scenario_VMT_2*$N76","v":0},0,{"$f":"(VLOOKUP($B76,'By Population'!$G$2:$K$14,5,FALSE))*'By Speed'!$M89*Scenario_VMT_3*$N76","v":0},{"$f":"(VLOOKUP($B76,'By Population'!$G$2:$K$14,5,FALSE))*'By Speed'!$N89*Scenario_VMT_3*$N76","v":0},{"$f":"(VLOOKUP($B76,'By Population'!$G$2:$K$14,5,FALSE))*'By Speed'!$O89*Scenario_VMT_3*$N76","v":0},{"$f":"(VLOOKUP($B76,'By Population'!$G$2:$K$14,5,FALSE))*'By Speed'!$P89*Scenario_VMT_3*$N76","v":0},{"$f":"(VLOOKUP($B76,'By Population'!$G$2:$K$14,5,FALSE))*'By Speed'!$Q89*Scenario_VMT_3*$N76","v":0},{"$f":"(VLOOKUP($B76,'By Population'!$G$2:$K$14,5,FALSE))*'By Speed'!$R89*Scenario_VMT_3*$N76","v":0},{"$f":"(VLOOKUP($B76,'By Population'!$G$2:$K$14,5,FALSE))*'By Speed'!$S89*Scenario_VMT_3*$N76","v":0},{"$f":"(VLOOKUP($B76,'By Population'!$G$2:$K$14,5,FALSE))*'By Speed'!$T89*Scenario_VMT_3*$N76","v":0},{"$f":"(VLOOKUP($B76,'By Population'!$G$2:$K$14,5,FALSE))*'By Speed'!$U89*Scenario_VMT_3*$N76","v":0},0,{"$f":"(VLOOKUP($B76,'By Population'!$G$2:$K$14,5,FALSE))*'By Speed'!$M89*Scenario_VMT_4*$N76","v":0},{"$f":"(VLOOKUP($B76,'By Population'!$G$2:$K$14,5,FALSE))*'By Speed'!$N89*Scenario_VMT_4*$N76","v":0},{"$f":"(VLOOKUP($B76,'By Population'!$G$2:$K$14,5,FALSE))*'By Speed'!$O89*Scenario_VMT_4*$N76","v":0},{"$f":"(VLOOKUP($B76,'By Population'!$G$2:$K$14,5,FALSE))*'By Speed'!$P89*Scenario_VMT_4*$N76","v":0},{"$f":"(VLOOKUP($B76,'By Population'!$G$2:$K$14,5,FALSE))*'By Speed'!$Q89*Scenario_VMT_4*$N76","v":0},{"$f":"(VLOOKUP($B76,'By Population'!$G$2:$K$14,5,FALSE))*'By Speed'!$R89*Scenario_VMT_4*$N76","v":0},{"$f":"(VLOOKUP($B76,'By Population'!$G$2:$K$14,5,FALSE))*'By Speed'!$S89*Scenario_VMT_4*$N76","v":0},{"$f":"(VLOOKUP($B76,'By Population'!$G$2:$K$14,5,FALSE))*'By Speed'!$T89*Scenario_VMT_4*$N76","v":0},{"$f":"(VLOOKUP($B76,'By Population'!$G$2:$K$14,5,FALSE))*'By Speed'!$U89*Scenario_VMT_4*$N76","v":0},0,{"$f":"(VLOOKUP($B76,'By Population'!$G$2:$K$14,5,FALSE))*'By Speed'!$M89*Scenario_VMT_5*$N76","v":0},{"$f":"(VLOOKUP($B76,'By Population'!$G$2:$K$14,5,FALSE))*'By Speed'!$N89*Scenario_VMT_5*$N76","v":0},{"$f":"(VLOOKUP($B76,'By Population'!$G$2:$K$14,5,FALSE))*'By Speed'!$O89*Scenario_VMT_5*$N76","v":0},{"$f":"(VLOOKUP($B76,'By Population'!$G$2:$K$14,5,FALSE))*'By Speed'!$P89*Scenario_VMT_5*$N76","v":0},{"$f":"(VLOOKUP($B76,'By Population'!$G$2:$K$14,5,FALSE))*'By Speed'!$Q89*Scenario_VMT_5*$N76","v":0},{"$f":"(VLOOKUP($B76,'By Population'!$G$2:$K$14,5,FALSE))*'By Speed'!$R89*Scenario_VMT_5*$N76","v":0},{"$f":"(VLOOKUP($B76,'By Population'!$G$2:$K$14,5,FALSE))*'By Speed'!$S89*Scenario_VMT_5*$N76","v":0},{"$f":"(VLOOKUP($B76,'By Population'!$G$2:$K$14,5,FALSE))*'By Speed'!$T89*Scenario_VMT_5*$N76","v":0},{"$f":"(VLOOKUP($B76,'By Population'!$G$2:$K$14,5,FALSE))*'By Speed'!$U89*Scenario_VMT_5*$N76","v":0},0]
[67,"LDT2_GAS",30,"LDT2_GAS_30",{"$f":"(VLOOKUP($B77,'By Population'!$G$2:$K$14,5,FALSE))*'By Speed'!$M90*Scenario_VMT_EX*$N77","v":0},{"$f":"(VLOOKUP($B77,'By Population'!$G$2:$K$14,5,FALSE))*'By Speed'!$N90*Scenario_VMT_EX*$N77","v":0},{"$f":"(VLOOKUP($B77,'By Population'!$G$2:$K$14,5,FALSE))*'By Speed'!$O90*Scenario_VMT_EX*$N77","v":0},{"$f":"(VLOOKUP($B77,'By Population'!$G$2:$K$14,5,FALSE))*'By Speed'!$P90*Scenario_VMT_EX*$N77","v":0},{"$f":"(VLOOKUP($B77,'By Population'!$G$2:$K$14,5,FALSE))*'By Speed'!$Q90*Scenario_VMT_EX*$N77","v":0},{"$f":"(VLOOKUP($B77,'By Population'!$G$2:$K$14,5,FALSE))*'By Speed'!$R90*Scenario_VMT_EX*$N77","v":0},{"$f":"(VLOOKUP($B77,'By Population'!$G$2:$K$14,5,FALSE))*'By Speed'!$S90*Scenario_VMT_EX*$N77","v":0},{"$f":"(VLOOKUP($B77,'By Population'!$G$2:$K$14,5,FALSE))*'By Speed'!$T90*Scenario_VMT_EX*$N77","v":0},{"$f":"(VLOOKUP($B77,'By Population'!$G$2:$K$14,5,FALSE))*'By Speed'!$U90*Scenario_VMT_EX*$N77","v":0},0,{"$f":"(VLOOKUP($B77,'By Population'!$G$2:$K$14,5,FALSE))*'By Speed'!$M90*Scenario_VMT_1*$N77","v":0},{"$f":"(VLOOKUP($B77,'By Population'!$G$2:$K$14,5,FALSE))*'By Speed'!$N90*Scenario_VMT_1*$N77","v":0},{"$f":"(VLOOKUP($B77,'By Population'!$G$2:$K$14,5,FALSE))*'By Speed'!$O90*Scenario_VMT_1*$N77","v":0},{"$f":"(VLOOKUP($B77,'By Population'!$G$2:$K$14,5,FALSE))*'By Speed'!$P90*Scenario_VMT_1*$N77","v":0},{"$f":"(VLOOKUP($B77,'By Population'!$G$2:$K$14,5,FALSE))*'By Speed'!$Q90*Scenario_VMT_1*$N77","v":0},{"$f":"(VLOOKUP($B77,'By Population'!$G$2:$K$14,5,FALSE))*'By Speed'!$R90*Scenario_VMT_1*$N77","v":0},{"$f":"(VLOOKUP($B77,'By Population'!$G$2:$K$14,5,FALSE))*'By Speed'!$S90*Scenario_VMT_1*$N77","v":0},{"$f":"(VLOOKUP($B77,'By Population'!$G$2:$K$14,5,FALSE))*'By Speed'!$T90*Scenario_VMT_1*$N77","v":0},{"$f":"(VLOOKUP($B77,'By Population'!$G$2:$K$14,5,FALSE))*'By Speed'!$U90*Scenario_VMT_1*$N77","v":0},0,{"$f":"(VLOOKUP($B77,'By Population'!$G$2:$K$14,5,FALSE))*'By Speed'!$M90*Scenario_VMT_2*$N77","v":0},{"$f":"(VLOOKUP($B77,'By Population'!$G$2:$K$14,5,FALSE))*'By Speed'!$N90*Scenario_VMT_2*$N77","v":0},{"$f":"(VLOOKUP($B77,'By Population'!$G$2:$K$14,5,FALSE))*'By Speed'!$O90*Scenario_VMT_2*$N77","v":0},{"$f":"(VLOOKUP($B77,'By Population'!$G$2:$K$14,5,FALSE))*'By Speed'!$P90*Scenario_VMT_2*$N77","v":0},{"$f":"(VLOOKUP($B77,'By Population'!$G$2:$K$14,5,FALSE))*'By Speed'!$Q90*Scenario_VMT_2*$N77","v":0},{"$f":"(VLOOKUP($B77,'By Population'!$G$2:$K$14,5,FALSE))*'By Speed'!$R90*Scenario_VMT_2*$N77","v":0},{"$f":"(VLOOKUP($B77,'By Population'!$G$2:$K$14,5,FALSE))*'By Speed'!$S90*Scenario_VMT_2*$N77","v":0},{"$f":"(VLOOKUP($B77,'By Population'!$G$2:$K$14,5,FALSE))*'By Speed'!$T90*Scenario_VMT_2*$N77","v":0},{"$f":"(VLOOKUP($B77,'By Population'!$G$2:$K$14,5,FALSE))*'By Speed'!$U90*Scenario_VMT_2*$N77","v":0},0,{"$f":"(VLOOKUP($B77,'By Population'!$G$2:$K$14,5,FALSE))*'By Speed'!$M90*Scenario_VMT_3*$N77","v":0},{"$f":"(VLOOKUP($B77,'By Population'!$G$2:$K$14,5,FALSE))*'By Speed'!$N90*Scenario_VMT_3*$N77","v":0},{"$f":"(VLOOKUP($B77,'By Population'!$G$2:$K$14,5,FALSE))*'By Speed'!$O90*Scenario_VMT_3*$N77","v":0},{"$f":"(VLOOKUP($B77,'By Population'!$G$2:$K$14,5,FALSE))*'By Speed'!$P90*Scenario_VMT_3*$N77","v":0},{"$f":"(VLOOKUP($B77,'By Population'!$G$2:$K$14,5,FALSE))*'By Speed'!$Q90*Scenario_VMT_3*$N77","v":0},{"$f":"(VLOOKUP($B77,'By Population'!$G$2:$K$14,5,FALSE))*'By Speed'!$R90*Scenario_VMT_3*$N77","v":0},{"$f":"(VLOOKUP($B77,'By Population'!$G$2:$K$14,5,FALSE))*'By Speed'!$S90*Scenario_VMT_3*$N77","v":0},{"$f":"(VLOOKUP($B77,'By Population'!$G$2:$K$14,5,FALSE))*'By Speed'!$T90*Scenario_VMT_3*$N77","v":0},{"$f":"(VLOOKUP($B77,'By Population'!$G$2:$K$14,5,FALSE))*'By Speed'!$U90*Scenario_VMT_3*$N77","v":0},0,{"$f":"(VLOOKUP($B77,'By Population'!$G$2:$K$14,5,FALSE))*'By Speed'!$M90*Scenario_VMT_4*$N77","v":0},{"$f":"(VLOOKUP($B77,'By Population'!$G$2:$K$14,5,FALSE))*'By Speed'!$N90*Scenario_VMT_4*$N77","v":0},{"$f":"(VLOOKUP($B77,'By Population'!$G$2:$K$14,5,FALSE))*'By Speed'!$O90*Scenario_VMT_4*$N77","v":0},{"$f":"(VLOOKUP($B77,'By Population'!$G$2:$K$14,5,FALSE))*'By Speed'!$P90*Scenario_VMT_4*$N77","v":0},{"$f":"(VLOOKUP($B77,'By Population'!$G$2:$K$14,5,FALSE))*'By Speed'!$Q90*Scenario_VMT_4*$N77","v":0},{"$f":"(VLOOKUP($B77,'By Population'!$G$2:$K$14,5,FALSE))*'By Speed'!$R90*Scenario_VMT_4*$N77","v":0},{"$f":"(VLOOKUP($B77,'By Population'!$G$2:$K$14,5,FALSE))*'By Speed'!$S90*Scenario_VMT_4*$N77","v":0},{"$f":"(VLOOKUP($B77,'By Population'!$G$2:$K$14,5,FALSE))*'By Speed'!$T90*Scenario_VMT_4*$N77","v":0},{"$f":"(VLOOKUP($B77,'By Population'!$G$2:$K$14,5,FALSE))*'By Speed'!$U90*Scenario_VMT_4*$N77","v":0},0,{"$f":"(VLOOKUP($B77,'By Population'!$G$2:$K$14,5,FALSE))*'By Speed'!$M90*Scenario_VMT_5*$N77","v":0},{"$f":"(VLOOKUP($B77,'By Population'!$G$2:$K$14,5,FALSE))*'By Speed'!$N90*Scenario_VMT_5*$N77","v":0},{"$f":"(VLOOKUP($B77,'By Population'!$G$2:$K$14,5,FALSE))*'By Speed'!$O90*Scenario_VMT_5*$N77","v":0},{"$f":"(VLOOKUP($B77,'By Population'!$G$2:$K$14,5,FALSE))*'By Speed'!$P90*Scenario_VMT_5*$N77","v":0},{"$f":"(VLOOKUP($B77,'By Population'!$G$2:$K$14,5,FALSE))*'By Speed'!$Q90*Scenario_VMT_5*$N77","v":0},{"$f":"(VLOOKUP($B77,'By Population'!$G$2:$K$14,5,FALSE))*'By Speed'!$R90*Scenario_VMT_5*$N77","v":0},{"$f":"(VLOOKUP($B77,'By Population'!$G$2:$K$14,5,FALSE))*'By Speed'!$S90*Scenario_VMT_5*$N77","v":0},{"$f":"(VLOOKUP($B77,'By Population'!$G$2:$K$14,5,FALSE))*'By Speed'!$T90*Scenario_VMT_5*$N77","v":0},{"$f":"(VLOOKUP($B77,'By Population'!$G$2:$K$14,5,FALSE))*'By Speed'!$U90*Scenario_VMT_5*$N77","v":0},0]
[69,"LDT2_GAS",35,"LDT2_GAS_35",{"$f":"(VLOOKUP($B78,'By Population'!$G$2:$K$14,5,FALSE))*'By Speed'!$M91*Scenario_VMT_EX*$N78","v":0},{"$f":"(VLOOKUP($B78,'By Population'!$G$2:$K$14,5,FALSE))*'By Speed'!$N91*Scenario_VMT_EX*$N78","v":0},{"$f":"(VLOOKUP($B78,'By Population'!$G$2:$K$14,5,FALSE))*'By Speed'!$O91*Scenario_VMT_EX*$N78","v":0},{"$f":"(VLOOKUP($B78,'By Population'!$G$2:$K$14,5,FALSE))*'By Speed'!$P91*Scenario_VMT_EX*$N78","v":0},{"$f":"(VLOOKUP($B78,'By Population'!$G$2:$K$14,5,FALSE))*'By Speed'!$Q91*Scenario_VMT_EX*$N78","v":0},{"$f":"(VLOOKUP($B78,'By Population'!$G$2:$K$14,5,FALSE))*'By Speed'!$R91*Scenario_VMT_EX*$N78","v":0},{"$f":"(VLOOKUP($B78,'By Population'!$G$2:$K$14,5,FALSE))*'By Speed'!$S91*Scenario_VMT_EX*$N78","v":0},{"$f":"(VLOOKUP($B78,'By Population'!$G$2:$K$14,5,FALSE))*'By Speed'!$T91*Scenario_VMT_EX*$N78","v":0},{"$f":"(VLOOKUP($B78,'By Population'!$G$2:$K$14,5,FALSE))*'By Speed'!$U91*Scenario_VMT_EX*$N78","v":0},0,{"$f":"(VLOOKUP($B78,'By Population'!$G$2:$K$14,5,FALSE))*'By Speed'!$M91*Scenario_VMT_1*$N78","v":0},{"$f":"(VLOOKUP($B78,'By Population'!$G$2:$K$14,5,FALSE))*'By Speed'!$N91*Scenario_VMT_1*$N78","v":0},{"$f":"(VLOOKUP($B78,'By Population'!$G$2:$K$14,5,FALSE))*'By Speed'!$O91*Scenario_VMT_1*$N78","v":0},{"$f":"(VLOOKUP($B78,'By Population'!$G$2:$K$14,5,FALSE))*'By Speed'!$P91*Scenario_VMT_1*$N78","v":0},{"$f":"(VLOOKUP($B78,'By Population'!$G$2:$K$14,5,FALSE))*'By Speed'!$Q91*Scenario_VMT_1*$N78","v":0},{"$f":"(VLOOKUP($B78,'By Population'!$G$2:$K$14,5,FALSE))*'By Speed'!$R91*Scenario_VMT_1*$N78","v":0},{"$f":"(VLOOKUP($B78,'By Population'!$G$2:$K$14,5,FALSE))*'By Speed'!$S91*Scenario_VMT_1*$N78","v":0},{"$f":"(VLOOKUP($B78,'By Population'!$G$2:$K$14,5,FALSE))*'By Speed'!$T91*Scenario_VMT_1*$N78","v":0},{"$f":"(VLOOKUP($B78,'By Population'!$G$2:$K$14,5,FALSE))*'By Speed'!$U91*Scenario_VMT_1*$N78","v":0},0,{"$f":"(VLOOKUP($B78,'By Population'!$G$2:$K$14,5,FALSE))*'By Speed'!$M91*Scenario_VMT_2*$N78","v":0},{"$f":"(VLOOKUP($B78,'By Population'!$G$2:$K$14,5,FALSE))*'By Speed'!$N91*Scenario_VMT_2*$N78","v":0},{"$f":"(VLOOKUP($B78,'By Population'!$G$2:$K$14,5,FALSE))*'By Speed'!$O91*Scenario_VMT_2*$N78","v":0},{"$f":"(VLOOKUP($B78,'By Population'!$G$2:$K$14,5,FALSE))*'By Speed'!$P91*Scenario_VMT_2*$N78","v":0},{"$f":"(VLOOKUP($B78,'By Population'!$G$2:$K$14,5,FALSE))*'By Speed'!$Q91*Scenario_VMT_2*$N78","v":0},{"$f":"(VLOOKUP($B78,'By Population'!$G$2:$K$14,5,FALSE))*'By Speed'!$R91*Scenario_VMT_2*$N78","v":0},{"$f":"(VLOOKUP($B78,'By Population'!$G$2:$K$14,5,FALSE))*'By Speed'!$S91*Scenario_VMT_2*$N78","v":0},{"$f":"(VLOOKUP($B78,'By Population'!$G$2:$K$14,5,FALSE))*'By Speed'!$T91*Scenario_VMT_2*$N78","v":0},{"$f":"(VLOOKUP($B78,'By Population'!$G$2:$K$14,5,FALSE))*'By Speed'!$U91*Scenario_VMT_2*$N78","v":0},0,{"$f":"(VLOOKUP($B78,'By Population'!$G$2:$K$14,5,FALSE))*'By Speed'!$M91*Scenario_VMT_3*$N78","v":0},{"$f":"(VLOOKUP($B78,'By Population'!$G$2:$K$14,5,FALSE))*'By Speed'!$N91*Scenario_VMT_3*$N78","v":0},{"$f":"(VLOOKUP($B78,'By Population'!$G$2:$K$14,5,FALSE))*'By Speed'!$O91*Scenario_VMT_3*$N78","v":0},{"$f":"(VLOOKUP($B78,'By Population'!$G$2:$K$14,5,FALSE))*'By Speed'!$P91*Scenario_VMT_3*$N78","v":0},{"$f":"(VLOOKUP($B78,'By Population'!$G$2:$K$14,5,FALSE))*'By Speed'!$Q91*Scenario_VMT_3*$N78","v":0},{"$f":"(VLOOKUP($B78,'By Population'!$G$2:$K$14,5,FALSE))*'By Speed'!$R91*Scenario_VMT_3*$N78","v":0},{"$f":"(VLOOKUP($B78,'By Population'!$G$2:$K$14,5,FALSE))*'By Speed'!$S91*Scenario_VMT_3*$N78","v":0},{"$f":"(VLOOKUP($B78,'By Population'!$G$2:$K$14,5,FALSE))*'By Speed'!$T91*Scenario_VMT_3*$N78","v":0},{"$f":"(VLOOKUP($B78,'By Population'!$G$2:$K$14,5,FALSE))*'By Speed'!$U91*Scenario_VMT_3*$N78","v":0},0,{"$f":"(VLOOKUP($B78,'By Population'!$G$2:$K$14,5,FALSE))*'By Speed'!$M91*Scenario_VMT_4*$N78","v":0},{"$f":"(VLOOKUP($B78,'By Population'!$G$2:$K$14,5,FALSE))*'By Speed'!$N91*Scenario_VMT_4*$N78","v":0},{"$f":"(VLOOKUP($B78,'By Population'!$G$2:$K$14,5,FALSE))*'By Speed'!$O91*Scenario_VMT_4*$N78","v":0},{"$f":"(VLOOKUP($B78,'By Population'!$G$2:$K$14,5,FALSE))*'By Speed'!$P91*Scenario_VMT_4*$N78","v":0},{"$f":"(VLOOKUP($B78,'By Population'!$G$2:$K$14,5,FALSE))*'By Speed'!$Q91*Scenario_VMT_4*$N78","v":0},{"$f":"(VLOOKUP($B78,'By Population'!$G$2:$K$14,5,FALSE))*'By Speed'!$R91*Scenario_VMT_4*$N78","v":0},{"$f":"(VLOOKUP($B78,'By Population'!$G$2:$K$14,5,FALSE))*'By Speed'!$S91*Scenario_VMT_4*$N78","v":0},{"$f":"(VLOOKUP($B78,'By Population'!$G$2:$K$14,5,FALSE))*'By Speed'!$T91*Scenario_VMT_4*$N78","v":0},{"$f":"(VLOOKUP($B78,'By Population'!$G$2:$K$14,5,FALSE))*'By Speed'!$U91*Scenario_VMT_4*$N78","v":0},0,{"$f":"(VLOOKUP($B78,'By Population'!$G$2:$K$14,5,FALSE))*'By Speed'!$M91*Scenario_VMT_5*$N78","v":0},{"$f":"(VLOOKUP($B78,'By Population'!$G$2:$K$14,5,FALSE))*'By Speed'!$N91*Scenario_VMT_5*$N78","v":0},{"$f":"(VLOOKUP($B78,'By Population'!$G$2:$K$14,5,FALSE))*'By Speed'!$O91*Scenario_VMT_5*$N78","v":0},{"$f":"(VLOOKUP($B78,'By Population'!$G$2:$K$14,5,FALSE))*'By Speed'!$P91*Scenario_VMT_5*$N78","v":0},{"$f":"(VLOOKUP($B78,'By Population'!$G$2:$K$14,5,FALSE))*'By Speed'!$Q91*Scenario_VMT_5*$N78","v":0},{"$f":"(VLOOKUP($B78,'By Population'!$G$2:$K$14,5,FALSE))*'By Speed'!$R91*Scenario_VMT_5*$N78","v":0},{"$f":"(VLOOKUP($B78,'By Population'!$G$2:$K$14,5,FALSE))*'By Speed'!$S91*Scenario_VMT_5*$N78","v":0},{"$f":"(VLOOKUP($B78,'By Population'!$G$2:$K$14,5,FALSE))*'By Speed'!$T91*Scenario_VMT_5*$N78","v":0},{"$f":"(VLOOKUP($B78,'By Population'!$G$2:$K$14,5,FALSE))*'By Speed'!$U91*Scenario_VMT_5*$N78","v":0},0]
[71,"LDT2_GAS",40,"LDT2_GAS_40",{"$f":"(VLOOKUP($B79,'By Population'!$G$2:$K$14,5,FALSE))*'By Speed'!$M92*Scenario_VMT_EX*$N79","v":0},{"$f":"(VLOOKUP($B79,'By Population'!$G$2:$K$14,5,FALSE))*'By Speed'!$N92*Scenario_VMT_EX*$N79","v":0},{"$f":"(VLOOKUP($B79,'By Population'!$G$2:$K$14,5,FALSE))*'By Speed'!$O92*Scenario_VMT_EX*$N79","v":0},{"$f":"(VLOOKUP($B79,'By Population'!$G$2:$K$14,5,FALSE))*'By Speed'!$P92*Scenario_VMT_EX*$N79","v":0},{"$f":"(VLOOKUP($B79,'By Population'!$G$2:$K$14,5,FALSE))*'By Speed'!$Q92*Scenario_VMT_EX*$N79","v":0},{"$f":"(VLOOKUP($B79,'By Population'!$G$2:$K$14,5,FALSE))*'By Speed'!$R92*Scenario_VMT_EX*$N79","v":0},{"$f":"(VLOOKUP($B79,'By Population'!$G$2:$K$14,5,FALSE))*'By Speed'!$S92*Scenario_VMT_EX*$N79","v":0},{"$f":"(VLOOKUP($B79,'By Population'!$G$2:$K$14,5,FALSE))*'By Speed'!$T92*Scenario_VMT_EX*$N79","v":0},{"$f":"(VLOOKUP($B79,'By Population'!$G$2:$K$14,5,FALSE))*'By Speed'!$U92*Scenario_VMT_EX*$N79","v":0},0,{"$f":"(VLOOKUP($B79,'By Population'!$G$2:$K$14,5,FALSE))*'By Speed'!$M92*Scenario_VMT_1*$N79","v":0},{"$f":"(VLOOKUP($B79,'By Population'!$G$2:$K$14,5,FALSE))*'By Speed'!$N92*Scenario_VMT_1*$N79","v":0},{"$f":"(VLOOKUP($B79,'By Population'!$G$2:$K$14,5,FALSE))*'By Speed'!$O92*Scenario_VMT_1*$N79","v":0},{"$f":"(VLOOKUP($B79,'By Population'!$G$2:$K$14,5,FALSE))*'By Speed'!$P92*Scenario_VMT_1*$N79","v":0},{"$f":"(VLOOKUP($B79,'By Population'!$G$2:$K$14,5,FALSE))*'By Speed'!$Q92*Scenario_VMT_1*$N79","v":0},{"$f":"(VLOOKUP($B79,'By Population'!$G$2:$K$14,5,FALSE))*'By Speed'!$R92*Scenario_VMT_1*$N79","v":0},{"$f":"(VLOOKUP($B79,'By Population'!$G$2:$K$14,5,FALSE))*'By Speed'!$S92*Scenario_VMT_1*$N79","v":0},{"$f":"(VLOOKUP($B79,'By Population'!$G$2:$K$14,5,FALSE))*'By Speed'!$T92*Scenario_VMT_1*$N79","v":0},{"$f":"(VLOOKUP($B79,'By Population'!$G$2:$K$14,5,FALSE))*'By Speed'!$U92*Scenario_VMT_1*$N79","v":0},0,{"$f":"(VLOOKUP($B79,'By Population'!$G$2:$K$14,5,FALSE))*'By Speed'!$M92*Scenario_VMT_2*$N79","v":0},{"$f":"(VLOOKUP($B79,'By Population'!$G$2:$K$14,5,FALSE))*'By Speed'!$N92*Scenario_VMT_2*$N79","v":0},{"$f":"(VLOOKUP($B79,'By Population'!$G$2:$K$14,5,FALSE))*'By Speed'!$O92*Scenario_VMT_2*$N79","v":0},{"$f":"(VLOOKUP($B79,'By Population'!$G$2:$K$14,5,FALSE))*'By Speed'!$P92*Scenario_VMT_2*$N79","v":0},{"$f":"(VLOOKUP($B79,'By Population'!$G$2:$K$14,5,FALSE))*'By Speed'!$Q92*Scenario_VMT_2*$N79","v":0},{"$f":"(VLOOKUP($B79,'By Population'!$G$2:$K$14,5,FALSE))*'By Speed'!$R92*Scenario_VMT_2*$N79","v":0},{"$f":"(VLOOKUP($B79,'By Population'!$G$2:$K$14,5,FALSE))*'By Speed'!$S92*Scenario_VMT_2*$N79","v":0},{"$f":"(VLOOKUP($B79,'By Population'!$G$2:$K$14,5,FALSE))*'By Speed'!$T92*Scenario_VMT_2*$N79","v":0},{"$f":"(VLOOKUP($B79,'By Population'!$G$2:$K$14,5,FALSE))*'By Speed'!$U92*Scenario_VMT_2*$N79","v":0},0,{"$f":"(VLOOKUP($B79,'By Population'!$G$2:$K$14,5,FALSE))*'By Speed'!$M92*Scenario_VMT_3*$N79","v":0},{"$f":"(VLOOKUP($B79,'By Population'!$G$2:$K$14,5,FALSE))*'By Speed'!$N92*Scenario_VMT_3*$N79","v":0},{"$f":"(VLOOKUP($B79,'By Population'!$G$2:$K$14,5,FALSE))*'By Speed'!$O92*Scenario_VMT_3*$N79","v":0},{"$f":"(VLOOKUP($B79,'By Population'!$G$2:$K$14,5,FALSE))*'By Speed'!$P92*Scenario_VMT_3*$N79","v":0},{"$f":"(VLOOKUP($B79,'By Population'!$G$2:$K$14,5,FALSE))*'By Speed'!$Q92*Scenario_VMT_3*$N79","v":0},{"$f":"(VLOOKUP($B79,'By Population'!$G$2:$K$14,5,FALSE))*'By Speed'!$R92*Scenario_VMT_3*$N79","v":0},{"$f":"(VLOOKUP($B79,'By Population'!$G$2:$K$14,5,FALSE))*'By Speed'!$S92*Scenario_VMT_3*$N79","v":0},{"$f":"(VLOOKUP($B79,'By Population'!$G$2:$K$14,5,FALSE))*'By Speed'!$T92*Scenario_VMT_3*$N79","v":0},{"$f":"(VLOOKUP($B79,'By Population'!$G$2:$K$14,5,FALSE))*'By Speed'!$U92*Scenario_VMT_3*$N79","v":0},0,{"$f":"(VLOOKUP($B79,'By Population'!$G$2:$K$14,5,FALSE))*'By Speed'!$M92*Scenario_VMT_4*$N79","v":0},{"$f":"(VLOOKUP($B79,'By Population'!$G$2:$K$14,5,FALSE))*'By Speed'!$N92*Scenario_VMT_4*$N79","v":0},{"$f":"(VLOOKUP($B79,'By Population'!$G$2:$K$14,5,FALSE))*'By Speed'!$O92*Scenario_VMT_4*$N79","v":0},{"$f":"(VLOOKUP($B79,'By Population'!$G$2:$K$14,5,FALSE))*'By Speed'!$P92*Scenario_VMT_4*$N79","v":0},{"$f":"(VLOOKUP($B79,'By Population'!$G$2:$K$14,5,FALSE))*'By Speed'!$Q92*Scenario_VMT_4*$N79","v":0},{"$f":"(VLOOKUP($B79,'By Population'!$G$2:$K$14,5,FALSE))*'By Speed'!$R92*Scenario_VMT_4*$N79","v":0},{"$f":"(VLOOKUP($B79,'By Population'!$G$2:$K$14,5,FALSE))*'By Speed'!$S92*Scenario_VMT_4*$N79","v":0},{"$f":"(VLOOKUP($B79,'By Population'!$G$2:$K$14,5,FALSE))*'By Speed'!$T92*Scenario_VMT_4*$N79","v":0},{"$f":"(VLOOKUP($B79,'By Population'!$G$2:$K$14,5,FALSE))*'By Speed'!$U92*Scenario_VMT_4*$N79","v":0},0,{"$f":"(VLOOKUP($B79,'By Population'!$G$2:$K$14,5,FALSE))*'By Speed'!$M92*Scenario_VMT_5*$N79","v":0},{"$f":"(VLOOKUP($B79,'By Population'!$G$2:$K$14,5,FALSE))*'By Speed'!$N92*Scenario_VMT_5*$N79","v":0},{"$f":"(VLOOKUP($B79,'By Population'!$G$2:$K$14,5,FALSE))*'By Speed'!$O92*Scenario_VMT_5*$N79","v":0},{"$f":"(VLOOKUP($B79,'By Population'!$G$2:$K$14,5,FALSE))*'By Speed'!$P92*Scenario_VMT_5*$N79","v":0},{"$f":"(VLOOKUP($B79,'By Population'!$G$2:$K$14,5,FALSE))*'By Speed'!$Q92*Scenario_VMT_5*$N79","v":0},{"$f":"(VLOOKUP($B79,'By Population'!$G$2:$K$14,5,FALSE))*'By Speed'!$R92*Scenario_VMT_5*$N79","v":0},{"$f":"(VLOOKUP($B79,'By Population'!$G$2:$K$14,5,FALSE))*'By Speed'!$S92*Scenario_VMT_5*$N79","v":0},{"$f":"(VLOOKUP($B79,'By Population'!$G$2:$K$14,5,FALSE))*'By Speed'!$T92*Scenario_VMT_5*$N79","v":0},{"$f":"(VLOOKUP($B79,'By Population'!$G$2:$K$14,5,FALSE))*'By Speed'!$U92*Scenario_VMT_5*$N79","v":0},0]
[73,"LDT2_GAS",45,"LDT2_GAS_45",{"$f":"(VLOOKUP($B80,'By Population'!$G$2:$K$14,5,FALSE))*'By Speed'!$M93*Scenario_VMT_EX*$N80","v":0},{"$f":"(VLOOKUP($B80,'By Population'!$G$2:$K$14,5,FALSE))*'By Speed'!$N93*Scenario_VMT_EX*$N80","v":0},{"$f":"(VLOOKUP($B80,'By Population'!$G$2:$K$14,5,FALSE))*'By Speed'!$O93*Scenario_VMT_EX*$N80","v":0},{"$f":"(VLOOKUP($B80,'By Population'!$G$2:$K$14,5,FALSE))*'By Speed'!$P93*Scenario_VMT_EX*$N80","v":0},{"$f":"(VLOOKUP($B80,'By Population'!$G$2:$K$14,5,FALSE))*'By Speed'!$Q93*Scenario_VMT_EX*$N80","v":0},{"$f":"(VLOOKUP($B80,'By Population'!$G$2:$K$14,5,FALSE))*'By Speed'!$R93*Scenario_VMT_EX*$N80","v":0},{"$f":"(VLOOKUP($B80,'By Population'!$G$2:$K$14,5,FALSE))*'By Speed'!$S93*Scenario_VMT_EX*$N80","v":0},{"$f":"(VLOOKUP($B80,'By Population'!$G$2:$K$14,5,FALSE))*'By Speed'!$T93*Scenario_VMT_EX*$N80","v":0},{"$f":"(VLOOKUP($B80,'By Population'!$G$2:$K$14,5,FALSE))*'By Speed'!$U93*Scenario_VMT_EX*$N80","v":0},0,{"$f":"(VLOOKUP($B80,'By Population'!$G$2:$K$14,5,FALSE))*'By Speed'!$M93*Scenario_VMT_1*$N80","v":0},{"$f":"(VLOOKUP($B80,'By Population'!$G$2:$K$14,5,FALSE))*'By Speed'!$N93*Scenario_VMT_1*$N80","v":0},{"$f":"(VLOOKUP($B80,'By Population'!$G$2:$K$14,5,FALSE))*'By Speed'!$O93*Scenario_VMT_1*$N80","v":0},{"$f":"(VLOOKUP($B80,'By Population'!$G$2:$K$14,5,FALSE))*'By Speed'!$P93*Scenario_VMT_1*$N80","v":0},{"$f":"(VLOOKUP($B80,'By Population'!$G$2:$K$14,5,FALSE))*'By Speed'!$Q93*Scenario_VMT_1*$N80","v":0},{"$f":"(VLOOKUP($B80,'By Population'!$G$2:$K$14,5,FALSE))*'By Speed'!$R93*Scenario_VMT_1*$N80","v":0},{"$f":"(VLOOKUP($B80,'By Population'!$G$2:$K$14,5,FALSE))*'By Speed'!$S93*Scenario_VMT_1*$N80","v":0},{"$f":"(VLOOKUP($B80,'By Population'!$G$2:$K$14,5,FALSE))*'By Speed'!$T93*Scenario_VMT_1*$N80","v":0},{"$f":"(VLOOKUP($B80,'By Population'!$G$2:$K$14,5,FALSE))*'By Speed'!$U93*Scenario_VMT_1*$N80","v":0},0,{"$f":"(VLOOKUP($B80,'By Population'!$G$2:$K$14,5,FALSE))*'By Speed'!$M93*Scenario_VMT_2*$N80","v":0},{"$f":"(VLOOKUP($B80,'By Population'!$G$2:$K$14,5,FALSE))*'By Speed'!$N93*Scenario_VMT_2*$N80","v":0},{"$f":"(VLOOKUP($B80,'By Population'!$G$2:$K$14,5,FALSE))*'By Speed'!$O93*Scenario_VMT_2*$N80","v":0},{"$f":"(VLOOKUP($B80,'By Population'!$G$2:$K$14,5,FALSE))*'By Speed'!$P93*Scenario_VMT_2*$N80","v":0},{"$f":"(VLOOKUP($B80,'By Population'!$G$2:$K$14,5,FALSE))*'By Speed'!$Q93*Scenario_VMT_2*$N80","v":0},{"$f":"(VLOOKUP($B80,'By Population'!$G$2:$K$14,5,FALSE))*'By Speed'!$R93*Scenario_VMT_2*$N80","v":0},{"$f":"(VLOOKUP($B80,'By Population'!$G$2:$K$14,5,FALSE))*'By Speed'!$S93*Scenario_VMT_2*$N80","v":0},{"$f":"(VLOOKUP($B80,'By Population'!$G$2:$K$14,5,FALSE))*'By Speed'!$T93*Scenario_VMT_2*$N80","v":0},{"$f":"(VLOOKUP($B80,'By Population'!$G$2:$K$14,5,FALSE))*'By Speed'!$U93*Scenario_VMT_2*$N80","v":0},0,{"$f":"(VLOOKUP($B80,'By Population'!$G$2:$K$14,5,FALSE))*'By Speed'!$M93*Scenario_VMT_3*$N80","v":0},{"$f":"(VLOOKUP($B80,'By Population'!$G$2:$K$14,5,FALSE))*'By Speed'!$N93*Scenario_VMT_3*$N80","v":0},{"$f":"(VLOOKUP($B80,'By Population'!$G$2:$K$14,5,FALSE))*'By Speed'!$O93*Scenario_VMT_3*$N80","v":0},{"$f":"(VLOOKUP($B80,'By Population'!$G$2:$K$14,5,FALSE))*'By Speed'!$P93*Scenario_VMT_3*$N80","v":0},{"$f":"(VLOOKUP($B80,'By Population'!$G$2:$K$14,5,FALSE))*'By Speed'!$Q93*Scenario_VMT_3*$N80","v":0},{"$f":"(VLOOKUP($B80,'By Population'!$G$2:$K$14,5,FALSE))*'By Speed'!$R93*Scenario_VMT_3*$N80","v":0},{"$f":"(VLOOKUP($B80,'By Population'!$G$2:$K$14,5,FALSE))*'By Speed'!$S93*Scenario_VMT_3*$N80","v":0},{"$f":"(VLOOKUP($B80,'By Population'!$G$2:$K$14,5,FALSE))*'By Speed'!$T93*Scenario_VMT_3*$N80","v":0},{"$f":"(VLOOKUP($B80,'By Population'!$G$2:$K$14,5,FALSE))*'By Speed'!$U93*Scenario_VMT_3*$N80","v":0},0,{"$f":"(VLOOKUP($B80,'By Population'!$G$2:$K$14,5,FALSE))*'By Speed'!$M93*Scenario_VMT_4*$N80","v":0},{"$f":"(VLOOKUP($B80,'By Population'!$G$2:$K$14,5,FALSE))*'By Speed'!$N93*Scenario_VMT_4*$N80","v":0},{"$f":"(VLOOKUP($B80,'By Population'!$G$2:$K$14,5,FALSE))*'By Speed'!$O93*Scenario_VMT_4*$N80","v":0},{"$f":"(VLOOKUP($B80,'By Population'!$G$2:$K$14,5,FALSE))*'By Speed'!$P93*Scenario_VMT_4*$N80","v":0},{"$f":"(VLOOKUP($B80,'By Population'!$G$2:$K$14,5,FALSE))*'By Speed'!$Q93*Scenario_VMT_4*$N80","v":0},{"$f":"(VLOOKUP($B80,'By Population'!$G$2:$K$14,5,FALSE))*'By Speed'!$R93*Scenario_VMT_4*$N80","v":0},{"$f":"(VLOOKUP($B80,'By Population'!$G$2:$K$14,5,FALSE))*'By Speed'!$S93*Scenario_VMT_4*$N80","v":0},{"$f":"(VLOOKUP($B80,'By Population'!$G$2:$K$14,5,FALSE))*'By Speed'!$T93*Scenario_VMT_4*$N80","v":0},{"$f":"(VLOOKUP($B80,'By Population'!$G$2:$K$14,5,FALSE))*'By Speed'!$U93*Scenario_VMT_4*$N80","v":0},0,{"$f":"(VLOOKUP($B80,'By Population'!$G$2:$K$14,5,FALSE))*'By Speed'!$M93*Scenario_VMT_5*$N80","v":0},{"$f":"(VLOOKUP($B80,'By Population'!$G$2:$K$14,5,FALSE))*'By Speed'!$N93*Scenario_VMT_5*$N80","v":0},{"$f":"(VLOOKUP($B80,'By Population'!$G$2:$K$14,5,FALSE))*'By Speed'!$O93*Scenario_VMT_5*$N80","v":0},{"$f":"(VLOOKUP($B80,'By Population'!$G$2:$K$14,5,FALSE))*'By Speed'!$P93*Scenario_VMT_5*$N80","v":0},{"$f":"(VLOOKUP($B80,'By Population'!$G$2:$K$14,5,FALSE))*'By Speed'!$Q93*Scenario_VMT_5*$N80","v":0},{"$f":"(VLOOKUP($B80,'By Population'!$G$2:$K$14,5,FALSE))*'By Speed'!$R93*Scenario_VMT_5*$N80","v":0},{"$f":"(VLOOKUP($B80,'By Population'!$G$2:$K$14,5,FALSE))*'By Speed'!$S93*Scenario_VMT_5*$N80","v":0},{"$f":"(VLOOKUP($B80,'By Population'!$G$2:$K$14,5,FALSE))*'By Speed'!$T93*Scenario_VMT_5*$N80","v":0},{"$f":"(VLOOKUP($B80,'By Population'!$G$2:$K$14,5,FALSE))*'By Speed'!$U93*Scenario_VMT_5*$N80","v":0},0]
[57,"LDT2_GAS",5,"LDT2_GAS_5",{"$f":"(VLOOKUP($B81,'By Population'!$G$2:$K$14,5,FALSE))*'By Speed'!$M94*Scenario_VMT_EX*$N81","v":0},{"$f":"(VLOOKUP($B81,'By Population'!$G$2:$K$14,5,FALSE))*'By Speed'!$N94*Scenario_VMT_EX*$N81","v":0},{"$f":"(VLOOKUP($B81,'By Population'!$G$2:$K$14,5,FALSE))*'By Speed'!$O94*Scenario_VMT_EX*$N81","v":0},{"$f":"(VLOOKUP($B81,'By Population'!$G$2:$K$14,5,FALSE))*'By Speed'!$P94*Scenario_VMT_EX*$N81","v":0},{"$f":"(VLOOKUP($B81,'By Population'!$G$2:$K$14,5,FALSE))*'By Speed'!$Q94*Scenario_VMT_EX*$N81","v":0},{"$f":"(VLOOKUP($B81,'By Population'!$G$2:$K$14,5,FALSE))*'By Speed'!$R94*Scenario_VMT_EX*$N81","v":0},{"$f":"(VLOOKUP($B81,'By Population'!$G$2:$K$14,5,FALSE))*'By Speed'!$S94*Scenario_VMT_EX*$N81","v":0},{"$f":"(VLOOKUP($B81,'By Population'!$G$2:$K$14,5,FALSE))*'By Speed'!$T94*Scenario_VMT_EX*$N81","v":0},{"$f":"(VLOOKUP($B81,'By Population'!$G$2:$K$14,5,FALSE))*'By Speed'!$U94*Scenario_VMT_EX*$N81","v":0},0,{"$f":"(VLOOKUP($B81,'By Population'!$G$2:$K$14,5,FALSE))*'By Speed'!$M94*Scenario_VMT_1*$N81","v":0},{"$f":"(VLOOKUP($B81,'By Population'!$G$2:$K$14,5,FALSE))*'By Speed'!$N94*Scenario_VMT_1*$N81","v":0},{"$f":"(VLOOKUP($B81,'By Population'!$G$2:$K$14,5,FALSE))*'By Speed'!$O94*Scenario_VMT_1*$N81","v":0},{"$f":"(VLOOKUP($B81,'By Population'!$G$2:$K$14,5,FALSE))*'By Speed'!$P94*Scenario_VMT_1*$N81","v":0},{"$f":"(VLOOKUP($B81,'By Population'!$G$2:$K$14,5,FALSE))*'By Speed'!$Q94*Scenario_VMT_1*$N81","v":0},{"$f":"(VLOOKUP($B81,'By Population'!$G$2:$K$14,5,FALSE))*'By Speed'!$R94*Scenario_VMT_1*$N81","v":0},{"$f":"(VLOOKUP($B81,'By Population'!$G$2:$K$14,5,FALSE))*'By Speed'!$S94*Scenario_VMT_1*$N81","v":0},{"$f":"(VLOOKUP($B81,'By Population'!$G$2:$K$14,5,FALSE))*'By Speed'!$T94*Scenario_VMT_1*$N81","v":0},{"$f":"(VLOOKUP($B81,'By Population'!$G$2:$K$14,5,FALSE))*'By Speed'!$U94*Scenario_VMT_1*$N81","v":0},0,{"$f":"(VLOOKUP($B81,'By Population'!$G$2:$K$14,5,FALSE))*'By Speed'!$M94*Scenario_VMT_2*$N81","v":0},{"$f":"(VLOOKUP($B81,'By Population'!$G$2:$K$14,5,FALSE))*'By Speed'!$N94*Scenario_VMT_2*$N81","v":0},{"$f":"(VLOOKUP($B81,'By Population'!$G$2:$K$14,5,FALSE))*'By Speed'!$O94*Scenario_VMT_2*$N81","v":0},{"$f":"(VLOOKUP($B81,'By Population'!$G$2:$K$14,5,FALSE))*'By Speed'!$P94*Scenario_VMT_2*$N81","v":0},{"$f":"(VLOOKUP($B81,'By Population'!$G$2:$K$14,5,FALSE))*'By Speed'!$Q94*Scenario_VMT_2*$N81","v":0},{"$f":"(VLOOKUP($B81,'By Population'!$G$2:$K$14,5,FALSE))*'By Speed'!$R94*Scenario_VMT_2*$N81","v":0},{"$f":"(VLOOKUP($B81,'By Population'!$G$2:$K$14,5,FALSE))*'By Speed'!$S94*Scenario_VMT_2*$N81","v":0},{"$f":"(VLOOKUP($B81,'By Population'!$G$2:$K$14,5,FALSE))*'By Speed'!$T94*Scenario_VMT_2*$N81","v":0},{"$f":"(VLOOKUP($B81,'By Population'!$G$2:$K$14,5,FALSE))*'By Speed'!$U94*Scenario_VMT_2*$N81","v":0},0,{"$f":"(VLOOKUP($B81,'By Population'!$G$2:$K$14,5,FALSE))*'By Speed'!$M94*Scenario_VMT_3*$N81","v":0},{"$f":"(VLOOKUP($B81,'By Population'!$G$2:$K$14,5,FALSE))*'By Speed'!$N94*Scenario_VMT_3*$N81","v":0},{"$f":"(VLOOKUP($B81,'By Population'!$G$2:$K$14,5,FALSE))*'By Speed'!$O94*Scenario_VMT_3*$N81","v":0},{"$f":"(VLOOKUP($B81,'By Population'!$G$2:$K$14,5,FALSE))*'By Speed'!$P94*Scenario_VMT_3*$N81","v":0},{"$f":"(VLOOKUP($B81,'By Population'!$G$2:$K$14,5,FALSE))*'By Speed'!$Q94*Scenario_VMT_3*$N81","v":0},{"$f":"(VLOOKUP($B81,'By Population'!$G$2:$K$14,5,FALSE))*'By Speed'!$R94*Scenario_VMT_3*$N81","v":0},{"$f":"(VLOOKUP($B81,'By Population'!$G$2:$K$14,5,FALSE))*'By Speed'!$S94*Scenario_VMT_3*$N81","v":0},{"$f":"(VLOOKUP($B81,'By Population'!$G$2:$K$14,5,FALSE))*'By Speed'!$T94*Scenario_VMT_3*$N81","v":0},{"$f":"(VLOOKUP($B81,'By Population'!$G$2:$K$14,5,FALSE))*'By Speed'!$U94*Scenario_VMT_3*$N81","v":0},0,{"$f":"(VLOOKUP($B81,'By Population'!$G$2:$K$14,5,FALSE))*'By Speed'!$M94*Scenario_VMT_4*$N81","v":0},{"$f":"(VLOOKUP($B81,'By Population'!$G$2:$K$14,5,FALSE))*'By Speed'!$N94*Scenario_VMT_4*$N81","v":0},{"$f":"(VLOOKUP($B81,'By Population'!$G$2:$K$14,5,FALSE))*'By Speed'!$O94*Scenario_VMT_4*$N81","v":0},{"$f":"(VLOOKUP($B81,'By Population'!$G$2:$K$14,5,FALSE))*'By Speed'!$P94*Scenario_VMT_4*$N81","v":0},{"$f":"(VLOOKUP($B81,'By Population'!$G$2:$K$14,5,FALSE))*'By Speed'!$Q94*Scenario_VMT_4*$N81","v":0},{"$f":"(VLOOKUP($B81,'By Population'!$G$2:$K$14,5,FALSE))*'By Speed'!$R94*Scenario_VMT_4*$N81","v":0},{"$f":"(VLOOKUP($B81,'By Population'!$G$2:$K$14,5,FALSE))*'By Speed'!$S94*Scenario_VMT_4*$N81","v":0},{"$f":"(VLOOKUP($B81,'By Population'!$G$2:$K$14,5,FALSE))*'By Speed'!$T94*Scenario_VMT_4*$N81","v":0},{"$f":"(VLOOKUP($B81,'By Population'!$G$2:$K$14,5,FALSE))*'By Speed'!$U94*Scenario_VMT_4*$N81","v":0},0,{"$f":"(VLOOKUP($B81,'By Population'!$G$2:$K$14,5,FALSE))*'By Speed'!$M94*Scenario_VMT_5*$N81","v":0},{"$f":"(VLOOKUP($B81,'By Population'!$G$2:$K$14,5,FALSE))*'By Speed'!$N94*Scenario_VMT_5*$N81","v":0},{"$f":"(VLOOKUP($B81,'By Population'!$G$2:$K$14,5,FALSE))*'By Speed'!$O94*Scenario_VMT_5*$N81","v":0},{"$f":"(VLOOKUP($B81,'By Population'!$G$2:$K$14,5,FALSE))*'By Speed'!$P94*Scenario_VMT_5*$N81","v":0},{"$f":"(VLOOKUP($B81,'By Population'!$G$2:$K$14,5,FALSE))*'By Speed'!$Q94*Scenario_VMT_5*$N81","v":0},{"$f":"(VLOOKUP($B81,'By Population'!$G$2:$K$14,5,FALSE))*'By Speed'!$R94*Scenario_VMT_5*$N81","v":0},{"$f":"(VLOOKUP($B81,'By Population'!$G$2:$K$14,5,FALSE))*'By Speed'!$S94*Scenario_VMT_5*$N81","v":0},{"$f":"(VLOOKUP($B81,'By Population'!$G$2:$K$14,5,FALSE))*'By Speed'!$T94*Scenario_VMT_5*$N81","v":0},{"$f":"(VLOOKUP($B81,'By Population'!$G$2:$K$14,5,FALSE))*'By Speed'!$U94*Scenario_VMT_5*$N81","v":0},0]
[75,"LDT2_GAS",50,"LDT2_GAS_50",{"$f":"(VLOOKUP($B82,'By Population'!$G$2:$K$14,5,FALSE))*'By Speed'!$M95*Scenario_VMT_EX*$N82","v":0},{"$f":"(VLOOKUP($B82,'By Population'!$G$2:$K$14,5,FALSE))*'By Speed'!$N95*Scenario_VMT_EX*$N82","v":0},{"$f":"(VLOOKUP($B82,'By Population'!$G$2:$K$14,5,FALSE))*'By Speed'!$O95*Scenario_VMT_EX*$N82","v":0},{"$f":"(VLOOKUP($B82,'By Population'!$G$2:$K$14,5,FALSE))*'By Speed'!$P95*Scenario_VMT_EX*$N82","v":0},{"$f":"(VLOOKUP($B82,'By Population'!$G$2:$K$14,5,FALSE))*'By Speed'!$Q95*Scenario_VMT_EX*$N82","v":0},{"$f":"(VLOOKUP($B82,'By Population'!$G$2:$K$14,5,FALSE))*'By Speed'!$R95*Scenario_VMT_EX*$N82","v":0},{"$f":"(VLOOKUP($B82,'By Population'!$G$2:$K$14,5,FALSE))*'By Speed'!$S95*Scenario_VMT_EX*$N82","v":0},{"$f":"(VLOOKUP($B82,'By Population'!$G$2:$K$14,5,FALSE))*'By Speed'!$T95*Scenario_VMT_EX*$N82","v":0},{"$f":"(VLOOKUP($B82,'By Population'!$G$2:$K$14,5,FALSE))*'By Speed'!$U95*Scenario_VMT_EX*$N82","v":0},0,{"$f":"(VLOOKUP($B82,'By Population'!$G$2:$K$14,5,FALSE))*'By Speed'!$M95*Scenario_VMT_1*$N82","v":0},{"$f":"(VLOOKUP($B82,'By Population'!$G$2:$K$14,5,FALSE))*'By Speed'!$N95*Scenario_VMT_1*$N82","v":0},{"$f":"(VLOOKUP($B82,'By Population'!$G$2:$K$14,5,FALSE))*'By Speed'!$O95*Scenario_VMT_1*$N82","v":0},{"$f":"(VLOOKUP($B82,'By Population'!$G$2:$K$14,5,FALSE))*'By Speed'!$P95*Scenario_VMT_1*$N82","v":0},{"$f":"(VLOOKUP($B82,'By Population'!$G$2:$K$14,5,FALSE))*'By Speed'!$Q95*Scenario_VMT_1*$N82","v":0},{"$f":"(VLOOKUP($B82,'By Population'!$G$2:$K$14,5,FALSE))*'By Speed'!$R95*Scenario_VMT_1*$N82","v":0},{"$f":"(VLOOKUP($B82,'By Population'!$G$2:$K$14,5,FALSE))*'By Speed'!$S95*Scenario_VMT_1*$N82","v":0},{"$f":"(VLOOKUP($B82,'By Population'!$G$2:$K$14,5,FALSE))*'By Speed'!$T95*Scenario_VMT_1*$N82","v":0},{"$f":"(VLOOKUP($B82,'By Population'!$G$2:$K$14,5,FALSE))*'By Speed'!$U95*Scenario_VMT_1*$N82","v":0},0,{"$f":"(VLOOKUP($B82,'By Population'!$G$2:$K$14,5,FALSE))*'By Speed'!$M95*Scenario_VMT_2*$N82","v":0},{"$f":"(VLOOKUP($B82,'By Population'!$G$2:$K$14,5,FALSE))*'By Speed'!$N95*Scenario_VMT_2*$N82","v":0},{"$f":"(VLOOKUP($B82,'By Population'!$G$2:$K$14,5,FALSE))*'By Speed'!$O95*Scenario_VMT_2*$N82","v":0},{"$f":"(VLOOKUP($B82,'By Population'!$G$2:$K$14,5,FALSE))*'By Speed'!$P95*Scenario_VMT_2*$N82","v":0},{"$f":"(VLOOKUP($B82,'By Population'!$G$2:$K$14,5,FALSE))*'By Speed'!$Q95*Scenario_VMT_2*$N82","v":0},{"$f":"(VLOOKUP($B82,'By Population'!$G$2:$K$14,5,FALSE))*'By Speed'!$R95*Scenario_VMT_2*$N82","v":0},{"$f":"(VLOOKUP($B82,'By Population'!$G$2:$K$14,5,FALSE))*'By Speed'!$S95*Scenario_VMT_2*$N82","v":0},{"$f":"(VLOOKUP($B82,'By Population'!$G$2:$K$14,5,FALSE))*'By Speed'!$T95*Scenario_VMT_2*$N82","v":0},{"$f":"(VLOOKUP($B82,'By Population'!$G$2:$K$14,5,FALSE))*'By Speed'!$U95*Scenario_VMT_2*$N82","v":0},0,{"$f":"(VLOOKUP($B82,'By Population'!$G$2:$K$14,5,FALSE))*'By Speed'!$M95*Scenario_VMT_3*$N82","v":0},{"$f":"(VLOOKUP($B82,'By Population'!$G$2:$K$14,5,FALSE))*'By Speed'!$N95*Scenario_VMT_3*$N82","v":0},{"$f":"(VLOOKUP($B82,'By Population'!$G$2:$K$14,5,FALSE))*'By Speed'!$O95*Scenario_VMT_3*$N82","v":0},{"$f":"(VLOOKUP($B82,'By Population'!$G$2:$K$14,5,FALSE))*'By Speed'!$P95*Scenario_VMT_3*$N82","v":0},{"$f":"(VLOOKUP($B82,'By Population'!$G$2:$K$14,5,FALSE))*'By Speed'!$Q95*Scenario_VMT_3*$N82","v":0},{"$f":"(VLOOKUP($B82,'By Population'!$G$2:$K$14,5,FALSE))*'By Speed'!$R95*Scenario_VMT_3*$N82","v":0},{"$f":"(VLOOKUP($B82,'By Population'!$G$2:$K$14,5,FALSE))*'By Speed'!$S95*Scenario_VMT_3*$N82","v":0},{"$f":"(VLOOKUP($B82,'By Population'!$G$2:$K$14,5,FALSE))*'By Speed'!$T95*Scenario_VMT_3*$N82","v":0},{"$f":"(VLOOKUP($B82,'By Population'!$G$2:$K$14,5,FALSE))*'By Speed'!$U95*Scenario_VMT_3*$N82","v":0},0,{"$f":"(VLOOKUP($B82,'By Population'!$G$2:$K$14,5,FALSE))*'By Speed'!$M95*Scenario_VMT_4*$N82","v":0},{"$f":"(VLOOKUP($B82,'By Population'!$G$2:$K$14,5,FALSE))*'By Speed'!$N95*Scenario_VMT_4*$N82","v":0},{"$f":"(VLOOKUP($B82,'By Population'!$G$2:$K$14,5,FALSE))*'By Speed'!$O95*Scenario_VMT_4*$N82","v":0},{"$f":"(VLOOKUP($B82,'By Population'!$G$2:$K$14,5,FALSE))*'By Speed'!$P95*Scenario_VMT_4*$N82","v":0},{"$f":"(VLOOKUP($B82,'By Population'!$G$2:$K$14,5,FALSE))*'By Speed'!$Q95*Scenario_VMT_4*$N82","v":0},{"$f":"(VLOOKUP($B82,'By Population'!$G$2:$K$14,5,FALSE))*'By Speed'!$R95*Scenario_VMT_4*$N82","v":0},{"$f":"(VLOOKUP($B82,'By Population'!$G$2:$K$14,5,FALSE))*'By Speed'!$S95*Scenario_VMT_4*$N82","v":0},{"$f":"(VLOOKUP($B82,'By Population'!$G$2:$K$14,5,FALSE))*'By Speed'!$T95*Scenario_VMT_4*$N82","v":0},{"$f":"(VLOOKUP($B82,'By Population'!$G$2:$K$14,5,FALSE))*'By Speed'!$U95*Scenario_VMT_4*$N82","v":0},0,{"$f":"(VLOOKUP($B82,'By Population'!$G$2:$K$14,5,FALSE))*'By Speed'!$M95*Scenario_VMT_5*$N82","v":0},{"$f":"(VLOOKUP($B82,'By Population'!$G$2:$K$14,5,FALSE))*'By Speed'!$N95*Scenario_VMT_5*$N82","v":0},{"$f":"(VLOOKUP($B82,'By Population'!$G$2:$K$14,5,FALSE))*'By Speed'!$O95*Scenario_VMT_5*$N82","v":0},{"$f":"(VLOOKUP($B82,'By Population'!$G$2:$K$14,5,FALSE))*'By Speed'!$P95*Scenario_VMT_5*$N82","v":0},{"$f":"(VLOOKUP($B82,'By Population'!$G$2:$K$14,5,FALSE))*'By Speed'!$Q95*Scenario_VMT_5*$N82","v":0},{"$f":"(VLOOKUP($B82,'By Population'!$G$2:$K$14,5,FALSE))*'By Speed'!$R95*Scenario_VMT_5*$N82","v":0},{"$f":"(VLOOKUP($B82,'By Population'!$G$2:$K$14,5,FALSE))*'By Speed'!$S95*Scenario_VMT_5*$N82","v":0},{"$f":"(VLOOKUP($B82,'By Population'!$G$2:$K$14,5,FALSE))*'By Speed'!$T95*Scenario_VMT_5*$N82","v":0},{"$f":"(VLOOKUP($B82,'By Population'!$G$2:$K$14,5,FALSE))*'By Speed'!$U95*Scenario_VMT_5*$N82","v":0},0]
[77,"LDT2_GAS",55,"LDT2_GAS_55",{"$f":"(VLOOKUP($B83,'By Population'!$G$2:$K$14,5,FALSE))*'By Speed'!$M96*Scenario_VMT_EX*$N83","v":0},{"$f":"(VLOOKUP($B83,'By Population'!$G$2:$K$14,5,FALSE))*'By Speed'!$N96*Scenario_VMT_EX*$N83","v":0},{"$f":"(VLOOKUP($B83,'By Population'!$G$2:$K$14,5,FALSE))*'By Speed'!$O96*Scenario_VMT_EX*$N83","v":0},{"$f":"(VLOOKUP($B83,'By Population'!$G$2:$K$14,5,FALSE))*'By Speed'!$P96*Scenario_VMT_EX*$N83","v":0},{"$f":"(VLOOKUP($B83,'By Population'!$G$2:$K$14,5,FALSE))*'By Speed'!$Q96*Scenario_VMT_EX*$N83","v":0},{"$f":"(VLOOKUP($B83,'By Population'!$G$2:$K$14,5,FALSE))*'By Speed'!$R96*Scenario_VMT_EX*$N83","v":0},{"$f":"(VLOOKUP($B83,'By Population'!$G$2:$K$14,5,FALSE))*'By Speed'!$S96*Scenario_VMT_EX*$N83","v":0},{"$f":"(VLOOKUP($B83,'By Population'!$G$2:$K$14,5,FALSE))*'By Speed'!$T96*Scenario_VMT_EX*$N83","v":0},{"$f":"(VLOOKUP($B83,'By Population'!$G$2:$K$14,5,FALSE))*'By Speed'!$U96*Scenario_VMT_EX*$N83","v":0},0,{"$f":"(VLOOKUP($B83,'By Population'!$G$2:$K$14,5,FALSE))*'By Speed'!$M96*Scenario_VMT_1*$N83","v":0},{"$f":"(VLOOKUP($B83,'By Population'!$G$2:$K$14,5,FALSE))*'By Speed'!$N96*Scenario_VMT_1*$N83","v":0},{"$f":"(VLOOKUP($B83,'By Population'!$G$2:$K$14,5,FALSE))*'By Speed'!$O96*Scenario_VMT_1*$N83","v":0},{"$f":"(VLOOKUP($B83,'By Population'!$G$2:$K$14,5,FALSE))*'By Speed'!$P96*Scenario_VMT_1*$N83","v":0},{"$f":"(VLOOKUP($B83,'By Population'!$G$2:$K$14,5,FALSE))*'By Speed'!$Q96*Scenario_VMT_1*$N83","v":0},{"$f":"(VLOOKUP($B83,'By Population'!$G$2:$K$14,5,FALSE))*'By Speed'!$R96*Scenario_VMT_1*$N83","v":0},{"$f":"(VLOOKUP($B83,'By Population'!$G$2:$K$14,5,FALSE))*'By Speed'!$S96*Scenario_VMT_1*$N83","v":0},{"$f":"(VLOOKUP($B83,'By Population'!$G$2:$K$14,5,FALSE))*'By Speed'!$T96*Scenario_VMT_1*$N83","v":0},{"$f":"(VLOOKUP($B83,'By Population'!$G$2:$K$14,5,FALSE))*'By Speed'!$U96*Scenario_VMT_1*$N83","v":0},0,{"$f":"(VLOOKUP($B83,'By Population'!$G$2:$K$14,5,FALSE))*'By Speed'!$M96*Scenario_VMT_2*$N83","v":0},{"$f":"(VLOOKUP($B83,'By Population'!$G$2:$K$14,5,FALSE))*'By Speed'!$N96*Scenario_VMT_2*$N83","v":0},{"$f":"(VLOOKUP($B83,'By Population'!$G$2:$K$14,5,FALSE))*'By Speed'!$O96*Scenario_VMT_2*$N83","v":0},{"$f":"(VLOOKUP($B83,'By Population'!$G$2:$K$14,5,FALSE))*'By Speed'!$P96*Scenario_VMT_2*$N83","v":0},{"$f":"(VLOOKUP($B83,'By Population'!$G$2:$K$14,5,FALSE))*'By Speed'!$Q96*Scenario_VMT_2*$N83","v":0},{"$f":"(VLOOKUP($B83,'By Population'!$G$2:$K$14,5,FALSE))*'By Speed'!$R96*Scenario_VMT_2*$N83","v":0},{"$f":"(VLOOKUP($B83,'By Population'!$G$2:$K$14,5,FALSE))*'By Speed'!$S96*Scenario_VMT_2*$N83","v":0},{"$f":"(VLOOKUP($B83,'By Population'!$G$2:$K$14,5,FALSE))*'By Speed'!$T96*Scenario_VMT_2*$N83","v":0},{"$f":"(VLOOKUP($B83,'By Population'!$G$2:$K$14,5,FALSE))*'By Speed'!$U96*Scenario_VMT_2*$N83","v":0},0,{"$f":"(VLOOKUP($B83,'By Population'!$G$2:$K$14,5,FALSE))*'By Speed'!$M96*Scenario_VMT_3*$N83","v":0},{"$f":"(VLOOKUP($B83,'By Population'!$G$2:$K$14,5,FALSE))*'By Speed'!$N96*Scenario_VMT_3*$N83","v":0},{"$f":"(VLOOKUP($B83,'By Population'!$G$2:$K$14,5,FALSE))*'By Speed'!$O96*Scenario_VMT_3*$N83","v":0},{"$f":"(VLOOKUP($B83,'By Population'!$G$2:$K$14,5,FALSE))*'By Speed'!$P96*Scenario_VMT_3*$N83","v":0},{"$f":"(VLOOKUP($B83,'By Population'!$G$2:$K$14,5,FALSE))*'By Speed'!$Q96*Scenario_VMT_3*$N83","v":0},{"$f":"(VLOOKUP($B83,'By Population'!$G$2:$K$14,5,FALSE))*'By Speed'!$R96*Scenario_VMT_3*$N83","v":0},{"$f":"(VLOOKUP($B83,'By Population'!$G$2:$K$14,5,FALSE))*'By Speed'!$S96*Scenario_VMT_3*$N83","v":0},{"$f":"(VLOOKUP($B83,'By Population'!$G$2:$K$14,5,FALSE))*'By Speed'!$T96*Scenario_VMT_3*$N83","v":0},{"$f":"(VLOOKUP($B83,'By Population'!$G$2:$K$14,5,FALSE))*'By Speed'!$U96*Scenario_VMT_3*$N83","v":0},0,{"$f":"(VLOOKUP($B83,'By Population'!$G$2:$K$14,5,FALSE))*'By Speed'!$M96*Scenario_VMT_4*$N83","v":0},{"$f":"(VLOOKUP($B83,'By Population'!$G$2:$K$14,5,FALSE))*'By Speed'!$N96*Scenario_VMT_4*$N83","v":0},{"$f":"(VLOOKUP($B83,'By Population'!$G$2:$K$14,5,FALSE))*'By Speed'!$O96*Scenario_VMT_4*$N83","v":0},{"$f":"(VLOOKUP($B83,'By Population'!$G$2:$K$14,5,FALSE))*'By Speed'!$P96*Scenario_VMT_4*$N83","v":0},{"$f":"(VLOOKUP($B83,'By Population'!$G$2:$K$14,5,FALSE))*'By Speed'!$Q96*Scenario_VMT_4*$N83","v":0},{"$f":"(VLOOKUP($B83,'By Population'!$G$2:$K$14,5,FALSE))*'By Speed'!$R96*Scenario_VMT_4*$N83","v":0},{"$f":"(VLOOKUP($B83,'By Population'!$G$2:$K$14,5,FALSE))*'By Speed'!$S96*Scenario_VMT_4*$N83","v":0},{"$f":"(VLOOKUP($B83,'By Population'!$G$2:$K$14,5,FALSE))*'By Speed'!$T96*Scenario_VMT_4*$N83","v":0},{"$f":"(VLOOKUP($B83,'By Population'!$G$2:$K$14,5,FALSE))*'By Speed'!$U96*Scenario_VMT_4*$N83","v":0},0,{"$f":"(VLOOKUP($B83,'By Population'!$G$2:$K$14,5,FALSE))*'By Speed'!$M96*Scenario_VMT_5*$N83","v":0},{"$f":"(VLOOKUP($B83,'By Population'!$G$2:$K$14,5,FALSE))*'By Speed'!$N96*Scenario_VMT_5*$N83","v":0},{"$f":"(VLOOKUP($B83,'By Population'!$G$2:$K$14,5,FALSE))*'By Speed'!$O96*Scenario_VMT_5*$N83","v":0},{"$f":"(VLOOKUP($B83,'By Population'!$G$2:$K$14,5,FALSE))*'By Speed'!$P96*Scenario_VMT_5*$N83","v":0},{"$f":"(VLOOKUP($B83,'By Population'!$G$2:$K$14,5,FALSE))*'By Speed'!$Q96*Scenario_VMT_5*$N83","v":0},{"$f":"(VLOOKUP($B83,'By Population'!$G$2:$K$14,5,FALSE))*'By Speed'!$R96*Scenario_VMT_5*$N83","v":0},{"$f":"(VLOOKUP($B83,'By Population'!$G$2:$K$14,5,FALSE))*'By Speed'!$S96*Scenario_VMT_5*$N83","v":0},{"$f":"(VLOOKUP($B83,'By Population'!$G$2:$K$14,5,FALSE))*'By Speed'!$T96*Scenario_VMT_5*$N83","v":0},{"$f":"(VLOOKUP($B83,'By Population'!$G$2:$K$14,5,FALSE))*'By Speed'!$U96*Scenario_VMT_5*$N83","v":0},0]
[79,"LDT2_GAS",60,"LDT2_GAS_60",{"$f":"(VLOOKUP($B84,'By Population'!$G$2:$K$14,5,FALSE))*'By Speed'!$M97*Scenario_VMT_EX*$N84","v":0},{"$f":"(VLOOKUP($B84,'By Population'!$G$2:$K$14,5,FALSE))*'By Speed'!$N97*Scenario_VMT_EX*$N84","v":0},{"$f":"(VLOOKUP($B84,'By Population'!$G$2:$K$14,5,FALSE))*'By Speed'!$O97*Scenario_VMT_EX*$N84","v":0},{"$f":"(VLOOKUP($B84,'By Population'!$G$2:$K$14,5,FALSE))*'By Speed'!$P97*Scenario_VMT_EX*$N84","v":0},{"$f":"(VLOOKUP($B84,'By Population'!$G$2:$K$14,5,FALSE))*'By Speed'!$Q97*Scenario_VMT_EX*$N84","v":0},{"$f":"(VLOOKUP($B84,'By Population'!$G$2:$K$14,5,FALSE))*'By Speed'!$R97*Scenario_VMT_EX*$N84","v":0},{"$f":"(VLOOKUP($B84,'By Population'!$G$2:$K$14,5,FALSE))*'By Speed'!$S97*Scenario_VMT_EX*$N84","v":0},{"$f":"(VLOOKUP($B84,'By Population'!$G$2:$K$14,5,FALSE))*'By Speed'!$T97*Scenario_VMT_EX*$N84","v":0},{"$f":"(VLOOKUP($B84,'By Population'!$G$2:$K$14,5,FALSE))*'By Speed'!$U97*Scenario_VMT_EX*$N84","v":0},0,{"$f":"(VLOOKUP($B84,'By Population'!$G$2:$K$14,5,FALSE))*'By Speed'!$M97*Scenario_VMT_1*$N84","v":0},{"$f":"(VLOOKUP($B84,'By Population'!$G$2:$K$14,5,FALSE))*'By Speed'!$N97*Scenario_VMT_1*$N84","v":0},{"$f":"(VLOOKUP($B84,'By Population'!$G$2:$K$14,5,FALSE))*'By Speed'!$O97*Scenario_VMT_1*$N84","v":0},{"$f":"(VLOOKUP($B84,'By Population'!$G$2:$K$14,5,FALSE))*'By Speed'!$P97*Scenario_VMT_1*$N84","v":0},{"$f":"(VLOOKUP($B84,'By Population'!$G$2:$K$14,5,FALSE))*'By Speed'!$Q97*Scenario_VMT_1*$N84","v":0},{"$f":"(VLOOKUP($B84,'By Population'!$G$2:$K$14,5,FALSE))*'By Speed'!$R97*Scenario_VMT_1*$N84","v":0},{"$f":"(VLOOKUP($B84,'By Population'!$G$2:$K$14,5,FALSE))*'By Speed'!$S97*Scenario_VMT_1*$N84","v":0},{"$f":"(VLOOKUP($B84,'By Population'!$G$2:$K$14,5,FALSE))*'By Speed'!$T97*Scenario_VMT_1*$N84","v":0},{"$f":"(VLOOKUP($B84,'By Population'!$G$2:$K$14,5,FALSE))*'By Speed'!$U97*Scenario_VMT_1*$N84","v":0},0,{"$f":"(VLOOKUP($B84,'By Population'!$G$2:$K$14,5,FALSE))*'By Speed'!$M97*Scenario_VMT_2*$N84","v":0},{"$f":"(VLOOKUP($B84,'By Population'!$G$2:$K$14,5,FALSE))*'By Speed'!$N97*Scenario_VMT_2*$N84","v":0},{"$f":"(VLOOKUP($B84,'By Population'!$G$2:$K$14,5,FALSE))*'By Speed'!$O97*Scenario_VMT_2*$N84","v":0},{"$f":"(VLOOKUP($B84,'By Population'!$G$2:$K$14,5,FALSE))*'By Speed'!$P97*Scenario_VMT_2*$N84","v":0},{"$f":"(VLOOKUP($B84,'By Population'!$G$2:$K$14,5,FALSE))*'By Speed'!$Q97*Scenario_VMT_2*$N84","v":0},{"$f":"(VLOOKUP($B84,'By Population'!$G$2:$K$14,5,FALSE))*'By Speed'!$R97*Scenario_VMT_2*$N84","v":0},{"$f":"(VLOOKUP($B84,'By Population'!$G$2:$K$14,5,FALSE))*'By Speed'!$S97*Scenario_VMT_2*$N84","v":0},{"$f":"(VLOOKUP($B84,'By Population'!$G$2:$K$14,5,FALSE))*'By Speed'!$T97*Scenario_VMT_2*$N84","v":0},{"$f":"(VLOOKUP($B84,'By Population'!$G$2:$K$14,5,FALSE))*'By Speed'!$U97*Scenario_VMT_2*$N84","v":0},0,{"$f":"(VLOOKUP($B84,'By Population'!$G$2:$K$14,5,FALSE))*'By Speed'!$M97*Scenario_VMT_3*$N84","v":0},{"$f":"(VLOOKUP($B84,'By Population'!$G$2:$K$14,5,FALSE))*'By Speed'!$N97*Scenario_VMT_3*$N84","v":0},{"$f":"(VLOOKUP($B84,'By Population'!$G$2:$K$14,5,FALSE))*'By Speed'!$O97*Scenario_VMT_3*$N84","v":0},{"$f":"(VLOOKUP($B84,'By Population'!$G$2:$K$14,5,FALSE))*'By Speed'!$P97*Scenario_VMT_3*$N84","v":0},{"$f":"(VLOOKUP($B84,'By Population'!$G$2:$K$14,5,FALSE))*'By Speed'!$Q97*Scenario_VMT_3*$N84","v":0},{"$f":"(VLOOKUP($B84,'By Population'!$G$2:$K$14,5,FALSE))*'By Speed'!$R97*Scenario_VMT_3*$N84","v":0},{"$f":"(VLOOKUP($B84,'By Population'!$G$2:$K$14,5,FALSE))*'By Speed'!$S97*Scenario_VMT_3*$N84","v":0},{"$f":"(VLOOKUP($B84,'By Population'!$G$2:$K$14,5,FALSE))*'By Speed'!$T97*Scenario_VMT_3*$N84","v":0},{"$f":"(VLOOKUP($B84,'By Population'!$G$2:$K$14,5,FALSE))*'By Speed'!$U97*Scenario_VMT_3*$N84","v":0},0,{"$f":"(VLOOKUP($B84,'By Population'!$G$2:$K$14,5,FALSE))*'By Speed'!$M97*Scenario_VMT_4*$N84","v":0},{"$f":"(VLOOKUP($B84,'By Population'!$G$2:$K$14,5,FALSE))*'By Speed'!$N97*Scenario_VMT_4*$N84","v":0},{"$f":"(VLOOKUP($B84,'By Population'!$G$2:$K$14,5,FALSE))*'By Speed'!$O97*Scenario_VMT_4*$N84","v":0},{"$f":"(VLOOKUP($B84,'By Population'!$G$2:$K$14,5,FALSE))*'By Speed'!$P97*Scenario_VMT_4*$N84","v":0},{"$f":"(VLOOKUP($B84,'By Population'!$G$2:$K$14,5,FALSE))*'By Speed'!$Q97*Scenario_VMT_4*$N84","v":0},{"$f":"(VLOOKUP($B84,'By Population'!$G$2:$K$14,5,FALSE))*'By Speed'!$R97*Scenario_VMT_4*$N84","v":0},{"$f":"(VLOOKUP($B84,'By Population'!$G$2:$K$14,5,FALSE))*'By Speed'!$S97*Scenario_VMT_4*$N84","v":0},{"$f":"(VLOOKUP($B84,'By Population'!$G$2:$K$14,5,FALSE))*'By Speed'!$T97*Scenario_VMT_4*$N84","v":0},{"$f":"(VLOOKUP($B84,'By Population'!$G$2:$K$14,5,FALSE))*'By Speed'!$U97*Scenario_VMT_4*$N84","v":0},0,{"$f":"(VLOOKUP($B84,'By Population'!$G$2:$K$14,5,FALSE))*'By Speed'!$M97*Scenario_VMT_5*$N84","v":0},{"$f":"(VLOOKUP($B84,'By Population'!$G$2:$K$14,5,FALSE))*'By Speed'!$N97*Scenario_VMT_5*$N84","v":0},{"$f":"(VLOOKUP($B84,'By Population'!$G$2:$K$14,5,FALSE))*'By Speed'!$O97*Scenario_VMT_5*$N84","v":0},{"$f":"(VLOOKUP($B84,'By Population'!$G$2:$K$14,5,FALSE))*'By Speed'!$P97*Scenario_VMT_5*$N84","v":0},{"$f":"(VLOOKUP($B84,'By Population'!$G$2:$K$14,5,FALSE))*'By Speed'!$Q97*Scenario_VMT_5*$N84","v":0},{"$f":"(VLOOKUP($B84,'By Population'!$G$2:$K$14,5,FALSE))*'By Speed'!$R97*Scenario_VMT_5*$N84","v":0},{"$f":"(VLOOKUP($B84,'By Population'!$G$2:$K$14,5,FALSE))*'By Speed'!$S97*Scenario_VMT_5*$N84","v":0},{"$f":"(VLOOKUP($B84,'By Population'!$G$2:$K$14,5,FALSE))*'By Speed'!$T97*Scenario_VMT_5*$N84","v":0},{"$f":"(VLOOKUP($B84,'By Population'!$G$2:$K$14,5,FALSE))*'By Speed'!$U97*Scenario_VMT_5*$N84","v":0},0]
[81,"LDT2_GAS",65,"LDT2_GAS_65",{"$f":"(VLOOKUP($B85,'By Population'!$G$2:$K$14,5,FALSE))*'By Speed'!$M98*Scenario_VMT_EX*$N85","v":0},{"$f":"(VLOOKUP($B85,'By Population'!$G$2:$K$14,5,FALSE))*'By Speed'!$N98*Scenario_VMT_EX*$N85","v":0},{"$f":"(VLOOKUP($B85,'By Population'!$G$2:$K$14,5,FALSE))*'By Speed'!$O98*Scenario_VMT_EX*$N85","v":0},{"$f":"(VLOOKUP($B85,'By Population'!$G$2:$K$14,5,FALSE))*'By Speed'!$P98*Scenario_VMT_EX*$N85","v":0},{"$f":"(VLOOKUP($B85,'By Population'!$G$2:$K$14,5,FALSE))*'By Speed'!$Q98*Scenario_VMT_EX*$N85","v":0},{"$f":"(VLOOKUP($B85,'By Population'!$G$2:$K$14,5,FALSE))*'By Speed'!$R98*Scenario_VMT_EX*$N85","v":0},{"$f":"(VLOOKUP($B85,'By Population'!$G$2:$K$14,5,FALSE))*'By Speed'!$S98*Scenario_VMT_EX*$N85","v":0},{"$f":"(VLOOKUP($B85,'By Population'!$G$2:$K$14,5,FALSE))*'By Speed'!$T98*Scenario_VMT_EX*$N85","v":0},{"$f":"(VLOOKUP($B85,'By Population'!$G$2:$K$14,5,FALSE))*'By Speed'!$U98*Scenario_VMT_EX*$N85","v":0},0,{"$f":"(VLOOKUP($B85,'By Population'!$G$2:$K$14,5,FALSE))*'By Speed'!$M98*Scenario_VMT_1*$N85","v":0},{"$f":"(VLOOKUP($B85,'By Population'!$G$2:$K$14,5,FALSE))*'By Speed'!$N98*Scenario_VMT_1*$N85","v":0},{"$f":"(VLOOKUP($B85,'By Population'!$G$2:$K$14,5,FALSE))*'By Speed'!$O98*Scenario_VMT_1*$N85","v":0},{"$f":"(VLOOKUP($B85,'By Population'!$G$2:$K$14,5,FALSE))*'By Speed'!$P98*Scenario_VMT_1*$N85","v":0},{"$f":"(VLOOKUP($B85,'By Population'!$G$2:$K$14,5,FALSE))*'By Speed'!$Q98*Scenario_VMT_1*$N85","v":0},{"$f":"(VLOOKUP($B85,'By Population'!$G$2:$K$14,5,FALSE))*'By Speed'!$R98*Scenario_VMT_1*$N85","v":0},{"$f":"(VLOOKUP($B85,'By Population'!$G$2:$K$14,5,FALSE))*'By Speed'!$S98*Scenario_VMT_1*$N85","v":0},{"$f":"(VLOOKUP($B85,'By Population'!$G$2:$K$14,5,FALSE))*'By Speed'!$T98*Scenario_VMT_1*$N85","v":0},{"$f":"(VLOOKUP($B85,'By Population'!$G$2:$K$14,5,FALSE))*'By Speed'!$U98*Scenario_VMT_1*$N85","v":0},0,{"$f":"(VLOOKUP($B85,'By Population'!$G$2:$K$14,5,FALSE))*'By Speed'!$M98*Scenario_VMT_2*$N85","v":0},{"$f":"(VLOOKUP($B85,'By Population'!$G$2:$K$14,5,FALSE))*'By Speed'!$N98*Scenario_VMT_2*$N85","v":0},{"$f":"(VLOOKUP($B85,'By Population'!$G$2:$K$14,5,FALSE))*'By Speed'!$O98*Scenario_VMT_2*$N85","v":0},{"$f":"(VLOOKUP($B85,'By Population'!$G$2:$K$14,5,FALSE))*'By Speed'!$P98*Scenario_VMT_2*$N85","v":0},{"$f":"(VLOOKUP($B85,'By Population'!$G$2:$K$14,5,FALSE))*'By Speed'!$Q98*Scenario_VMT_2*$N85","v":0},{"$f":"(VLOOKUP($B85,'By Population'!$G$2:$K$14,5,FALSE))*'By Speed'!$R98*Scenario_VMT_2*$N85","v":0},{"$f":"(VLOOKUP($B85,'By Population'!$G$2:$K$14,5,FALSE))*'By Speed'!$S98*Scenario_VMT_2*$N85","v":0},{"$f":"(VLOOKUP($B85,'By Population'!$G$2:$K$14,5,FALSE))*'By Speed'!$T98*Scenario_VMT_2*$N85","v":0},{"$f":"(VLOOKUP($B85,'By Population'!$G$2:$K$14,5,FALSE))*'By Speed'!$U98*Scenario_VMT_2*$N85","v":0},0,{"$f":"(VLOOKUP($B85,'By Population'!$G$2:$K$14,5,FALSE))*'By Speed'!$M98*Scenario_VMT_3*$N85","v":0},{"$f":"(VLOOKUP($B85,'By Population'!$G$2:$K$14,5,FALSE))*'By Speed'!$N98*Scenario_VMT_3*$N85","v":0},{"$f":"(VLOOKUP($B85,'By Population'!$G$2:$K$14,5,FALSE))*'By Speed'!$O98*Scenario_VMT_3*$N85","v":0},{"$f":"(VLOOKUP($B85,'By Population'!$G$2:$K$14,5,FALSE))*'By Speed'!$P98*Scenario_VMT_3*$N85","v":0},{"$f":"(VLOOKUP($B85,'By Population'!$G$2:$K$14,5,FALSE))*'By Speed'!$Q98*Scenario_VMT_3*$N85","v":0},{"$f":"(VLOOKUP($B85,'By Population'!$G$2:$K$14,5,FALSE))*'By Speed'!$R98*Scenario_VMT_3*$N85","v":0},{"$f":"(VLOOKUP($B85,'By Population'!$G$2:$K$14,5,FALSE))*'By Speed'!$S98*Scenario_VMT_3*$N85","v":0},{"$f":"(VLOOKUP($B85,'By Population'!$G$2:$K$14,5,FALSE))*'By Speed'!$T98*Scenario_VMT_3*$N85","v":0},{"$f":"(VLOOKUP($B85,'By Population'!$G$2:$K$14,5,FALSE))*'By Speed'!$U98*Scenario_VMT_3*$N85","v":0},0,{"$f":"(VLOOKUP($B85,'By Population'!$G$2:$K$14,5,FALSE))*'By Speed'!$M98*Scenario_VMT_4*$N85","v":0},{"$f":"(VLOOKUP($B85,'By Population'!$G$2:$K$14,5,FALSE))*'By Speed'!$N98*Scenario_VMT_4*$N85","v":0},{"$f":"(VLOOKUP($B85,'By Population'!$G$2:$K$14,5,FALSE))*'By Speed'!$O98*Scenario_VMT_4*$N85","v":0},{"$f":"(VLOOKUP($B85,'By Population'!$G$2:$K$14,5,FALSE))*'By Speed'!$P98*Scenario_VMT_4*$N85","v":0},{"$f":"(VLOOKUP($B85,'By Population'!$G$2:$K$14,5,FALSE))*'By Speed'!$Q98*Scenario_VMT_4*$N85","v":0},{"$f":"(VLOOKUP($B85,'By Population'!$G$2:$K$14,5,FALSE))*'By Speed'!$R98*Scenario_VMT_4*$N85","v":0},{"$f":"(VLOOKUP($B85,'By Population'!$G$2:$K$14,5,FALSE))*'By Speed'!$S98*Scenario_VMT_4*$N85","v":0},{"$f":"(VLOOKUP($B85,'By Population'!$G$2:$K$14,5,FALSE))*'By Speed'!$T98*Scenario_VMT_4*$N85","v":0},{"$f":"(VLOOKUP($B85,'By Population'!$G$2:$K$14,5,FALSE))*'By Speed'!$U98*Scenario_VMT_4*$N85","v":0},0,{"$f":"(VLOOKUP($B85,'By Population'!$G$2:$K$14,5,FALSE))*'By Speed'!$M98*Scenario_VMT_5*$N85","v":0},{"$f":"(VLOOKUP($B85,'By Population'!$G$2:$K$14,5,FALSE))*'By Speed'!$N98*Scenario_VMT_5*$N85","v":0},{"$f":"(VLOOKUP($B85,'By Population'!$G$2:$K$14,5,FALSE))*'By Speed'!$O98*Scenario_VMT_5*$N85","v":0},{"$f":"(VLOOKUP($B85,'By Population'!$G$2:$K$14,5,FALSE))*'By Speed'!$P98*Scenario_VMT_5*$N85","v":0},{"$f":"(VLOOKUP($B85,'By Population'!$G$2:$K$14,5,FALSE))*'By Speed'!$Q98*Scenario_VMT_5*$N85","v":0},{"$f":"(VLOOKUP($B85,'By Population'!$G$2:$K$14,5,FALSE))*'By Speed'!$R98*Scenario_VMT_5*$N85","v":0},{"$f":"(VLOOKUP($B85,'By Population'!$G$2:$K$14,5,FALSE))*'By Speed'!$S98*Scenario_VMT_5*$N85","v":0},{"$f":"(VLOOKUP($B85,'By Population'!$G$2:$K$14,5,FALSE))*'By Speed'!$T98*Scenario_VMT_5*$N85","v":0},{"$f":"(VLOOKUP($B85,'By Population'!$G$2:$K$14,5,FALSE))*'By Speed'!$U98*Scenario_VMT_5*$N85","v":0},0]
[83,"LDT2_GAS",70,"LDT2_GAS_70",{"$f":"(VLOOKUP($B86,'By Population'!$G$2:$K$14,5,FALSE))*'By Speed'!$M99*Scenario_VMT_EX*$N86","v":0},{"$f":"(VLOOKUP($B86,'By Population'!$G$2:$K$14,5,FALSE))*'By Speed'!$N99*Scenario_VMT_EX*$N86","v":0},{"$f":"(VLOOKUP($B86,'By Population'!$G$2:$K$14,5,FALSE))*'By Speed'!$O99*Scenario_VMT_EX*$N86","v":0},{"$f":"(VLOOKUP($B86,'By Population'!$G$2:$K$14,5,FALSE))*'By Speed'!$P99*Scenario_VMT_EX*$N86","v":0},{"$f":"(VLOOKUP($B86,'By Population'!$G$2:$K$14,5,FALSE))*'By Speed'!$Q99*Scenario_VMT_EX*$N86","v":0},{"$f":"(VLOOKUP($B86,'By Population'!$G$2:$K$14,5,FALSE))*'By Speed'!$R99*Scenario_VMT_EX*$N86","v":0},{"$f":"(VLOOKUP($B86,'By Population'!$G$2:$K$14,5,FALSE))*'By Speed'!$S99*Scenario_VMT_EX*$N86","v":0},{"$f":"(VLOOKUP($B86,'By Population'!$G$2:$K$14,5,FALSE))*'By Speed'!$T99*Scenario_VMT_EX*$N86","v":0},{"$f":"(VLOOKUP($B86,'By Population'!$G$2:$K$14,5,FALSE))*'By Speed'!$U99*Scenario_VMT_EX*$N86","v":0},0,{"$f":"(VLOOKUP($B86,'By Population'!$G$2:$K$14,5,FALSE))*'By Speed'!$M99*Scenario_VMT_1*$N86","v":0},{"$f":"(VLOOKUP($B86,'By Population'!$G$2:$K$14,5,FALSE))*'By Speed'!$N99*Scenario_VMT_1*$N86","v":0},{"$f":"(VLOOKUP($B86,'By Population'!$G$2:$K$14,5,FALSE))*'By Speed'!$O99*Scenario_VMT_1*$N86","v":0},{"$f":"(VLOOKUP($B86,'By Population'!$G$2:$K$14,5,FALSE))*'By Speed'!$P99*Scenario_VMT_1*$N86","v":0},{"$f":"(VLOOKUP($B86,'By Population'!$G$2:$K$14,5,FALSE))*'By Speed'!$Q99*Scenario_VMT_1*$N86","v":0},{"$f":"(VLOOKUP($B86,'By Population'!$G$2:$K$14,5,FALSE))*'By Speed'!$R99*Scenario_VMT_1*$N86","v":0},{"$f":"(VLOOKUP($B86,'By Population'!$G$2:$K$14,5,FALSE))*'By Speed'!$S99*Scenario_VMT_1*$N86","v":0},{"$f":"(VLOOKUP($B86,'By Population'!$G$2:$K$14,5,FALSE))*'By Speed'!$T99*Scenario_VMT_1*$N86","v":0},{"$f":"(VLOOKUP($B86,'By Population'!$G$2:$K$14,5,FALSE))*'By Speed'!$U99*Scenario_VMT_1*$N86","v":0},0,{"$f":"(VLOOKUP($B86,'By Population'!$G$2:$K$14,5,FALSE))*'By Speed'!$M99*Scenario_VMT_2*$N86","v":0},{"$f":"(VLOOKUP($B86,'By Population'!$G$2:$K$14,5,FALSE))*'By Speed'!$N99*Scenario_VMT_2*$N86","v":0},{"$f":"(VLOOKUP($B86,'By Population'!$G$2:$K$14,5,FALSE))*'By Speed'!$O99*Scenario_VMT_2*$N86","v":0},{"$f":"(VLOOKUP($B86,'By Population'!$G$2:$K$14,5,FALSE))*'By Speed'!$P99*Scenario_VMT_2*$N86","v":0},{"$f":"(VLOOKUP($B86,'By Population'!$G$2:$K$14,5,FALSE))*'By Speed'!$Q99*Scenario_VMT_2*$N86","v":0},{"$f":"(VLOOKUP($B86,'By Population'!$G$2:$K$14,5,FALSE))*'By Speed'!$R99*Scenario_VMT_2*$N86","v":0},{"$f":"(VLOOKUP($B86,'By Population'!$G$2:$K$14,5,FALSE))*'By Speed'!$S99*Scenario_VMT_2*$N86","v":0},{"$f":"(VLOOKUP($B86,'By Population'!$G$2:$K$14,5,FALSE))*'By Speed'!$T99*Scenario_VMT_2*$N86","v":0},{"$f":"(VLOOKUP($B86,'By Population'!$G$2:$K$14,5,FALSE))*'By Speed'!$U99*Scenario_VMT_2*$N86","v":0},0,{"$f":"(VLOOKUP($B86,'By Population'!$G$2:$K$14,5,FALSE))*'By Speed'!$M99*Scenario_VMT_3*$N86","v":0},{"$f":"(VLOOKUP($B86,'By Population'!$G$2:$K$14,5,FALSE))*'By Speed'!$N99*Scenario_VMT_3*$N86","v":0},{"$f":"(VLOOKUP($B86,'By Population'!$G$2:$K$14,5,FALSE))*'By Speed'!$O99*Scenario_VMT_3*$N86","v":0},{"$f":"(VLOOKUP($B86,'By Population'!$G$2:$K$14,5,FALSE))*'By Speed'!$P99*Scenario_VMT_3*$N86","v":0},{"$f":"(VLOOKUP($B86,'By Population'!$G$2:$K$14,5,FALSE))*'By Speed'!$Q99*Scenario_VMT_3*$N86","v":0},{"$f":"(VLOOKUP($B86,'By Population'!$G$2:$K$14,5,FALSE))*'By Speed'!$R99*Scenario_VMT_3*$N86","v":0},{"$f":"(VLOOKUP($B86,'By Population'!$G$2:$K$14,5,FALSE))*'By Speed'!$S99*Scenario_VMT_3*$N86","v":0},{"$f":"(VLOOKUP($B86,'By Population'!$G$2:$K$14,5,FALSE))*'By Speed'!$T99*Scenario_VMT_3*$N86","v":0},{"$f":"(VLOOKUP($B86,'By Population'!$G$2:$K$14,5,FALSE))*'By Speed'!$U99*Scenario_VMT_3*$N86","v":0},0,{"$f":"(VLOOKUP($B86,'By Population'!$G$2:$K$14,5,FALSE))*'By Speed'!$M99*Scenario_VMT_4*$N86","v":0},{"$f":"(VLOOKUP($B86,'By Population'!$G$2:$K$14,5,FALSE))*'By Speed'!$N99*Scenario_VMT_4*$N86","v":0},{"$f":"(VLOOKUP($B86,'By Population'!$G$2:$K$14,5,FALSE))*'By Speed'!$O99*Scenario_VMT_4*$N86","v":0},{"$f":"(VLOOKUP($B86,'By Population'!$G$2:$K$14,5,FALSE))*'By Speed'!$P99*Scenario_VMT_4*$N86","v":0},{"$f":"(VLOOKUP($B86,'By Population'!$G$2:$K$14,5,FALSE))*'By Speed'!$Q99*Scenario_VMT_4*$N86","v":0},{"$f":"(VLOOKUP($B86,'By Population'!$G$2:$K$14,5,FALSE))*'By Speed'!$R99*Scenario_VMT_4*$N86","v":0},{"$f":"(VLOOKUP($B86,'By Population'!$G$2:$K$14,5,FALSE))*'By Speed'!$S99*Scenario_VMT_4*$N86","v":0},{"$f":"(VLOOKUP($B86,'By Population'!$G$2:$K$14,5,FALSE))*'By Speed'!$T99*Scenario_VMT_4*$N86","v":0},{"$f":"(VLOOKUP($B86,'By Population'!$G$2:$K$14,5,FALSE))*'By Speed'!$U99*Scenario_VMT_4*$N86","v":0},0,{"$f":"(VLOOKUP($B86,'By Population'!$G$2:$K$14,5,FALSE))*'By Speed'!$M99*Scenario_VMT_5*$N86","v":0},{"$f":"(VLOOKUP($B86,'By Population'!$G$2:$K$14,5,FALSE))*'By Speed'!$N99*Scenario_VMT_5*$N86","v":0},{"$f":"(VLOOKUP($B86,'By Population'!$G$2:$K$14,5,FALSE))*'By Speed'!$O99*Scenario_VMT_5*$N86","v":0},{"$f":"(VLOOKUP($B86,'By Population'!$G$2:$K$14,5,FALSE))*'By Speed'!$P99*Scenario_VMT_5*$N86","v":0},{"$f":"(VLOOKUP($B86,'By Population'!$G$2:$K$14,5,FALSE))*'By Speed'!$Q99*Scenario_VMT_5*$N86","v":0},{"$f":"(VLOOKUP($B86,'By Population'!$G$2:$K$14,5,FALSE))*'By Speed'!$R99*Scenario_VMT_5*$N86","v":0},{"$f":"(VLOOKUP($B86,'By Population'!$G$2:$K$14,5,FALSE))*'By Speed'!$S99*Scenario_VMT_5*$N86","v":0},{"$f":"(VLOOKUP($B86,'By Population'!$G$2:$K$14,5,FALSE))*'By Speed'!$T99*Scenario_VMT_5*$N86","v":0},{"$f":"(VLOOKUP($B86,'By Population'!$G$2:$K$14,5,FALSE))*'By Speed'!$U99*Scenario_VMT_5*$N86","v":0},0]
[88,"LHD1_DSL",10,"LHD1_DSL_10",{"$f":"(VLOOKUP($B87,'By Population'!$G$2:$K$14,5,FALSE))*'By Speed'!$M100*Scenario_VMT_EX*$N87","v":0},{"$f":"(VLOOKUP($B87,'By Population'!$G$2:$K$14,5,FALSE))*'By Speed'!$N100*Scenario_VMT_EX*$N87","v":0},{"$f":"(VLOOKUP($B87,'By Population'!$G$2:$K$14,5,FALSE))*'By Speed'!$O100*Scenario_VMT_EX*$N87","v":0},{"$f":"(VLOOKUP($B87,'By Population'!$G$2:$K$14,5,FALSE))*'By Speed'!$P100*Scenario_VMT_EX*$N87","v":0},{"$f":"(VLOOKUP($B87,'By Population'!$G$2:$K$14,5,FALSE))*'By Speed'!$Q100*Scenario_VMT_EX*$N87","v":0},{"$f":"(VLOOKUP($B87,'By Population'!$G$2:$K$14,5,FALSE))*'By Speed'!$R100*Scenario_VMT_EX*$N87","v":0},{"$f":"(VLOOKUP($B87,'By Population'!$G$2:$K$14,5,FALSE))*'By Speed'!$S100*Scenario_VMT_EX*$N87","v":0},{"$f":"(VLOOKUP($B87,'By Population'!$G$2:$K$14,5,FALSE))*'By Speed'!$T100*Scenario_VMT_EX*$N87","v":0},{"$f":"(VLOOKUP($B87,'By Population'!$G$2:$K$14,5,FALSE))*'By Speed'!$U100*Scenario_VMT_EX*$N87","v":0},0,{"$f":"(VLOOKUP($B87,'By Population'!$G$2:$K$14,5,FALSE))*'By Speed'!$M100*Scenario_VMT_1*$N87","v":0},{"$f":"(VLOOKUP($B87,'By Population'!$G$2:$K$14,5,FALSE))*'By Speed'!$N100*Scenario_VMT_1*$N87","v":0},{"$f":"(VLOOKUP($B87,'By Population'!$G$2:$K$14,5,FALSE))*'By Speed'!$O100*Scenario_VMT_1*$N87","v":0},{"$f":"(VLOOKUP($B87,'By Population'!$G$2:$K$14,5,FALSE))*'By Speed'!$P100*Scenario_VMT_1*$N87","v":0},{"$f":"(VLOOKUP($B87,'By Population'!$G$2:$K$14,5,FALSE))*'By Speed'!$Q100*Scenario_VMT_1*$N87","v":0},{"$f":"(VLOOKUP($B87,'By Population'!$G$2:$K$14,5,FALSE))*'By Speed'!$R100*Scenario_VMT_1*$N87","v":0},{"$f":"(VLOOKUP($B87,'By Population'!$G$2:$K$14,5,FALSE))*'By Speed'!$S100*Scenario_VMT_1*$N87","v":0},{"$f":"(VLOOKUP($B87,'By Population'!$G$2:$K$14,5,FALSE))*'By Speed'!$T100*Scenario_VMT_1*$N87","v":0},{"$f":"(VLOOKUP($B87,'By Population'!$G$2:$K$14,5,FALSE))*'By Speed'!$U100*Scenario_VMT_1*$N87","v":0},0,{"$f":"(VLOOKUP($B87,'By Population'!$G$2:$K$14,5,FALSE))*'By Speed'!$M100*Scenario_VMT_2*$N87","v":0},{"$f":"(VLOOKUP($B87,'By Population'!$G$2:$K$14,5,FALSE))*'By Speed'!$N100*Scenario_VMT_2*$N87","v":0},{"$f":"(VLOOKUP($B87,'By Population'!$G$2:$K$14,5,FALSE))*'By Speed'!$O100*Scenario_VMT_2*$N87","v":0},{"$f":"(VLOOKUP($B87,'By Population'!$G$2:$K$14,5,FALSE))*'By Speed'!$P100*Scenario_VMT_2*$N87","v":0},{"$f":"(VLOOKUP($B87,'By Population'!$G$2:$K$14,5,FALSE))*'By Speed'!$Q100*Scenario_VMT_2*$N87","v":0},{"$f":"(VLOOKUP($B87,'By Population'!$G$2:$K$14,5,FALSE))*'By Speed'!$R100*Scenario_VMT_2*$N87","v":0},{"$f":"(VLOOKUP($B87,'By Population'!$G$2:$K$14,5,FALSE))*'By Speed'!$S100*Scenario_VMT_2*$N87","v":0},{"$f":"(VLOOKUP($B87,'By Population'!$G$2:$K$14,5,FALSE))*'By Speed'!$T100*Scenario_VMT_2*$N87","v":0},{"$f":"(VLOOKUP($B87,'By Population'!$G$2:$K$14,5,FALSE))*'By Speed'!$U100*Scenario_VMT_2*$N87","v":0},0,{"$f":"(VLOOKUP($B87,'By Population'!$G$2:$K$14,5,FALSE))*'By Speed'!$M100*Scenario_VMT_3*$N87","v":0},{"$f":"(VLOOKUP($B87,'By Population'!$G$2:$K$14,5,FALSE))*'By Speed'!$N100*Scenario_VMT_3*$N87","v":0},{"$f":"(VLOOKUP($B87,'By Population'!$G$2:$K$14,5,FALSE))*'By Speed'!$O100*Scenario_VMT_3*$N87","v":0},{"$f":"(VLOOKUP($B87,'By Population'!$G$2:$K$14,5,FALSE))*'By Speed'!$P100*Scenario_VMT_3*$N87","v":0},{"$f":"(VLOOKUP($B87,'By Population'!$G$2:$K$14,5,FALSE))*'By Speed'!$Q100*Scenario_VMT_3*$N87","v":0},{"$f":"(VLOOKUP($B87,'By Population'!$G$2:$K$14,5,FALSE))*'By Speed'!$R100*Scenario_VMT_3*$N87","v":0},{"$f":"(VLOOKUP($B87,'By Population'!$G$2:$K$14,5,FALSE))*'By Speed'!$S100*Scenario_VMT_3*$N87","v":0},{"$f":"(VLOOKUP($B87,'By Population'!$G$2:$K$14,5,FALSE))*'By Speed'!$T100*Scenario_VMT_3*$N87","v":0},{"$f":"(VLOOKUP($B87,'By Population'!$G$2:$K$14,5,FALSE))*'By Speed'!$U100*Scenario_VMT_3*$N87","v":0},0,{"$f":"(VLOOKUP($B87,'By Population'!$G$2:$K$14,5,FALSE))*'By Speed'!$M100*Scenario_VMT_4*$N87","v":0},{"$f":"(VLOOKUP($B87,'By Population'!$G$2:$K$14,5,FALSE))*'By Speed'!$N100*Scenario_VMT_4*$N87","v":0},{"$f":"(VLOOKUP($B87,'By Population'!$G$2:$K$14,5,FALSE))*'By Speed'!$O100*Scenario_VMT_4*$N87","v":0},{"$f":"(VLOOKUP($B87,'By Population'!$G$2:$K$14,5,FALSE))*'By Speed'!$P100*Scenario_VMT_4*$N87","v":0},{"$f":"(VLOOKUP($B87,'By Population'!$G$2:$K$14,5,FALSE))*'By Speed'!$Q100*Scenario_VMT_4*$N87","v":0},{"$f":"(VLOOKUP($B87,'By Population'!$G$2:$K$14,5,FALSE))*'By Speed'!$R100*Scenario_VMT_4*$N87","v":0},{"$f":"(VLOOKUP($B87,'By Population'!$G$2:$K$14,5,FALSE))*'By Speed'!$S100*Scenario_VMT_4*$N87","v":0},{"$f":"(VLOOKUP($B87,'By Population'!$G$2:$K$14,5,FALSE))*'By Speed'!$T100*Scenario_VMT_4*$N87","v":0},{"$f":"(VLOOKUP($B87,'By Population'!$G$2:$K$14,5,FALSE))*'By Speed'!$U100*Scenario_VMT_4*$N87","v":0},0,{"$f":"(VLOOKUP($B87,'By Population'!$G$2:$K$14,5,FALSE))*'By Speed'!$M100*Scenario_VMT_5*$N87","v":0},{"$f":"(VLOOKUP($B87,'By Population'!$G$2:$K$14,5,FALSE))*'By Speed'!$N100*Scenario_VMT_5*$N87","v":0},{"$f":"(VLOOKUP($B87,'By Population'!$G$2:$K$14,5,FALSE))*'By Speed'!$O100*Scenario_VMT_5*$N87","v":0},{"$f":"(VLOOKUP($B87,'By Population'!$G$2:$K$14,5,FALSE))*'By Speed'!$P100*Scenario_VMT_5*$N87","v":0},{"$f":"(VLOOKUP($B87,'By Population'!$G$2:$K$14,5,FALSE))*'By Speed'!$Q100*Scenario_VMT_5*$N87","v":0},{"$f":"(VLOOKUP($B87,'By Population'!$G$2:$K$14,5,FALSE))*'By Speed'!$R100*Scenario_VMT_5*$N87","v":0},{"$f":"(VLOOKUP($B87,'By Population'!$G$2:$K$14,5,FALSE))*'By Speed'!$S100*Scenario_VMT_5*$N87","v":0},{"$f":"(VLOOKUP($B87,'By Population'!$G$2:$K$14,5,FALSE))*'By Speed'!$T100*Scenario_VMT_5*$N87","v":0},{"$f":"(VLOOKUP($B87,'By Population'!$G$2:$K$14,5,FALSE))*'By Speed'!$U100*Scenario_VMT_5*$N87","v":0},0]
[90,"LHD1_DSL",15,"LHD1_DSL_15",{"$f":"(VLOOKUP($B88,'By Population'!$G$2:$K$14,5,FALSE))*'By Speed'!$M101*Scenario_VMT_EX*$N88","v":0},{"$f":"(VLOOKUP($B88,'By Population'!$G$2:$K$14,5,FALSE))*'By Speed'!$N101*Scenario_VMT_EX*$N88","v":0},{"$f":"(VLOOKUP($B88,'By Population'!$G$2:$K$14,5,FALSE))*'By Speed'!$O101*Scenario_VMT_EX*$N88","v":0},{"$f":"(VLOOKUP($B88,'By Population'!$G$2:$K$14,5,FALSE))*'By Speed'!$P101*Scenario_VMT_EX*$N88","v":0},{"$f":"(VLOOKUP($B88,'By Population'!$G$2:$K$14,5,FALSE))*'By Speed'!$Q101*Scenario_VMT_EX*$N88","v":0},{"$f":"(VLOOKUP($B88,'By Population'!$G$2:$K$14,5,FALSE))*'By Speed'!$R101*Scenario_VMT_EX*$N88","v":0},{"$f":"(VLOOKUP($B88,'By Population'!$G$2:$K$14,5,FALSE))*'By Speed'!$S101*Scenario_VMT_EX*$N88","v":0},{"$f":"(VLOOKUP($B88,'By Population'!$G$2:$K$14,5,FALSE))*'By Speed'!$T101*Scenario_VMT_EX*$N88","v":0},{"$f":"(VLOOKUP($B88,'By Population'!$G$2:$K$14,5,FALSE))*'By Speed'!$U101*Scenario_VMT_EX*$N88","v":0},0,{"$f":"(VLOOKUP($B88,'By Population'!$G$2:$K$14,5,FALSE))*'By Speed'!$M101*Scenario_VMT_1*$N88","v":0},{"$f":"(VLOOKUP($B88,'By Population'!$G$2:$K$14,5,FALSE))*'By Speed'!$N101*Scenario_VMT_1*$N88","v":0},{"$f":"(VLOOKUP($B88,'By Population'!$G$2:$K$14,5,FALSE))*'By Speed'!$O101*Scenario_VMT_1*$N88","v":0},{"$f":"(VLOOKUP($B88,'By Population'!$G$2:$K$14,5,FALSE))*'By Speed'!$P101*Scenario_VMT_1*$N88","v":0},{"$f":"(VLOOKUP($B88,'By Population'!$G$2:$K$14,5,FALSE))*'By Speed'!$Q101*Scenario_VMT_1*$N88","v":0},{"$f":"(VLOOKUP($B88,'By Population'!$G$2:$K$14,5,FALSE))*'By Speed'!$R101*Scenario_VMT_1*$N88","v":0},{"$f":"(VLOOKUP($B88,'By Population'!$G$2:$K$14,5,FALSE))*'By Speed'!$S101*Scenario_VMT_1*$N88","v":0},{"$f":"(VLOOKUP($B88,'By Population'!$G$2:$K$14,5,FALSE))*'By Speed'!$T101*Scenario_VMT_1*$N88","v":0},{"$f":"(VLOOKUP($B88,'By Population'!$G$2:$K$14,5,FALSE))*'By Speed'!$U101*Scenario_VMT_1*$N88","v":0},0,{"$f":"(VLOOKUP($B88,'By Population'!$G$2:$K$14,5,FALSE))*'By Speed'!$M101*Scenario_VMT_2*$N88","v":0},{"$f":"(VLOOKUP($B88,'By Population'!$G$2:$K$14,5,FALSE))*'By Speed'!$N101*Scenario_VMT_2*$N88","v":0},{"$f":"(VLOOKUP($B88,'By Population'!$G$2:$K$14,5,FALSE))*'By Speed'!$O101*Scenario_VMT_2*$N88","v":0},{"$f":"(VLOOKUP($B88,'By Population'!$G$2:$K$14,5,FALSE))*'By Speed'!$P101*Scenario_VMT_2*$N88","v":0},{"$f":"(VLOOKUP($B88,'By Population'!$G$2:$K$14,5,FALSE))*'By Speed'!$Q101*Scenario_VMT_2*$N88","v":0},{"$f":"(VLOOKUP($B88,'By Population'!$G$2:$K$14,5,FALSE))*'By Speed'!$R101*Scenario_VMT_2*$N88","v":0},{"$f":"(VLOOKUP($B88,'By Population'!$G$2:$K$14,5,FALSE))*'By Speed'!$S101*Scenario_VMT_2*$N88","v":0},{"$f":"(VLOOKUP($B88,'By Population'!$G$2:$K$14,5,FALSE))*'By Speed'!$T101*Scenario_VMT_2*$N88","v":0},{"$f":"(VLOOKUP($B88,'By Population'!$G$2:$K$14,5,FALSE))*'By Speed'!$U101*Scenario_VMT_2*$N88","v":0},0,{"$f":"(VLOOKUP($B88,'By Population'!$G$2:$K$14,5,FALSE))*'By Speed'!$M101*Scenario_VMT_3*$N88","v":0},{"$f":"(VLOOKUP($B88,'By Population'!$G$2:$K$14,5,FALSE))*'By Speed'!$N101*Scenario_VMT_3*$N88","v":0},{"$f":"(VLOOKUP($B88,'By Population'!$G$2:$K$14,5,FALSE))*'By Speed'!$O101*Scenario_VMT_3*$N88","v":0},{"$f":"(VLOOKUP($B88,'By Population'!$G$2:$K$14,5,FALSE))*'By Speed'!$P101*Scenario_VMT_3*$N88","v":0},{"$f":"(VLOOKUP($B88,'By Population'!$G$2:$K$14,5,FALSE))*'By Speed'!$Q101*Scenario_VMT_3*$N88","v":0},{"$f":"(VLOOKUP($B88,'By Population'!$G$2:$K$14,5,FALSE))*'By Speed'!$R101*Scenario_VMT_3*$N88","v":0},{"$f":"(VLOOKUP($B88,'By Population'!$G$2:$K$14,5,FALSE))*'By Speed'!$S101*Scenario_VMT_3*$N88","v":0},{"$f":"(VLOOKUP($B88,'By Population'!$G$2:$K$14,5,FALSE))*'By Speed'!$T101*Scenario_VMT_3*$N88","v":0},{"$f":"(VLOOKUP($B88,'By Population'!$G$2:$K$14,5,FALSE))*'By Speed'!$U101*Scenario_VMT_3*$N88","v":0},0,{"$f":"(VLOOKUP($B88,'By Population'!$G$2:$K$14,5,FALSE))*'By Speed'!$M101*Scenario_VMT_4*$N88","v":0},{"$f":"(VLOOKUP($B88,'By Population'!$G$2:$K$14,5,FALSE))*'By Speed'!$N101*Scenario_VMT_4*$N88","v":0},{"$f":"(VLOOKUP($B88,'By Population'!$G$2:$K$14,5,FALSE))*'By Speed'!$O101*Scenario_VMT_4*$N88","v":0},{"$f":"(VLOOKUP($B88,'By Population'!$G$2:$K$14,5,FALSE))*'By Speed'!$P101*Scenario_VMT_4*$N88","v":0},{"$f":"(VLOOKUP($B88,'By Population'!$G$2:$K$14,5,FALSE))*'By Speed'!$Q101*Scenario_VMT_4*$N88","v":0},{"$f":"(VLOOKUP($B88,'By Population'!$G$2:$K$14,5,FALSE))*'By Speed'!$R101*Scenario_VMT_4*$N88","v":0},{"$f":"(VLOOKUP($B88,'By Population'!$G$2:$K$14,5,FALSE))*'By Speed'!$S101*Scenario_VMT_4*$N88","v":0},{"$f":"(VLOOKUP($B88,'By Population'!$G$2:$K$14,5,FALSE))*'By Speed'!$T101*Scenario_VMT_4*$N88","v":0},{"$f":"(VLOOKUP($B88,'By Population'!$G$2:$K$14,5,FALSE))*'By Speed'!$U101*Scenario_VMT_4*$N88","v":0},0,{"$f":"(VLOOKUP($B88,'By Population'!$G$2:$K$14,5,FALSE))*'By Speed'!$M101*Scenario_VMT_5*$N88","v":0},{"$f":"(VLOOKUP($B88,'By Population'!$G$2:$K$14,5,FALSE))*'By Speed'!$N101*Scenario_VMT_5*$N88","v":0},{"$f":"(VLOOKUP($B88,'By Population'!$G$2:$K$14,5,FALSE))*'By Speed'!$O101*Scenario_VMT_5*$N88","v":0},{"$f":"(VLOOKUP($B88,'By Population'!$G$2:$K$14,5,FALSE))*'By Speed'!$P101*Scenario_VMT_5*$N88","v":0},{"$f":"(VLOOKUP($B88,'By Population'!$G$2:$K$14,5,FALSE))*'By Speed'!$Q101*Scenario_VMT_5*$N88","v":0},{"$f":"(VLOOKUP($B88,'By Population'!$G$2:$K$14,5,FALSE))*'By Speed'!$R101*Scenario_VMT_5*$N88","v":0},{"$f":"(VLOOKUP($B88,'By Population'!$G$2:$K$14,5,FALSE))*'By Speed'!$S101*Scenario_VMT_5*$N88","v":0},{"$f":"(VLOOKUP($B88,'By Population'!$G$2:$K$14,5,FALSE))*'By Speed'!$T101*Scenario_VMT_5*$N88","v":0},{"$f":"(VLOOKUP($B88,'By Population'!$G$2:$K$14,5,FALSE))*'By Speed'!$U101*Scenario_VMT_5*$N88","v":0},0]
[92,"LHD1_DSL",20,"LHD1_DSL_20",{"$f":"(VLOOKUP($B89,'By Population'!$G$2:$K$14,5,FALSE))*'By Speed'!$M102*Scenario_VMT_EX*$N89","v":0},{"$f":"(VLOOKUP($B89,'By Population'!$G$2:$K$14,5,FALSE))*'By Speed'!$N102*Scenario_VMT_EX*$N89","v":0},{"$f":"(VLOOKUP($B89,'By Population'!$G$2:$K$14,5,FALSE))*'By Speed'!$O102*Scenario_VMT_EX*$N89","v":0},{"$f":"(VLOOKUP($B89,'By Population'!$G$2:$K$14,5,FALSE))*'By Speed'!$P102*Scenario_VMT_EX*$N89","v":0},{"$f":"(VLOOKUP($B89,'By Population'!$G$2:$K$14,5,FALSE))*'By Speed'!$Q102*Scenario_VMT_EX*$N89","v":0},{"$f":"(VLOOKUP($B89,'By Population'!$G$2:$K$14,5,FALSE))*'By Speed'!$R102*Scenario_VMT_EX*$N89","v":0},{"$f":"(VLOOKUP($B89,'By Population'!$G$2:$K$14,5,FALSE))*'By Speed'!$S102*Scenario_VMT_EX*$N89","v":0},{"$f":"(VLOOKUP($B89,'By Population'!$G$2:$K$14,5,FALSE))*'By Speed'!$T102*Scenario_VMT_EX*$N89","v":0},{"$f":"(VLOOKUP($B89,'By Population'!$G$2:$K$14,5,FALSE))*'By Speed'!$U102*Scenario_VMT_EX*$N89","v":0},0,{"$f":"(VLOOKUP($B89,'By Population'!$G$2:$K$14,5,FALSE))*'By Speed'!$M102*Scenario_VMT_1*$N89","v":0},{"$f":"(VLOOKUP($B89,'By Population'!$G$2:$K$14,5,FALSE))*'By Speed'!$N102*Scenario_VMT_1*$N89","v":0},{"$f":"(VLOOKUP($B89,'By Population'!$G$2:$K$14,5,FALSE))*'By Speed'!$O102*Scenario_VMT_1*$N89","v":0},{"$f":"(VLOOKUP($B89,'By Population'!$G$2:$K$14,5,FALSE))*'By Speed'!$P102*Scenario_VMT_1*$N89","v":0},{"$f":"(VLOOKUP($B89,'By Population'!$G$2:$K$14,5,FALSE))*'By Speed'!$Q102*Scenario_VMT_1*$N89","v":0},{"$f":"(VLOOKUP($B89,'By Population'!$G$2:$K$14,5,FALSE))*'By Speed'!$R102*Scenario_VMT_1*$N89","v":0},{"$f":"(VLOOKUP($B89,'By Population'!$G$2:$K$14,5,FALSE))*'By Speed'!$S102*Scenario_VMT_1*$N89","v":0},{"$f":"(VLOOKUP($B89,'By Population'!$G$2:$K$14,5,FALSE))*'By Speed'!$T102*Scenario_VMT_1*$N89","v":0},{"$f":"(VLOOKUP($B89,'By Population'!$G$2:$K$14,5,FALSE))*'By Speed'!$U102*Scenario_VMT_1*$N89","v":0},0,{"$f":"(VLOOKUP($B89,'By Population'!$G$2:$K$14,5,FALSE))*'By Speed'!$M102*Scenario_VMT_2*$N89","v":0},{"$f":"(VLOOKUP($B89,'By Population'!$G$2:$K$14,5,FALSE))*'By Speed'!$N102*Scenario_VMT_2*$N89","v":0},{"$f":"(VLOOKUP($B89,'By Population'!$G$2:$K$14,5,FALSE))*'By Speed'!$O102*Scenario_VMT_2*$N89","v":0},{"$f":"(VLOOKUP($B89,'By Population'!$G$2:$K$14,5,FALSE))*'By Speed'!$P102*Scenario_VMT_2*$N89","v":0},{"$f":"(VLOOKUP($B89,'By Population'!$G$2:$K$14,5,FALSE))*'By Speed'!$Q102*Scenario_VMT_2*$N89","v":0},{"$f":"(VLOOKUP($B89,'By Population'!$G$2:$K$14,5,FALSE))*'By Speed'!$R102*Scenario_VMT_2*$N89","v":0},{"$f":"(VLOOKUP($B89,'By Population'!$G$2:$K$14,5,FALSE))*'By Speed'!$S102*Scenario_VMT_2*$N89","v":0},{"$f":"(VLOOKUP($B89,'By Population'!$G$2:$K$14,5,FALSE))*'By Speed'!$T102*Scenario_VMT_2*$N89","v":0},{"$f":"(VLOOKUP($B89,'By Population'!$G$2:$K$14,5,FALSE))*'By Speed'!$U102*Scenario_VMT_2*$N89","v":0},0,{"$f":"(VLOOKUP($B89,'By Population'!$G$2:$K$14,5,FALSE))*'By Speed'!$M102*Scenario_VMT_3*$N89","v":0},{"$f":"(VLOOKUP($B89,'By Population'!$G$2:$K$14,5,FALSE))*'By Speed'!$N102*Scenario_VMT_3*$N89","v":0},{"$f":"(VLOOKUP($B89,'By Population'!$G$2:$K$14,5,FALSE))*'By Speed'!$O102*Scenario_VMT_3*$N89","v":0},{"$f":"(VLOOKUP($B89,'By Population'!$G$2:$K$14,5,FALSE))*'By Speed'!$P102*Scenario_VMT_3*$N89","v":0},{"$f":"(VLOOKUP($B89,'By Population'!$G$2:$K$14,5,FALSE))*'By Speed'!$Q102*Scenario_VMT_3*$N89","v":0},{"$f":"(VLOOKUP($B89,'By Population'!$G$2:$K$14,5,FALSE))*'By Speed'!$R102*Scenario_VMT_3*$N89","v":0},{"$f":"(VLOOKUP($B89,'By Population'!$G$2:$K$14,5,FALSE))*'By Speed'!$S102*Scenario_VMT_3*$N89","v":0},{"$f":"(VLOOKUP($B89,'By Population'!$G$2:$K$14,5,FALSE))*'By Speed'!$T102*Scenario_VMT_3*$N89","v":0},{"$f":"(VLOOKUP($B89,'By Population'!$G$2:$K$14,5,FALSE))*'By Speed'!$U102*Scenario_VMT_3*$N89","v":0},0,{"$f":"(VLOOKUP($B89,'By Population'!$G$2:$K$14,5,FALSE))*'By Speed'!$M102*Scenario_VMT_4*$N89","v":0},{"$f":"(VLOOKUP($B89,'By Population'!$G$2:$K$14,5,FALSE))*'By Speed'!$N102*Scenario_VMT_4*$N89","v":0},{"$f":"(VLOOKUP($B89,'By Population'!$G$2:$K$14,5,FALSE))*'By Speed'!$O102*Scenario_VMT_4*$N89","v":0},{"$f":"(VLOOKUP($B89,'By Population'!$G$2:$K$14,5,FALSE))*'By Speed'!$P102*Scenario_VMT_4*$N89","v":0},{"$f":"(VLOOKUP($B89,'By Population'!$G$2:$K$14,5,FALSE))*'By Speed'!$Q102*Scenario_VMT_4*$N89","v":0},{"$f":"(VLOOKUP($B89,'By Population'!$G$2:$K$14,5,FALSE))*'By Speed'!$R102*Scenario_VMT_4*$N89","v":0},{"$f":"(VLOOKUP($B89,'By Population'!$G$2:$K$14,5,FALSE))*'By Speed'!$S102*Scenario_VMT_4*$N89","v":0},{"$f":"(VLOOKUP($B89,'By Population'!$G$2:$K$14,5,FALSE))*'By Speed'!$T102*Scenario_VMT_4*$N89","v":0},{"$f":"(VLOOKUP($B89,'By Population'!$G$2:$K$14,5,FALSE))*'By Speed'!$U102*Scenario_VMT_4*$N89","v":0},0,{"$f":"(VLOOKUP($B89,'By Population'!$G$2:$K$14,5,FALSE))*'By Speed'!$M102*Scenario_VMT_5*$N89","v":0},{"$f":"(VLOOKUP($B89,'By Population'!$G$2:$K$14,5,FALSE))*'By Speed'!$N102*Scenario_VMT_5*$N89","v":0},{"$f":"(VLOOKUP($B89,'By Population'!$G$2:$K$14,5,FALSE))*'By Speed'!$O102*Scenario_VMT_5*$N89","v":0},{"$f":"(VLOOKUP($B89,'By Population'!$G$2:$K$14,5,FALSE))*'By Speed'!$P102*Scenario_VMT_5*$N89","v":0},{"$f":"(VLOOKUP($B89,'By Population'!$G$2:$K$14,5,FALSE))*'By Speed'!$Q102*Scenario_VMT_5*$N89","v":0},{"$f":"(VLOOKUP($B89,'By Population'!$G$2:$K$14,5,FALSE))*'By Speed'!$R102*Scenario_VMT_5*$N89","v":0},{"$f":"(VLOOKUP($B89,'By Population'!$G$2:$K$14,5,FALSE))*'By Speed'!$S102*Scenario_VMT_5*$N89","v":0},{"$f":"(VLOOKUP($B89,'By Population'!$G$2:$K$14,5,FALSE))*'By Speed'!$T102*Scenario_VMT_5*$N89","v":0},{"$f":"(VLOOKUP($B89,'By Population'!$G$2:$K$14,5,FALSE))*'By Speed'!$U102*Scenario_VMT_5*$N89","v":0},0]
[94,"LHD1_DSL",25,"LHD1_DSL_25",{"$f":"(VLOOKUP($B90,'By Population'!$G$2:$K$14,5,FALSE))*'By Speed'!$M103*Scenario_VMT_EX*$N90","v":0},{"$f":"(VLOOKUP($B90,'By Population'!$G$2:$K$14,5,FALSE))*'By Speed'!$N103*Scenario_VMT_EX*$N90","v":0},{"$f":"(VLOOKUP($B90,'By Population'!$G$2:$K$14,5,FALSE))*'By Speed'!$O103*Scenario_VMT_EX*$N90","v":0},{"$f":"(VLOOKUP($B90,'By Population'!$G$2:$K$14,5,FALSE))*'By Speed'!$P103*Scenario_VMT_EX*$N90","v":0},{"$f":"(VLOOKUP($B90,'By Population'!$G$2:$K$14,5,FALSE))*'By Speed'!$Q103*Scenario_VMT_EX*$N90","v":0},{"$f":"(VLOOKUP($B90,'By Population'!$G$2:$K$14,5,FALSE))*'By Speed'!$R103*Scenario_VMT_EX*$N90","v":0},{"$f":"(VLOOKUP($B90,'By Population'!$G$2:$K$14,5,FALSE))*'By Speed'!$S103*Scenario_VMT_EX*$N90","v":0},{"$f":"(VLOOKUP($B90,'By Population'!$G$2:$K$14,5,FALSE))*'By Speed'!$T103*Scenario_VMT_EX*$N90","v":0},{"$f":"(VLOOKUP($B90,'By Population'!$G$2:$K$14,5,FALSE))*'By Speed'!$U103*Scenario_VMT_EX*$N90","v":0},1,{"$f":"(VLOOKUP($B90,'By Population'!$G$2:$K$14,5,FALSE))*'By Speed'!$M103*Scenario_VMT_1*$N90","v":0},{"$f":"(VLOOKUP($B90,'By Population'!$G$2:$K$14,5,FALSE))*'By Speed'!$N103*Scenario_VMT_1*$N90","v":0},{"$f":"(VLOOKUP($B90,'By Population'!$G$2:$K$14,5,FALSE))*'By Speed'!$O103*Scenario_VMT_1*$N90","v":0},{"$f":"(VLOOKUP($B90,'By Population'!$G$2:$K$14,5,FALSE))*'By Speed'!$P103*Scenario_VMT_1*$N90","v":0},{"$f":"(VLOOKUP($B90,'By Population'!$G$2:$K$14,5,FALSE))*'By Speed'!$Q103*Scenario_VMT_1*$N90","v":0},{"$f":"(VLOOKUP($B90,'By Population'!$G$2:$K$14,5,FALSE))*'By Speed'!$R103*Scenario_VMT_1*$N90","v":0},{"$f":"(VLOOKUP($B90,'By Population'!$G$2:$K$14,5,FALSE))*'By Speed'!$S103*Scenario_VMT_1*$N90","v":0},{"$f":"(VLOOKUP($B90,'By Population'!$G$2:$K$14,5,FALSE))*'By Speed'!$T103*Scenario_VMT_1*$N90","v":0},{"$f":"(VLOOKUP($B90,'By Population'!$G$2:$K$14,5,FALSE))*'By Speed'!$U103*Scenario_VMT_1*$N90","v":0},0,{"$f":"(VLOOKUP($B90,'By Population'!$G$2:$K$14,5,FALSE))*'By Speed'!$M103*Scenario_VMT_2*$N90","v":0},{"$f":"(VLOOKUP($B90,'By Population'!$G$2:$K$14,5,FALSE))*'By Speed'!$N103*Scenario_VMT_2*$N90","v":0},{"$f":"(VLOOKUP($B90,'By Population'!$G$2:$K$14,5,FALSE))*'By Speed'!$O103*Scenario_VMT_2*$N90","v":0},{"$f":"(VLOOKUP($B90,'By Population'!$G$2:$K$14,5,FALSE))*'By Speed'!$P103*Scenario_VMT_2*$N90","v":0},{"$f":"(VLOOKUP($B90,'By Population'!$G$2:$K$14,5,FALSE))*'By Speed'!$Q103*Scenario_VMT_2*$N90","v":0},{"$f":"(VLOOKUP($B90,'By Population'!$G$2:$K$14,5,FALSE))*'By Speed'!$R103*Scenario_VMT_2*$N90","v":0},{"$f":"(VLOOKUP($B90,'By Population'!$G$2:$K$14,5,FALSE))*'By Speed'!$S103*Scenario_VMT_2*$N90","v":0},{"$f":"(VLOOKUP($B90,'By Population'!$G$2:$K$14,5,FALSE))*'By Speed'!$T103*Scenario_VMT_2*$N90","v":0},{"$f":"(VLOOKUP($B90,'By Population'!$G$2:$K$14,5,FALSE))*'By Speed'!$U103*Scenario_VMT_2*$N90","v":0},0,{"$f":"(VLOOKUP($B90,'By Population'!$G$2:$K$14,5,FALSE))*'By Speed'!$M103*Scenario_VMT_3*$N90","v":0},{"$f":"(VLOOKUP($B90,'By Population'!$G$2:$K$14,5,FALSE))*'By Speed'!$N103*Scenario_VMT_3*$N90","v":0},{"$f":"(VLOOKUP($B90,'By Population'!$G$2:$K$14,5,FALSE))*'By Speed'!$O103*Scenario_VMT_3*$N90","v":0},{"$f":"(VLOOKUP($B90,'By Population'!$G$2:$K$14,5,FALSE))*'By Speed'!$P103*Scenario_VMT_3*$N90","v":0},{"$f":"(VLOOKUP($B90,'By Population'!$G$2:$K$14,5,FALSE))*'By Speed'!$Q103*Scenario_VMT_3*$N90","v":0},{"$f":"(VLOOKUP($B90,'By Population'!$G$2:$K$14,5,FALSE))*'By Speed'!$R103*Scenario_VMT_3*$N90","v":0},{"$f":"(VLOOKUP($B90,'By Population'!$G$2:$K$14,5,FALSE))*'By Speed'!$S103*Scenario_VMT_3*$N90","v":0},{"$f":"(VLOOKUP($B90,'By Population'!$G$2:$K$14,5,FALSE))*'By Speed'!$T103*Scenario_VMT_3*$N90","v":0},{"$f":"(VLOOKUP($B90,'By Population'!$G$2:$K$14,5,FALSE))*'By Speed'!$U103*Scenario_VMT_3*$N90","v":0},0,{"$f":"(VLOOKUP($B90,'By Population'!$G$2:$K$14,5,FALSE))*'By Speed'!$M103*Scenario_VMT_4*$N90","v":0},{"$f":"(VLOOKUP($B90,'By Population'!$G$2:$K$14,5,FALSE))*'By Speed'!$N103*Scenario_VMT_4*$N90","v":0},{"$f":"(VLOOKUP($B90,'By Population'!$G$2:$K$14,5,FALSE))*'By Speed'!$O103*Scenario_VMT_4*$N90","v":0},{"$f":"(VLOOKUP($B90,'By Population'!$G$2:$K$14,5,FALSE))*'By Speed'!$P103*Scenario_VMT_4*$N90","v":0},{"$f":"(VLOOKUP($B90,'By Population'!$G$2:$K$14,5,FALSE))*'By Speed'!$Q103*Scenario_VMT_4*$N90","v":0},{"$f":"(VLOOKUP($B90,'By Population'!$G$2:$K$14,5,FALSE))*'By Speed'!$R103*Scenario_VMT_4*$N90","v":0},{"$f":"(VLOOKUP($B90,'By Population'!$G$2:$K$14,5,FALSE))*'By Speed'!$S103*Scenario_VMT_4*$N90","v":0},{"$f":"(VLOOKUP($B90,'By Population'!$G$2:$K$14,5,FALSE))*'By Speed'!$T103*Scenario_VMT_4*$N90","v":0},{"$f":"(VLOOKUP($B90,'By Population'!$G$2:$K$14,5,FALSE))*'By Speed'!$U103*Scenario_VMT_4*$N90","v":0},0,{"$f":"(VLOOKUP($B90,'By Population'!$G$2:$K$14,5,FALSE))*'By Speed'!$M103*Scenario_VMT_5*$N90","v":0},{"$f":"(VLOOKUP($B90,'By Population'!$G$2:$K$14,5,FALSE))*'By Speed'!$N103*Scenario_VMT_5*$N90","v":0},{"$f":"(VLOOKUP($B90,'By Population'!$G$2:$K$14,5,FALSE))*'By Speed'!$O103*Scenario_VMT_5*$N90","v":0},{"$f":"(VLOOKUP($B90,'By Population'!$G$2:$K$14,5,FALSE))*'By Speed'!$P103*Scenario_VMT_5*$N90","v":0},{"$f":"(VLOOKUP($B90,'By Population'!$G$2:$K$14,5,FALSE))*'By Speed'!$Q103*Scenario_VMT_5*$N90","v":0},{"$f":"(VLOOKUP($B90,'By Population'!$G$2:$K$14,5,FALSE))*'By Speed'!$R103*Scenario_VMT_5*$N90","v":0},{"$f":"(VLOOKUP($B90,'By Population'!$G$2:$K$14,5,FALSE))*'By Speed'!$S103*Scenario_VMT_5*$N90","v":0},{"$f":"(VLOOKUP($B90,'By Population'!$G$2:$K$14,5,FALSE))*'By Speed'!$T103*Scenario_VMT_5*$N90","v":0},{"$f":"(VLOOKUP($B90,'By Population'!$G$2:$K$14,5,FALSE))*'By Speed'!$U103*Scenario_VMT_5*$N90","v":0},0]
[96,"LHD1_DSL",30,"LHD1_DSL_30",{"$f":"(VLOOKUP($B91,'By Population'!$G$2:$K$14,5,FALSE))*'By Speed'!$M104*Scenario_VMT_EX*$N91","v":0},{"$f":"(VLOOKUP($B91,'By Population'!$G$2:$K$14,5,FALSE))*'By Speed'!$N104*Scenario_VMT_EX*$N91","v":0},{"$f":"(VLOOKUP($B91,'By Population'!$G$2:$K$14,5,FALSE))*'By Speed'!$O104*Scenario_VMT_EX*$N91","v":0},{"$f":"(VLOOKUP($B91,'By Population'!$G$2:$K$14,5,FALSE))*'By Speed'!$P104*Scenario_VMT_EX*$N91","v":0},{"$f":"(VLOOKUP($B91,'By Population'!$G$2:$K$14,5,FALSE))*'By Speed'!$Q104*Scenario_VMT_EX*$N91","v":0},{"$f":"(VLOOKUP($B91,'By Population'!$G$2:$K$14,5,FALSE))*'By Speed'!$R104*Scenario_VMT_EX*$N91","v":0},{"$f":"(VLOOKUP($B91,'By Population'!$G$2:$K$14,5,FALSE))*'By Speed'!$S104*Scenario_VMT_EX*$N91","v":0},{"$f":"(VLOOKUP($B91,'By Population'!$G$2:$K$14,5,FALSE))*'By Speed'!$T104*Scenario_VMT_EX*$N91","v":0},{"$f":"(VLOOKUP($B91,'By Population'!$G$2:$K$14,5,FALSE))*'By Speed'!$U104*Scenario_VMT_EX*$N91","v":0},0,{"$f":"(VLOOKUP($B91,'By Population'!$G$2:$K$14,5,FALSE))*'By Speed'!$M104*Scenario_VMT_1*$N91","v":0},{"$f":"(VLOOKUP($B91,'By Population'!$G$2:$K$14,5,FALSE))*'By Speed'!$N104*Scenario_VMT_1*$N91","v":0},{"$f":"(VLOOKUP($B91,'By Population'!$G$2:$K$14,5,FALSE))*'By Speed'!$O104*Scenario_VMT_1*$N91","v":0},{"$f":"(VLOOKUP($B91,'By Population'!$G$2:$K$14,5,FALSE))*'By Speed'!$P104*Scenario_VMT_1*$N91","v":0},{"$f":"(VLOOKUP($B91,'By Population'!$G$2:$K$14,5,FALSE))*'By Speed'!$Q104*Scenario_VMT_1*$N91","v":0},{"$f":"(VLOOKUP($B91,'By Population'!$G$2:$K$14,5,FALSE))*'By Speed'!$R104*Scenario_VMT_1*$N91","v":0},{"$f":"(VLOOKUP($B91,'By Population'!$G$2:$K$14,5,FALSE))*'By Speed'!$S104*Scenario_VMT_1*$N91","v":0},{"$f":"(VLOOKUP($B91,'By Population'!$G$2:$K$14,5,FALSE))*'By Speed'!$T104*Scenario_VMT_1*$N91","v":0},{"$f":"(VLOOKUP($B91,'By Population'!$G$2:$K$14,5,FALSE))*'By Speed'!$U104*Scenario_VMT_1*$N91","v":0},0,{"$f":"(VLOOKUP($B91,'By Population'!$G$2:$K$14,5,FALSE))*'By Speed'!$M104*Scenario_VMT_2*$N91","v":0},{"$f":"(VLOOKUP($B91,'By Population'!$G$2:$K$14,5,FALSE))*'By Speed'!$N104*Scenario_VMT_2*$N91","v":0},{"$f":"(VLOOKUP($B91,'By Population'!$G$2:$K$14,5,FALSE))*'By Speed'!$O104*Scenario_VMT_2*$N91","v":0},{"$f":"(VLOOKUP($B91,'By Population'!$G$2:$K$14,5,FALSE))*'By Speed'!$P104*Scenario_VMT_2*$N91","v":0},{"$f":"(VLOOKUP($B91,'By Population'!$G$2:$K$14,5,FALSE))*'By Speed'!$Q104*Scenario_VMT_2*$N91","v":0},{"$f":"(VLOOKUP($B91,'By Population'!$G$2:$K$14,5,FALSE))*'By Speed'!$R104*Scenario_VMT_2*$N91","v":0},{"$f":"(VLOOKUP($B91,'By Population'!$G$2:$K$14,5,FALSE))*'By Speed'!$S104*Scenario_VMT_2*$N91","v":0},{"$f":"(VLOOKUP($B91,'By Population'!$G$2:$K$14,5,FALSE))*'By Speed'!$T104*Scenario_VMT_2*$N91","v":0},{"$f":"(VLOOKUP($B91,'By Population'!$G$2:$K$14,5,FALSE))*'By Speed'!$U104*Scenario_VMT_2*$N91","v":0},0,{"$f":"(VLOOKUP($B91,'By Population'!$G$2:$K$14,5,FALSE))*'By Speed'!$M104*Scenario_VMT_3*$N91","v":0},{"$f":"(VLOOKUP($B91,'By Population'!$G$2:$K$14,5,FALSE))*'By Speed'!$N104*Scenario_VMT_3*$N91","v":0},{"$f":"(VLOOKUP($B91,'By Population'!$G$2:$K$14,5,FALSE))*'By Speed'!$O104*Scenario_VMT_3*$N91","v":0},{"$f":"(VLOOKUP($B91,'By Population'!$G$2:$K$14,5,FALSE))*'By Speed'!$P104*Scenario_VMT_3*$N91","v":0},{"$f":"(VLOOKUP($B91,'By Population'!$G$2:$K$14,5,FALSE))*'By Speed'!$Q104*Scenario_VMT_3*$N91","v":0},{"$f":"(VLOOKUP($B91,'By Population'!$G$2:$K$14,5,FALSE))*'By Speed'!$R104*Scenario_VMT_3*$N91","v":0},{"$f":"(VLOOKUP($B91,'By Population'!$G$2:$K$14,5,FALSE))*'By Speed'!$S104*Scenario_VMT_3*$N91","v":0},{"$f":"(VLOOKUP($B91,'By Population'!$G$2:$K$14,5,FALSE))*'By Speed'!$T104*Scenario_VMT_3*$N91","v":0},{"$f":"(VLOOKUP($B91,'By Population'!$G$2:$K$14,5,FALSE))*'By Speed'!$U104*Scenario_VMT_3*$N91","v":0},0,{"$f":"(VLOOKUP($B91,'By Population'!$G$2:$K$14,5,FALSE))*'By Speed'!$M104*Scenario_VMT_4*$N91","v":0},{"$f":"(VLOOKUP($B91,'By Population'!$G$2:$K$14,5,FALSE))*'By Speed'!$N104*Scenario_VMT_4*$N91","v":0},{"$f":"(VLOOKUP($B91,'By Population'!$G$2:$K$14,5,FALSE))*'By Speed'!$O104*Scenario_VMT_4*$N91","v":0},{"$f":"(VLOOKUP($B91,'By Population'!$G$2:$K$14,5,FALSE))*'By Speed'!$P104*Scenario_VMT_4*$N91","v":0},{"$f":"(VLOOKUP($B91,'By Population'!$G$2:$K$14,5,FALSE))*'By Speed'!$Q104*Scenario_VMT_4*$N91","v":0},{"$f":"(VLOOKUP($B91,'By Population'!$G$2:$K$14,5,FALSE))*'By Speed'!$R104*Scenario_VMT_4*$N91","v":0},{"$f":"(VLOOKUP($B91,'By Population'!$G$2:$K$14,5,FALSE))*'By Speed'!$S104*Scenario_VMT_4*$N91","v":0},{"$f":"(VLOOKUP($B91,'By Population'!$G$2:$K$14,5,FALSE))*'By Speed'!$T104*Scenario_VMT_4*$N91","v":0},{"$f":"(VLOOKUP($B91,'By Population'!$G$2:$K$14,5,FALSE))*'By Speed'!$U104*Scenario_VMT_4*$N91","v":0},0,{"$f":"(VLOOKUP($B91,'By Population'!$G$2:$K$14,5,FALSE))*'By Speed'!$M104*Scenario_VMT_5*$N91","v":0},{"$f":"(VLOOKUP($B91,'By Population'!$G$2:$K$14,5,FALSE))*'By Speed'!$N104*Scenario_VMT_5*$N91","v":0},{"$f":"(VLOOKUP($B91,'By Population'!$G$2:$K$14,5,FALSE))*'By Speed'!$O104*Scenario_VMT_5*$N91","v":0},{"$f":"(VLOOKUP($B91,'By Population'!$G$2:$K$14,5,FALSE))*'By Speed'!$P104*Scenario_VMT_5*$N91","v":0},{"$f":"(VLOOKUP($B91,'By Population'!$G$2:$K$14,5,FALSE))*'By Speed'!$Q104*Scenario_VMT_5*$N91","v":0},{"$f":"(VLOOKUP($B91,'By Population'!$G$2:$K$14,5,FALSE))*'By Speed'!$R104*Scenario_VMT_5*$N91","v":0},{"$f":"(VLOOKUP($B91,'By Population'!$G$2:$K$14,5,FALSE))*'By Speed'!$S104*Scenario_VMT_5*$N91","v":0},{"$f":"(VLOOKUP($B91,'By Population'!$G$2:$K$14,5,FALSE))*'By Speed'!$T104*Scenario_VMT_5*$N91","v":0},{"$f":"(VLOOKUP($B91,'By Population'!$G$2:$K$14,5,FALSE))*'By Speed'!$U104*Scenario_VMT_5*$N91","v":0},0]
[98,"LHD1_DSL",35,"LHD1_DSL_35",{"$f":"(VLOOKUP($B92,'By Population'!$G$2:$K$14,5,FALSE))*'By Speed'!$M105*Scenario_VMT_EX*$N92","v":0},{"$f":"(VLOOKUP($B92,'By Population'!$G$2:$K$14,5,FALSE))*'By Speed'!$N105*Scenario_VMT_EX*$N92","v":0},{"$f":"(VLOOKUP($B92,'By Population'!$G$2:$K$14,5,FALSE))*'By Speed'!$O105*Scenario_VMT_EX*$N92","v":0},{"$f":"(VLOOKUP($B92,'By Population'!$G$2:$K$14,5,FALSE))*'By Speed'!$P105*Scenario_VMT_EX*$N92","v":0},{"$f":"(VLOOKUP($B92,'By Population'!$G$2:$K$14,5,FALSE))*'By Speed'!$Q105*Scenario_VMT_EX*$N92","v":0},{"$f":"(VLOOKUP($B92,'By Population'!$G$2:$K$14,5,FALSE))*'By Speed'!$R105*Scenario_VMT_EX*$N92","v":0},{"$f":"(VLOOKUP($B92,'By Population'!$G$2:$K$14,5,FALSE))*'By Speed'!$S105*Scenario_VMT_EX*$N92","v":0},{"$f":"(VLOOKUP($B92,'By Population'!$G$2:$K$14,5,FALSE))*'By Speed'!$T105*Scenario_VMT_EX*$N92","v":0},{"$f":"(VLOOKUP($B92,'By Population'!$G$2:$K$14,5,FALSE))*'By Speed'!$U105*Scenario_VMT_EX*$N92","v":0},0,{"$f":"(VLOOKUP($B92,'By Population'!$G$2:$K$14,5,FALSE))*'By Speed'!$M105*Scenario_VMT_1*$N92","v":0},{"$f":"(VLOOKUP($B92,'By Population'!$G$2:$K$14,5,FALSE))*'By Speed'!$N105*Scenario_VMT_1*$N92","v":0},{"$f":"(VLOOKUP($B92,'By Population'!$G$2:$K$14,5,FALSE))*'By Speed'!$O105*Scenario_VMT_1*$N92","v":0},{"$f":"(VLOOKUP($B92,'By Population'!$G$2:$K$14,5,FALSE))*'By Speed'!$P105*Scenario_VMT_1*$N92","v":0},{"$f":"(VLOOKUP($B92,'By Population'!$G$2:$K$14,5,FALSE))*'By Speed'!$Q105*Scenario_VMT_1*$N92","v":0},{"$f":"(VLOOKUP($B92,'By Population'!$G$2:$K$14,5,FALSE))*'By Speed'!$R105*Scenario_VMT_1*$N92","v":0},{"$f":"(VLOOKUP($B92,'By Population'!$G$2:$K$14,5,FALSE))*'By Speed'!$S105*Scenario_VMT_1*$N92","v":0},{"$f":"(VLOOKUP($B92,'By Population'!$G$2:$K$14,5,FALSE))*'By Speed'!$T105*Scenario_VMT_1*$N92","v":0},{"$f":"(VLOOKUP($B92,'By Population'!$G$2:$K$14,5,FALSE))*'By Speed'!$U105*Scenario_VMT_1*$N92","v":0},0,{"$f":"(VLOOKUP($B92,'By Population'!$G$2:$K$14,5,FALSE))*'By Speed'!$M105*Scenario_VMT_2*$N92","v":0},{"$f":"(VLOOKUP($B92,'By Population'!$G$2:$K$14,5,FALSE))*'By Speed'!$N105*Scenario_VMT_2*$N92","v":0},{"$f":"(VLOOKUP($B92,'By Population'!$G$2:$K$14,5,FALSE))*'By Speed'!$O105*Scenario_VMT_2*$N92","v":0},{"$f":"(VLOOKUP($B92,'By Population'!$G$2:$K$14,5,FALSE))*'By Speed'!$P105*Scenario_VMT_2*$N92","v":0},{"$f":"(VLOOKUP($B92,'By Population'!$G$2:$K$14,5,FALSE))*'By Speed'!$Q105*Scenario_VMT_2*$N92","v":0},{"$f":"(VLOOKUP($B92,'By Population'!$G$2:$K$14,5,FALSE))*'By Speed'!$R105*Scenario_VMT_2*$N92","v":0},{"$f":"(VLOOKUP($B92,'By Population'!$G$2:$K$14,5,FALSE))*'By Speed'!$S105*Scenario_VMT_2*$N92","v":0},{"$f":"(VLOOKUP($B92,'By Population'!$G$2:$K$14,5,FALSE))*'By Speed'!$T105*Scenario_VMT_2*$N92","v":0},{"$f":"(VLOOKUP($B92,'By Population'!$G$2:$K$14,5,FALSE))*'By Speed'!$U105*Scenario_VMT_2*$N92","v":0},0,{"$f":"(VLOOKUP($B92,'By Population'!$G$2:$K$14,5,FALSE))*'By Speed'!$M105*Scenario_VMT_3*$N92","v":0},{"$f":"(VLOOKUP($B92,'By Population'!$G$2:$K$14,5,FALSE))*'By Speed'!$N105*Scenario_VMT_3*$N92","v":0},{"$f":"(VLOOKUP($B92,'By Population'!$G$2:$K$14,5,FALSE))*'By Speed'!$O105*Scenario_VMT_3*$N92","v":0},{"$f":"(VLOOKUP($B92,'By Population'!$G$2:$K$14,5,FALSE))*'By Speed'!$P105*Scenario_VMT_3*$N92","v":0},{"$f":"(VLOOKUP($B92,'By Population'!$G$2:$K$14,5,FALSE))*'By Speed'!$Q105*Scenario_VMT_3*$N92","v":0},{"$f":"(VLOOKUP($B92,'By Population'!$G$2:$K$14,5,FALSE))*'By Speed'!$R105*Scenario_VMT_3*$N92","v":0},{"$f":"(VLOOKUP($B92,'By Population'!$G$2:$K$14,5,FALSE))*'By Speed'!$S105*Scenario_VMT_3*$N92","v":0},{"$f":"(VLOOKUP($B92,'By Population'!$G$2:$K$14,5,FALSE))*'By Speed'!$T105*Scenario_VMT_3*$N92","v":0},{"$f":"(VLOOKUP($B92,'By Population'!$G$2:$K$14,5,FALSE))*'By Speed'!$U105*Scenario_VMT_3*$N92","v":0},0,{"$f":"(VLOOKUP($B92,'By Population'!$G$2:$K$14,5,FALSE))*'By Speed'!$M105*Scenario_VMT_4*$N92","v":0},{"$f":"(VLOOKUP($B92,'By Population'!$G$2:$K$14,5,FALSE))*'By Speed'!$N105*Scenario_VMT_4*$N92","v":0},{"$f":"(VLOOKUP($B92,'By Population'!$G$2:$K$14,5,FALSE))*'By Speed'!$O105*Scenario_VMT_4*$N92","v":0},{"$f":"(VLOOKUP($B92,'By Population'!$G$2:$K$14,5,FALSE))*'By Speed'!$P105*Scenario_VMT_4*$N92","v":0},{"$f":"(VLOOKUP($B92,'By Population'!$G$2:$K$14,5,FALSE))*'By Speed'!$Q105*Scenario_VMT_4*$N92","v":0},{"$f":"(VLOOKUP($B92,'By Population'!$G$2:$K$14,5,FALSE))*'By Speed'!$R105*Scenario_VMT_4*$N92","v":0},{"$f":"(VLOOKUP($B92,'By Population'!$G$2:$K$14,5,FALSE))*'By Speed'!$S105*Scenario_VMT_4*$N92","v":0},{"$f":"(VLOOKUP($B92,'By Population'!$G$2:$K$14,5,FALSE))*'By Speed'!$T105*Scenario_VMT_4*$N92","v":0},{"$f":"(VLOOKUP($B92,'By Population'!$G$2:$K$14,5,FALSE))*'By Speed'!$U105*Scenario_VMT_4*$N92","v":0},0,{"$f":"(VLOOKUP($B92,'By Population'!$G$2:$K$14,5,FALSE))*'By Speed'!$M105*Scenario_VMT_5*$N92","v":0},{"$f":"(VLOOKUP($B92,'By Population'!$G$2:$K$14,5,FALSE))*'By Speed'!$N105*Scenario_VMT_5*$N92","v":0},{"$f":"(VLOOKUP($B92,'By Population'!$G$2:$K$14,5,FALSE))*'By Speed'!$O105*Scenario_VMT_5*$N92","v":0},{"$f":"(VLOOKUP($B92,'By Population'!$G$2:$K$14,5,FALSE))*'By Speed'!$P105*Scenario_VMT_5*$N92","v":0},{"$f":"(VLOOKUP($B92,'By Population'!$G$2:$K$14,5,FALSE))*'By Speed'!$Q105*Scenario_VMT_5*$N92","v":0},{"$f":"(VLOOKUP($B92,'By Population'!$G$2:$K$14,5,FALSE))*'By Speed'!$R105*Scenario_VMT_5*$N92","v":0},{"$f":"(VLOOKUP($B92,'By Population'!$G$2:$K$14,5,FALSE))*'By Speed'!$S105*Scenario_VMT_5*$N92","v":0},{"$f":"(VLOOKUP($B92,'By Population'!$G$2:$K$14,5,FALSE))*'By Speed'!$T105*Scenario_VMT_5*$N92","v":0},{"$f":"(VLOOKUP($B92,'By Population'!$G$2:$K$14,5,FALSE))*'By Speed'!$U105*Scenario_VMT_5*$N92","v":0},0]
[100,"LHD1_DSL",40,"LHD1_DSL_40",{"$f":"(VLOOKUP($B93,'By Population'!$G$2:$K$14,5,FALSE))*'By Speed'!$M106*Scenario_VMT_EX*$N93","v":0},{"$f":"(VLOOKUP($B93,'By Population'!$G$2:$K$14,5,FALSE))*'By Speed'!$N106*Scenario_VMT_EX*$N93","v":0},{"$f":"(VLOOKUP($B93,'By Population'!$G$2:$K$14,5,FALSE))*'By Speed'!$O106*Scenario_VMT_EX*$N93","v":0},{"$f":"(VLOOKUP($B93,'By Population'!$G$2:$K$14,5,FALSE))*'By Speed'!$P106*Scenario_VMT_EX*$N93","v":0},{"$f":"(VLOOKUP($B93,'By Population'!$G$2:$K$14,5,FALSE))*'By Speed'!$Q106*Scenario_VMT_EX*$N93","v":0},{"$f":"(VLOOKUP($B93,'By Population'!$G$2:$K$14,5,FALSE))*'By Speed'!$R106*Scenario_VMT_EX*$N93","v":0},{"$f":"(VLOOKUP($B93,'By Population'!$G$2:$K$14,5,FALSE))*'By Speed'!$S106*Scenario_VMT_EX*$N93","v":0},{"$f":"(VLOOKUP($B93,'By Population'!$G$2:$K$14,5,FALSE))*'By Speed'!$T106*Scenario_VMT_EX*$N93","v":0},{"$f":"(VLOOKUP($B93,'By Population'!$G$2:$K$14,5,FALSE))*'By Speed'!$U106*Scenario_VMT_EX*$N93","v":0},0,{"$f":"(VLOOKUP($B93,'By Population'!$G$2:$K$14,5,FALSE))*'By Speed'!$M106*Scenario_VMT_1*$N93","v":0},{"$f":"(VLOOKUP($B93,'By Population'!$G$2:$K$14,5,FALSE))*'By Speed'!$N106*Scenario_VMT_1*$N93","v":0},{"$f":"(VLOOKUP($B93,'By Population'!$G$2:$K$14,5,FALSE))*'By Speed'!$O106*Scenario_VMT_1*$N93","v":0},{"$f":"(VLOOKUP($B93,'By Population'!$G$2:$K$14,5,FALSE))*'By Speed'!$P106*Scenario_VMT_1*$N93","v":0},{"$f":"(VLOOKUP($B93,'By Population'!$G$2:$K$14,5,FALSE))*'By Speed'!$Q106*Scenario_VMT_1*$N93","v":0},{"$f":"(VLOOKUP($B93,'By Population'!$G$2:$K$14,5,FALSE))*'By Speed'!$R106*Scenario_VMT_1*$N93","v":0},{"$f":"(VLOOKUP($B93,'By Population'!$G$2:$K$14,5,FALSE))*'By Speed'!$S106*Scenario_VMT_1*$N93","v":0},{"$f":"(VLOOKUP($B93,'By Population'!$G$2:$K$14,5,FALSE))*'By Speed'!$T106*Scenario_VMT_1*$N93","v":0},{"$f":"(VLOOKUP($B93,'By Population'!$G$2:$K$14,5,FALSE))*'By Speed'!$U106*Scenario_VMT_1*$N93","v":0},0,{"$f":"(VLOOKUP($B93,'By Population'!$G$2:$K$14,5,FALSE))*'By Speed'!$M106*Scenario_VMT_2*$N93","v":0},{"$f":"(VLOOKUP($B93,'By Population'!$G$2:$K$14,5,FALSE))*'By Speed'!$N106*Scenario_VMT_2*$N93","v":0},{"$f":"(VLOOKUP($B93,'By Population'!$G$2:$K$14,5,FALSE))*'By Speed'!$O106*Scenario_VMT_2*$N93","v":0},{"$f":"(VLOOKUP($B93,'By Population'!$G$2:$K$14,5,FALSE))*'By Speed'!$P106*Scenario_VMT_2*$N93","v":0},{"$f":"(VLOOKUP($B93,'By Population'!$G$2:$K$14,5,FALSE))*'By Speed'!$Q106*Scenario_VMT_2*$N93","v":0},{"$f":"(VLOOKUP($B93,'By Population'!$G$2:$K$14,5,FALSE))*'By Speed'!$R106*Scenario_VMT_2*$N93","v":0},{"$f":"(VLOOKUP($B93,'By Population'!$G$2:$K$14,5,FALSE))*'By Speed'!$S106*Scenario_VMT_2*$N93","v":0},{"$f":"(VLOOKUP($B93,'By Population'!$G$2:$K$14,5,FALSE))*'By Speed'!$T106*Scenario_VMT_2*$N93","v":0},{"$f":"(VLOOKUP($B93,'By Population'!$G$2:$K$14,5,FALSE))*'By Speed'!$U106*Scenario_VMT_2*$N93","v":0},0,{"$f":"(VLOOKUP($B93,'By Population'!$G$2:$K$14,5,FALSE))*'By Speed'!$M106*Scenario_VMT_3*$N93","v":0},{"$f":"(VLOOKUP($B93,'By Population'!$G$2:$K$14,5,FALSE))*'By Speed'!$N106*Scenario_VMT_3*$N93","v":0},{"$f":"(VLOOKUP($B93,'By Population'!$G$2:$K$14,5,FALSE))*'By Speed'!$O106*Scenario_VMT_3*$N93","v":0},{"$f":"(VLOOKUP($B93,'By Population'!$G$2:$K$14,5,FALSE))*'By Speed'!$P106*Scenario_VMT_3*$N93","v":0},{"$f":"(VLOOKUP($B93,'By Population'!$G$2:$K$14,5,FALSE))*'By Speed'!$Q106*Scenario_VMT_3*$N93","v":0},{"$f":"(VLOOKUP($B93,'By Population'!$G$2:$K$14,5,FALSE))*'By Speed'!$R106*Scenario_VMT_3*$N93","v":0},{"$f":"(VLOOKUP($B93,'By Population'!$G$2:$K$14,5,FALSE))*'By Speed'!$S106*Scenario_VMT_3*$N93","v":0},{"$f":"(VLOOKUP($B93,'By Population'!$G$2:$K$14,5,FALSE))*'By Speed'!$T106*Scenario_VMT_3*$N93","v":0},{"$f":"(VLOOKUP($B93,'By Population'!$G$2:$K$14,5,FALSE))*'By Speed'!$U106*Scenario_VMT_3*$N93","v":0},0,{"$f":"(VLOOKUP($B93,'By Population'!$G$2:$K$14,5,FALSE))*'By Speed'!$M106*Scenario_VMT_4*$N93","v":0},{"$f":"(VLOOKUP($B93,'By Population'!$G$2:$K$14,5,FALSE))*'By Speed'!$N106*Scenario_VMT_4*$N93","v":0},{"$f":"(VLOOKUP($B93,'By Population'!$G$2:$K$14,5,FALSE))*'By Speed'!$O106*Scenario_VMT_4*$N93","v":0},{"$f":"(VLOOKUP($B93,'By Population'!$G$2:$K$14,5,FALSE))*'By Speed'!$P106*Scenario_VMT_4*$N93","v":0},{"$f":"(VLOOKUP($B93,'By Population'!$G$2:$K$14,5,FALSE))*'By Speed'!$Q106*Scenario_VMT_4*$N93","v":0},{"$f":"(VLOOKUP($B93,'By Population'!$G$2:$K$14,5,FALSE))*'By Speed'!$R106*Scenario_VMT_4*$N93","v":0},{"$f":"(VLOOKUP($B93,'By Population'!$G$2:$K$14,5,FALSE))*'By Speed'!$S106*Scenario_VMT_4*$N93","v":0},{"$f":"(VLOOKUP($B93,'By Population'!$G$2:$K$14,5,FALSE))*'By Speed'!$T106*Scenario_VMT_4*$N93","v":0},{"$f":"(VLOOKUP($B93,'By Population'!$G$2:$K$14,5,FALSE))*'By Speed'!$U106*Scenario_VMT_4*$N93","v":0},0,{"$f":"(VLOOKUP($B93,'By Population'!$G$2:$K$14,5,FALSE))*'By Speed'!$M106*Scenario_VMT_5*$N93","v":0},{"$f":"(VLOOKUP($B93,'By Population'!$G$2:$K$14,5,FALSE))*'By Speed'!$N106*Scenario_VMT_5*$N93","v":0},{"$f":"(VLOOKUP($B93,'By Population'!$G$2:$K$14,5,FALSE))*'By Speed'!$O106*Scenario_VMT_5*$N93","v":0},{"$f":"(VLOOKUP($B93,'By Population'!$G$2:$K$14,5,FALSE))*'By Speed'!$P106*Scenario_VMT_5*$N93","v":0},{"$f":"(VLOOKUP($B93,'By Population'!$G$2:$K$14,5,FALSE))*'By Speed'!$Q106*Scenario_VMT_5*$N93","v":0},{"$f":"(VLOOKUP($B93,'By Population'!$G$2:$K$14,5,FALSE))*'By Speed'!$R106*Scenario_VMT_5*$N93","v":0},{"$f":"(VLOOKUP($B93,'By Population'!$G$2:$K$14,5,FALSE))*'By Speed'!$S106*Scenario_VMT_5*$N93","v":0},{"$f":"(VLOOKUP($B93,'By Population'!$G$2:$K$14,5,FALSE))*'By Speed'!$T106*Scenario_VMT_5*$N93","v":0},{"$f":"(VLOOKUP($B93,'By Population'!$G$2:$K$14,5,FALSE))*'By Speed'!$U106*Scenario_VMT_5*$N93","v":0},0]
[102,"LHD1_DSL",45,"LHD1_DSL_45",{"$f":"(VLOOKUP($B94,'By Population'!$G$2:$K$14,5,FALSE))*'By Speed'!$M107*Scenario_VMT_EX*$N94","v":0},{"$f":"(VLOOKUP($B94,'By Population'!$G$2:$K$14,5,FALSE))*'By Speed'!$N107*Scenario_VMT_EX*$N94","v":0},{"$f":"(VLOOKUP($B94,'By Population'!$G$2:$K$14,5,FALSE))*'By Speed'!$O107*Scenario_VMT_EX*$N94","v":0},{"$f":"(VLOOKUP($B94,'By Population'!$G$2:$K$14,5,FALSE))*'By Speed'!$P107*Scenario_VMT_EX*$N94","v":0},{"$f":"(VLOOKUP($B94,'By Population'!$G$2:$K$14,5,FALSE))*'By Speed'!$Q107*Scenario_VMT_EX*$N94","v":0},{"$f":"(VLOOKUP($B94,'By Population'!$G$2:$K$14,5,FALSE))*'By Speed'!$R107*Scenario_VMT_EX*$N94","v":0},{"$f":"(VLOOKUP($B94,'By Population'!$G$2:$K$14,5,FALSE))*'By Speed'!$S107*Scenario_VMT_EX*$N94","v":0},{"$f":"(VLOOKUP($B94,'By Population'!$G$2:$K$14,5,FALSE))*'By Speed'!$T107*Scenario_VMT_EX*$N94","v":0},{"$f":"(VLOOKUP($B94,'By Population'!$G$2:$K$14,5,FALSE))*'By Speed'!$U107*Scenario_VMT_EX*$N94","v":0},0,{"$f":"(VLOOKUP($B94,'By Population'!$G$2:$K$14,5,FALSE))*'By Speed'!$M107*Scenario_VMT_1*$N94","v":0},{"$f":"(VLOOKUP($B94,'By Population'!$G$2:$K$14,5,FALSE))*'By Speed'!$N107*Scenario_VMT_1*$N94","v":0},{"$f":"(VLOOKUP($B94,'By Population'!$G$2:$K$14,5,FALSE))*'By Speed'!$O107*Scenario_VMT_1*$N94","v":0},{"$f":"(VLOOKUP($B94,'By Population'!$G$2:$K$14,5,FALSE))*'By Speed'!$P107*Scenario_VMT_1*$N94","v":0},{"$f":"(VLOOKUP($B94,'By Population'!$G$2:$K$14,5,FALSE))*'By Speed'!$Q107*Scenario_VMT_1*$N94","v":0},{"$f":"(VLOOKUP($B94,'By Population'!$G$2:$K$14,5,FALSE))*'By Speed'!$R107*Scenario_VMT_1*$N94","v":0},{"$f":"(VLOOKUP($B94,'By Population'!$G$2:$K$14,5,FALSE))*'By Speed'!$S107*Scenario_VMT_1*$N94","v":0},{"$f":"(VLOOKUP($B94,'By Population'!$G$2:$K$14,5,FALSE))*'By Speed'!$T107*Scenario_VMT_1*$N94","v":0},{"$f":"(VLOOKUP($B94,'By Population'!$G$2:$K$14,5,FALSE))*'By Speed'!$U107*Scenario_VMT_1*$N94","v":0},0,{"$f":"(VLOOKUP($B94,'By Population'!$G$2:$K$14,5,FALSE))*'By Speed'!$M107*Scenario_VMT_2*$N94","v":0},{"$f":"(VLOOKUP($B94,'By Population'!$G$2:$K$14,5,FALSE))*'By Speed'!$N107*Scenario_VMT_2*$N94","v":0},{"$f":"(VLOOKUP($B94,'By Population'!$G$2:$K$14,5,FALSE))*'By Speed'!$O107*Scenario_VMT_2*$N94","v":0},{"$f":"(VLOOKUP($B94,'By Population'!$G$2:$K$14,5,FALSE))*'By Speed'!$P107*Scenario_VMT_2*$N94","v":0},{"$f":"(VLOOKUP($B94,'By Population'!$G$2:$K$14,5,FALSE))*'By Speed'!$Q107*Scenario_VMT_2*$N94","v":0},{"$f":"(VLOOKUP($B94,'By Population'!$G$2:$K$14,5,FALSE))*'By Speed'!$R107*Scenario_VMT_2*$N94","v":0},{"$f":"(VLOOKUP($B94,'By Population'!$G$2:$K$14,5,FALSE))*'By Speed'!$S107*Scenario_VMT_2*$N94","v":0},{"$f":"(VLOOKUP($B94,'By Population'!$G$2:$K$14,5,FALSE))*'By Speed'!$T107*Scenario_VMT_2*$N94","v":0},{"$f":"(VLOOKUP($B94,'By Population'!$G$2:$K$14,5,FALSE))*'By Speed'!$U107*Scenario_VMT_2*$N94","v":0},0,{"$f":"(VLOOKUP($B94,'By Population'!$G$2:$K$14,5,FALSE))*'By Speed'!$M107*Scenario_VMT_3*$N94","v":0},{"$f":"(VLOOKUP($B94,'By Population'!$G$2:$K$14,5,FALSE))*'By Speed'!$N107*Scenario_VMT_3*$N94","v":0},{"$f":"(VLOOKUP($B94,'By Population'!$G$2:$K$14,5,FALSE))*'By Speed'!$O107*Scenario_VMT_3*$N94","v":0},{"$f":"(VLOOKUP($B94,'By Population'!$G$2:$K$14,5,FALSE))*'By Speed'!$P107*Scenario_VMT_3*$N94","v":0},{"$f":"(VLOOKUP($B94,'By Population'!$G$2:$K$14,5,FALSE))*'By Speed'!$Q107*Scenario_VMT_3*$N94","v":0},{"$f":"(VLOOKUP($B94,'By Population'!$G$2:$K$14,5,FALSE))*'By Speed'!$R107*Scenario_VMT_3*$N94","v":0},{"$f":"(VLOOKUP($B94,'By Population'!$G$2:$K$14,5,FALSE))*'By Speed'!$S107*Scenario_VMT_3*$N94","v":0},{"$f":"(VLOOKUP($B94,'By Population'!$G$2:$K$14,5,FALSE))*'By Speed'!$T107*Scenario_VMT_3*$N94","v":0},{"$f":"(VLOOKUP($B94,'By Population'!$G$2:$K$14,5,FALSE))*'By Speed'!$U107*Scenario_VMT_3*$N94","v":0},0,{"$f":"(VLOOKUP($B94,'By Population'!$G$2:$K$14,5,FALSE))*'By Speed'!$M107*Scenario_VMT_4*$N94","v":0},{"$f":"(VLOOKUP($B94,'By Population'!$G$2:$K$14,5,FALSE))*'By Speed'!$N107*Scenario_VMT_4*$N94","v":0},{"$f":"(VLOOKUP($B94,'By Population'!$G$2:$K$14,5,FALSE))*'By Speed'!$O107*Scenario_VMT_4*$N94","v":0},{"$f":"(VLOOKUP($B94,'By Population'!$G$2:$K$14,5,FALSE))*'By Speed'!$P107*Scenario_VMT_4*$N94","v":0},{"$f":"(VLOOKUP($B94,'By Population'!$G$2:$K$14,5,FALSE))*'By Speed'!$Q107*Scenario_VMT_4*$N94","v":0},{"$f":"(VLOOKUP($B94,'By Population'!$G$2:$K$14,5,FALSE))*'By Speed'!$R107*Scenario_VMT_4*$N94","v":0},{"$f":"(VLOOKUP($B94,'By Population'!$G$2:$K$14,5,FALSE))*'By Speed'!$S107*Scenario_VMT_4*$N94","v":0},{"$f":"(VLOOKUP($B94,'By Population'!$G$2:$K$14,5,FALSE))*'By Speed'!$T107*Scenario_VMT_4*$N94","v":0},{"$f":"(VLOOKUP($B94,'By Population'!$G$2:$K$14,5,FALSE))*'By Speed'!$U107*Scenario_VMT_4*$N94","v":0},0,{"$f":"(VLOOKUP($B94,'By Population'!$G$2:$K$14,5,FALSE))*'By Speed'!$M107*Scenario_VMT_5*$N94","v":0},{"$f":"(VLOOKUP($B94,'By Population'!$G$2:$K$14,5,FALSE))*'By Speed'!$N107*Scenario_VMT_5*$N94","v":0},{"$f":"(VLOOKUP($B94,'By Population'!$G$2:$K$14,5,FALSE))*'By Speed'!$O107*Scenario_VMT_5*$N94","v":0},{"$f":"(VLOOKUP($B94,'By Population'!$G$2:$K$14,5,FALSE))*'By Speed'!$P107*Scenario_VMT_5*$N94","v":0},{"$f":"(VLOOKUP($B94,'By Population'!$G$2:$K$14,5,FALSE))*'By Speed'!$Q107*Scenario_VMT_5*$N94","v":0},{"$f":"(VLOOKUP($B94,'By Population'!$G$2:$K$14,5,FALSE))*'By Speed'!$R107*Scenario_VMT_5*$N94","v":0},{"$f":"(VLOOKUP($B94,'By Population'!$G$2:$K$14,5,FALSE))*'By Speed'!$S107*Scenario_VMT_5*$N94","v":0},{"$f":"(VLOOKUP($B94,'By Population'!$G$2:$K$14,5,FALSE))*'By Speed'!$T107*Scenario_VMT_5*$N94","v":0},{"$f":"(VLOOKUP($B94,'By Population'!$G$2:$K$14,5,FALSE))*'By Speed'!$U107*Scenario_VMT_5*$N94","v":0},0]
[86,"LHD1_DSL",5,"LHD1_DSL_5",{"$f":"(VLOOKUP($B95,'By Population'!$G$2:$K$14,5,FALSE))*'By Speed'!$M108*Scenario_VMT_EX*$N95","v":0},{"$f":"(VLOOKUP($B95,'By Population'!$G$2:$K$14,5,FALSE))*'By Speed'!$N108*Scenario_VMT_EX*$N95","v":0},{"$f":"(VLOOKUP($B95,'By Population'!$G$2:$K$14,5,FALSE))*'By Speed'!$O108*Scenario_VMT_EX*$N95","v":0},{"$f":"(VLOOKUP($B95,'By Population'!$G$2:$K$14,5,FALSE))*'By Speed'!$P108*Scenario_VMT_EX*$N95","v":0},{"$f":"(VLOOKUP($B95,'By Population'!$G$2:$K$14,5,FALSE))*'By Speed'!$Q108*Scenario_VMT_EX*$N95","v":0},{"$f":"(VLOOKUP($B95,'By Population'!$G$2:$K$14,5,FALSE))*'By Speed'!$R108*Scenario_VMT_EX*$N95","v":0},{"$f":"(VLOOKUP($B95,'By Population'!$G$2:$K$14,5,FALSE))*'By Speed'!$S108*Scenario_VMT_EX*$N95","v":0},{"$f":"(VLOOKUP($B95,'By Population'!$G$2:$K$14,5,FALSE))*'By Speed'!$T108*Scenario_VMT_EX*$N95","v":0},{"$f":"(VLOOKUP($B95,'By Population'!$G$2:$K$14,5,FALSE))*'By Speed'!$U108*Scenario_VMT_EX*$N95","v":0},0,{"$f":"(VLOOKUP($B95,'By Population'!$G$2:$K$14,5,FALSE))*'By Speed'!$M108*Scenario_VMT_1*$N95","v":0},{"$f":"(VLOOKUP($B95,'By Population'!$G$2:$K$14,5,FALSE))*'By Speed'!$N108*Scenario_VMT_1*$N95","v":0},{"$f":"(VLOOKUP($B95,'By Population'!$G$2:$K$14,5,FALSE))*'By Speed'!$O108*Scenario_VMT_1*$N95","v":0},{"$f":"(VLOOKUP($B95,'By Population'!$G$2:$K$14,5,FALSE))*'By Speed'!$P108*Scenario_VMT_1*$N95","v":0},{"$f":"(VLOOKUP($B95,'By Population'!$G$2:$K$14,5,FALSE))*'By Speed'!$Q108*Scenario_VMT_1*$N95","v":0},{"$f":"(VLOOKUP($B95,'By Population'!$G$2:$K$14,5,FALSE))*'By Speed'!$R108*Scenario_VMT_1*$N95","v":0},{"$f":"(VLOOKUP($B95,'By Population'!$G$2:$K$14,5,FALSE))*'By Speed'!$S108*Scenario_VMT_1*$N95","v":0},{"$f":"(VLOOKUP($B95,'By Population'!$G$2:$K$14,5,FALSE))*'By Speed'!$T108*Scenario_VMT_1*$N95","v":0},{"$f":"(VLOOKUP($B95,'By Population'!$G$2:$K$14,5,FALSE))*'By Speed'!$U108*Scenario_VMT_1*$N95","v":0},0,{"$f":"(VLOOKUP($B95,'By Population'!$G$2:$K$14,5,FALSE))*'By Speed'!$M108*Scenario_VMT_2*$N95","v":0},{"$f":"(VLOOKUP($B95,'By Population'!$G$2:$K$14,5,FALSE))*'By Speed'!$N108*Scenario_VMT_2*$N95","v":0},{"$f":"(VLOOKUP($B95,'By Population'!$G$2:$K$14,5,FALSE))*'By Speed'!$O108*Scenario_VMT_2*$N95","v":0},{"$f":"(VLOOKUP($B95,'By Population'!$G$2:$K$14,5,FALSE))*'By Speed'!$P108*Scenario_VMT_2*$N95","v":0},{"$f":"(VLOOKUP($B95,'By Population'!$G$2:$K$14,5,FALSE))*'By Speed'!$Q108*Scenario_VMT_2*$N95","v":0},{"$f":"(VLOOKUP($B95,'By Population'!$G$2:$K$14,5,FALSE))*'By Speed'!$R108*Scenario_VMT_2*$N95","v":0},{"$f":"(VLOOKUP($B95,'By Population'!$G$2:$K$14,5,FALSE))*'By Speed'!$S108*Scenario_VMT_2*$N95","v":0},{"$f":"(VLOOKUP($B95,'By Population'!$G$2:$K$14,5,FALSE))*'By Speed'!$T108*Scenario_VMT_2*$N95","v":0},{"$f":"(VLOOKUP($B95,'By Population'!$G$2:$K$14,5,FALSE))*'By Speed'!$U108*Scenario_VMT_2*$N95","v":0},0,{"$f":"(VLOOKUP($B95,'By Population'!$G$2:$K$14,5,FALSE))*'By Speed'!$M108*Scenario_VMT_3*$N95","v":0},{"$f":"(VLOOKUP($B95,'By Population'!$G$2:$K$14,5,FALSE))*'By Speed'!$N108*Scenario_VMT_3*$N95","v":0},{"$f":"(VLOOKUP($B95,'By Population'!$G$2:$K$14,5,FALSE))*'By Speed'!$O108*Scenario_VMT_3*$N95","v":0},{"$f":"(VLOOKUP($B95,'By Population'!$G$2:$K$14,5,FALSE))*'By Speed'!$P108*Scenario_VMT_3*$N95","v":0},{"$f":"(VLOOKUP($B95,'By Population'!$G$2:$K$14,5,FALSE))*'By Speed'!$Q108*Scenario_VMT_3*$N95","v":0},{"$f":"(VLOOKUP($B95,'By Population'!$G$2:$K$14,5,FALSE))*'By Speed'!$R108*Scenario_VMT_3*$N95","v":0},{"$f":"(VLOOKUP($B95,'By Population'!$G$2:$K$14,5,FALSE))*'By Speed'!$S108*Scenario_VMT_3*$N95","v":0},{"$f":"(VLOOKUP($B95,'By Population'!$G$2:$K$14,5,FALSE))*'By Speed'!$T108*Scenario_VMT_3*$N95","v":0},{"$f":"(VLOOKUP($B95,'By Population'!$G$2:$K$14,5,FALSE))*'By Speed'!$U108*Scenario_VMT_3*$N95","v":0},0,{"$f":"(VLOOKUP($B95,'By Population'!$G$2:$K$14,5,FALSE))*'By Speed'!$M108*Scenario_VMT_4*$N95","v":0},{"$f":"(VLOOKUP($B95,'By Population'!$G$2:$K$14,5,FALSE))*'By Speed'!$N108*Scenario_VMT_4*$N95","v":0},{"$f":"(VLOOKUP($B95,'By Population'!$G$2:$K$14,5,FALSE))*'By Speed'!$O108*Scenario_VMT_4*$N95","v":0},{"$f":"(VLOOKUP($B95,'By Population'!$G$2:$K$14,5,FALSE))*'By Speed'!$P108*Scenario_VMT_4*$N95","v":0},{"$f":"(VLOOKUP($B95,'By Population'!$G$2:$K$14,5,FALSE))*'By Speed'!$Q108*Scenario_VMT_4*$N95","v":0},{"$f":"(VLOOKUP($B95,'By Population'!$G$2:$K$14,5,FALSE))*'By Speed'!$R108*Scenario_VMT_4*$N95","v":0},{"$f":"(VLOOKUP($B95,'By Population'!$G$2:$K$14,5,FALSE))*'By Speed'!$S108*Scenario_VMT_4*$N95","v":0},{"$f":"(VLOOKUP($B95,'By Population'!$G$2:$K$14,5,FALSE))*'By Speed'!$T108*Scenario_VMT_4*$N95","v":0},{"$f":"(VLOOKUP($B95,'By Population'!$G$2:$K$14,5,FALSE))*'By Speed'!$U108*Scenario_VMT_4*$N95","v":0},0,{"$f":"(VLOOKUP($B95,'By Population'!$G$2:$K$14,5,FALSE))*'By Speed'!$M108*Scenario_VMT_5*$N95","v":0},{"$f":"(VLOOKUP($B95,'By Population'!$G$2:$K$14,5,FALSE))*'By Speed'!$N108*Scenario_VMT_5*$N95","v":0},{"$f":"(VLOOKUP($B95,'By Population'!$G$2:$K$14,5,FALSE))*'By Speed'!$O108*Scenario_VMT_5*$N95","v":0},{"$f":"(VLOOKUP($B95,'By Population'!$G$2:$K$14,5,FALSE))*'By Speed'!$P108*Scenario_VMT_5*$N95","v":0},{"$f":"(VLOOKUP($B95,'By Population'!$G$2:$K$14,5,FALSE))*'By Speed'!$Q108*Scenario_VMT_5*$N95","v":0},{"$f":"(VLOOKUP($B95,'By Population'!$G$2:$K$14,5,FALSE))*'By Speed'!$R108*Scenario_VMT_5*$N95","v":0},{"$f":"(VLOOKUP($B95,'By Population'!$G$2:$K$14,5,FALSE))*'By Speed'!$S108*Scenario_VMT_5*$N95","v":0},{"$f":"(VLOOKUP($B95,'By Population'!$G$2:$K$14,5,FALSE))*'By Speed'!$T108*Scenario_VMT_5*$N95","v":0},{"$f":"(VLOOKUP($B95,'By Population'!$G$2:$K$14,5,FALSE))*'By Speed'!$U108*Scenario_VMT_5*$N95","v":0},0]
[104,"LHD1_DSL",50,"LHD1_DSL_50",{"$f":"(VLOOKUP($B96,'By Population'!$G$2:$K$14,5,FALSE))*'By Speed'!$M109*Scenario_VMT_EX*$N96","v":0},{"$f":"(VLOOKUP($B96,'By Population'!$G$2:$K$14,5,FALSE))*'By Speed'!$N109*Scenario_VMT_EX*$N96","v":0},{"$f":"(VLOOKUP($B96,'By Population'!$G$2:$K$14,5,FALSE))*'By Speed'!$O109*Scenario_VMT_EX*$N96","v":0},{"$f":"(VLOOKUP($B96,'By Population'!$G$2:$K$14,5,FALSE))*'By Speed'!$P109*Scenario_VMT_EX*$N96","v":0},{"$f":"(VLOOKUP($B96,'By Population'!$G$2:$K$14,5,FALSE))*'By Speed'!$Q109*Scenario_VMT_EX*$N96","v":0},{"$f":"(VLOOKUP($B96,'By Population'!$G$2:$K$14,5,FALSE))*'By Speed'!$R109*Scenario_VMT_EX*$N96","v":0},{"$f":"(VLOOKUP($B96,'By Population'!$G$2:$K$14,5,FALSE))*'By Speed'!$S109*Scenario_VMT_EX*$N96","v":0},{"$f":"(VLOOKUP($B96,'By Population'!$G$2:$K$14,5,FALSE))*'By Speed'!$T109*Scenario_VMT_EX*$N96","v":0},{"$f":"(VLOOKUP($B96,'By Population'!$G$2:$K$14,5,FALSE))*'By Speed'!$U109*Scenario_VMT_EX*$N96","v":0},0,{"$f":"(VLOOKUP($B96,'By Population'!$G$2:$K$14,5,FALSE))*'By Speed'!$M109*Scenario_VMT_1*$N96","v":0},{"$f":"(VLOOKUP($B96,'By Population'!$G$2:$K$14,5,FALSE))*'By Speed'!$N109*Scenario_VMT_1*$N96","v":0},{"$f":"(VLOOKUP($B96,'By Population'!$G$2:$K$14,5,FALSE))*'By Speed'!$O109*Scenario_VMT_1*$N96","v":0},{"$f":"(VLOOKUP($B96,'By Population'!$G$2:$K$14,5,FALSE))*'By Speed'!$P109*Scenario_VMT_1*$N96","v":0},{"$f":"(VLOOKUP($B96,'By Population'!$G$2:$K$14,5,FALSE))*'By Speed'!$Q109*Scenario_VMT_1*$N96","v":0},{"$f":"(VLOOKUP($B96,'By Population'!$G$2:$K$14,5,FALSE))*'By Speed'!$R109*Scenario_VMT_1*$N96","v":0},{"$f":"(VLOOKUP($B96,'By Population'!$G$2:$K$14,5,FALSE))*'By Speed'!$S109*Scenario_VMT_1*$N96","v":0},{"$f":"(VLOOKUP($B96,'By Population'!$G$2:$K$14,5,FALSE))*'By Speed'!$T109*Scenario_VMT_1*$N96","v":0},{"$f":"(VLOOKUP($B96,'By Population'!$G$2:$K$14,5,FALSE))*'By Speed'!$U109*Scenario_VMT_1*$N96","v":0},0,{"$f":"(VLOOKUP($B96,'By Population'!$G$2:$K$14,5,FALSE))*'By Speed'!$M109*Scenario_VMT_2*$N96","v":0},{"$f":"(VLOOKUP($B96,'By Population'!$G$2:$K$14,5,FALSE))*'By Speed'!$N109*Scenario_VMT_2*$N96","v":0},{"$f":"(VLOOKUP($B96,'By Population'!$G$2:$K$14,5,FALSE))*'By Speed'!$O109*Scenario_VMT_2*$N96","v":0},{"$f":"(VLOOKUP($B96,'By Population'!$G$2:$K$14,5,FALSE))*'By Speed'!$P109*Scenario_VMT_2*$N96","v":0},{"$f":"(VLOOKUP($B96,'By Population'!$G$2:$K$14,5,FALSE))*'By Speed'!$Q109*Scenario_VMT_2*$N96","v":0},{"$f":"(VLOOKUP($B96,'By Population'!$G$2:$K$14,5,FALSE))*'By Speed'!$R109*Scenario_VMT_2*$N96","v":0},{"$f":"(VLOOKUP($B96,'By Population'!$G$2:$K$14,5,FALSE))*'By Speed'!$S109*Scenario_VMT_2*$N96","v":0},{"$f":"(VLOOKUP($B96,'By Population'!$G$2:$K$14,5,FALSE))*'By Speed'!$T109*Scenario_VMT_2*$N96","v":0},{"$f":"(VLOOKUP($B96,'By Population'!$G$2:$K$14,5,FALSE))*'By Speed'!$U109*Scenario_VMT_2*$N96","v":0},0,{"$f":"(VLOOKUP($B96,'By Population'!$G$2:$K$14,5,FALSE))*'By Speed'!$M109*Scenario_VMT_3*$N96","v":0},{"$f":"(VLOOKUP($B96,'By Population'!$G$2:$K$14,5,FALSE))*'By Speed'!$N109*Scenario_VMT_3*$N96","v":0},{"$f":"(VLOOKUP($B96,'By Population'!$G$2:$K$14,5,FALSE))*'By Speed'!$O109*Scenario_VMT_3*$N96","v":0},{"$f":"(VLOOKUP($B96,'By Population'!$G$2:$K$14,5,FALSE))*'By Speed'!$P109*Scenario_VMT_3*$N96","v":0},{"$f":"(VLOOKUP($B96,'By Population'!$G$2:$K$14,5,FALSE))*'By Speed'!$Q109*Scenario_VMT_3*$N96","v":0},{"$f":"(VLOOKUP($B96,'By Population'!$G$2:$K$14,5,FALSE))*'By Speed'!$R109*Scenario_VMT_3*$N96","v":0},{"$f":"(VLOOKUP($B96,'By Population'!$G$2:$K$14,5,FALSE))*'By Speed'!$S109*Scenario_VMT_3*$N96","v":0},{"$f":"(VLOOKUP($B96,'By Population'!$G$2:$K$14,5,FALSE))*'By Speed'!$T109*Scenario_VMT_3*$N96","v":0},{"$f":"(VLOOKUP($B96,'By Population'!$G$2:$K$14,5,FALSE))*'By Speed'!$U109*Scenario_VMT_3*$N96","v":0},0,{"$f":"(VLOOKUP($B96,'By Population'!$G$2:$K$14,5,FALSE))*'By Speed'!$M109*Scenario_VMT_4*$N96","v":0},{"$f":"(VLOOKUP($B96,'By Population'!$G$2:$K$14,5,FALSE))*'By Speed'!$N109*Scenario_VMT_4*$N96","v":0},{"$f":"(VLOOKUP($B96,'By Population'!$G$2:$K$14,5,FALSE))*'By Speed'!$O109*Scenario_VMT_4*$N96","v":0},{"$f":"(VLOOKUP($B96,'By Population'!$G$2:$K$14,5,FALSE))*'By Speed'!$P109*Scenario_VMT_4*$N96","v":0},{"$f":"(VLOOKUP($B96,'By Population'!$G$2:$K$14,5,FALSE))*'By Speed'!$Q109*Scenario_VMT_4*$N96","v":0},{"$f":"(VLOOKUP($B96,'By Population'!$G$2:$K$14,5,FALSE))*'By Speed'!$R109*Scenario_VMT_4*$N96","v":0},{"$f":"(VLOOKUP($B96,'By Population'!$G$2:$K$14,5,FALSE))*'By Speed'!$S109*Scenario_VMT_4*$N96","v":0},{"$f":"(VLOOKUP($B96,'By Population'!$G$2:$K$14,5,FALSE))*'By Speed'!$T109*Scenario_VMT_4*$N96","v":0},{"$f":"(VLOOKUP($B96,'By Population'!$G$2:$K$14,5,FALSE))*'By Speed'!$U109*Scenario_VMT_4*$N96","v":0},0,{"$f":"(VLOOKUP($B96,'By Population'!$G$2:$K$14,5,FALSE))*'By Speed'!$M109*Scenario_VMT_5*$N96","v":0},{"$f":"(VLOOKUP($B96,'By Population'!$G$2:$K$14,5,FALSE))*'By Speed'!$N109*Scenario_VMT_5*$N96","v":0},{"$f":"(VLOOKUP($B96,'By Population'!$G$2:$K$14,5,FALSE))*'By Speed'!$O109*Scenario_VMT_5*$N96","v":0},{"$f":"(VLOOKUP($B96,'By Population'!$G$2:$K$14,5,FALSE))*'By Speed'!$P109*Scenario_VMT_5*$N96","v":0},{"$f":"(VLOOKUP($B96,'By Population'!$G$2:$K$14,5,FALSE))*'By Speed'!$Q109*Scenario_VMT_5*$N96","v":0},{"$f":"(VLOOKUP($B96,'By Population'!$G$2:$K$14,5,FALSE))*'By Speed'!$R109*Scenario_VMT_5*$N96","v":0},{"$f":"(VLOOKUP($B96,'By Population'!$G$2:$K$14,5,FALSE))*'By Speed'!$S109*Scenario_VMT_5*$N96","v":0},{"$f":"(VLOOKUP($B96,'By Population'!$G$2:$K$14,5,FALSE))*'By Speed'!$T109*Scenario_VMT_5*$N96","v":0},{"$f":"(VLOOKUP($B96,'By Population'!$G$2:$K$14,5,FALSE))*'By Speed'!$U109*Scenario_VMT_5*$N96","v":0},0]
[106,"LHD1_DSL",55,"LHD1_DSL_55",{"$f":"(VLOOKUP($B97,'By Population'!$G$2:$K$14,5,FALSE))*'By Speed'!$M110*Scenario_VMT_EX*$N97","v":0},{"$f":"(VLOOKUP($B97,'By Population'!$G$2:$K$14,5,FALSE))*'By Speed'!$N110*Scenario_VMT_EX*$N97","v":0},{"$f":"(VLOOKUP($B97,'By Population'!$G$2:$K$14,5,FALSE))*'By Speed'!$O110*Scenario_VMT_EX*$N97","v":0},{"$f":"(VLOOKUP($B97,'By Population'!$G$2:$K$14,5,FALSE))*'By Speed'!$P110*Scenario_VMT_EX*$N97","v":0},{"$f":"(VLOOKUP($B97,'By Population'!$G$2:$K$14,5,FALSE))*'By Speed'!$Q110*Scenario_VMT_EX*$N97","v":0},{"$f":"(VLOOKUP($B97,'By Population'!$G$2:$K$14,5,FALSE))*'By Speed'!$R110*Scenario_VMT_EX*$N97","v":0},{"$f":"(VLOOKUP($B97,'By Population'!$G$2:$K$14,5,FALSE))*'By Speed'!$S110*Scenario_VMT_EX*$N97","v":0},{"$f":"(VLOOKUP($B97,'By Population'!$G$2:$K$14,5,FALSE))*'By Speed'!$T110*Scenario_VMT_EX*$N97","v":0},{"$f":"(VLOOKUP($B97,'By Population'!$G$2:$K$14,5,FALSE))*'By Speed'!$U110*Scenario_VMT_EX*$N97","v":0},0,{"$f":"(VLOOKUP($B97,'By Population'!$G$2:$K$14,5,FALSE))*'By Speed'!$M110*Scenario_VMT_1*$N97","v":0},{"$f":"(VLOOKUP($B97,'By Population'!$G$2:$K$14,5,FALSE))*'By Speed'!$N110*Scenario_VMT_1*$N97","v":0},{"$f":"(VLOOKUP($B97,'By Population'!$G$2:$K$14,5,FALSE))*'By Speed'!$O110*Scenario_VMT_1*$N97","v":0},{"$f":"(VLOOKUP($B97,'By Population'!$G$2:$K$14,5,FALSE))*'By Speed'!$P110*Scenario_VMT_1*$N97","v":0},{"$f":"(VLOOKUP($B97,'By Population'!$G$2:$K$14,5,FALSE))*'By Speed'!$Q110*Scenario_VMT_1*$N97","v":0},{"$f":"(VLOOKUP($B97,'By Population'!$G$2:$K$14,5,FALSE))*'By Speed'!$R110*Scenario_VMT_1*$N97","v":0},{"$f":"(VLOOKUP($B97,'By Population'!$G$2:$K$14,5,FALSE))*'By Speed'!$S110*Scenario_VMT_1*$N97","v":0},{"$f":"(VLOOKUP($B97,'By Population'!$G$2:$K$14,5,FALSE))*'By Speed'!$T110*Scenario_VMT_1*$N97","v":0},{"$f":"(VLOOKUP($B97,'By Population'!$G$2:$K$14,5,FALSE))*'By Speed'!$U110*Scenario_VMT_1*$N97","v":0},0,{"$f":"(VLOOKUP($B97,'By Population'!$G$2:$K$14,5,FALSE))*'By Speed'!$M110*Scenario_VMT_2*$N97","v":0},{"$f":"(VLOOKUP($B97,'By Population'!$G$2:$K$14,5,FALSE))*'By Speed'!$N110*Scenario_VMT_2*$N97","v":0},{"$f":"(VLOOKUP($B97,'By Population'!$G$2:$K$14,5,FALSE))*'By Speed'!$O110*Scenario_VMT_2*$N97","v":0},{"$f":"(VLOOKUP($B97,'By Population'!$G$2:$K$14,5,FALSE))*'By Speed'!$P110*Scenario_VMT_2*$N97","v":0},{"$f":"(VLOOKUP($B97,'By Population'!$G$2:$K$14,5,FALSE))*'By Speed'!$Q110*Scenario_VMT_2*$N97","v":0},{"$f":"(VLOOKUP($B97,'By Population'!$G$2:$K$14,5,FALSE))*'By Speed'!$R110*Scenario_VMT_2*$N97","v":0},{"$f":"(VLOOKUP($B97,'By Population'!$G$2:$K$14,5,FALSE))*'By Speed'!$S110*Scenario_VMT_2*$N97","v":0},{"$f":"(VLOOKUP($B97,'By Population'!$G$2:$K$14,5,FALSE))*'By Speed'!$T110*Scenario_VMT_2*$N97","v":0},{"$f":"(VLOOKUP($B97,'By Population'!$G$2:$K$14,5,FALSE))*'By Speed'!$U110*Scenario_VMT_2*$N97","v":0},0,{"$f":"(VLOOKUP($B97,'By Population'!$G$2:$K$14,5,FALSE))*'By Speed'!$M110*Scenario_VMT_3*$N97","v":0},{"$f":"(VLOOKUP($B97,'By Population'!$G$2:$K$14,5,FALSE))*'By Speed'!$N110*Scenario_VMT_3*$N97","v":0},{"$f":"(VLOOKUP($B97,'By Population'!$G$2:$K$14,5,FALSE))*'By Speed'!$O110*Scenario_VMT_3*$N97","v":0},{"$f":"(VLOOKUP($B97,'By Population'!$G$2:$K$14,5,FALSE))*'By Speed'!$P110*Scenario_VMT_3*$N97","v":0},{"$f":"(VLOOKUP($B97,'By Population'!$G$2:$K$14,5,FALSE))*'By Speed'!$Q110*Scenario_VMT_3*$N97","v":0},{"$f":"(VLOOKUP($B97,'By Population'!$G$2:$K$14,5,FALSE))*'By Speed'!$R110*Scenario_VMT_3*$N97","v":0},{"$f":"(VLOOKUP($B97,'By Population'!$G$2:$K$14,5,FALSE))*'By Speed'!$S110*Scenario_VMT_3*$N97","v":0},{"$f":"(VLOOKUP($B97,'By Population'!$G$2:$K$14,5,FALSE))*'By Speed'!$T110*Scenario_VMT_3*$N97","v":0},{"$f":"(VLOOKUP($B97,'By Population'!$G$2:$K$14,5,FALSE))*'By Speed'!$U110*Scenario_VMT_3*$N97","v":0},0,{"$f":"(VLOOKUP($B97,'By Population'!$G$2:$K$14,5,FALSE))*'By Speed'!$M110*Scenario_VMT_4*$N97","v":0},{"$f":"(VLOOKUP($B97,'By Population'!$G$2:$K$14,5,FALSE))*'By Speed'!$N110*Scenario_VMT_4*$N97","v":0},{"$f":"(VLOOKUP($B97,'By Population'!$G$2:$K$14,5,FALSE))*'By Speed'!$O110*Scenario_VMT_4*$N97","v":0},{"$f":"(VLOOKUP($B97,'By Population'!$G$2:$K$14,5,FALSE))*'By Speed'!$P110*Scenario_VMT_4*$N97","v":0},{"$f":"(VLOOKUP($B97,'By Population'!$G$2:$K$14,5,FALSE))*'By Speed'!$Q110*Scenario_VMT_4*$N97","v":0},{"$f":"(VLOOKUP($B97,'By Population'!$G$2:$K$14,5,FALSE))*'By Speed'!$R110*Scenario_VMT_4*$N97","v":0},{"$f":"(VLOOKUP($B97,'By Population'!$G$2:$K$14,5,FALSE))*'By Speed'!$S110*Scenario_VMT_4*$N97","v":0},{"$f":"(VLOOKUP($B97,'By Population'!$G$2:$K$14,5,FALSE))*'By Speed'!$T110*Scenario_VMT_4*$N97","v":0},{"$f":"(VLOOKUP($B97,'By Population'!$G$2:$K$14,5,FALSE))*'By Speed'!$U110*Scenario_VMT_4*$N97","v":0},0,{"$f":"(VLOOKUP($B97,'By Population'!$G$2:$K$14,5,FALSE))*'By Speed'!$M110*Scenario_VMT_5*$N97","v":0},{"$f":"(VLOOKUP($B97,'By Population'!$G$2:$K$14,5,FALSE))*'By Speed'!$N110*Scenario_VMT_5*$N97","v":0},{"$f":"(VLOOKUP($B97,'By Population'!$G$2:$K$14,5,FALSE))*'By Speed'!$O110*Scenario_VMT_5*$N97","v":0},{"$f":"(VLOOKUP($B97,'By Population'!$G$2:$K$14,5,FALSE))*'By Speed'!$P110*Scenario_VMT_5*$N97","v":0},{"$f":"(VLOOKUP($B97,'By Population'!$G$2:$K$14,5,FALSE))*'By Speed'!$Q110*Scenario_VMT_5*$N97","v":0},{"$f":"(VLOOKUP($B97,'By Population'!$G$2:$K$14,5,FALSE))*'By Speed'!$R110*Scenario_VMT_5*$N97","v":0},{"$f":"(VLOOKUP($B97,'By Population'!$G$2:$K$14,5,FALSE))*'By Speed'!$S110*Scenario_VMT_5*$N97","v":0},{"$f":"(VLOOKUP($B97,'By Population'!$G$2:$K$14,5,FALSE))*'By Speed'!$T110*Scenario_VMT_5*$N97","v":0},{"$f":"(VLOOKUP($B97,'By Population'!$G$2:$K$14,5,FALSE))*'By Speed'!$U110*Scenario_VMT_5*$N97","v":0},0]
[108,"LHD1_DSL",60,"LHD1_DSL_60",{"$f":"(VLOOKUP($B98,'By Population'!$G$2:$K$14,5,FALSE))*'By Speed'!$M111*Scenario_VMT_EX*$N98","v":0},{"$f":"(VLOOKUP($B98,'By Population'!$G$2:$K$14,5,FALSE))*'By Speed'!$N111*Scenario_VMT_EX*$N98","v":0},{"$f":"(VLOOKUP($B98,'By Population'!$G$2:$K$14,5,FALSE))*'By Speed'!$O111*Scenario_VMT_EX*$N98","v":0},{"$f":"(VLOOKUP($B98,'By Population'!$G$2:$K$14,5,FALSE))*'By Speed'!$P111*Scenario_VMT_EX*$N98","v":0},{"$f":"(VLOOKUP($B98,'By Population'!$G$2:$K$14,5,FALSE))*'By Speed'!$Q111*Scenario_VMT_EX*$N98","v":0},{"$f":"(VLOOKUP($B98,'By Population'!$G$2:$K$14,5,FALSE))*'By Speed'!$R111*Scenario_VMT_EX*$N98","v":0},{"$f":"(VLOOKUP($B98,'By Population'!$G$2:$K$14,5,FALSE))*'By Speed'!$S111*Scenario_VMT_EX*$N98","v":0},{"$f":"(VLOOKUP($B98,'By Population'!$G$2:$K$14,5,FALSE))*'By Speed'!$T111*Scenario_VMT_EX*$N98","v":0},{"$f":"(VLOOKUP($B98,'By Population'!$G$2:$K$14,5,FALSE))*'By Speed'!$U111*Scenario_VMT_EX*$N98","v":0},0,{"$f":"(VLOOKUP($B98,'By Population'!$G$2:$K$14,5,FALSE))*'By Speed'!$M111*Scenario_VMT_1*$N98","v":0},{"$f":"(VLOOKUP($B98,'By Population'!$G$2:$K$14,5,FALSE))*'By Speed'!$N111*Scenario_VMT_1*$N98","v":0},{"$f":"(VLOOKUP($B98,'By Population'!$G$2:$K$14,5,FALSE))*'By Speed'!$O111*Scenario_VMT_1*$N98","v":0},{"$f":"(VLOOKUP($B98,'By Population'!$G$2:$K$14,5,FALSE))*'By Speed'!$P111*Scenario_VMT_1*$N98","v":0},{"$f":"(VLOOKUP($B98,'By Population'!$G$2:$K$14,5,FALSE))*'By Speed'!$Q111*Scenario_VMT_1*$N98","v":0},{"$f":"(VLOOKUP($B98,'By Population'!$G$2:$K$14,5,FALSE))*'By Speed'!$R111*Scenario_VMT_1*$N98","v":0},{"$f":"(VLOOKUP($B98,'By Population'!$G$2:$K$14,5,FALSE))*'By Speed'!$S111*Scenario_VMT_1*$N98","v":0},{"$f":"(VLOOKUP($B98,'By Population'!$G$2:$K$14,5,FALSE))*'By Speed'!$T111*Scenario_VMT_1*$N98","v":0},{"$f":"(VLOOKUP($B98,'By Population'!$G$2:$K$14,5,FALSE))*'By Speed'!$U111*Scenario_VMT_1*$N98","v":0},0,{"$f":"(VLOOKUP($B98,'By Population'!$G$2:$K$14,5,FALSE))*'By Speed'!$M111*Scenario_VMT_2*$N98","v":0},{"$f":"(VLOOKUP($B98,'By Population'!$G$2:$K$14,5,FALSE))*'By Speed'!$N111*Scenario_VMT_2*$N98","v":0},{"$f":"(VLOOKUP($B98,'By Population'!$G$2:$K$14,5,FALSE))*'By Speed'!$O111*Scenario_VMT_2*$N98","v":0},{"$f":"(VLOOKUP($B98,'By Population'!$G$2:$K$14,5,FALSE))*'By Speed'!$P111*Scenario_VMT_2*$N98","v":0},{"$f":"(VLOOKUP($B98,'By Population'!$G$2:$K$14,5,FALSE))*'By Speed'!$Q111*Scenario_VMT_2*$N98","v":0},{"$f":"(VLOOKUP($B98,'By Population'!$G$2:$K$14,5,FALSE))*'By Speed'!$R111*Scenario_VMT_2*$N98","v":0},{"$f":"(VLOOKUP($B98,'By Population'!$G$2:$K$14,5,FALSE))*'By Speed'!$S111*Scenario_VMT_2*$N98","v":0},{"$f":"(VLOOKUP($B98,'By Population'!$G$2:$K$14,5,FALSE))*'By Speed'!$T111*Scenario_VMT_2*$N98","v":0},{"$f":"(VLOOKUP($B98,'By Population'!$G$2:$K$14,5,FALSE))*'By Speed'!$U111*Scenario_VMT_2*$N98","v":0},0,{"$f":"(VLOOKUP($B98,'By Population'!$G$2:$K$14,5,FALSE))*'By Speed'!$M111*Scenario_VMT_3*$N98","v":0},{"$f":"(VLOOKUP($B98,'By Population'!$G$2:$K$14,5,FALSE))*'By Speed'!$N111*Scenario_VMT_3*$N98","v":0},{"$f":"(VLOOKUP($B98,'By Population'!$G$2:$K$14,5,FALSE))*'By Speed'!$O111*Scenario_VMT_3*$N98","v":0},{"$f":"(VLOOKUP($B98,'By Population'!$G$2:$K$14,5,FALSE))*'By Speed'!$P111*Scenario_VMT_3*$N98","v":0},{"$f":"(VLOOKUP($B98,'By Population'!$G$2:$K$14,5,FALSE))*'By Speed'!$Q111*Scenario_VMT_3*$N98","v":0},{"$f":"(VLOOKUP($B98,'By Population'!$G$2:$K$14,5,FALSE))*'By Speed'!$R111*Scenario_VMT_3*$N98","v":0},{"$f":"(VLOOKUP($B98,'By Population'!$G$2:$K$14,5,FALSE))*'By Speed'!$S111*Scenario_VMT_3*$N98","v":0},{"$f":"(VLOOKUP($B98,'By Population'!$G$2:$K$14,5,FALSE))*'By Speed'!$T111*Scenario_VMT_3*$N98","v":0},{"$f":"(VLOOKUP($B98,'By Population'!$G$2:$K$14,5,FALSE))*'By Speed'!$U111*Scenario_VMT_3*$N98","v":0},0,{"$f":"(VLOOKUP($B98,'By Population'!$G$2:$K$14,5,FALSE))*'By Speed'!$M111*Scenario_VMT_4*$N98","v":0},{"$f":"(VLOOKUP($B98,'By Population'!$G$2:$K$14,5,FALSE))*'By Speed'!$N111*Scenario_VMT_4*$N98","v":0},{"$f":"(VLOOKUP($B98,'By Population'!$G$2:$K$14,5,FALSE))*'By Speed'!$O111*Scenario_VMT_4*$N98","v":0},{"$f":"(VLOOKUP($B98,'By Population'!$G$2:$K$14,5,FALSE))*'By Speed'!$P111*Scenario_VMT_4*$N98","v":0},{"$f":"(VLOOKUP($B98,'By Population'!$G$2:$K$14,5,FALSE))*'By Speed'!$Q111*Scenario_VMT_4*$N98","v":0},{"$f":"(VLOOKUP($B98,'By Population'!$G$2:$K$14,5,FALSE))*'By Speed'!$R111*Scenario_VMT_4*$N98","v":0},{"$f":"(VLOOKUP($B98,'By Population'!$G$2:$K$14,5,FALSE))*'By Speed'!$S111*Scenario_VMT_4*$N98","v":0},{"$f":"(VLOOKUP($B98,'By Population'!$G$2:$K$14,5,FALSE))*'By Speed'!$T111*Scenario_VMT_4*$N98","v":0},{"$f":"(VLOOKUP($B98,'By Population'!$G$2:$K$14,5,FALSE))*'By Speed'!$U111*Scenario_VMT_4*$N98","v":0},0,{"$f":"(VLOOKUP($B98,'By Population'!$G$2:$K$14,5,FALSE))*'By Speed'!$M111*Scenario_VMT_5*$N98","v":0},{"$f":"(VLOOKUP($B98,'By Population'!$G$2:$K$14,5,FALSE))*'By Speed'!$N111*Scenario_VMT_5*$N98","v":0},{"$f":"(VLOOKUP($B98,'By Population'!$G$2:$K$14,5,FALSE))*'By Speed'!$O111*Scenario_VMT_5*$N98","v":0},{"$f":"(VLOOKUP($B98,'By Population'!$G$2:$K$14,5,FALSE))*'By Speed'!$P111*Scenario_VMT_5*$N98","v":0},{"$f":"(VLOOKUP($B98,'By Population'!$G$2:$K$14,5,FALSE))*'By Speed'!$Q111*Scenario_VMT_5*$N98","v":0},{"$f":"(VLOOKUP($B98,'By Population'!$G$2:$K$14,5,FALSE))*'By Speed'!$R111*Scenario_VMT_5*$N98","v":0},{"$f":"(VLOOKUP($B98,'By Population'!$G$2:$K$14,5,FALSE))*'By Speed'!$S111*Scenario_VMT_5*$N98","v":0},{"$f":"(VLOOKUP($B98,'By Population'!$G$2:$K$14,5,FALSE))*'By Speed'!$T111*Scenario_VMT_5*$N98","v":0},{"$f":"(VLOOKUP($B98,'By Population'!$G$2:$K$14,5,FALSE))*'By Speed'!$U111*Scenario_VMT_5*$N98","v":0},0]
[110,"LHD1_DSL",65,"LHD1_DSL_65",{"$f":"(VLOOKUP($B99,'By Population'!$G$2:$K$14,5,FALSE))*'By Speed'!$M112*Scenario_VMT_EX*$N99","v":0},{"$f":"(VLOOKUP($B99,'By Population'!$G$2:$K$14,5,FALSE))*'By Speed'!$N112*Scenario_VMT_EX*$N99","v":0},{"$f":"(VLOOKUP($B99,'By Population'!$G$2:$K$14,5,FALSE))*'By Speed'!$O112*Scenario_VMT_EX*$N99","v":0},{"$f":"(VLOOKUP($B99,'By Population'!$G$2:$K$14,5,FALSE))*'By Speed'!$P112*Scenario_VMT_EX*$N99","v":0},{"$f":"(VLOOKUP($B99,'By Population'!$G$2:$K$14,5,FALSE))*'By Speed'!$Q112*Scenario_VMT_EX*$N99","v":0},{"$f":"(VLOOKUP($B99,'By Population'!$G$2:$K$14,5,FALSE))*'By Speed'!$R112*Scenario_VMT_EX*$N99","v":0},{"$f":"(VLOOKUP($B99,'By Population'!$G$2:$K$14,5,FALSE))*'By Speed'!$S112*Scenario_VMT_EX*$N99","v":0},{"$f":"(VLOOKUP($B99,'By Population'!$G$2:$K$14,5,FALSE))*'By Speed'!$T112*Scenario_VMT_EX*$N99","v":0},{"$f":"(VLOOKUP($B99,'By Population'!$G$2:$K$14,5,FALSE))*'By Speed'!$U112*Scenario_VMT_EX*$N99","v":0},0,{"$f":"(VLOOKUP($B99,'By Population'!$G$2:$K$14,5,FALSE))*'By Speed'!$M112*Scenario_VMT_1*$N99","v":0},{"$f":"(VLOOKUP($B99,'By Population'!$G$2:$K$14,5,FALSE))*'By Speed'!$N112*Scenario_VMT_1*$N99","v":0},{"$f":"(VLOOKUP($B99,'By Population'!$G$2:$K$14,5,FALSE))*'By Speed'!$O112*Scenario_VMT_1*$N99","v":0},{"$f":"(VLOOKUP($B99,'By Population'!$G$2:$K$14,5,FALSE))*'By Speed'!$P112*Scenario_VMT_1*$N99","v":0},{"$f":"(VLOOKUP($B99,'By Population'!$G$2:$K$14,5,FALSE))*'By Speed'!$Q112*Scenario_VMT_1*$N99","v":0},{"$f":"(VLOOKUP($B99,'By Population'!$G$2:$K$14,5,FALSE))*'By Speed'!$R112*Scenario_VMT_1*$N99","v":0},{"$f":"(VLOOKUP($B99,'By Population'!$G$2:$K$14,5,FALSE))*'By Speed'!$S112*Scenario_VMT_1*$N99","v":0},{"$f":"(VLOOKUP($B99,'By Population'!$G$2:$K$14,5,FALSE))*'By Speed'!$T112*Scenario_VMT_1*$N99","v":0},{"$f":"(VLOOKUP($B99,'By Population'!$G$2:$K$14,5,FALSE))*'By Speed'!$U112*Scenario_VMT_1*$N99","v":0},{"$f":"IF(M99=Scenario_Speed_1,1,0)","v":0},{"$f":"(VLOOKUP($B99,'By Population'!$G$2:$K$14,5,FALSE))*'By Speed'!$M112*Scenario_VMT_2*$N99","v":0},{"$f":"(VLOOKUP($B99,'By Population'!$G$2:$K$14,5,FALSE))*'By Speed'!$N112*Scenario_VMT_2*$N99","v":0},{"$f":"(VLOOKUP($B99,'By Population'!$G$2:$K$14,5,FALSE))*'By Speed'!$O112*Scenario_VMT_2*$N99","v":0},{"$f":"(VLOOKUP($B99,'By Population'!$G$2:$K$14,5,FALSE))*'By Speed'!$P112*Scenario_VMT_2*$N99","v":0},{"$f":"(VLOOKUP($B99,'By Population'!$G$2:$K$14,5,FALSE))*'By Speed'!$Q112*Scenario_VMT_2*$N99","v":0},{"$f":"(VLOOKUP($B99,'By Population'!$G$2:$K$14,5,FALSE))*'By Speed'!$R112*Scenario_VMT_2*$N99","v":0},{"$f":"(VLOOKUP($B99,'By Population'!$G$2:$K$14,5,FALSE))*'By Speed'!$S112*Scenario_VMT_2*$N99","v":0},{"$f":"(VLOOKUP($B99,'By Population'!$G$2:$K$14,5,FALSE))*'By Speed'!$T112*Scenario_VMT_2*$N99","v":0},{"$f":"(VLOOKUP($B99,'By Population'!$G$2:$K$14,5,FALSE))*'By Speed'!$U112*Scenario_VMT_2*$N99","v":0},{"$f":"IF(W99=Scenario_Speed_2,1,0)","v":0},{"$f":"(VLOOKUP($B99,'By Population'!$G$2:$K$14,5,FALSE))*'By Speed'!$M112*Scenario_VMT_3*$N99","v":0},{"$f":"(VLOOKUP($B99,'By Population'!$G$2:$K$14,5,FALSE))*'By Speed'!$N112*Scenario_VMT_3*$N99","v":0},{"$f":"(VLOOKUP($B99,'By Population'!$G$2:$K$14,5,FALSE))*'By Speed'!$O112*Scenario_VMT_3*$N99","v":0},{"$f":"(VLOOKUP($B99,'By Population'!$G$2:$K$14,5,FALSE))*'By Speed'!$P112*Scenario_VMT_3*$N99","v":0},{"$f":"(VLOOKUP($B99,'By Population'!$G$2:$K$14,5,FALSE))*'By Speed'!$Q112*Scenario_VMT_3*$N99","v":0},{"$f":"(VLOOKUP($B99,'By Population'!$G$2:$K$14,5,FALSE))*'By Speed'!$R112*Scenario_VMT_3*$N99","v":0},{"$f":"(VLOOKUP($B99,'By Population'!$G$2:$K$14,5,FALSE))*'By Speed'!$S112*Scenario_VMT_3*$N99","v":0},{"$f":"(VLOOKUP($B99,'By Population'!$G$2:$K$14,5,FALSE))*'By Speed'!$T112*Scenario_VMT_3*$N99","v":0},{"$f":"(VLOOKUP($B99,'By Population'!$G$2:$K$14,5,FALSE))*'By Speed'!$U112*Scenario_VMT_3*$N99","v":0},{"$f":"IF(AG99=Scenario_Speed_3,1,0)","v":0},{"$f":"(VLOOKUP($B99,'By Population'!$G$2:$K$14,5,FALSE))*'By Speed'!$M112*Scenario_VMT_4*$N99","v":0},{"$f":"(VLOOKUP($B99,'By Population'!$G$2:$K$14,5,FALSE))*'By Speed'!$N112*Scenario_VMT_4*$N99","v":0},{"$f":"(VLOOKUP($B99,'By Population'!$G$2:$K$14,5,FALSE))*'By Speed'!$O112*Scenario_VMT_4*$N99","v":0},{"$f":"(VLOOKUP($B99,'By Population'!$G$2:$K$14,5,FALSE))*'By Speed'!$P112*Scenario_VMT_4*$N99","v":0},{"$f":"(VLOOKUP($B99,'By Population'!$G$2:$K$14,5,FALSE))*'By Speed'!$Q112*Scenario_VMT_4*$N99","v":0},{"$f":"(VLOOKUP($B99,'By Population'!$G$2:$K$14,5,FALSE))*'By Speed'!$R112*Scenario_VMT_4*$N99","v":0},{"$f":"(VLOOKUP($B99,'By Population'!$G$2:$K$14,5,FALSE))*'By Speed'!$S112*Scenario_VMT_4*$N99","v":0},{"$f":"(VLOOKUP($B99,'By Population'!$G$2:$K$14,5,FALSE))*'By Speed'!$T112*Scenario_VMT_4*$N99","v":0},{"$f":"(VLOOKUP($B99,'By Population'!$G$2:$K$14,5,FALSE))*'By Speed'!$U112*Scenario_VMT_4*$N99","v":0},{"$f":"IF(AQ99=Scenario_Speed_4,1,0)","v":0},{"$f":"(VLOOKUP($B99,'By Population'!$G$2:$K$14,5,FALSE))*'By Speed'!$M112*Scenario_VMT_5*$N99","v":0},{"$f":"(VLOOKUP($B99,'By Population'!$G$2:$K$14,5,FALSE))*'By Speed'!$N112*Scenario_VMT_5*$N99","v":0},{"$f":"(VLOOKUP($B99,'By Population'!$G$2:$K$14,5,FALSE))*'By Speed'!$O112*Scenario_VMT_5*$N99","v":0},{"$f":"(VLOOKUP($B99,'By Population'!$G$2:$K$14,5,FALSE))*'By Speed'!$P112*Scenario_VMT_5*$N99","v":0},{"$f":"(VLOOKUP($B99,'By Population'!$G$2:$K$14,5,FALSE))*'By Speed'!$Q112*Scenario_VMT_5*$N99","v":0},{"$f":"(VLOOKUP($B99,'By Population'!$G$2:$K$14,5,FALSE))*'By Speed'!$R112*Scenario_VMT_5*$N99","v":0},{"$f":"(VLOOKUP($B99,'By Population'!$G$2:$K$14,5,FALSE))*'By Speed'!$S112*Scenario_VMT_5*$N99","v":0},{"$f":"(VLOOKUP($B99,'By Population'!$G$2:$K$14,5,FALSE))*'By Speed'!$T112*Scenario_VMT_5*$N99","v":0},{"$f":"(VLOOKUP($B99,'By Population'!$G$2:$K$14,5,FALSE))*'By Speed'!$U112*Scenario_VMT_5*$N99","v":0},{"$f":"IF(BA99=Scenario_Speed_5,1,0)","v":0}]
[112,"LHD1_DSL",70,"LHD1_DSL_70",{"$f":"(VLOOKUP($B100,'By Population'!$G$2:$K$14,5,FALSE))*'By Speed'!$M113*Scenario_VMT_EX*$N100","v":0},{"$f":"(VLOOKUP($B100,'By Population'!$G$2:$K$14,5,FALSE))*'By Speed'!$N113*Scenario_VMT_EX*$N100","v":0},{"$f":"(VLOOKUP($B100,'By Population'!$G$2:$K$14,5,FALSE))*'By Speed'!$O113*Scenario_VMT_EX*$N100","v":0},{"$f":"(VLOOKUP($B100,'By Population'!$G$2:$K$14,5,FALSE))*'By Speed'!$P113*Scenario_VMT_EX*$N100","v":0},{"$f":"(VLOOKUP($B100,'By Population'!$G$2:$K$14,5,FALSE))*'By Speed'!$Q113*Scenario_VMT_EX*$N100","v":0},{"$f":"(VLOOKUP($B100,'By Population'!$G$2:$K$14,5,FALSE))*'By Speed'!$R113*Scenario_VMT_EX*$N100","v":0},{"$f":"(VLOOKUP($B100,'By Population'!$G$2:$K$14,5,FALSE))*'By Speed'!$S113*Scenario_VMT_EX*$N100","v":0},{"$f":"(VLOOKUP($B100,'By Population'!$G$2:$K$14,5,FALSE))*'By Speed'!$T113*Scenario_VMT_EX*$N100","v":0},{"$f":"(VLOOKUP($B100,'By Population'!$G$2:$K$14,5,FALSE))*'By Speed'!$U113*Scenario_VMT_EX*$N100","v":0},0,{"$f":"(VLOOKUP($B100,'By Population'!$G$2:$K$14,5,FALSE))*'By Speed'!$M113*Scenario_VMT_1*$N100","v":0},{"$f":"(VLOOKUP($B100,'By Population'!$G$2:$K$14,5,FALSE))*'By Speed'!$N113*Scenario_VMT_1*$N100","v":0},{"$f":"(VLOOKUP($B100,'By Population'!$G$2:$K$14,5,FALSE))*'By Speed'!$O113*Scenario_VMT_1*$N100","v":0},{"$f":"(VLOOKUP($B100,'By Population'!$G$2:$K$14,5,FALSE))*'By Speed'!$P113*Scenario_VMT_1*$N100","v":0},{"$f":"(VLOOKUP($B100,'By Population'!$G$2:$K$14,5,FALSE))*'By Speed'!$Q113*Scenario_VMT_1*$N100","v":0},{"$f":"(VLOOKUP($B100,'By Population'!$G$2:$K$14,5,FALSE))*'By Speed'!$R113*Scenario_VMT_1*$N100","v":0},{"$f":"(VLOOKUP($B100,'By Population'!$G$2:$K$14,5,FALSE))*'By Speed'!$S113*Scenario_VMT_1*$N100","v":0},{"$f":"(VLOOKUP($B100,'By Population'!$G$2:$K$14,5,FALSE))*'By Speed'!$T113*Scenario_VMT_1*$N100","v":0},{"$f":"(VLOOKUP($B100,'By Population'!$G$2:$K$14,5,FALSE))*'By Speed'!$U113*Scenario_VMT_1*$N100","v":0},0,{"$f":"(VLOOKUP($B100,'By Population'!$G$2:$K$14,5,FALSE))*'By Speed'!$M113*Scenario_VMT_2*$N100","v":0},{"$f":"(VLOOKUP($B100,'By Population'!$G$2:$K$14,5,FALSE))*'By Speed'!$N113*Scenario_VMT_2*$N100","v":0},{"$f":"(VLOOKUP($B100,'By Population'!$G$2:$K$14,5,FALSE))*'By Speed'!$O113*Scenario_VMT_2*$N100","v":0},{"$f":"(VLOOKUP($B100,'By Population'!$G$2:$K$14,5,FALSE))*'By Speed'!$P113*Scenario_VMT_2*$N100","v":0},{"$f":"(VLOOKUP($B100,'By Population'!$G$2:$K$14,5,FALSE))*'By Speed'!$Q113*Scenario_VMT_2*$N100","v":0},{"$f":"(VLOOKUP($B100,'By Population'!$G$2:$K$14,5,FALSE))*'By Speed'!$R113*Scenario_VMT_2*$N100","v":0},{"$f":"(VLOOKUP($B100,'By Population'!$G$2:$K$14,5,FALSE))*'By Speed'!$S113*Scenario_VMT_2*$N100","v":0},{"$f":"(VLOOKUP($B100,'By Population'!$G$2:$K$14,5,FALSE))*'By Speed'!$T113*Scenario_VMT_2*$N100","v":0},{"$f":"(VLOOKUP($B100,'By Population'!$G$2:$K$14,5,FALSE))*'By Speed'!$U113*Scenario_VMT_2*$N100","v":0},0,{"$f":"(VLOOKUP($B100,'By Population'!$G$2:$K$14,5,FALSE))*'By Speed'!$M113*Scenario_VMT_3*$N100","v":0},{"$f":"(VLOOKUP($B100,'By Population'!$G$2:$K$14,5,FALSE))*'By Speed'!$N113*Scenario_VMT_3*$N100","v":0},{"$f":"(VLOOKUP($B100,'By Population'!$G$2:$K$14,5,FALSE))*'By Speed'!$O113*Scenario_VMT_3*$N100","v":0},{"$f":"(VLOOKUP($B100,'By Population'!$G$2:$K$14,5,FALSE))*'By Speed'!$P113*Scenario_VMT_3*$N100","v":0},{"$f":"(VLOOKUP($B100,'By Population'!$G$2:$K$14,5,FALSE))*'By Speed'!$Q113*Scenario_VMT_3*$N100","v":0},{"$f":"(VLOOKUP($B100,'By Population'!$G$2:$K$14,5,FALSE))*'By Speed'!$R113*Scenario_VMT_3*$N100","v":0},{"$f":"(VLOOKUP($B100,'By Population'!$G$2:$K$14,5,FALSE))*'By Speed'!$S113*Scenario_VMT_3*$N100","v":0},{"$f":"(VLOOKUP($B100,'By Population'!$G$2:$K$14,5,FALSE))*'By Speed'!$T113*Scenario_VMT_3*$N100","v":0},{"$f":"(VLOOKUP($B100,'By Population'!$G$2:$K$14,5,FALSE))*'By Speed'!$U113*Scenario_VMT_3*$N100","v":0},0,{"$f":"(VLOOKUP($B100,'By Population'!$G$2:$K$14,5,FALSE))*'By Speed'!$M113*Scenario_VMT_4*$N100","v":0},{"$f":"(VLOOKUP($B100,'By Population'!$G$2:$K$14,5,FALSE))*'By Speed'!$N113*Scenario_VMT_4*$N100","v":0},{"$f":"(VLOOKUP($B100,'By Population'!$G$2:$K$14,5,FALSE))*'By Speed'!$O113*Scenario_VMT_4*$N100","v":0},{"$f":"(VLOOKUP($B100,'By Population'!$G$2:$K$14,5,FALSE))*'By Speed'!$P113*Scenario_VMT_4*$N100","v":0},{"$f":"(VLOOKUP($B100,'By Population'!$G$2:$K$14,5,FALSE))*'By Speed'!$Q113*Scenario_VMT_4*$N100","v":0},{"$f":"(VLOOKUP($B100,'By Population'!$G$2:$K$14,5,FALSE))*'By Speed'!$R113*Scenario_VMT_4*$N100","v":0},{"$f":"(VLOOKUP($B100,'By Population'!$G$2:$K$14,5,FALSE))*'By Speed'!$S113*Scenario_VMT_4*$N100","v":0},{"$f":"(VLOOKUP($B100,'By Population'!$G$2:$K$14,5,FALSE))*'By Speed'!$T113*Scenario_VMT_4*$N100","v":0},{"$f":"(VLOOKUP($B100,'By Population'!$G$2:$K$14,5,FALSE))*'By Speed'!$U113*Scenario_VMT_4*$N100","v":0},0,{"$f":"(VLOOKUP($B100,'By Population'!$G$2:$K$14,5,FALSE))*'By Speed'!$M113*Scenario_VMT_5*$N100","v":0},{"$f":"(VLOOKUP($B100,'By Population'!$G$2:$K$14,5,FALSE))*'By Speed'!$N113*Scenario_VMT_5*$N100","v":0},{"$f":"(VLOOKUP($B100,'By Population'!$G$2:$K$14,5,FALSE))*'By Speed'!$O113*Scenario_VMT_5*$N100","v":0},{"$f":"(VLOOKUP($B100,'By Population'!$G$2:$K$14,5,FALSE))*'By Speed'!$P113*Scenario_VMT_5*$N100","v":0},{"$f":"(VLOOKUP($B100,'By Population'!$G$2:$K$14,5,FALSE))*'By Speed'!$Q113*Scenario_VMT_5*$N100","v":0},{"$f":"(VLOOKUP($B100,'By Population'!$G$2:$K$14,5,FALSE))*'By Speed'!$R113*Scenario_VMT_5*$N100","v":0},{"$f":"(VLOOKUP($B100,'By Population'!$G$2:$K$14,5,FALSE))*'By Speed'!$S113*Scenario_VMT_5*$N100","v":0},{"$f":"(VLOOKUP($B100,'By Population'!$G$2:$K$14,5,FALSE))*'By Speed'!$T113*Scenario_VMT_5*$N100","v":0},{"$f":"(VLOOKUP($B100,'By Population'!$G$2:$K$14,5,FALSE))*'By Speed'!$U113*Scenario_VMT_5*$N100","v":0},0]
[87,"LHD1_GAS",10,"LHD1_GAS_10",{"$f":"(VLOOKUP($B101,'By Population'!$G$2:$K$14,5,FALSE))*'By Speed'!$M114*Scenario_VMT_EX*$N101","v":0},{"$f":"(VLOOKUP($B101,'By Population'!$G$2:$K$14,5,FALSE))*'By Speed'!$N114*Scenario_VMT_EX*$N101","v":0},{"$f":"(VLOOKUP($B101,'By Population'!$G$2:$K$14,5,FALSE))*'By Speed'!$O114*Scenario_VMT_EX*$N101","v":0},{"$f":"(VLOOKUP($B101,'By Population'!$G$2:$K$14,5,FALSE))*'By Speed'!$P114*Scenario_VMT_EX*$N101","v":0},{"$f":"(VLOOKUP($B101,'By Population'!$G$2:$K$14,5,FALSE))*'By Speed'!$Q114*Scenario_VMT_EX*$N101","v":0},{"$f":"(VLOOKUP($B101,'By Population'!$G$2:$K$14,5,FALSE))*'By Speed'!$R114*Scenario_VMT_EX*$N101","v":0},{"$f":"(VLOOKUP($B101,'By Population'!$G$2:$K$14,5,FALSE))*'By Speed'!$S114*Scenario_VMT_EX*$N101","v":0},{"$f":"(VLOOKUP($B101,'By Population'!$G$2:$K$14,5,FALSE))*'By Speed'!$T114*Scenario_VMT_EX*$N101","v":0},{"$f":"(VLOOKUP($B101,'By Population'!$G$2:$K$14,5,FALSE))*'By Speed'!$U114*Scenario_VMT_EX*$N101","v":0},0,{"$f":"(VLOOKUP($B101,'By Population'!$G$2:$K$14,5,FALSE))*'By Speed'!$M114*Scenario_VMT_1*$N101","v":0},{"$f":"(VLOOKUP($B101,'By Population'!$G$2:$K$14,5,FALSE))*'By Speed'!$N114*Scenario_VMT_1*$N101","v":0},{"$f":"(VLOOKUP($B101,'By Population'!$G$2:$K$14,5,FALSE))*'By Speed'!$O114*Scenario_VMT_1*$N101","v":0},{"$f":"(VLOOKUP($B101,'By Population'!$G$2:$K$14,5,FALSE))*'By Speed'!$P114*Scenario_VMT_1*$N101","v":0},{"$f":"(VLOOKUP($B101,'By Population'!$G$2:$K$14,5,FALSE))*'By Speed'!$Q114*Scenario_VMT_1*$N101","v":0},{"$f":"(VLOOKUP($B101,'By Population'!$G$2:$K$14,5,FALSE))*'By Speed'!$R114*Scenario_VMT_1*$N101","v":0},{"$f":"(VLOOKUP($B101,'By Population'!$G$2:$K$14,5,FALSE))*'By Speed'!$S114*Scenario_VMT_1*$N101","v":0},{"$f":"(VLOOKUP($B101,'By Population'!$G$2:$K$14,5,FALSE))*'By Speed'!$T114*Scenario_VMT_1*$N101","v":0},{"$f":"(VLOOKUP($B101,'By Population'!$G$2:$K$14,5,FALSE))*'By Speed'!$U114*Scenario_VMT_1*$N101","v":0},0,{"$f":"(VLOOKUP($B101,'By Population'!$G$2:$K$14,5,FALSE))*'By Speed'!$M114*Scenario_VMT_2*$N101","v":0},{"$f":"(VLOOKUP($B101,'By Population'!$G$2:$K$14,5,FALSE))*'By Speed'!$N114*Scenario_VMT_2*$N101","v":0},{"$f":"(VLOOKUP($B101,'By Population'!$G$2:$K$14,5,FALSE))*'By Speed'!$O114*Scenario_VMT_2*$N101","v":0},{"$f":"(VLOOKUP($B101,'By Population'!$G$2:$K$14,5,FALSE))*'By Speed'!$P114*Scenario_VMT_2*$N101","v":0},{"$f":"(VLOOKUP($B101,'By Population'!$G$2:$K$14,5,FALSE))*'By Speed'!$Q114*Scenario_VMT_2*$N101","v":0},{"$f":"(VLOOKUP($B101,'By Population'!$G$2:$K$14,5,FALSE))*'By Speed'!$R114*Scenario_VMT_2*$N101","v":0},{"$f":"(VLOOKUP($B101,'By Population'!$G$2:$K$14,5,FALSE))*'By Speed'!$S114*Scenario_VMT_2*$N101","v":0},{"$f":"(VLOOKUP($B101,'By Population'!$G$2:$K$14,5,FALSE))*'By Speed'!$T114*Scenario_VMT_2*$N101","v":0},{"$f":"(VLOOKUP($B101,'By Population'!$G$2:$K$14,5,FALSE))*'By Speed'!$U114*Scenario_VMT_2*$N101","v":0},0,{"$f":"(VLOOKUP($B101,'By Population'!$G$2:$K$14,5,FALSE))*'By Speed'!$M114*Scenario_VMT_3*$N101","v":0},{"$f":"(VLOOKUP($B101,'By Population'!$G$2:$K$14,5,FALSE))*'By Speed'!$N114*Scenario_VMT_3*$N101","v":0},{"$f":"(VLOOKUP($B101,'By Population'!$G$2:$K$14,5,FALSE))*'By Speed'!$O114*Scenario_VMT_3*$N101","v":0},{"$f":"(VLOOKUP($B101,'By Population'!$G$2:$K$14,5,FALSE))*'By Speed'!$P114*Scenario_VMT_3*$N101","v":0},{"$f":"(VLOOKUP($B101,'By Population'!$G$2:$K$14,5,FALSE))*'By Speed'!$Q114*Scenario_VMT_3*$N101","v":0},{"$f":"(VLOOKUP($B101,'By Population'!$G$2:$K$14,5,FALSE))*'By Speed'!$R114*Scenario_VMT_3*$N101","v":0},{"$f":"(VLOOKUP($B101,'By Population'!$G$2:$K$14,5,FALSE))*'By Speed'!$S114*Scenario_VMT_3*$N101","v":0},{"$f":"(VLOOKUP($B101,'By Population'!$G$2:$K$14,5,FALSE))*'By Speed'!$T114*Scenario_VMT_3*$N101","v":0},{"$f":"(VLOOKUP($B101,'By Population'!$G$2:$K$14,5,FALSE))*'By Speed'!$U114*Scenario_VMT_3*$N101","v":0},0,{"$f":"(VLOOKUP($B101,'By Population'!$G$2:$K$14,5,FALSE))*'By Speed'!$M114*Scenario_VMT_4*$N101","v":0},{"$f":"(VLOOKUP($B101,'By Population'!$G$2:$K$14,5,FALSE))*'By Speed'!$N114*Scenario_VMT_4*$N101","v":0},{"$f":"(VLOOKUP($B101,'By Population'!$G$2:$K$14,5,FALSE))*'By Speed'!$O114*Scenario_VMT_4*$N101","v":0},{"$f":"(VLOOKUP($B101,'By Population'!$G$2:$K$14,5,FALSE))*'By Speed'!$P114*Scenario_VMT_4*$N101","v":0},{"$f":"(VLOOKUP($B101,'By Population'!$G$2:$K$14,5,FALSE))*'By Speed'!$Q114*Scenario_VMT_4*$N101","v":0},{"$f":"(VLOOKUP($B101,'By Population'!$G$2:$K$14,5,FALSE))*'By Speed'!$R114*Scenario_VMT_4*$N101","v":0},{"$f":"(VLOOKUP($B101,'By Population'!$G$2:$K$14,5,FALSE))*'By Speed'!$S114*Scenario_VMT_4*$N101","v":0},{"$f":"(VLOOKUP($B101,'By Population'!$G$2:$K$14,5,FALSE))*'By Speed'!$T114*Scenario_VMT_4*$N101","v":0},{"$f":"(VLOOKUP($B101,'By Population'!$G$2:$K$14,5,FALSE))*'By Speed'!$U114*Scenario_VMT_4*$N101","v":0},0,{"$f":"(VLOOKUP($B101,'By Population'!$G$2:$K$14,5,FALSE))*'By Speed'!$M114*Scenario_VMT_5*$N101","v":0},{"$f":"(VLOOKUP($B101,'By Population'!$G$2:$K$14,5,FALSE))*'By Speed'!$N114*Scenario_VMT_5*$N101","v":0},{"$f":"(VLOOKUP($B101,'By Population'!$G$2:$K$14,5,FALSE))*'By Speed'!$O114*Scenario_VMT_5*$N101","v":0},{"$f":"(VLOOKUP($B101,'By Population'!$G$2:$K$14,5,FALSE))*'By Speed'!$P114*Scenario_VMT_5*$N101","v":0},{"$f":"(VLOOKUP($B101,'By Population'!$G$2:$K$14,5,FALSE))*'By Speed'!$Q114*Scenario_VMT_5*$N101","v":0},{"$f":"(VLOOKUP($B101,'By Population'!$G$2:$K$14,5,FALSE))*'By Speed'!$R114*Scenario_VMT_5*$N101","v":0},{"$f":"(VLOOKUP($B101,'By Population'!$G$2:$K$14,5,FALSE))*'By Speed'!$S114*Scenario_VMT_5*$N101","v":0},{"$f":"(VLOOKUP($B101,'By Population'!$G$2:$K$14,5,FALSE))*'By Speed'!$T114*Scenario_VMT_5*$N101","v":0},{"$f":"(VLOOKUP($B101,'By Population'!$G$2:$K$14,5,FALSE))*'By Speed'!$U114*Scenario_VMT_5*$N101","v":0},0]
[89,"LHD1_GAS",15,"LHD1_GAS_15",{"$f":"(VLOOKUP($B102,'By Population'!$G$2:$K$14,5,FALSE))*'By Speed'!$M115*Scenario_VMT_EX*$N102","v":0},{"$f":"(VLOOKUP($B102,'By Population'!$G$2:$K$14,5,FALSE))*'By Speed'!$N115*Scenario_VMT_EX*$N102","v":0},{"$f":"(VLOOKUP($B102,'By Population'!$G$2:$K$14,5,FALSE))*'By Speed'!$O115*Scenario_VMT_EX*$N102","v":0},{"$f":"(VLOOKUP($B102,'By Population'!$G$2:$K$14,5,FALSE))*'By Speed'!$P115*Scenario_VMT_EX*$N102","v":0},{"$f":"(VLOOKUP($B102,'By Population'!$G$2:$K$14,5,FALSE))*'By Speed'!$Q115*Scenario_VMT_EX*$N102","v":0},{"$f":"(VLOOKUP($B102,'By Population'!$G$2:$K$14,5,FALSE))*'By Speed'!$R115*Scenario_VMT_EX*$N102","v":0},{"$f":"(VLOOKUP($B102,'By Population'!$G$2:$K$14,5,FALSE))*'By Speed'!$S115*Scenario_VMT_EX*$N102","v":0},{"$f":"(VLOOKUP($B102,'By Population'!$G$2:$K$14,5,FALSE))*'By Speed'!$T115*Scenario_VMT_EX*$N102","v":0},{"$f":"(VLOOKUP($B102,'By Population'!$G$2:$K$14,5,FALSE))*'By Speed'!$U115*Scenario_VMT_EX*$N102","v":0},0,{"$f":"(VLOOKUP($B102,'By Population'!$G$2:$K$14,5,FALSE))*'By Speed'!$M115*Scenario_VMT_1*$N102","v":0},{"$f":"(VLOOKUP($B102,'By Population'!$G$2:$K$14,5,FALSE))*'By Speed'!$N115*Scenario_VMT_1*$N102","v":0},{"$f":"(VLOOKUP($B102,'By Population'!$G$2:$K$14,5,FALSE))*'By Speed'!$O115*Scenario_VMT_1*$N102","v":0},{"$f":"(VLOOKUP($B102,'By Population'!$G$2:$K$14,5,FALSE))*'By Speed'!$P115*Scenario_VMT_1*$N102","v":0},{"$f":"(VLOOKUP($B102,'By Population'!$G$2:$K$14,5,FALSE))*'By Speed'!$Q115*Scenario_VMT_1*$N102","v":0},{"$f":"(VLOOKUP($B102,'By Population'!$G$2:$K$14,5,FALSE))*'By Speed'!$R115*Scenario_VMT_1*$N102","v":0},{"$f":"(VLOOKUP($B102,'By Population'!$G$2:$K$14,5,FALSE))*'By Speed'!$S115*Scenario_VMT_1*$N102","v":0},{"$f":"(VLOOKUP($B102,'By Population'!$G$2:$K$14,5,FALSE))*'By Speed'!$T115*Scenario_VMT_1*$N102","v":0},{"$f":"(VLOOKUP($B102,'By Population'!$G$2:$K$14,5,FALSE))*'By Speed'!$U115*Scenario_VMT_1*$N102","v":0},0,{"$f":"(VLOOKUP($B102,'By Population'!$G$2:$K$14,5,FALSE))*'By Speed'!$M115*Scenario_VMT_2*$N102","v":0},{"$f":"(VLOOKUP($B102,'By Population'!$G$2:$K$14,5,FALSE))*'By Speed'!$N115*Scenario_VMT_2*$N102","v":0},{"$f":"(VLOOKUP($B102,'By Population'!$G$2:$K$14,5,FALSE))*'By Speed'!$O115*Scenario_VMT_2*$N102","v":0},{"$f":"(VLOOKUP($B102,'By Population'!$G$2:$K$14,5,FALSE))*'By Speed'!$P115*Scenario_VMT_2*$N102","v":0},{"$f":"(VLOOKUP($B102,'By Population'!$G$2:$K$14,5,FALSE))*'By Speed'!$Q115*Scenario_VMT_2*$N102","v":0},{"$f":"(VLOOKUP($B102,'By Population'!$G$2:$K$14,5,FALSE))*'By Speed'!$R115*Scenario_VMT_2*$N102","v":0},{"$f":"(VLOOKUP($B102,'By Population'!$G$2:$K$14,5,FALSE))*'By Speed'!$S115*Scenario_VMT_2*$N102","v":0},{"$f":"(VLOOKUP($B102,'By Population'!$G$2:$K$14,5,FALSE))*'By Speed'!$T115*Scenario_VMT_2*$N102","v":0},{"$f":"(VLOOKUP($B102,'By Population'!$G$2:$K$14,5,FALSE))*'By Speed'!$U115*Scenario_VMT_2*$N102","v":0},0,{"$f":"(VLOOKUP($B102,'By Population'!$G$2:$K$14,5,FALSE))*'By Speed'!$M115*Scenario_VMT_3*$N102","v":0},{"$f":"(VLOOKUP($B102,'By Population'!$G$2:$K$14,5,FALSE))*'By Speed'!$N115*Scenario_VMT_3*$N102","v":0},{"$f":"(VLOOKUP($B102,'By Population'!$G$2:$K$14,5,FALSE))*'By Speed'!$O115*Scenario_VMT_3*$N102","v":0},{"$f":"(VLOOKUP($B102,'By Population'!$G$2:$K$14,5,FALSE))*'By Speed'!$P115*Scenario_VMT_3*$N102","v":0},{"$f":"(VLOOKUP($B102,'By Population'!$G$2:$K$14,5,FALSE))*'By Speed'!$Q115*Scenario_VMT_3*$N102","v":0},{"$f":"(VLOOKUP($B102,'By Population'!$G$2:$K$14,5,FALSE))*'By Speed'!$R115*Scenario_VMT_3*$N102","v":0},{"$f":"(VLOOKUP($B102,'By Population'!$G$2:$K$14,5,FALSE))*'By Speed'!$S115*Scenario_VMT_3*$N102","v":0},{"$f":"(VLOOKUP($B102,'By Population'!$G$2:$K$14,5,FALSE))*'By Speed'!$T115*Scenario_VMT_3*$N102","v":0},{"$f":"(VLOOKUP($B102,'By Population'!$G$2:$K$14,5,FALSE))*'By Speed'!$U115*Scenario_VMT_3*$N102","v":0},0,{"$f":"(VLOOKUP($B102,'By Population'!$G$2:$K$14,5,FALSE))*'By Speed'!$M115*Scenario_VMT_4*$N102","v":0},{"$f":"(VLOOKUP($B102,'By Population'!$G$2:$K$14,5,FALSE))*'By Speed'!$N115*Scenario_VMT_4*$N102","v":0},{"$f":"(VLOOKUP($B102,'By Population'!$G$2:$K$14,5,FALSE))*'By Speed'!$O115*Scenario_VMT_4*$N102","v":0},{"$f":"(VLOOKUP($B102,'By Population'!$G$2:$K$14,5,FALSE))*'By Speed'!$P115*Scenario_VMT_4*$N102","v":0},{"$f":"(VLOOKUP($B102,'By Population'!$G$2:$K$14,5,FALSE))*'By Speed'!$Q115*Scenario_VMT_4*$N102","v":0},{"$f":"(VLOOKUP($B102,'By Population'!$G$2:$K$14,5,FALSE))*'By Speed'!$R115*Scenario_VMT_4*$N102","v":0},{"$f":"(VLOOKUP($B102,'By Population'!$G$2:$K$14,5,FALSE))*'By Speed'!$S115*Scenario_VMT_4*$N102","v":0},{"$f":"(VLOOKUP($B102,'By Population'!$G$2:$K$14,5,FALSE))*'By Speed'!$T115*Scenario_VMT_4*$N102","v":0},{"$f":"(VLOOKUP($B102,'By Population'!$G$2:$K$14,5,FALSE))*'By Speed'!$U115*Scenario_VMT_4*$N102","v":0},0,{"$f":"(VLOOKUP($B102,'By Population'!$G$2:$K$14,5,FALSE))*'By Speed'!$M115*Scenario_VMT_5*$N102","v":0},{"$f":"(VLOOKUP($B102,'By Population'!$G$2:$K$14,5,FALSE))*'By Speed'!$N115*Scenario_VMT_5*$N102","v":0},{"$f":"(VLOOKUP($B102,'By Population'!$G$2:$K$14,5,FALSE))*'By Speed'!$O115*Scenario_VMT_5*$N102","v":0},{"$f":"(VLOOKUP($B102,'By Population'!$G$2:$K$14,5,FALSE))*'By Speed'!$P115*Scenario_VMT_5*$N102","v":0},{"$f":"(VLOOKUP($B102,'By Population'!$G$2:$K$14,5,FALSE))*'By Speed'!$Q115*Scenario_VMT_5*$N102","v":0},{"$f":"(VLOOKUP($B102,'By Population'!$G$2:$K$14,5,FALSE))*'By Speed'!$R115*Scenario_VMT_5*$N102","v":0},{"$f":"(VLOOKUP($B102,'By Population'!$G$2:$K$14,5,FALSE))*'By Speed'!$S115*Scenario_VMT_5*$N102","v":0},{"$f":"(VLOOKUP($B102,'By Population'!$G$2:$K$14,5,FALSE))*'By Speed'!$T115*Scenario_VMT_5*$N102","v":0},{"$f":"(VLOOKUP($B102,'By Population'!$G$2:$K$14,5,FALSE))*'By Speed'!$U115*Scenario_VMT_5*$N102","v":0},0]
[91,"LHD1_GAS",20,"LHD1_GAS_20",{"$f":"(VLOOKUP($B103,'By Population'!$G$2:$K$14,5,FALSE))*'By Speed'!$M116*Scenario_VMT_EX*$N103","v":0},{"$f":"(VLOOKUP($B103,'By Population'!$G$2:$K$14,5,FALSE))*'By Speed'!$N116*Scenario_VMT_EX*$N103","v":0},{"$f":"(VLOOKUP($B103,'By Population'!$G$2:$K$14,5,FALSE))*'By Speed'!$O116*Scenario_VMT_EX*$N103","v":0},{"$f":"(VLOOKUP($B103,'By Population'!$G$2:$K$14,5,FALSE))*'By Speed'!$P116*Scenario_VMT_EX*$N103","v":0},{"$f":"(VLOOKUP($B103,'By Population'!$G$2:$K$14,5,FALSE))*'By Speed'!$Q116*Scenario_VMT_EX*$N103","v":0},{"$f":"(VLOOKUP($B103,'By Population'!$G$2:$K$14,5,FALSE))*'By Speed'!$R116*Scenario_VMT_EX*$N103","v":0},{"$f":"(VLOOKUP($B103,'By Population'!$G$2:$K$14,5,FALSE))*'By Speed'!$S116*Scenario_VMT_EX*$N103","v":0},{"$f":"(VLOOKUP($B103,'By Population'!$G$2:$K$14,5,FALSE))*'By Speed'!$T116*Scenario_VMT_EX*$N103","v":0},{"$f":"(VLOOKUP($B103,'By Population'!$G$2:$K$14,5,FALSE))*'By Speed'!$U116*Scenario_VMT_EX*$N103","v":0},0,{"$f":"(VLOOKUP($B103,'By Population'!$G$2:$K$14,5,FALSE))*'By Speed'!$M116*Scenario_VMT_1*$N103","v":0},{"$f":"(VLOOKUP($B103,'By Population'!$G$2:$K$14,5,FALSE))*'By Speed'!$N116*Scenario_VMT_1*$N103","v":0},{"$f":"(VLOOKUP($B103,'By Population'!$G$2:$K$14,5,FALSE))*'By Speed'!$O116*Scenario_VMT_1*$N103","v":0},{"$f":"(VLOOKUP($B103,'By Population'!$G$2:$K$14,5,FALSE))*'By Speed'!$P116*Scenario_VMT_1*$N103","v":0},{"$f":"(VLOOKUP($B103,'By Population'!$G$2:$K$14,5,FALSE))*'By Speed'!$Q116*Scenario_VMT_1*$N103","v":0},{"$f":"(VLOOKUP($B103,'By Population'!$G$2:$K$14,5,FALSE))*'By Speed'!$R116*Scenario_VMT_1*$N103","v":0},{"$f":"(VLOOKUP($B103,'By Population'!$G$2:$K$14,5,FALSE))*'By Speed'!$S116*Scenario_VMT_1*$N103","v":0},{"$f":"(VLOOKUP($B103,'By Population'!$G$2:$K$14,5,FALSE))*'By Speed'!$T116*Scenario_VMT_1*$N103","v":0},{"$f":"(VLOOKUP($B103,'By Population'!$G$2:$K$14,5,FALSE))*'By Speed'!$U116*Scenario_VMT_1*$N103","v":0},0,{"$f":"(VLOOKUP($B103,'By Population'!$G$2:$K$14,5,FALSE))*'By Speed'!$M116*Scenario_VMT_2*$N103","v":0},{"$f":"(VLOOKUP($B103,'By Population'!$G$2:$K$14,5,FALSE))*'By Speed'!$N116*Scenario_VMT_2*$N103","v":0},{"$f":"(VLOOKUP($B103,'By Population'!$G$2:$K$14,5,FALSE))*'By Speed'!$O116*Scenario_VMT_2*$N103","v":0},{"$f":"(VLOOKUP($B103,'By Population'!$G$2:$K$14,5,FALSE))*'By Speed'!$P116*Scenario_VMT_2*$N103","v":0},{"$f":"(VLOOKUP($B103,'By Population'!$G$2:$K$14,5,FALSE))*'By Speed'!$Q116*Scenario_VMT_2*$N103","v":0},{"$f":"(VLOOKUP($B103,'By Population'!$G$2:$K$14,5,FALSE))*'By Speed'!$R116*Scenario_VMT_2*$N103","v":0},{"$f":"(VLOOKUP($B103,'By Population'!$G$2:$K$14,5,FALSE))*'By Speed'!$S116*Scenario_VMT_2*$N103","v":0},{"$f":"(VLOOKUP($B103,'By Population'!$G$2:$K$14,5,FALSE))*'By Speed'!$T116*Scenario_VMT_2*$N103","v":0},{"$f":"(VLOOKUP($B103,'By Population'!$G$2:$K$14,5,FALSE))*'By Speed'!$U116*Scenario_VMT_2*$N103","v":0},0,{"$f":"(VLOOKUP($B103,'By Population'!$G$2:$K$14,5,FALSE))*'By Speed'!$M116*Scenario_VMT_3*$N103","v":0},{"$f":"(VLOOKUP($B103,'By Population'!$G$2:$K$14,5,FALSE))*'By Speed'!$N116*Scenario_VMT_3*$N103","v":0},{"$f":"(VLOOKUP($B103,'By Population'!$G$2:$K$14,5,FALSE))*'By Speed'!$O116*Scenario_VMT_3*$N103","v":0},{"$f":"(VLOOKUP($B103,'By Population'!$G$2:$K$14,5,FALSE))*'By Speed'!$P116*Scenario_VMT_3*$N103","v":0},{"$f":"(VLOOKUP($B103,'By Population'!$G$2:$K$14,5,FALSE))*'By Speed'!$Q116*Scenario_VMT_3*$N103","v":0},{"$f":"(VLOOKUP($B103,'By Population'!$G$2:$K$14,5,FALSE))*'By Speed'!$R116*Scenario_VMT_3*$N103","v":0},{"$f":"(VLOOKUP($B103,'By Population'!$G$2:$K$14,5,FALSE))*'By Speed'!$S116*Scenario_VMT_3*$N103","v":0},{"$f":"(VLOOKUP($B103,'By Population'!$G$2:$K$14,5,FALSE))*'By Speed'!$T116*Scenario_VMT_3*$N103","v":0},{"$f":"(VLOOKUP($B103,'By Population'!$G$2:$K$14,5,FALSE))*'By Speed'!$U116*Scenario_VMT_3*$N103","v":0},0,{"$f":"(VLOOKUP($B103,'By Population'!$G$2:$K$14,5,FALSE))*'By Speed'!$M116*Scenario_VMT_4*$N103","v":0},{"$f":"(VLOOKUP($B103,'By Population'!$G$2:$K$14,5,FALSE))*'By Speed'!$N116*Scenario_VMT_4*$N103","v":0},{"$f":"(VLOOKUP($B103,'By Population'!$G$2:$K$14,5,FALSE))*'By Speed'!$O116*Scenario_VMT_4*$N103","v":0},{"$f":"(VLOOKUP($B103,'By Population'!$G$2:$K$14,5,FALSE))*'By Speed'!$P116*Scenario_VMT_4*$N103","v":0},{"$f":"(VLOOKUP($B103,'By Population'!$G$2:$K$14,5,FALSE))*'By Speed'!$Q116*Scenario_VMT_4*$N103","v":0},{"$f":"(VLOOKUP($B103,'By Population'!$G$2:$K$14,5,FALSE))*'By Speed'!$R116*Scenario_VMT_4*$N103","v":0},{"$f":"(VLOOKUP($B103,'By Population'!$G$2:$K$14,5,FALSE))*'By Speed'!$S116*Scenario_VMT_4*$N103","v":0},{"$f":"(VLOOKUP($B103,'By Population'!$G$2:$K$14,5,FALSE))*'By Speed'!$T116*Scenario_VMT_4*$N103","v":0},{"$f":"(VLOOKUP($B103,'By Population'!$G$2:$K$14,5,FALSE))*'By Speed'!$U116*Scenario_VMT_4*$N103","v":0},0,{"$f":"(VLOOKUP($B103,'By Population'!$G$2:$K$14,5,FALSE))*'By Speed'!$M116*Scenario_VMT_5*$N103","v":0},{"$f":"(VLOOKUP($B103,'By Population'!$G$2:$K$14,5,FALSE))*'By Speed'!$N116*Scenario_VMT_5*$N103","v":0},{"$f":"(VLOOKUP($B103,'By Population'!$G$2:$K$14,5,FALSE))*'By Speed'!$O116*Scenario_VMT_5*$N103","v":0},{"$f":"(VLOOKUP($B103,'By Population'!$G$2:$K$14,5,FALSE))*'By Speed'!$P116*Scenario_VMT_5*$N103","v":0},{"$f":"(VLOOKUP($B103,'By Population'!$G$2:$K$14,5,FALSE))*'By Speed'!$Q116*Scenario_VMT_5*$N103","v":0},{"$f":"(VLOOKUP($B103,'By Population'!$G$2:$K$14,5,FALSE))*'By Speed'!$R116*Scenario_VMT_5*$N103","v":0},{"$f":"(VLOOKUP($B103,'By Population'!$G$2:$K$14,5,FALSE))*'By Speed'!$S116*Scenario_VMT_5*$N103","v":0},{"$f":"(VLOOKUP($B103,'By Population'!$G$2:$K$14,5,FALSE))*'By Speed'!$T116*Scenario_VMT_5*$N103","v":0},{"$f":"(VLOOKUP($B103,'By Population'!$G$2:$K$14,5,FALSE))*'By Speed'!$U116*Scenario_VMT_5*$N103","v":0},0]
[93,"LHD1_GAS",25,"LHD1_GAS_25",{"$f":"(VLOOKUP($B104,'By Population'!$G$2:$K$14,5,FALSE))*'By Speed'!$M117*Scenario_VMT_EX*$N104","v":0},{"$f":"(VLOOKUP($B104,'By Population'!$G$2:$K$14,5,FALSE))*'By Speed'!$N117*Scenario_VMT_EX*$N104","v":0},{"$f":"(VLOOKUP($B104,'By Population'!$G$2:$K$14,5,FALSE))*'By Speed'!$O117*Scenario_VMT_EX*$N104","v":0},{"$f":"(VLOOKUP($B104,'By Population'!$G$2:$K$14,5,FALSE))*'By Speed'!$P117*Scenario_VMT_EX*$N104","v":0},{"$f":"(VLOOKUP($B104,'By Population'!$G$2:$K$14,5,FALSE))*'By Speed'!$Q117*Scenario_VMT_EX*$N104","v":0},{"$f":"(VLOOKUP($B104,'By Population'!$G$2:$K$14,5,FALSE))*'By Speed'!$R117*Scenario_VMT_EX*$N104","v":0},{"$f":"(VLOOKUP($B104,'By Population'!$G$2:$K$14,5,FALSE))*'By Speed'!$S117*Scenario_VMT_EX*$N104","v":0},{"$f":"(VLOOKUP($B104,'By Population'!$G$2:$K$14,5,FALSE))*'By Speed'!$T117*Scenario_VMT_EX*$N104","v":0},{"$f":"(VLOOKUP($B104,'By Population'!$G$2:$K$14,5,FALSE))*'By Speed'!$U117*Scenario_VMT_EX*$N104","v":0},1,{"$f":"(VLOOKUP($B104,'By Population'!$G$2:$K$14,5,FALSE))*'By Speed'!$M117*Scenario_VMT_1*$N104","v":0},{"$f":"(VLOOKUP($B104,'By Population'!$G$2:$K$14,5,FALSE))*'By Speed'!$N117*Scenario_VMT_1*$N104","v":0},{"$f":"(VLOOKUP($B104,'By Population'!$G$2:$K$14,5,FALSE))*'By Speed'!$O117*Scenario_VMT_1*$N104","v":0},{"$f":"(VLOOKUP($B104,'By Population'!$G$2:$K$14,5,FALSE))*'By Speed'!$P117*Scenario_VMT_1*$N104","v":0},{"$f":"(VLOOKUP($B104,'By Population'!$G$2:$K$14,5,FALSE))*'By Speed'!$Q117*Scenario_VMT_1*$N104","v":0},{"$f":"(VLOOKUP($B104,'By Population'!$G$2:$K$14,5,FALSE))*'By Speed'!$R117*Scenario_VMT_1*$N104","v":0},{"$f":"(VLOOKUP($B104,'By Population'!$G$2:$K$14,5,FALSE))*'By Speed'!$S117*Scenario_VMT_1*$N104","v":0},{"$f":"(VLOOKUP($B104,'By Population'!$G$2:$K$14,5,FALSE))*'By Speed'!$T117*Scenario_VMT_1*$N104","v":0},{"$f":"(VLOOKUP($B104,'By Population'!$G$2:$K$14,5,FALSE))*'By Speed'!$U117*Scenario_VMT_1*$N104","v":0},0,{"$f":"(VLOOKUP($B104,'By Population'!$G$2:$K$14,5,FALSE))*'By Speed'!$M117*Scenario_VMT_2*$N104","v":0},{"$f":"(VLOOKUP($B104,'By Population'!$G$2:$K$14,5,FALSE))*'By Speed'!$N117*Scenario_VMT_2*$N104","v":0},{"$f":"(VLOOKUP($B104,'By Population'!$G$2:$K$14,5,FALSE))*'By Speed'!$O117*Scenario_VMT_2*$N104","v":0},{"$f":"(VLOOKUP($B104,'By Population'!$G$2:$K$14,5,FALSE))*'By Speed'!$P117*Scenario_VMT_2*$N104","v":0},{"$f":"(VLOOKUP($B104,'By Population'!$G$2:$K$14,5,FALSE))*'By Speed'!$Q117*Scenario_VMT_2*$N104","v":0},{"$f":"(VLOOKUP($B104,'By Population'!$G$2:$K$14,5,FALSE))*'By Speed'!$R117*Scenario_VMT_2*$N104","v":0},{"$f":"(VLOOKUP($B104,'By Population'!$G$2:$K$14,5,FALSE))*'By Speed'!$S117*Scenario_VMT_2*$N104","v":0},{"$f":"(VLOOKUP($B104,'By Population'!$G$2:$K$14,5,FALSE))*'By Speed'!$T117*Scenario_VMT_2*$N104","v":0},{"$f":"(VLOOKUP($B104,'By Population'!$G$2:$K$14,5,FALSE))*'By Speed'!$U117*Scenario_VMT_2*$N104","v":0},0,{"$f":"(VLOOKUP($B104,'By Population'!$G$2:$K$14,5,FALSE))*'By Speed'!$M117*Scenario_VMT_3*$N104","v":0},{"$f":"(VLOOKUP($B104,'By Population'!$G$2:$K$14,5,FALSE))*'By Speed'!$N117*Scenario_VMT_3*$N104","v":0},{"$f":"(VLOOKUP($B104,'By Population'!$G$2:$K$14,5,FALSE))*'By Speed'!$O117*Scenario_VMT_3*$N104","v":0},{"$f":"(VLOOKUP($B104,'By Population'!$G$2:$K$14,5,FALSE))*'By Speed'!$P117*Scenario_VMT_3*$N104","v":0},{"$f":"(VLOOKUP($B104,'By Population'!$G$2:$K$14,5,FALSE))*'By Speed'!$Q117*Scenario_VMT_3*$N104","v":0},{"$f":"(VLOOKUP($B104,'By Population'!$G$2:$K$14,5,FALSE))*'By Speed'!$R117*Scenario_VMT_3*$N104","v":0},{"$f":"(VLOOKUP($B104,'By Population'!$G$2:$K$14,5,FALSE))*'By Speed'!$S117*Scenario_VMT_3*$N104","v":0},{"$f":"(VLOOKUP($B104,'By Population'!$G$2:$K$14,5,FALSE))*'By Speed'!$T117*Scenario_VMT_3*$N104","v":0},{"$f":"(VLOOKUP($B104,'By Population'!$G$2:$K$14,5,FALSE))*'By Speed'!$U117*Scenario_VMT_3*$N104","v":0},0,{"$f":"(VLOOKUP($B104,'By Population'!$G$2:$K$14,5,FALSE))*'By Speed'!$M117*Scenario_VMT_4*$N104","v":0},{"$f":"(VLOOKUP($B104,'By Population'!$G$2:$K$14,5,FALSE))*'By Speed'!$N117*Scenario_VMT_4*$N104","v":0},{"$f":"(VLOOKUP($B104,'By Population'!$G$2:$K$14,5,FALSE))*'By Speed'!$O117*Scenario_VMT_4*$N104","v":0},{"$f":"(VLOOKUP($B104,'By Population'!$G$2:$K$14,5,FALSE))*'By Speed'!$P117*Scenario_VMT_4*$N104","v":0},{"$f":"(VLOOKUP($B104,'By Population'!$G$2:$K$14,5,FALSE))*'By Speed'!$Q117*Scenario_VMT_4*$N104","v":0},{"$f":"(VLOOKUP($B104,'By Population'!$G$2:$K$14,5,FALSE))*'By Speed'!$R117*Scenario_VMT_4*$N104","v":0},{"$f":"(VLOOKUP($B104,'By Population'!$G$2:$K$14,5,FALSE))*'By Speed'!$S117*Scenario_VMT_4*$N104","v":0},{"$f":"(VLOOKUP($B104,'By Population'!$G$2:$K$14,5,FALSE))*'By Speed'!$T117*Scenario_VMT_4*$N104","v":0},{"$f":"(VLOOKUP($B104,'By Population'!$G$2:$K$14,5,FALSE))*'By Speed'!$U117*Scenario_VMT_4*$N104","v":0},0,{"$f":"(VLOOKUP($B104,'By Population'!$G$2:$K$14,5,FALSE))*'By Speed'!$M117*Scenario_VMT_5*$N104","v":0},{"$f":"(VLOOKUP($B104,'By Population'!$G$2:$K$14,5,FALSE))*'By Speed'!$N117*Scenario_VMT_5*$N104","v":0},{"$f":"(VLOOKUP($B104,'By Population'!$G$2:$K$14,5,FALSE))*'By Speed'!$O117*Scenario_VMT_5*$N104","v":0},{"$f":"(VLOOKUP($B104,'By Population'!$G$2:$K$14,5,FALSE))*'By Speed'!$P117*Scenario_VMT_5*$N104","v":0},{"$f":"(VLOOKUP($B104,'By Population'!$G$2:$K$14,5,FALSE))*'By Speed'!$Q117*Scenario_VMT_5*$N104","v":0},{"$f":"(VLOOKUP($B104,'By Population'!$G$2:$K$14,5,FALSE))*'By Speed'!$R117*Scenario_VMT_5*$N104","v":0},{"$f":"(VLOOKUP($B104,'By Population'!$G$2:$K$14,5,FALSE))*'By Speed'!$S117*Scenario_VMT_5*$N104","v":0},{"$f":"(VLOOKUP($B104,'By Population'!$G$2:$K$14,5,FALSE))*'By Speed'!$T117*Scenario_VMT_5*$N104","v":0},{"$f":"(VLOOKUP($B104,'By Population'!$G$2:$K$14,5,FALSE))*'By Speed'!$U117*Scenario_VMT_5*$N104","v":0},0]
[95,"LHD1_GAS",30,"LHD1_GAS_30",{"$f":"(VLOOKUP($B105,'By Population'!$G$2:$K$14,5,FALSE))*'By Speed'!$M118*Scenario_VMT_EX*$N105","v":0},{"$f":"(VLOOKUP($B105,'By Population'!$G$2:$K$14,5,FALSE))*'By Speed'!$N118*Scenario_VMT_EX*$N105","v":0},{"$f":"(VLOOKUP($B105,'By Population'!$G$2:$K$14,5,FALSE))*'By Speed'!$O118*Scenario_VMT_EX*$N105","v":0},{"$f":"(VLOOKUP($B105,'By Population'!$G$2:$K$14,5,FALSE))*'By Speed'!$P118*Scenario_VMT_EX*$N105","v":0},{"$f":"(VLOOKUP($B105,'By Population'!$G$2:$K$14,5,FALSE))*'By Speed'!$Q118*Scenario_VMT_EX*$N105","v":0},{"$f":"(VLOOKUP($B105,'By Population'!$G$2:$K$14,5,FALSE))*'By Speed'!$R118*Scenario_VMT_EX*$N105","v":0},{"$f":"(VLOOKUP($B105,'By Population'!$G$2:$K$14,5,FALSE))*'By Speed'!$S118*Scenario_VMT_EX*$N105","v":0},{"$f":"(VLOOKUP($B105,'By Population'!$G$2:$K$14,5,FALSE))*'By Speed'!$T118*Scenario_VMT_EX*$N105","v":0},{"$f":"(VLOOKUP($B105,'By Population'!$G$2:$K$14,5,FALSE))*'By Speed'!$U118*Scenario_VMT_EX*$N105","v":0},0,{"$f":"(VLOOKUP($B105,'By Population'!$G$2:$K$14,5,FALSE))*'By Speed'!$M118*Scenario_VMT_1*$N105","v":0},{"$f":"(VLOOKUP($B105,'By Population'!$G$2:$K$14,5,FALSE))*'By Speed'!$N118*Scenario_VMT_1*$N105","v":0},{"$f":"(VLOOKUP($B105,'By Population'!$G$2:$K$14,5,FALSE))*'By Speed'!$O118*Scenario_VMT_1*$N105","v":0},{"$f":"(VLOOKUP($B105,'By Population'!$G$2:$K$14,5,FALSE))*'By Speed'!$P118*Scenario_VMT_1*$N105","v":0},{"$f":"(VLOOKUP($B105,'By Population'!$G$2:$K$14,5,FALSE))*'By Speed'!$Q118*Scenario_VMT_1*$N105","v":0},{"$f":"(VLOOKUP($B105,'By Population'!$G$2:$K$14,5,FALSE))*'By Speed'!$R118*Scenario_VMT_1*$N105","v":0},{"$f":"(VLOOKUP($B105,'By Population'!$G$2:$K$14,5,FALSE))*'By Speed'!$S118*Scenario_VMT_1*$N105","v":0},{"$f":"(VLOOKUP($B105,'By Population'!$G$2:$K$14,5,FALSE))*'By Speed'!$T118*Scenario_VMT_1*$N105","v":0},{"$f":"(VLOOKUP($B105,'By Population'!$G$2:$K$14,5,FALSE))*'By Speed'!$U118*Scenario_VMT_1*$N105","v":0},0,{"$f":"(VLOOKUP($B105,'By Population'!$G$2:$K$14,5,FALSE))*'By Speed'!$M118*Scenario_VMT_2*$N105","v":0},{"$f":"(VLOOKUP($B105,'By Population'!$G$2:$K$14,5,FALSE))*'By Speed'!$N118*Scenario_VMT_2*$N105","v":0},{"$f":"(VLOOKUP($B105,'By Population'!$G$2:$K$14,5,FALSE))*'By Speed'!$O118*Scenario_VMT_2*$N105","v":0},{"$f":"(VLOOKUP($B105,'By Population'!$G$2:$K$14,5,FALSE))*'By Speed'!$P118*Scenario_VMT_2*$N105","v":0},{"$f":"(VLOOKUP($B105,'By Population'!$G$2:$K$14,5,FALSE))*'By Speed'!$Q118*Scenario_VMT_2*$N105","v":0},{"$f":"(VLOOKUP($B105,'By Population'!$G$2:$K$14,5,FALSE))*'By Speed'!$R118*Scenario_VMT_2*$N105","v":0},{"$f":"(VLOOKUP($B105,'By Population'!$G$2:$K$14,5,FALSE))*'By Speed'!$S118*Scenario_VMT_2*$N105","v":0},{"$f":"(VLOOKUP($B105,'By Population'!$G$2:$K$14,5,FALSE))*'By Speed'!$T118*Scenario_VMT_2*$N105","v":0},{"$f":"(VLOOKUP($B105,'By Population'!$G$2:$K$14,5,FALSE))*'By Speed'!$U118*Scenario_VMT_2*$N105","v":0},0,{"$f":"(VLOOKUP($B105,'By Population'!$G$2:$K$14,5,FALSE))*'By Speed'!$M118*Scenario_VMT_3*$N105","v":0},{"$f":"(VLOOKUP($B105,'By Population'!$G$2:$K$14,5,FALSE))*'By Speed'!$N118*Scenario_VMT_3*$N105","v":0},{"$f":"(VLOOKUP($B105,'By Population'!$G$2:$K$14,5,FALSE))*'By Speed'!$O118*Scenario_VMT_3*$N105","v":0},{"$f":"(VLOOKUP($B105,'By Population'!$G$2:$K$14,5,FALSE))*'By Speed'!$P118*Scenario_VMT_3*$N105","v":0},{"$f":"(VLOOKUP($B105,'By Population'!$G$2:$K$14,5,FALSE))*'By Speed'!$Q118*Scenario_VMT_3*$N105","v":0},{"$f":"(VLOOKUP($B105,'By Population'!$G$2:$K$14,5,FALSE))*'By Speed'!$R118*Scenario_VMT_3*$N105","v":0},{"$f":"(VLOOKUP($B105,'By Population'!$G$2:$K$14,5,FALSE))*'By Speed'!$S118*Scenario_VMT_3*$N105","v":0},{"$f":"(VLOOKUP($B105,'By Population'!$G$2:$K$14,5,FALSE))*'By Speed'!$T118*Scenario_VMT_3*$N105","v":0},{"$f":"(VLOOKUP($B105,'By Population'!$G$2:$K$14,5,FALSE))*'By Speed'!$U118*Scenario_VMT_3*$N105","v":0},0,{"$f":"(VLOOKUP($B105,'By Population'!$G$2:$K$14,5,FALSE))*'By Speed'!$M118*Scenario_VMT_4*$N105","v":0},{"$f":"(VLOOKUP($B105,'By Population'!$G$2:$K$14,5,FALSE))*'By Speed'!$N118*Scenario_VMT_4*$N105","v":0},{"$f":"(VLOOKUP($B105,'By Population'!$G$2:$K$14,5,FALSE))*'By Speed'!$O118*Scenario_VMT_4*$N105","v":0},{"$f":"(VLOOKUP($B105,'By Population'!$G$2:$K$14,5,FALSE))*'By Speed'!$P118*Scenario_VMT_4*$N105","v":0},{"$f":"(VLOOKUP($B105,'By Population'!$G$2:$K$14,5,FALSE))*'By Speed'!$Q118*Scenario_VMT_4*$N105","v":0},{"$f":"(VLOOKUP($B105,'By Population'!$G$2:$K$14,5,FALSE))*'By Speed'!$R118*Scenario_VMT_4*$N105","v":0},{"$f":"(VLOOKUP($B105,'By Population'!$G$2:$K$14,5,FALSE))*'By Speed'!$S118*Scenario_VMT_4*$N105","v":0},{"$f":"(VLOOKUP($B105,'By Population'!$G$2:$K$14,5,FALSE))*'By Speed'!$T118*Scenario_VMT_4*$N105","v":0},{"$f":"(VLOOKUP($B105,'By Population'!$G$2:$K$14,5,FALSE))*'By Speed'!$U118*Scenario_VMT_4*$N105","v":0},0,{"$f":"(VLOOKUP($B105,'By Population'!$G$2:$K$14,5,FALSE))*'By Speed'!$M118*Scenario_VMT_5*$N105","v":0},{"$f":"(VLOOKUP($B105,'By Population'!$G$2:$K$14,5,FALSE))*'By Speed'!$N118*Scenario_VMT_5*$N105","v":0},{"$f":"(VLOOKUP($B105,'By Population'!$G$2:$K$14,5,FALSE))*'By Speed'!$O118*Scenario_VMT_5*$N105","v":0},{"$f":"(VLOOKUP($B105,'By Population'!$G$2:$K$14,5,FALSE))*'By Speed'!$P118*Scenario_VMT_5*$N105","v":0},{"$f":"(VLOOKUP($B105,'By Population'!$G$2:$K$14,5,FALSE))*'By Speed'!$Q118*Scenario_VMT_5*$N105","v":0},{"$f":"(VLOOKUP($B105,'By Population'!$G$2:$K$14,5,FALSE))*'By Speed'!$R118*Scenario_VMT_5*$N105","v":0},{"$f":"(VLOOKUP($B105,'By Population'!$G$2:$K$14,5,FALSE))*'By Speed'!$S118*Scenario_VMT_5*$N105","v":0},{"$f":"(VLOOKUP($B105,'By Population'!$G$2:$K$14,5,FALSE))*'By Speed'!$T118*Scenario_VMT_5*$N105","v":0},{"$f":"(VLOOKUP($B105,'By Population'!$G$2:$K$14,5,FALSE))*'By Speed'!$U118*Scenario_VMT_5*$N105","v":0},0]
[97,"LHD1_GAS",35,"LHD1_GAS_35",{"$f":"(VLOOKUP($B106,'By Population'!$G$2:$K$14,5,FALSE))*'By Speed'!$M119*Scenario_VMT_EX*$N106","v":0},{"$f":"(VLOOKUP($B106,'By Population'!$G$2:$K$14,5,FALSE))*'By Speed'!$N119*Scenario_VMT_EX*$N106","v":0},{"$f":"(VLOOKUP($B106,'By Population'!$G$2:$K$14,5,FALSE))*'By Speed'!$O119*Scenario_VMT_EX*$N106","v":0},{"$f":"(VLOOKUP($B106,'By Population'!$G$2:$K$14,5,FALSE))*'By Speed'!$P119*Scenario_VMT_EX*$N106","v":0},{"$f":"(VLOOKUP($B106,'By Population'!$G$2:$K$14,5,FALSE))*'By Speed'!$Q119*Scenario_VMT_EX*$N106","v":0},{"$f":"(VLOOKUP($B106,'By Population'!$G$2:$K$14,5,FALSE))*'By Speed'!$R119*Scenario_VMT_EX*$N106","v":0},{"$f":"(VLOOKUP($B106,'By Population'!$G$2:$K$14,5,FALSE))*'By Speed'!$S119*Scenario_VMT_EX*$N106","v":0},{"$f":"(VLOOKUP($B106,'By Population'!$G$2:$K$14,5,FALSE))*'By Speed'!$T119*Scenario_VMT_EX*$N106","v":0},{"$f":"(VLOOKUP($B106,'By Population'!$G$2:$K$14,5,FALSE))*'By Speed'!$U119*Scenario_VMT_EX*$N106","v":0},0,{"$f":"(VLOOKUP($B106,'By Population'!$G$2:$K$14,5,FALSE))*'By Speed'!$M119*Scenario_VMT_1*$N106","v":0},{"$f":"(VLOOKUP($B106,'By Population'!$G$2:$K$14,5,FALSE))*'By Speed'!$N119*Scenario_VMT_1*$N106","v":0},{"$f":"(VLOOKUP($B106,'By Population'!$G$2:$K$14,5,FALSE))*'By Speed'!$O119*Scenario_VMT_1*$N106","v":0},{"$f":"(VLOOKUP($B106,'By Population'!$G$2:$K$14,5,FALSE))*'By Speed'!$P119*Scenario_VMT_1*$N106","v":0},{"$f":"(VLOOKUP($B106,'By Population'!$G$2:$K$14,5,FALSE))*'By Speed'!$Q119*Scenario_VMT_1*$N106","v":0},{"$f":"(VLOOKUP($B106,'By Population'!$G$2:$K$14,5,FALSE))*'By Speed'!$R119*Scenario_VMT_1*$N106","v":0},{"$f":"(VLOOKUP($B106,'By Population'!$G$2:$K$14,5,FALSE))*'By Speed'!$S119*Scenario_VMT_1*$N106","v":0},{"$f":"(VLOOKUP($B106,'By Population'!$G$2:$K$14,5,FALSE))*'By Speed'!$T119*Scenario_VMT_1*$N106","v":0},{"$f":"(VLOOKUP($B106,'By Population'!$G$2:$K$14,5,FALSE))*'By Speed'!$U119*Scenario_VMT_1*$N106","v":0},0,{"$f":"(VLOOKUP($B106,'By Population'!$G$2:$K$14,5,FALSE))*'By Speed'!$M119*Scenario_VMT_2*$N106","v":0},{"$f":"(VLOOKUP($B106,'By Population'!$G$2:$K$14,5,FALSE))*'By Speed'!$N119*Scenario_VMT_2*$N106","v":0},{"$f":"(VLOOKUP($B106,'By Population'!$G$2:$K$14,5,FALSE))*'By Speed'!$O119*Scenario_VMT_2*$N106","v":0},{"$f":"(VLOOKUP($B106,'By Population'!$G$2:$K$14,5,FALSE))*'By Speed'!$P119*Scenario_VMT_2*$N106","v":0},{"$f":"(VLOOKUP($B106,'By Population'!$G$2:$K$14,5,FALSE))*'By Speed'!$Q119*Scenario_VMT_2*$N106","v":0},{"$f":"(VLOOKUP($B106,'By Population'!$G$2:$K$14,5,FALSE))*'By Speed'!$R119*Scenario_VMT_2*$N106","v":0},{"$f":"(VLOOKUP($B106,'By Population'!$G$2:$K$14,5,FALSE))*'By Speed'!$S119*Scenario_VMT_2*$N106","v":0},{"$f":"(VLOOKUP($B106,'By Population'!$G$2:$K$14,5,FALSE))*'By Speed'!$T119*Scenario_VMT_2*$N106","v":0},{"$f":"(VLOOKUP($B106,'By Population'!$G$2:$K$14,5,FALSE))*'By Speed'!$U119*Scenario_VMT_2*$N106","v":0},0,{"$f":"(VLOOKUP($B106,'By Population'!$G$2:$K$14,5,FALSE))*'By Speed'!$M119*Scenario_VMT_3*$N106","v":0},{"$f":"(VLOOKUP($B106,'By Population'!$G$2:$K$14,5,FALSE))*'By Speed'!$N119*Scenario_VMT_3*$N106","v":0},{"$f":"(VLOOKUP($B106,'By Population'!$G$2:$K$14,5,FALSE))*'By Speed'!$O119*Scenario_VMT_3*$N106","v":0},{"$f":"(VLOOKUP($B106,'By Population'!$G$2:$K$14,5,FALSE))*'By Speed'!$P119*Scenario_VMT_3*$N106","v":0},{"$f":"(VLOOKUP($B106,'By Population'!$G$2:$K$14,5,FALSE))*'By Speed'!$Q119*Scenario_VMT_3*$N106","v":0},{"$f":"(VLOOKUP($B106,'By Population'!$G$2:$K$14,5,FALSE))*'By Speed'!$R119*Scenario_VMT_3*$N106","v":0},{"$f":"(VLOOKUP($B106,'By Population'!$G$2:$K$14,5,FALSE))*'By Speed'!$S119*Scenario_VMT_3*$N106","v":0},{"$f":"(VLOOKUP($B106,'By Population'!$G$2:$K$14,5,FALSE))*'By Speed'!$T119*Scenario_VMT_3*$N106","v":0},{"$f":"(VLOOKUP($B106,'By Population'!$G$2:$K$14,5,FALSE))*'By Speed'!$U119*Scenario_VMT_3*$N106","v":0},0,{"$f":"(VLOOKUP($B106,'By Population'!$G$2:$K$14,5,FALSE))*'By Speed'!$M119*Scenario_VMT_4*$N106","v":0},{"$f":"(VLOOKUP($B106,'By Population'!$G$2:$K$14,5,FALSE))*'By Speed'!$N119*Scenario_VMT_4*$N106","v":0},{"$f":"(VLOOKUP($B106,'By Population'!$G$2:$K$14,5,FALSE))*'By Speed'!$O119*Scenario_VMT_4*$N106","v":0},{"$f":"(VLOOKUP($B106,'By Population'!$G$2:$K$14,5,FALSE))*'By Speed'!$P119*Scenario_VMT_4*$N106","v":0},{"$f":"(VLOOKUP($B106,'By Population'!$G$2:$K$14,5,FALSE))*'By Speed'!$Q119*Scenario_VMT_4*$N106","v":0},{"$f":"(VLOOKUP($B106,'By Population'!$G$2:$K$14,5,FALSE))*'By Speed'!$R119*Scenario_VMT_4*$N106","v":0},{"$f":"(VLOOKUP($B106,'By Population'!$G$2:$K$14,5,FALSE))*'By Speed'!$S119*Scenario_VMT_4*$N106","v":0},{"$f":"(VLOOKUP($B106,'By Population'!$G$2:$K$14,5,FALSE))*'By Speed'!$T119*Scenario_VMT_4*$N106","v":0},{"$f":"(VLOOKUP($B106,'By Population'!$G$2:$K$14,5,FALSE))*'By Speed'!$U119*Scenario_VMT_4*$N106","v":0},0,{"$f":"(VLOOKUP($B106,'By Population'!$G$2:$K$14,5,FALSE))*'By Speed'!$M119*Scenario_VMT_5*$N106","v":0},{"$f":"(VLOOKUP($B106,'By Population'!$G$2:$K$14,5,FALSE))*'By Speed'!$N119*Scenario_VMT_5*$N106","v":0},{"$f":"(VLOOKUP($B106,'By Population'!$G$2:$K$14,5,FALSE))*'By Speed'!$O119*Scenario_VMT_5*$N106","v":0},{"$f":"(VLOOKUP($B106,'By Population'!$G$2:$K$14,5,FALSE))*'By Speed'!$P119*Scenario_VMT_5*$N106","v":0},{"$f":"(VLOOKUP($B106,'By Population'!$G$2:$K$14,5,FALSE))*'By Speed'!$Q119*Scenario_VMT_5*$N106","v":0},{"$f":"(VLOOKUP($B106,'By Population'!$G$2:$K$14,5,FALSE))*'By Speed'!$R119*Scenario_VMT_5*$N106","v":0},{"$f":"(VLOOKUP($B106,'By Population'!$G$2:$K$14,5,FALSE))*'By Speed'!$S119*Scenario_VMT_5*$N106","v":0},{"$f":"(VLOOKUP($B106,'By Population'!$G$2:$K$14,5,FALSE))*'By Speed'!$T119*Scenario_VMT_5*$N106","v":0},{"$f":"(VLOOKUP($B106,'By Population'!$G$2:$K$14,5,FALSE))*'By Speed'!$U119*Scenario_VMT_5*$N106","v":0},0]
[99,"LHD1_GAS",40,"LHD1_GAS_40",{"$f":"(VLOOKUP($B107,'By Population'!$G$2:$K$14,5,FALSE))*'By Speed'!$M120*Scenario_VMT_EX*$N107","v":0},{"$f":"(VLOOKUP($B107,'By Population'!$G$2:$K$14,5,FALSE))*'By Speed'!$N120*Scenario_VMT_EX*$N107","v":0},{"$f":"(VLOOKUP($B107,'By Population'!$G$2:$K$14,5,FALSE))*'By Speed'!$O120*Scenario_VMT_EX*$N107","v":0},{"$f":"(VLOOKUP($B107,'By Population'!$G$2:$K$14,5,FALSE))*'By Speed'!$P120*Scenario_VMT_EX*$N107","v":0},{"$f":"(VLOOKUP($B107,'By Population'!$G$2:$K$14,5,FALSE))*'By Speed'!$Q120*Scenario_VMT_EX*$N107","v":0},{"$f":"(VLOOKUP($B107,'By Population'!$G$2:$K$14,5,FALSE))*'By Speed'!$R120*Scenario_VMT_EX*$N107","v":0},{"$f":"(VLOOKUP($B107,'By Population'!$G$2:$K$14,5,FALSE))*'By Speed'!$S120*Scenario_VMT_EX*$N107","v":0},{"$f":"(VLOOKUP($B107,'By Population'!$G$2:$K$14,5,FALSE))*'By Speed'!$T120*Scenario_VMT_EX*$N107","v":0},{"$f":"(VLOOKUP($B107,'By Population'!$G$2:$K$14,5,FALSE))*'By Speed'!$U120*Scenario_VMT_EX*$N107","v":0},0,{"$f":"(VLOOKUP($B107,'By Population'!$G$2:$K$14,5,FALSE))*'By Speed'!$M120*Scenario_VMT_1*$N107","v":0},{"$f":"(VLOOKUP($B107,'By Population'!$G$2:$K$14,5,FALSE))*'By Speed'!$N120*Scenario_VMT_1*$N107","v":0},{"$f":"(VLOOKUP($B107,'By Population'!$G$2:$K$14,5,FALSE))*'By Speed'!$O120*Scenario_VMT_1*$N107","v":0},{"$f":"(VLOOKUP($B107,'By Population'!$G$2:$K$14,5,FALSE))*'By Speed'!$P120*Scenario_VMT_1*$N107","v":0},{"$f":"(VLOOKUP($B107,'By Population'!$G$2:$K$14,5,FALSE))*'By Speed'!$Q120*Scenario_VMT_1*$N107","v":0},{"$f":"(VLOOKUP($B107,'By Population'!$G$2:$K$14,5,FALSE))*'By Speed'!$R120*Scenario_VMT_1*$N107","v":0},{"$f":"(VLOOKUP($B107,'By Population'!$G$2:$K$14,5,FALSE))*'By Speed'!$S120*Scenario_VMT_1*$N107","v":0},{"$f":"(VLOOKUP($B107,'By Population'!$G$2:$K$14,5,FALSE))*'By Speed'!$T120*Scenario_VMT_1*$N107","v":0},{"$f":"(VLOOKUP($B107,'By Population'!$G$2:$K$14,5,FALSE))*'By Speed'!$U120*Scenario_VMT_1*$N107","v":0},0,{"$f":"(VLOOKUP($B107,'By Population'!$G$2:$K$14,5,FALSE))*'By Speed'!$M120*Scenario_VMT_2*$N107","v":0},{"$f":"(VLOOKUP($B107,'By Population'!$G$2:$K$14,5,FALSE))*'By Speed'!$N120*Scenario_VMT_2*$N107","v":0},{"$f":"(VLOOKUP($B107,'By Population'!$G$2:$K$14,5,FALSE))*'By Speed'!$O120*Scenario_VMT_2*$N107","v":0},{"$f":"(VLOOKUP($B107,'By Population'!$G$2:$K$14,5,FALSE))*'By Speed'!$P120*Scenario_VMT_2*$N107","v":0},{"$f":"(VLOOKUP($B107,'By Population'!$G$2:$K$14,5,FALSE))*'By Speed'!$Q120*Scenario_VMT_2*$N107","v":0},{"$f":"(VLOOKUP($B107,'By Population'!$G$2:$K$14,5,FALSE))*'By Speed'!$R120*Scenario_VMT_2*$N107","v":0},{"$f":"(VLOOKUP($B107,'By Population'!$G$2:$K$14,5,FALSE))*'By Speed'!$S120*Scenario_VMT_2*$N107","v":0},{"$f":"(VLOOKUP($B107,'By Population'!$G$2:$K$14,5,FALSE))*'By Speed'!$T120*Scenario_VMT_2*$N107","v":0},{"$f":"(VLOOKUP($B107,'By Population'!$G$2:$K$14,5,FALSE))*'By Speed'!$U120*Scenario_VMT_2*$N107","v":0},0,{"$f":"(VLOOKUP($B107,'By Population'!$G$2:$K$14,5,FALSE))*'By Speed'!$M120*Scenario_VMT_3*$N107","v":0},{"$f":"(VLOOKUP($B107,'By Population'!$G$2:$K$14,5,FALSE))*'By Speed'!$N120*Scenario_VMT_3*$N107","v":0},{"$f":"(VLOOKUP($B107,'By Population'!$G$2:$K$14,5,FALSE))*'By Speed'!$O120*Scenario_VMT_3*$N107","v":0},{"$f":"(VLOOKUP($B107,'By Population'!$G$2:$K$14,5,FALSE))*'By Speed'!$P120*Scenario_VMT_3*$N107","v":0},{"$f":"(VLOOKUP($B107,'By Population'!$G$2:$K$14,5,FALSE))*'By Speed'!$Q120*Scenario_VMT_3*$N107","v":0},{"$f":"(VLOOKUP($B107,'By Population'!$G$2:$K$14,5,FALSE))*'By Speed'!$R120*Scenario_VMT_3*$N107","v":0},{"$f":"(VLOOKUP($B107,'By Population'!$G$2:$K$14,5,FALSE))*'By Speed'!$S120*Scenario_VMT_3*$N107","v":0},{"$f":"(VLOOKUP($B107,'By Population'!$G$2:$K$14,5,FALSE))*'By Speed'!$T120*Scenario_VMT_3*$N107","v":0},{"$f":"(VLOOKUP($B107,'By Population'!$G$2:$K$14,5,FALSE))*'By Speed'!$U120*Scenario_VMT_3*$N107","v":0},0,{"$f":"(VLOOKUP($B107,'By Population'!$G$2:$K$14,5,FALSE))*'By Speed'!$M120*Scenario_VMT_4*$N107","v":0},{"$f":"(VLOOKUP($B107,'By Population'!$G$2:$K$14,5,FALSE))*'By Speed'!$N120*Scenario_VMT_4*$N107","v":0},{"$f":"(VLOOKUP($B107,'By Population'!$G$2:$K$14,5,FALSE))*'By Speed'!$O120*Scenario_VMT_4*$N107","v":0},{"$f":"(VLOOKUP($B107,'By Population'!$G$2:$K$14,5,FALSE))*'By Speed'!$P120*Scenario_VMT_4*$N107","v":0},{"$f":"(VLOOKUP($B107,'By Population'!$G$2:$K$14,5,FALSE))*'By Speed'!$Q120*Scenario_VMT_4*$N107","v":0},{"$f":"(VLOOKUP($B107,'By Population'!$G$2:$K$14,5,FALSE))*'By Speed'!$R120*Scenario_VMT_4*$N107","v":0},{"$f":"(VLOOKUP($B107,'By Population'!$G$2:$K$14,5,FALSE))*'By Speed'!$S120*Scenario_VMT_4*$N107","v":0},{"$f":"(VLOOKUP($B107,'By Population'!$G$2:$K$14,5,FALSE))*'By Speed'!$T120*Scenario_VMT_4*$N107","v":0},{"$f":"(VLOOKUP($B107,'By Population'!$G$2:$K$14,5,FALSE))*'By Speed'!$U120*Scenario_VMT_4*$N107","v":0},0,{"$f":"(VLOOKUP($B107,'By Population'!$G$2:$K$14,5,FALSE))*'By Speed'!$M120*Scenario_VMT_5*$N107","v":0},{"$f":"(VLOOKUP($B107,'By Population'!$G$2:$K$14,5,FALSE))*'By Speed'!$N120*Scenario_VMT_5*$N107","v":0},{"$f":"(VLOOKUP($B107,'By Population'!$G$2:$K$14,5,FALSE))*'By Speed'!$O120*Scenario_VMT_5*$N107","v":0},{"$f":"(VLOOKUP($B107,'By Population'!$G$2:$K$14,5,FALSE))*'By Speed'!$P120*Scenario_VMT_5*$N107","v":0},{"$f":"(VLOOKUP($B107,'By Population'!$G$2:$K$14,5,FALSE))*'By Speed'!$Q120*Scenario_VMT_5*$N107","v":0},{"$f":"(VLOOKUP($B107,'By Population'!$G$2:$K$14,5,FALSE))*'By Speed'!$R120*Scenario_VMT_5*$N107","v":0},{"$f":"(VLOOKUP($B107,'By Population'!$G$2:$K$14,5,FALSE))*'By Speed'!$S120*Scenario_VMT_5*$N107","v":0},{"$f":"(VLOOKUP($B107,'By Population'!$G$2:$K$14,5,FALSE))*'By Speed'!$T120*Scenario_VMT_5*$N107","v":0},{"$f":"(VLOOKUP($B107,'By Population'!$G$2:$K$14,5,FALSE))*'By Speed'!$U120*Scenario_VMT_5*$N107","v":0},0]
[101,"LHD1_GAS",45,"LHD1_GAS_45",{"$f":"(VLOOKUP($B108,'By Population'!$G$2:$K$14,5,FALSE))*'By Speed'!$M121*Scenario_VMT_EX*$N108","v":0},{"$f":"(VLOOKUP($B108,'By Population'!$G$2:$K$14,5,FALSE))*'By Speed'!$N121*Scenario_VMT_EX*$N108","v":0},{"$f":"(VLOOKUP($B108,'By Population'!$G$2:$K$14,5,FALSE))*'By Speed'!$O121*Scenario_VMT_EX*$N108","v":0},{"$f":"(VLOOKUP($B108,'By Population'!$G$2:$K$14,5,FALSE))*'By Speed'!$P121*Scenario_VMT_EX*$N108","v":0},{"$f":"(VLOOKUP($B108,'By Population'!$G$2:$K$14,5,FALSE))*'By Speed'!$Q121*Scenario_VMT_EX*$N108","v":0},{"$f":"(VLOOKUP($B108,'By Population'!$G$2:$K$14,5,FALSE))*'By Speed'!$R121*Scenario_VMT_EX*$N108","v":0},{"$f":"(VLOOKUP($B108,'By Population'!$G$2:$K$14,5,FALSE))*'By Speed'!$S121*Scenario_VMT_EX*$N108","v":0},{"$f":"(VLOOKUP($B108,'By Population'!$G$2:$K$14,5,FALSE))*'By Speed'!$T121*Scenario_VMT_EX*$N108","v":0},{"$f":"(VLOOKUP($B108,'By Population'!$G$2:$K$14,5,FALSE))*'By Speed'!$U121*Scenario_VMT_EX*$N108","v":0},0,{"$f":"(VLOOKUP($B108,'By Population'!$G$2:$K$14,5,FALSE))*'By Speed'!$M121*Scenario_VMT_1*$N108","v":0},{"$f":"(VLOOKUP($B108,'By Population'!$G$2:$K$14,5,FALSE))*'By Speed'!$N121*Scenario_VMT_1*$N108","v":0},{"$f":"(VLOOKUP($B108,'By Population'!$G$2:$K$14,5,FALSE))*'By Speed'!$O121*Scenario_VMT_1*$N108","v":0},{"$f":"(VLOOKUP($B108,'By Population'!$G$2:$K$14,5,FALSE))*'By Speed'!$P121*Scenario_VMT_1*$N108","v":0},{"$f":"(VLOOKUP($B108,'By Population'!$G$2:$K$14,5,FALSE))*'By Speed'!$Q121*Scenario_VMT_1*$N108","v":0},{"$f":"(VLOOKUP($B108,'By Population'!$G$2:$K$14,5,FALSE))*'By Speed'!$R121*Scenario_VMT_1*$N108","v":0},{"$f":"(VLOOKUP($B108,'By Population'!$G$2:$K$14,5,FALSE))*'By Speed'!$S121*Scenario_VMT_1*$N108","v":0},{"$f":"(VLOOKUP($B108,'By Population'!$G$2:$K$14,5,FALSE))*'By Speed'!$T121*Scenario_VMT_1*$N108","v":0},{"$f":"(VLOOKUP($B108,'By Population'!$G$2:$K$14,5,FALSE))*'By Speed'!$U121*Scenario_VMT_1*$N108","v":0},0,{"$f":"(VLOOKUP($B108,'By Population'!$G$2:$K$14,5,FALSE))*'By Speed'!$M121*Scenario_VMT_2*$N108","v":0},{"$f":"(VLOOKUP($B108,'By Population'!$G$2:$K$14,5,FALSE))*'By Speed'!$N121*Scenario_VMT_2*$N108","v":0},{"$f":"(VLOOKUP($B108,'By Population'!$G$2:$K$14,5,FALSE))*'By Speed'!$O121*Scenario_VMT_2*$N108","v":0},{"$f":"(VLOOKUP($B108,'By Population'!$G$2:$K$14,5,FALSE))*'By Speed'!$P121*Scenario_VMT_2*$N108","v":0},{"$f":"(VLOOKUP($B108,'By Population'!$G$2:$K$14,5,FALSE))*'By Speed'!$Q121*Scenario_VMT_2*$N108","v":0},{"$f":"(VLOOKUP($B108,'By Population'!$G$2:$K$14,5,FALSE))*'By Speed'!$R121*Scenario_VMT_2*$N108","v":0},{"$f":"(VLOOKUP($B108,'By Population'!$G$2:$K$14,5,FALSE))*'By Speed'!$S121*Scenario_VMT_2*$N108","v":0},{"$f":"(VLOOKUP($B108,'By Population'!$G$2:$K$14,5,FALSE))*'By Speed'!$T121*Scenario_VMT_2*$N108","v":0},{"$f":"(VLOOKUP($B108,'By Population'!$G$2:$K$14,5,FALSE))*'By Speed'!$U121*Scenario_VMT_2*$N108","v":0},0,{"$f":"(VLOOKUP($B108,'By Population'!$G$2:$K$14,5,FALSE))*'By Speed'!$M121*Scenario_VMT_3*$N108","v":0},{"$f":"(VLOOKUP($B108,'By Population'!$G$2:$K$14,5,FALSE))*'By Speed'!$N121*Scenario_VMT_3*$N108","v":0},{"$f":"(VLOOKUP($B108,'By Population'!$G$2:$K$14,5,FALSE))*'By Speed'!$O121*Scenario_VMT_3*$N108","v":0},{"$f":"(VLOOKUP($B108,'By Population'!$G$2:$K$14,5,FALSE))*'By Speed'!$P121*Scenario_VMT_3*$N108","v":0},{"$f":"(VLOOKUP($B108,'By Population'!$G$2:$K$14,5,FALSE))*'By Speed'!$Q121*Scenario_VMT_3*$N108","v":0},{"$f":"(VLOOKUP($B108,'By Population'!$G$2:$K$14,5,FALSE))*'By Speed'!$R121*Scenario_VMT_3*$N108","v":0},{"$f":"(VLOOKUP($B108,'By Population'!$G$2:$K$14,5,FALSE))*'By Speed'!$S121*Scenario_VMT_3*$N108","v":0},{"$f":"(VLOOKUP($B108,'By Population'!$G$2:$K$14,5,FALSE))*'By Speed'!$T121*Scenario_VMT_3*$N108","v":0},{"$f":"(VLOOKUP($B108,'By Population'!$G$2:$K$14,5,FALSE))*'By Speed'!$U121*Scenario_VMT_3*$N108","v":0},0,{"$f":"(VLOOKUP($B108,'By Population'!$G$2:$K$14,5,FALSE))*'By Speed'!$M121*Scenario_VMT_4*$N108","v":0},{"$f":"(VLOOKUP($B108,'By Population'!$G$2:$K$14,5,FALSE))*'By Speed'!$N121*Scenario_VMT_4*$N108","v":0},{"$f":"(VLOOKUP($B108,'By Population'!$G$2:$K$14,5,FALSE))*'By Speed'!$O121*Scenario_VMT_4*$N108","v":0},{"$f":"(VLOOKUP($B108,'By Population'!$G$2:$K$14,5,FALSE))*'By Speed'!$P121*Scenario_VMT_4*$N108","v":0},{"$f":"(VLOOKUP($B108,'By Population'!$G$2:$K$14,5,FALSE))*'By Speed'!$Q121*Scenario_VMT_4*$N108","v":0},{"$f":"(VLOOKUP($B108,'By Population'!$G$2:$K$14,5,FALSE))*'By Speed'!$R121*Scenario_VMT_4*$N108","v":0},{"$f":"(VLOOKUP($B108,'By Population'!$G$2:$K$14,5,FALSE))*'By Speed'!$S121*Scenario_VMT_4*$N108","v":0},{"$f":"(VLOOKUP($B108,'By Population'!$G$2:$K$14,5,FALSE))*'By Speed'!$T121*Scenario_VMT_4*$N108","v":0},{"$f":"(VLOOKUP($B108,'By Population'!$G$2:$K$14,5,FALSE))*'By Speed'!$U121*Scenario_VMT_4*$N108","v":0},0,{"$f":"(VLOOKUP($B108,'By Population'!$G$2:$K$14,5,FALSE))*'By Speed'!$M121*Scenario_VMT_5*$N108","v":0},{"$f":"(VLOOKUP($B108,'By Population'!$G$2:$K$14,5,FALSE))*'By Speed'!$N121*Scenario_VMT_5*$N108","v":0},{"$f":"(VLOOKUP($B108,'By Population'!$G$2:$K$14,5,FALSE))*'By Speed'!$O121*Scenario_VMT_5*$N108","v":0},{"$f":"(VLOOKUP($B108,'By Population'!$G$2:$K$14,5,FALSE))*'By Speed'!$P121*Scenario_VMT_5*$N108","v":0},{"$f":"(VLOOKUP($B108,'By Population'!$G$2:$K$14,5,FALSE))*'By Speed'!$Q121*Scenario_VMT_5*$N108","v":0},{"$f":"(VLOOKUP($B108,'By Population'!$G$2:$K$14,5,FALSE))*'By Speed'!$R121*Scenario_VMT_5*$N108","v":0},{"$f":"(VLOOKUP($B108,'By Population'!$G$2:$K$14,5,FALSE))*'By Speed'!$S121*Scenario_VMT_5*$N108","v":0},{"$f":"(VLOOKUP($B108,'By Population'!$G$2:$K$14,5,FALSE))*'By Speed'!$T121*Scenario_VMT_5*$N108","v":0},{"$f":"(VLOOKUP($B108,'By Population'!$G$2:$K$14,5,FALSE))*'By Speed'!$U121*Scenario_VMT_5*$N108","v":0},0]
[85,"LHD1_GAS",5,"LHD1_GAS_5",{"$f":"(VLOOKUP($B109,'By Population'!$G$2:$K$14,5,FALSE))*'By Speed'!$M122*Scenario_VMT_EX*$N109","v":0},{"$f":"(VLOOKUP($B109,'By Population'!$G$2:$K$14,5,FALSE))*'By Speed'!$N122*Scenario_VMT_EX*$N109","v":0},{"$f":"(VLOOKUP($B109,'By Population'!$G$2:$K$14,5,FALSE))*'By Speed'!$O122*Scenario_VMT_EX*$N109","v":0},{"$f":"(VLOOKUP($B109,'By Population'!$G$2:$K$14,5,FALSE))*'By Speed'!$P122*Scenario_VMT_EX*$N109","v":0},{"$f":"(VLOOKUP($B109,'By Population'!$G$2:$K$14,5,FALSE))*'By Speed'!$Q122*Scenario_VMT_EX*$N109","v":0},{"$f":"(VLOOKUP($B109,'By Population'!$G$2:$K$14,5,FALSE))*'By Speed'!$R122*Scenario_VMT_EX*$N109","v":0},{"$f":"(VLOOKUP($B109,'By Population'!$G$2:$K$14,5,FALSE))*'By Speed'!$S122*Scenario_VMT_EX*$N109","v":0},{"$f":"(VLOOKUP($B109,'By Population'!$G$2:$K$14,5,FALSE))*'By Speed'!$T122*Scenario_VMT_EX*$N109","v":0},{"$f":"(VLOOKUP($B109,'By Population'!$G$2:$K$14,5,FALSE))*'By Speed'!$U122*Scenario_VMT_EX*$N109","v":0},0,{"$f":"(VLOOKUP($B109,'By Population'!$G$2:$K$14,5,FALSE))*'By Speed'!$M122*Scenario_VMT_1*$N109","v":0},{"$f":"(VLOOKUP($B109,'By Population'!$G$2:$K$14,5,FALSE))*'By Speed'!$N122*Scenario_VMT_1*$N109","v":0},{"$f":"(VLOOKUP($B109,'By Population'!$G$2:$K$14,5,FALSE))*'By Speed'!$O122*Scenario_VMT_1*$N109","v":0},{"$f":"(VLOOKUP($B109,'By Population'!$G$2:$K$14,5,FALSE))*'By Speed'!$P122*Scenario_VMT_1*$N109","v":0},{"$f":"(VLOOKUP($B109,'By Population'!$G$2:$K$14,5,FALSE))*'By Speed'!$Q122*Scenario_VMT_1*$N109","v":0},{"$f":"(VLOOKUP($B109,'By Population'!$G$2:$K$14,5,FALSE))*'By Speed'!$R122*Scenario_VMT_1*$N109","v":0},{"$f":"(VLOOKUP($B109,'By Population'!$G$2:$K$14,5,FALSE))*'By Speed'!$S122*Scenario_VMT_1*$N109","v":0},{"$f":"(VLOOKUP($B109,'By Population'!$G$2:$K$14,5,FALSE))*'By Speed'!$T122*Scenario_VMT_1*$N109","v":0},{"$f":"(VLOOKUP($B109,'By Population'!$G$2:$K$14,5,FALSE))*'By Speed'!$U122*Scenario_VMT_1*$N109","v":0},0,{"$f":"(VLOOKUP($B109,'By Population'!$G$2:$K$14,5,FALSE))*'By Speed'!$M122*Scenario_VMT_2*$N109","v":0},{"$f":"(VLOOKUP($B109,'By Population'!$G$2:$K$14,5,FALSE))*'By Speed'!$N122*Scenario_VMT_2*$N109","v":0},{"$f":"(VLOOKUP($B109,'By Population'!$G$2:$K$14,5,FALSE))*'By Speed'!$O122*Scenario_VMT_2*$N109","v":0},{"$f":"(VLOOKUP($B109,'By Population'!$G$2:$K$14,5,FALSE))*'By Speed'!$P122*Scenario_VMT_2*$N109","v":0},{"$f":"(VLOOKUP($B109,'By Population'!$G$2:$K$14,5,FALSE))*'By Speed'!$Q122*Scenario_VMT_2*$N109","v":0},{"$f":"(VLOOKUP($B109,'By Population'!$G$2:$K$14,5,FALSE))*'By Speed'!$R122*Scenario_VMT_2*$N109","v":0},{"$f":"(VLOOKUP($B109,'By Population'!$G$2:$K$14,5,FALSE))*'By Speed'!$S122*Scenario_VMT_2*$N109","v":0},{"$f":"(VLOOKUP($B109,'By Population'!$G$2:$K$14,5,FALSE))*'By Speed'!$T122*Scenario_VMT_2*$N109","v":0},{"$f":"(VLOOKUP($B109,'By Population'!$G$2:$K$14,5,FALSE))*'By Speed'!$U122*Scenario_VMT_2*$N109","v":0},0,{"$f":"(VLOOKUP($B109,'By Population'!$G$2:$K$14,5,FALSE))*'By Speed'!$M122*Scenario_VMT_3*$N109","v":0},{"$f":"(VLOOKUP($B109,'By Population'!$G$2:$K$14,5,FALSE))*'By Speed'!$N122*Scenario_VMT_3*$N109","v":0},{"$f":"(VLOOKUP($B109,'By Population'!$G$2:$K$14,5,FALSE))*'By Speed'!$O122*Scenario_VMT_3*$N109","v":0},{"$f":"(VLOOKUP($B109,'By Population'!$G$2:$K$14,5,FALSE))*'By Speed'!$P122*Scenario_VMT_3*$N109","v":0},{"$f":"(VLOOKUP($B109,'By Population'!$G$2:$K$14,5,FALSE))*'By Speed'!$Q122*Scenario_VMT_3*$N109","v":0},{"$f":"(VLOOKUP($B109,'By Population'!$G$2:$K$14,5,FALSE))*'By Speed'!$R122*Scenario_VMT_3*$N109","v":0},{"$f":"(VLOOKUP($B109,'By Population'!$G$2:$K$14,5,FALSE))*'By Speed'!$S122*Scenario_VMT_3*$N109","v":0},{"$f":"(VLOOKUP($B109,'By Population'!$G$2:$K$14,5,FALSE))*'By Speed'!$T122*Scenario_VMT_3*$N109","v":0},{"$f":"(VLOOKUP($B109,'By Population'!$G$2:$K$14,5,FALSE))*'By Speed'!$U122*Scenario_VMT_3*$N109","v":0},0,{"$f":"(VLOOKUP($B109,'By Population'!$G$2:$K$14,5,FALSE))*'By Speed'!$M122*Scenario_VMT_4*$N109","v":0},{"$f":"(VLOOKUP($B109,'By Population'!$G$2:$K$14,5,FALSE))*'By Speed'!$N122*Scenario_VMT_4*$N109","v":0},{"$f":"(VLOOKUP($B109,'By Population'!$G$2:$K$14,5,FALSE))*'By Speed'!$O122*Scenario_VMT_4*$N109","v":0},{"$f":"(VLOOKUP($B109,'By Population'!$G$2:$K$14,5,FALSE))*'By Speed'!$P122*Scenario_VMT_4*$N109","v":0},{"$f":"(VLOOKUP($B109,'By Population'!$G$2:$K$14,5,FALSE))*'By Speed'!$Q122*Scenario_VMT_4*$N109","v":0},{"$f":"(VLOOKUP($B109,'By Population'!$G$2:$K$14,5,FALSE))*'By Speed'!$R122*Scenario_VMT_4*$N109","v":0},{"$f":"(VLOOKUP($B109,'By Population'!$G$2:$K$14,5,FALSE))*'By Speed'!$S122*Scenario_VMT_4*$N109","v":0},{"$f":"(VLOOKUP($B109,'By Population'!$G$2:$K$14,5,FALSE))*'By Speed'!$T122*Scenario_VMT_4*$N109","v":0},{"$f":"(VLOOKUP($B109,'By Population'!$G$2:$K$14,5,FALSE))*'By Speed'!$U122*Scenario_VMT_4*$N109","v":0},0,{"$f":"(VLOOKUP($B109,'By Population'!$G$2:$K$14,5,FALSE))*'By Speed'!$M122*Scenario_VMT_5*$N109","v":0},{"$f":"(VLOOKUP($B109,'By Population'!$G$2:$K$14,5,FALSE))*'By Speed'!$N122*Scenario_VMT_5*$N109","v":0},{"$f":"(VLOOKUP($B109,'By Population'!$G$2:$K$14,5,FALSE))*'By Speed'!$O122*Scenario_VMT_5*$N109","v":0},{"$f":"(VLOOKUP($B109,'By Population'!$G$2:$K$14,5,FALSE))*'By Speed'!$P122*Scenario_VMT_5*$N109","v":0},{"$f":"(VLOOKUP($B109,'By Population'!$G$2:$K$14,5,FALSE))*'By Speed'!$Q122*Scenario_VMT_5*$N109","v":0},{"$f":"(VLOOKUP($B109,'By Population'!$G$2:$K$14,5,FALSE))*'By Speed'!$R122*Scenario_VMT_5*$N109","v":0},{"$f":"(VLOOKUP($B109,'By Population'!$G$2:$K$14,5,FALSE))*'By Speed'!$S122*Scenario_VMT_5*$N109","v":0},{"$f":"(VLOOKUP($B109,'By Population'!$G$2:$K$14,5,FALSE))*'By Speed'!$T122*Scenario_VMT_5*$N109","v":0},{"$f":"(VLOOKUP($B109,'By Population'!$G$2:$K$14,5,FALSE))*'By Speed'!$U122*Scenario_VMT_5*$N109","v":0},0]
[103,"LHD1_GAS",50,"LHD1_GAS_50",{"$f":"(VLOOKUP($B110,'By Population'!$G$2:$K$14,5,FALSE))*'By Speed'!$M123*Scenario_VMT_EX*$N110","v":0},{"$f":"(VLOOKUP($B110,'By Population'!$G$2:$K$14,5,FALSE))*'By Speed'!$N123*Scenario_VMT_EX*$N110","v":0},{"$f":"(VLOOKUP($B110,'By Population'!$G$2:$K$14,5,FALSE))*'By Speed'!$O123*Scenario_VMT_EX*$N110","v":0},{"$f":"(VLOOKUP($B110,'By Population'!$G$2:$K$14,5,FALSE))*'By Speed'!$P123*Scenario_VMT_EX*$N110","v":0},{"$f":"(VLOOKUP($B110,'By Population'!$G$2:$K$14,5,FALSE))*'By Speed'!$Q123*Scenario_VMT_EX*$N110","v":0},{"$f":"(VLOOKUP($B110,'By Population'!$G$2:$K$14,5,FALSE))*'By Speed'!$R123*Scenario_VMT_EX*$N110","v":0},{"$f":"(VLOOKUP($B110,'By Population'!$G$2:$K$14,5,FALSE))*'By Speed'!$S123*Scenario_VMT_EX*$N110","v":0},{"$f":"(VLOOKUP($B110,'By Population'!$G$2:$K$14,5,FALSE))*'By Speed'!$T123*Scenario_VMT_EX*$N110","v":0},{"$f":"(VLOOKUP($B110,'By Population'!$G$2:$K$14,5,FALSE))*'By Speed'!$U123*Scenario_VMT_EX*$N110","v":0},0,{"$f":"(VLOOKUP($B110,'By Population'!$G$2:$K$14,5,FALSE))*'By Speed'!$M123*Scenario_VMT_1*$N110","v":0},{"$f":"(VLOOKUP($B110,'By Population'!$G$2:$K$14,5,FALSE))*'By Speed'!$N123*Scenario_VMT_1*$N110","v":0},{"$f":"(VLOOKUP($B110,'By Population'!$G$2:$K$14,5,FALSE))*'By Speed'!$O123*Scenario_VMT_1*$N110","v":0},{"$f":"(VLOOKUP($B110,'By Population'!$G$2:$K$14,5,FALSE))*'By Speed'!$P123*Scenario_VMT_1*$N110","v":0},{"$f":"(VLOOKUP($B110,'By Population'!$G$2:$K$14,5,FALSE))*'By Speed'!$Q123*Scenario_VMT_1*$N110","v":0},{"$f":"(VLOOKUP($B110,'By Population'!$G$2:$K$14,5,FALSE))*'By Speed'!$R123*Scenario_VMT_1*$N110","v":0},{"$f":"(VLOOKUP($B110,'By Population'!$G$2:$K$14,5,FALSE))*'By Speed'!$S123*Scenario_VMT_1*$N110","v":0},{"$f":"(VLOOKUP($B110,'By Population'!$G$2:$K$14,5,FALSE))*'By Speed'!$T123*Scenario_VMT_1*$N110","v":0},{"$f":"(VLOOKUP($B110,'By Population'!$G$2:$K$14,5,FALSE))*'By Speed'!$U123*Scenario_VMT_1*$N110","v":0},0,{"$f":"(VLOOKUP($B110,'By Population'!$G$2:$K$14,5,FALSE))*'By Speed'!$M123*Scenario_VMT_2*$N110","v":0},{"$f":"(VLOOKUP($B110,'By Population'!$G$2:$K$14,5,FALSE))*'By Speed'!$N123*Scenario_VMT_2*$N110","v":0},{"$f":"(VLOOKUP($B110,'By Population'!$G$2:$K$14,5,FALSE))*'By Speed'!$O123*Scenario_VMT_2*$N110","v":0},{"$f":"(VLOOKUP($B110,'By Population'!$G$2:$K$14,5,FALSE))*'By Speed'!$P123*Scenario_VMT_2*$N110","v":0},{"$f":"(VLOOKUP($B110,'By Population'!$G$2:$K$14,5,FALSE))*'By Speed'!$Q123*Scenario_VMT_2*$N110","v":0},{"$f":"(VLOOKUP($B110,'By Population'!$G$2:$K$14,5,FALSE))*'By Speed'!$R123*Scenario_VMT_2*$N110","v":0},{"$f":"(VLOOKUP($B110,'By Population'!$G$2:$K$14,5,FALSE))*'By Speed'!$S123*Scenario_VMT_2*$N110","v":0},{"$f":"(VLOOKUP($B110,'By Population'!$G$2:$K$14,5,FALSE))*'By Speed'!$T123*Scenario_VMT_2*$N110","v":0},{"$f":"(VLOOKUP($B110,'By Population'!$G$2:$K$14,5,FALSE))*'By Speed'!$U123*Scenario_VMT_2*$N110","v":0},0,{"$f":"(VLOOKUP($B110,'By Population'!$G$2:$K$14,5,FALSE))*'By Speed'!$M123*Scenario_VMT_3*$N110","v":0},{"$f":"(VLOOKUP($B110,'By Population'!$G$2:$K$14,5,FALSE))*'By Speed'!$N123*Scenario_VMT_3*$N110","v":0},{"$f":"(VLOOKUP($B110,'By Population'!$G$2:$K$14,5,FALSE))*'By Speed'!$O123*Scenario_VMT_3*$N110","v":0},{"$f":"(VLOOKUP($B110,'By Population'!$G$2:$K$14,5,FALSE))*'By Speed'!$P123*Scenario_VMT_3*$N110","v":0},{"$f":"(VLOOKUP($B110,'By Population'!$G$2:$K$14,5,FALSE))*'By Speed'!$Q123*Scenario_VMT_3*$N110","v":0},{"$f":"(VLOOKUP($B110,'By Population'!$G$2:$K$14,5,FALSE))*'By Speed'!$R123*Scenario_VMT_3*$N110","v":0},{"$f":"(VLOOKUP($B110,'By Population'!$G$2:$K$14,5,FALSE))*'By Speed'!$S123*Scenario_VMT_3*$N110","v":0},{"$f":"(VLOOKUP($B110,'By Population'!$G$2:$K$14,5,FALSE))*'By Speed'!$T123*Scenario_VMT_3*$N110","v":0},{"$f":"(VLOOKUP($B110,'By Population'!$G$2:$K$14,5,FALSE))*'By Speed'!$U123*Scenario_VMT_3*$N110","v":0},0,{"$f":"(VLOOKUP($B110,'By Population'!$G$2:$K$14,5,FALSE))*'By Speed'!$M123*Scenario_VMT_4*$N110","v":0},{"$f":"(VLOOKUP($B110,'By Population'!$G$2:$K$14,5,FALSE))*'By Speed'!$N123*Scenario_VMT_4*$N110","v":0},{"$f":"(VLOOKUP($B110,'By Population'!$G$2:$K$14,5,FALSE))*'By Speed'!$O123*Scenario_VMT_4*$N110","v":0},{"$f":"(VLOOKUP($B110,'By Population'!$G$2:$K$14,5,FALSE))*'By Speed'!$P123*Scenario_VMT_4*$N110","v":0},{"$f":"(VLOOKUP($B110,'By Population'!$G$2:$K$14,5,FALSE))*'By Speed'!$Q123*Scenario_VMT_4*$N110","v":0},{"$f":"(VLOOKUP($B110,'By Population'!$G$2:$K$14,5,FALSE))*'By Speed'!$R123*Scenario_VMT_4*$N110","v":0},{"$f":"(VLOOKUP($B110,'By Population'!$G$2:$K$14,5,FALSE))*'By Speed'!$S123*Scenario_VMT_4*$N110","v":0},{"$f":"(VLOOKUP($B110,'By Population'!$G$2:$K$14,5,FALSE))*'By Speed'!$T123*Scenario_VMT_4*$N110","v":0},{"$f":"(VLOOKUP($B110,'By Population'!$G$2:$K$14,5,FALSE))*'By Speed'!$U123*Scenario_VMT_4*$N110","v":0},0,{"$f":"(VLOOKUP($B110,'By Population'!$G$2:$K$14,5,FALSE))*'By Speed'!$M123*Scenario_VMT_5*$N110","v":0},{"$f":"(VLOOKUP($B110,'By Population'!$G$2:$K$14,5,FALSE))*'By Speed'!$N123*Scenario_VMT_5*$N110","v":0},{"$f":"(VLOOKUP($B110,'By Population'!$G$2:$K$14,5,FALSE))*'By Speed'!$O123*Scenario_VMT_5*$N110","v":0},{"$f":"(VLOOKUP($B110,'By Population'!$G$2:$K$14,5,FALSE))*'By Speed'!$P123*Scenario_VMT_5*$N110","v":0},{"$f":"(VLOOKUP($B110,'By Population'!$G$2:$K$14,5,FALSE))*'By Speed'!$Q123*Scenario_VMT_5*$N110","v":0},{"$f":"(VLOOKUP($B110,'By Population'!$G$2:$K$14,5,FALSE))*'By Speed'!$R123*Scenario_VMT_5*$N110","v":0},{"$f":"(VLOOKUP($B110,'By Population'!$G$2:$K$14,5,FALSE))*'By Speed'!$S123*Scenario_VMT_5*$N110","v":0},{"$f":"(VLOOKUP($B110,'By Population'!$G$2:$K$14,5,FALSE))*'By Speed'!$T123*Scenario_VMT_5*$N110","v":0},{"$f":"(VLOOKUP($B110,'By Population'!$G$2:$K$14,5,FALSE))*'By Speed'!$U123*Scenario_VMT_5*$N110","v":0},0]
[105,"LHD1_GAS",55,"LHD1_GAS_55",{"$f":"(VLOOKUP($B111,'By Population'!$G$2:$K$14,5,FALSE))*'By Speed'!$M124*Scenario_VMT_EX*$N111","v":0},{"$f":"(VLOOKUP($B111,'By Population'!$G$2:$K$14,5,FALSE))*'By Speed'!$N124*Scenario_VMT_EX*$N111","v":0},{"$f":"(VLOOKUP($B111,'By Population'!$G$2:$K$14,5,FALSE))*'By Speed'!$O124*Scenario_VMT_EX*$N111","v":0},{"$f":"(VLOOKUP($B111,'By Population'!$G$2:$K$14,5,FALSE))*'By Speed'!$P124*Scenario_VMT_EX*$N111","v":0},{"$f":"(VLOOKUP($B111,'By Population'!$G$2:$K$14,5,FALSE))*'By Speed'!$Q124*Scenario_VMT_EX*$N111","v":0},{"$f":"(VLOOKUP($B111,'By Population'!$G$2:$K$14,5,FALSE))*'By Speed'!$R124*Scenario_VMT_EX*$N111","v":0},{"$f":"(VLOOKUP($B111,'By Population'!$G$2:$K$14,5,FALSE))*'By Speed'!$S124*Scenario_VMT_EX*$N111","v":0},{"$f":"(VLOOKUP($B111,'By Population'!$G$2:$K$14,5,FALSE))*'By Speed'!$T124*Scenario_VMT_EX*$N111","v":0},{"$f":"(VLOOKUP($B111,'By Population'!$G$2:$K$14,5,FALSE))*'By Speed'!$U124*Scenario_VMT_EX*$N111","v":0},0,{"$f":"(VLOOKUP($B111,'By Population'!$G$2:$K$14,5,FALSE))*'By Speed'!$M124*Scenario_VMT_1*$N111","v":0},{"$f":"(VLOOKUP($B111,'By Population'!$G$2:$K$14,5,FALSE))*'By Speed'!$N124*Scenario_VMT_1*$N111","v":0},{"$f":"(VLOOKUP($B111,'By Population'!$G$2:$K$14,5,FALSE))*'By Speed'!$O124*Scenario_VMT_1*$N111","v":0},{"$f":"(VLOOKUP($B111,'By Population'!$G$2:$K$14,5,FALSE))*'By Speed'!$P124*Scenario_VMT_1*$N111","v":0},{"$f":"(VLOOKUP($B111,'By Population'!$G$2:$K$14,5,FALSE))*'By Speed'!$Q124*Scenario_VMT_1*$N111","v":0},{"$f":"(VLOOKUP($B111,'By Population'!$G$2:$K$14,5,FALSE))*'By Speed'!$R124*Scenario_VMT_1*$N111","v":0},{"$f":"(VLOOKUP($B111,'By Population'!$G$2:$K$14,5,FALSE))*'By Speed'!$S124*Scenario_VMT_1*$N111","v":0},{"$f":"(VLOOKUP($B111,'By Population'!$G$2:$K$14,5,FALSE))*'By Speed'!$T124*Scenario_VMT_1*$N111","v":0},{"$f":"(VLOOKUP($B111,'By Population'!$G$2:$K$14,5,FALSE))*'By Speed'!$U124*Scenario_VMT_1*$N111","v":0},0,{"$f":"(VLOOKUP($B111,'By Population'!$G$2:$K$14,5,FALSE))*'By Speed'!$M124*Scenario_VMT_2*$N111","v":0},{"$f":"(VLOOKUP($B111,'By Population'!$G$2:$K$14,5,FALSE))*'By Speed'!$N124*Scenario_VMT_2*$N111","v":0},{"$f":"(VLOOKUP($B111,'By Population'!$G$2:$K$14,5,FALSE))*'By Speed'!$O124*Scenario_VMT_2*$N111","v":0},{"$f":"(VLOOKUP($B111,'By Population'!$G$2:$K$14,5,FALSE))*'By Speed'!$P124*Scenario_VMT_2*$N111","v":0},{"$f":"(VLOOKUP($B111,'By Population'!$G$2:$K$14,5,FALSE))*'By Speed'!$Q124*Scenario_VMT_2*$N111","v":0},{"$f":"(VLOOKUP($B111,'By Population'!$G$2:$K$14,5,FALSE))*'By Speed'!$R124*Scenario_VMT_2*$N111","v":0},{"$f":"(VLOOKUP($B111,'By Population'!$G$2:$K$14,5,FALSE))*'By Speed'!$S124*Scenario_VMT_2*$N111","v":0},{"$f":"(VLOOKUP($B111,'By Population'!$G$2:$K$14,5,FALSE))*'By Speed'!$T124*Scenario_VMT_2*$N111","v":0},{"$f":"(VLOOKUP($B111,'By Population'!$G$2:$K$14,5,FALSE))*'By Speed'!$U124*Scenario_VMT_2*$N111","v":0},0,{"$f":"(VLOOKUP($B111,'By Population'!$G$2:$K$14,5,FALSE))*'By Speed'!$M124*Scenario_VMT_3*$N111","v":0},{"$f":"(VLOOKUP($B111,'By Population'!$G$2:$K$14,5,FALSE))*'By Speed'!$N124*Scenario_VMT_3*$N111","v":0},{"$f":"(VLOOKUP($B111,'By Population'!$G$2:$K$14,5,FALSE))*'By Speed'!$O124*Scenario_VMT_3*$N111","v":0},{"$f":"(VLOOKUP($B111,'By Population'!$G$2:$K$14,5,FALSE))*'By Speed'!$P124*Scenario_VMT_3*$N111","v":0},{"$f":"(VLOOKUP($B111,'By Population'!$G$2:$K$14,5,FALSE))*'By Speed'!$Q124*Scenario_VMT_3*$N111","v":0},{"$f":"(VLOOKUP($B111,'By Population'!$G$2:$K$14,5,FALSE))*'By Speed'!$R124*Scenario_VMT_3*$N111","v":0},{"$f":"(VLOOKUP($B111,'By Population'!$G$2:$K$14,5,FALSE))*'By Speed'!$S124*Scenario_VMT_3*$N111","v":0},{"$f":"(VLOOKUP($B111,'By Population'!$G$2:$K$14,5,FALSE))*'By Speed'!$T124*Scenario_VMT_3*$N111","v":0},{"$f":"(VLOOKUP($B111,'By Population'!$G$2:$K$14,5,FALSE))*'By Speed'!$U124*Scenario_VMT_3*$N111","v":0},0,{"$f":"(VLOOKUP($B111,'By Population'!$G$2:$K$14,5,FALSE))*'By Speed'!$M124*Scenario_VMT_4*$N111","v":0},{"$f":"(VLOOKUP($B111,'By Population'!$G$2:$K$14,5,FALSE))*'By Speed'!$N124*Scenario_VMT_4*$N111","v":0},{"$f":"(VLOOKUP($B111,'By Population'!$G$2:$K$14,5,FALSE))*'By Speed'!$O124*Scenario_VMT_4*$N111","v":0},{"$f":"(VLOOKUP($B111,'By Population'!$G$2:$K$14,5,FALSE))*'By Speed'!$P124*Scenario_VMT_4*$N111","v":0},{"$f":"(VLOOKUP($B111,'By Population'!$G$2:$K$14,5,FALSE))*'By Speed'!$Q124*Scenario_VMT_4*$N111","v":0},{"$f":"(VLOOKUP($B111,'By Population'!$G$2:$K$14,5,FALSE))*'By Speed'!$R124*Scenario_VMT_4*$N111","v":0},{"$f":"(VLOOKUP($B111,'By Population'!$G$2:$K$14,5,FALSE))*'By Speed'!$S124*Scenario_VMT_4*$N111","v":0},{"$f":"(VLOOKUP($B111,'By Population'!$G$2:$K$14,5,FALSE))*'By Speed'!$T124*Scenario_VMT_4*$N111","v":0},{"$f":"(VLOOKUP($B111,'By Population'!$G$2:$K$14,5,FALSE))*'By Speed'!$U124*Scenario_VMT_4*$N111","v":0},0,{"$f":"(VLOOKUP($B111,'By Population'!$G$2:$K$14,5,FALSE))*'By Speed'!$M124*Scenario_VMT_5*$N111","v":0},{"$f":"(VLOOKUP($B111,'By Population'!$G$2:$K$14,5,FALSE))*'By Speed'!$N124*Scenario_VMT_5*$N111","v":0},{"$f":"(VLOOKUP($B111,'By Population'!$G$2:$K$14,5,FALSE))*'By Speed'!$O124*Scenario_VMT_5*$N111","v":0},{"$f":"(VLOOKUP($B111,'By Population'!$G$2:$K$14,5,FALSE))*'By Speed'!$P124*Scenario_VMT_5*$N111","v":0},{"$f":"(VLOOKUP($B111,'By Population'!$G$2:$K$14,5,FALSE))*'By Speed'!$Q124*Scenario_VMT_5*$N111","v":0},{"$f":"(VLOOKUP($B111,'By Population'!$G$2:$K$14,5,FALSE))*'By Speed'!$R124*Scenario_VMT_5*$N111","v":0},{"$f":"(VLOOKUP($B111,'By Population'!$G$2:$K$14,5,FALSE))*'By Speed'!$S124*Scenario_VMT_5*$N111","v":0},{"$f":"(VLOOKUP($B111,'By Population'!$G$2:$K$14,5,FALSE))*'By Speed'!$T124*Scenario_VMT_5*$N111","v":0},{"$f":"(VLOOKUP($B111,'By Population'!$G$2:$K$14,5,FALSE))*'By Speed'!$U124*Scenario_VMT_5*$N111","v":0},0]
[107,"LHD1_GAS",60,"LHD1_GAS_60",{"$f":"(VLOOKUP($B112,'By Population'!$G$2:$K$14,5,FALSE))*'By Speed'!$M125*Scenario_VMT_EX*$N112","v":0},{"$f":"(VLOOKUP($B112,'By Population'!$G$2:$K$14,5,FALSE))*'By Speed'!$N125*Scenario_VMT_EX*$N112","v":0},{"$f":"(VLOOKUP($B112,'By Population'!$G$2:$K$14,5,FALSE))*'By Speed'!$O125*Scenario_VMT_EX*$N112","v":0},{"$f":"(VLOOKUP($B112,'By Population'!$G$2:$K$14,5,FALSE))*'By Speed'!$P125*Scenario_VMT_EX*$N112","v":0},{"$f":"(VLOOKUP($B112,'By Population'!$G$2:$K$14,5,FALSE))*'By Speed'!$Q125*Scenario_VMT_EX*$N112","v":0},{"$f":"(VLOOKUP($B112,'By Population'!$G$2:$K$14,5,FALSE))*'By Speed'!$R125*Scenario_VMT_EX*$N112","v":0},{"$f":"(VLOOKUP($B112,'By Population'!$G$2:$K$14,5,FALSE))*'By Speed'!$S125*Scenario_VMT_EX*$N112","v":0},{"$f":"(VLOOKUP($B112,'By Population'!$G$2:$K$14,5,FALSE))*'By Speed'!$T125*Scenario_VMT_EX*$N112","v":0},{"$f":"(VLOOKUP($B112,'By Population'!$G$2:$K$14,5,FALSE))*'By Speed'!$U125*Scenario_VMT_EX*$N112","v":0},0,{"$f":"(VLOOKUP($B112,'By Population'!$G$2:$K$14,5,FALSE))*'By Speed'!$M125*Scenario_VMT_1*$N112","v":0},{"$f":"(VLOOKUP($B112,'By Population'!$G$2:$K$14,5,FALSE))*'By Speed'!$N125*Scenario_VMT_1*$N112","v":0},{"$f":"(VLOOKUP($B112,'By Population'!$G$2:$K$14,5,FALSE))*'By Speed'!$O125*Scenario_VMT_1*$N112","v":0},{"$f":"(VLOOKUP($B112,'By Population'!$G$2:$K$14,5,FALSE))*'By Speed'!$P125*Scenario_VMT_1*$N112","v":0},{"$f":"(VLOOKUP($B112,'By Population'!$G$2:$K$14,5,FALSE))*'By Speed'!$Q125*Scenario_VMT_1*$N112","v":0},{"$f":"(VLOOKUP($B112,'By Population'!$G$2:$K$14,5,FALSE))*'By Speed'!$R125*Scenario_VMT_1*$N112","v":0},{"$f":"(VLOOKUP($B112,'By Population'!$G$2:$K$14,5,FALSE))*'By Speed'!$S125*Scenario_VMT_1*$N112","v":0},{"$f":"(VLOOKUP($B112,'By Population'!$G$2:$K$14,5,FALSE))*'By Speed'!$T125*Scenario_VMT_1*$N112","v":0},{"$f":"(VLOOKUP($B112,'By Population'!$G$2:$K$14,5,FALSE))*'By Speed'!$U125*Scenario_VMT_1*$N112","v":0},0,{"$f":"(VLOOKUP($B112,'By Population'!$G$2:$K$14,5,FALSE))*'By Speed'!$M125*Scenario_VMT_2*$N112","v":0},{"$f":"(VLOOKUP($B112,'By Population'!$G$2:$K$14,5,FALSE))*'By Speed'!$N125*Scenario_VMT_2*$N112","v":0},{"$f":"(VLOOKUP($B112,'By Population'!$G$2:$K$14,5,FALSE))*'By Speed'!$O125*Scenario_VMT_2*$N112","v":0},{"$f":"(VLOOKUP($B112,'By Population'!$G$2:$K$14,5,FALSE))*'By Speed'!$P125*Scenario_VMT_2*$N112","v":0},{"$f":"(VLOOKUP($B112,'By Population'!$G$2:$K$14,5,FALSE))*'By Speed'!$Q125*Scenario_VMT_2*$N112","v":0},{"$f":"(VLOOKUP($B112,'By Population'!$G$2:$K$14,5,FALSE))*'By Speed'!$R125*Scenario_VMT_2*$N112","v":0},{"$f":"(VLOOKUP($B112,'By Population'!$G$2:$K$14,5,FALSE))*'By Speed'!$S125*Scenario_VMT_2*$N112","v":0},{"$f":"(VLOOKUP($B112,'By Population'!$G$2:$K$14,5,FALSE))*'By Speed'!$T125*Scenario_VMT_2*$N112","v":0},{"$f":"(VLOOKUP($B112,'By Population'!$G$2:$K$14,5,FALSE))*'By Speed'!$U125*Scenario_VMT_2*$N112","v":0},0,{"$f":"(VLOOKUP($B112,'By Population'!$G$2:$K$14,5,FALSE))*'By Speed'!$M125*Scenario_VMT_3*$N112","v":0},{"$f":"(VLOOKUP($B112,'By Population'!$G$2:$K$14,5,FALSE))*'By Speed'!$N125*Scenario_VMT_3*$N112","v":0},{"$f":"(VLOOKUP($B112,'By Population'!$G$2:$K$14,5,FALSE))*'By Speed'!$O125*Scenario_VMT_3*$N112","v":0},{"$f":"(VLOOKUP($B112,'By Population'!$G$2:$K$14,5,FALSE))*'By Speed'!$P125*Scenario_VMT_3*$N112","v":0},{"$f":"(VLOOKUP($B112,'By Population'!$G$2:$K$14,5,FALSE))*'By Speed'!$Q125*Scenario_VMT_3*$N112","v":0},{"$f":"(VLOOKUP($B112,'By Population'!$G$2:$K$14,5,FALSE))*'By Speed'!$R125*Scenario_VMT_3*$N112","v":0},{"$f":"(VLOOKUP($B112,'By Population'!$G$2:$K$14,5,FALSE))*'By Speed'!$S125*Scenario_VMT_3*$N112","v":0},{"$f":"(VLOOKUP($B112,'By Population'!$G$2:$K$14,5,FALSE))*'By Speed'!$T125*Scenario_VMT_3*$N112","v":0},{"$f":"(VLOOKUP($B112,'By Population'!$G$2:$K$14,5,FALSE))*'By Speed'!$U125*Scenario_VMT_3*$N112","v":0},0,{"$f":"(VLOOKUP($B112,'By Population'!$G$2:$K$14,5,FALSE))*'By Speed'!$M125*Scenario_VMT_4*$N112","v":0},{"$f":"(VLOOKUP($B112,'By Population'!$G$2:$K$14,5,FALSE))*'By Speed'!$N125*Scenario_VMT_4*$N112","v":0},{"$f":"(VLOOKUP($B112,'By Population'!$G$2:$K$14,5,FALSE))*'By Speed'!$O125*Scenario_VMT_4*$N112","v":0},{"$f":"(VLOOKUP($B112,'By Population'!$G$2:$K$14,5,FALSE))*'By Speed'!$P125*Scenario_VMT_4*$N112","v":0},{"$f":"(VLOOKUP($B112,'By Population'!$G$2:$K$14,5,FALSE))*'By Speed'!$Q125*Scenario_VMT_4*$N112","v":0},{"$f":"(VLOOKUP($B112,'By Population'!$G$2:$K$14,5,FALSE))*'By Speed'!$R125*Scenario_VMT_4*$N112","v":0},{"$f":"(VLOOKUP($B112,'By Population'!$G$2:$K$14,5,FALSE))*'By Speed'!$S125*Scenario_VMT_4*$N112","v":0},{"$f":"(VLOOKUP($B112,'By Population'!$G$2:$K$14,5,FALSE))*'By Speed'!$T125*Scenario_VMT_4*$N112","v":0},{"$f":"(VLOOKUP($B112,'By Population'!$G$2:$K$14,5,FALSE))*'By Speed'!$U125*Scenario_VMT_4*$N112","v":0},0,{"$f":"(VLOOKUP($B112,'By Population'!$G$2:$K$14,5,FALSE))*'By Speed'!$M125*Scenario_VMT_5*$N112","v":0},{"$f":"(VLOOKUP($B112,'By Population'!$G$2:$K$14,5,FALSE))*'By Speed'!$N125*Scenario_VMT_5*$N112","v":0},{"$f":"(VLOOKUP($B112,'By Population'!$G$2:$K$14,5,FALSE))*'By Speed'!$O125*Scenario_VMT_5*$N112","v":0},{"$f":"(VLOOKUP($B112,'By Population'!$G$2:$K$14,5,FALSE))*'By Speed'!$P125*Scenario_VMT_5*$N112","v":0},{"$f":"(VLOOKUP($B112,'By Population'!$G$2:$K$14,5,FALSE))*'By Speed'!$Q125*Scenario_VMT_5*$N112","v":0},{"$f":"(VLOOKUP($B112,'By Population'!$G$2:$K$14,5,FALSE))*'By Speed'!$R125*Scenario_VMT_5*$N112","v":0},{"$f":"(VLOOKUP($B112,'By Population'!$G$2:$K$14,5,FALSE))*'By Speed'!$S125*Scenario_VMT_5*$N112","v":0},{"$f":"(VLOOKUP($B112,'By Population'!$G$2:$K$14,5,FALSE))*'By Speed'!$T125*Scenario_VMT_5*$N112","v":0},{"$f":"(VLOOKUP($B112,'By Population'!$G$2:$K$14,5,FALSE))*'By Speed'!$U125*Scenario_VMT_5*$N112","v":0},0]
[109,"LHD1_GAS",65,"LHD1_GAS_65",{"$f":"(VLOOKUP($B113,'By Population'!$G$2:$K$14,5,FALSE))*'By Speed'!$M126*Scenario_VMT_EX*$N113","v":0},{"$f":"(VLOOKUP($B113,'By Population'!$G$2:$K$14,5,FALSE))*'By Speed'!$N126*Scenario_VMT_EX*$N113","v":0},{"$f":"(VLOOKUP($B113,'By Population'!$G$2:$K$14,5,FALSE))*'By Speed'!$O126*Scenario_VMT_EX*$N113","v":0},{"$f":"(VLOOKUP($B113,'By Population'!$G$2:$K$14,5,FALSE))*'By Speed'!$P126*Scenario_VMT_EX*$N113","v":0},{"$f":"(VLOOKUP($B113,'By Population'!$G$2:$K$14,5,FALSE))*'By Speed'!$Q126*Scenario_VMT_EX*$N113","v":0},{"$f":"(VLOOKUP($B113,'By Population'!$G$2:$K$14,5,FALSE))*'By Speed'!$R126*Scenario_VMT_EX*$N113","v":0},{"$f":"(VLOOKUP($B113,'By Population'!$G$2:$K$14,5,FALSE))*'By Speed'!$S126*Scenario_VMT_EX*$N113","v":0},{"$f":"(VLOOKUP($B113,'By Population'!$G$2:$K$14,5,FALSE))*'By Speed'!$T126*Scenario_VMT_EX*$N113","v":0},{"$f":"(VLOOKUP($B113,'By Population'!$G$2:$K$14,5,FALSE))*'By Speed'!$U126*Scenario_VMT_EX*$N113","v":0},0,{"$f":"(VLOOKUP($B113,'By Population'!$G$2:$K$14,5,FALSE))*'By Speed'!$M126*Scenario_VMT_1*$N113","v":0},{"$f":"(VLOOKUP($B113,'By Population'!$G$2:$K$14,5,FALSE))*'By Speed'!$N126*Scenario_VMT_1*$N113","v":0},{"$f":"(VLOOKUP($B113,'By Population'!$G$2:$K$14,5,FALSE))*'By Speed'!$O126*Scenario_VMT_1*$N113","v":0},{"$f":"(VLOOKUP($B113,'By Population'!$G$2:$K$14,5,FALSE))*'By Speed'!$P126*Scenario_VMT_1*$N113","v":0},{"$f":"(VLOOKUP($B113,'By Population'!$G$2:$K$14,5,FALSE))*'By Speed'!$Q126*Scenario_VMT_1*$N113","v":0},{"$f":"(VLOOKUP($B113,'By Population'!$G$2:$K$14,5,FALSE))*'By Speed'!$R126*Scenario_VMT_1*$N113","v":0},{"$f":"(VLOOKUP($B113,'By Population'!$G$2:$K$14,5,FALSE))*'By Speed'!$S126*Scenario_VMT_1*$N113","v":0},{"$f":"(VLOOKUP($B113,'By Population'!$G$2:$K$14,5,FALSE))*'By Speed'!$T126*Scenario_VMT_1*$N113","v":0},{"$f":"(VLOOKUP($B113,'By Population'!$G$2:$K$14,5,FALSE))*'By Speed'!$U126*Scenario_VMT_1*$N113","v":0},0,{"$f":"(VLOOKUP($B113,'By Population'!$G$2:$K$14,5,FALSE))*'By Speed'!$M126*Scenario_VMT_2*$N113","v":0},{"$f":"(VLOOKUP($B113,'By Population'!$G$2:$K$14,5,FALSE))*'By Speed'!$N126*Scenario_VMT_2*$N113","v":0},{"$f":"(VLOOKUP($B113,'By Population'!$G$2:$K$14,5,FALSE))*'By Speed'!$O126*Scenario_VMT_2*$N113","v":0},{"$f":"(VLOOKUP($B113,'By Population'!$G$2:$K$14,5,FALSE))*'By Speed'!$P126*Scenario_VMT_2*$N113","v":0},{"$f":"(VLOOKUP($B113,'By Population'!$G$2:$K$14,5,FALSE))*'By Speed'!$Q126*Scenario_VMT_2*$N113","v":0},{"$f":"(VLOOKUP($B113,'By Population'!$G$2:$K$14,5,FALSE))*'By Speed'!$R126*Scenario_VMT_2*$N113","v":0},{"$f":"(VLOOKUP($B113,'By Population'!$G$2:$K$14,5,FALSE))*'By Speed'!$S126*Scenario_VMT_2*$N113","v":0},{"$f":"(VLOOKUP($B113,'By Population'!$G$2:$K$14,5,FALSE))*'By Speed'!$T126*Scenario_VMT_2*$N113","v":0},{"$f":"(VLOOKUP($B113,'By Population'!$G$2:$K$14,5,FALSE))*'By Speed'!$U126*Scenario_VMT_2*$N113","v":0},0,{"$f":"(VLOOKUP($B113,'By Population'!$G$2:$K$14,5,FALSE))*'By Speed'!$M126*Scenario_VMT_3*$N113","v":0},{"$f":"(VLOOKUP($B113,'By Population'!$G$2:$K$14,5,FALSE))*'By Speed'!$N126*Scenario_VMT_3*$N113","v":0},{"$f":"(VLOOKUP($B113,'By Population'!$G$2:$K$14,5,FALSE))*'By Speed'!$O126*Scenario_VMT_3*$N113","v":0},{"$f":"(VLOOKUP($B113,'By Population'!$G$2:$K$14,5,FALSE))*'By Speed'!$P126*Scenario_VMT_3*$N113","v":0},{"$f":"(VLOOKUP($B113,'By Population'!$G$2:$K$14,5,FALSE))*'By Speed'!$Q126*Scenario_VMT_3*$N113","v":0},{"$f":"(VLOOKUP($B113,'By Population'!$G$2:$K$14,5,FALSE))*'By Speed'!$R126*Scenario_VMT_3*$N113","v":0},{"$f":"(VLOOKUP($B113,'By Population'!$G$2:$K$14,5,FALSE))*'By Speed'!$S126*Scenario_VMT_3*$N113","v":0},{"$f":"(VLOOKUP($B113,'By Population'!$G$2:$K$14,5,FALSE))*'By Speed'!$T126*Scenario_VMT_3*$N113","v":0},{"$f":"(VLOOKUP($B113,'By Population'!$G$2:$K$14,5,FALSE))*'By Speed'!$U126*Scenario_VMT_3*$N113","v":0},0,{"$f":"(VLOOKUP($B113,'By Population'!$G$2:$K$14,5,FALSE))*'By Speed'!$M126*Scenario_VMT_4*$N113","v":0},{"$f":"(VLOOKUP($B113,'By Population'!$G$2:$K$14,5,FALSE))*'By Speed'!$N126*Scenario_VMT_4*$N113","v":0},{"$f":"(VLOOKUP($B113,'By Population'!$G$2:$K$14,5,FALSE))*'By Speed'!$O126*Scenario_VMT_4*$N113","v":0},{"$f":"(VLOOKUP($B113,'By Population'!$G$2:$K$14,5,FALSE))*'By Speed'!$P126*Scenario_VMT_4*$N113","v":0},{"$f":"(VLOOKUP($B113,'By Population'!$G$2:$K$14,5,FALSE))*'By Speed'!$Q126*Scenario_VMT_4*$N113","v":0},{"$f":"(VLOOKUP($B113,'By Population'!$G$2:$K$14,5,FALSE))*'By Speed'!$R126*Scenario_VMT_4*$N113","v":0},{"$f":"(VLOOKUP($B113,'By Population'!$G$2:$K$14,5,FALSE))*'By Speed'!$S126*Scenario_VMT_4*$N113","v":0},{"$f":"(VLOOKUP($B113,'By Population'!$G$2:$K$14,5,FALSE))*'By Speed'!$T126*Scenario_VMT_4*$N113","v":0},{"$f":"(VLOOKUP($B113,'By Population'!$G$2:$K$14,5,FALSE))*'By Speed'!$U126*Scenario_VMT_4*$N113","v":0},0,{"$f":"(VLOOKUP($B113,'By Population'!$G$2:$K$14,5,FALSE))*'By Speed'!$M126*Scenario_VMT_5*$N113","v":0},{"$f":"(VLOOKUP($B113,'By Population'!$G$2:$K$14,5,FALSE))*'By Speed'!$N126*Scenario_VMT_5*$N113","v":0},{"$f":"(VLOOKUP($B113,'By Population'!$G$2:$K$14,5,FALSE))*'By Speed'!$O126*Scenario_VMT_5*$N113","v":0},{"$f":"(VLOOKUP($B113,'By Population'!$G$2:$K$14,5,FALSE))*'By Speed'!$P126*Scenario_VMT_5*$N113","v":0},{"$f":"(VLOOKUP($B113,'By Population'!$G$2:$K$14,5,FALSE))*'By Speed'!$Q126*Scenario_VMT_5*$N113","v":0},{"$f":"(VLOOKUP($B113,'By Population'!$G$2:$K$14,5,FALSE))*'By Speed'!$R126*Scenario_VMT_5*$N113","v":0},{"$f":"(VLOOKUP($B113,'By Population'!$G$2:$K$14,5,FALSE))*'By Speed'!$S126*Scenario_VMT_5*$N113","v":0},{"$f":"(VLOOKUP($B113,'By Population'!$G$2:$K$14,5,FALSE))*'By Speed'!$T126*Scenario_VMT_5*$N113","v":0},{"$f":"(VLOOKUP($B113,'By Population'!$G$2:$K$14,5,FALSE))*'By Speed'!$U126*Scenario_VMT_5*$N113","v":0},0]
[111,"LHD1_GAS",70,"LHD1_GAS_70",{"$f":"(VLOOKUP($B114,'By Population'!$G$2:$K$14,5,FALSE))*'By Speed'!$M127*Scenario_VMT_EX*$N114","v":0},{"$f":"(VLOOKUP($B114,'By Population'!$G$2:$K$14,5,FALSE))*'By Speed'!$N127*Scenario_VMT_EX*$N114","v":0},{"$f":"(VLOOKUP($B114,'By Population'!$G$2:$K$14,5,FALSE))*'By Speed'!$O127*Scenario_VMT_EX*$N114","v":0},{"$f":"(VLOOKUP($B114,'By Population'!$G$2:$K$14,5,FALSE))*'By Speed'!$P127*Scenario_VMT_EX*$N114","v":0},{"$f":"(VLOOKUP($B114,'By Population'!$G$2:$K$14,5,FALSE))*'By Speed'!$Q127*Scenario_VMT_EX*$N114","v":0},{"$f":"(VLOOKUP($B114,'By Population'!$G$2:$K$14,5,FALSE))*'By Speed'!$R127*Scenario_VMT_EX*$N114","v":0},{"$f":"(VLOOKUP($B114,'By Population'!$G$2:$K$14,5,FALSE))*'By Speed'!$S127*Scenario_VMT_EX*$N114","v":0},{"$f":"(VLOOKUP($B114,'By Population'!$G$2:$K$14,5,FALSE))*'By Speed'!$T127*Scenario_VMT_EX*$N114","v":0},{"$f":"(VLOOKUP($B114,'By Population'!$G$2:$K$14,5,FALSE))*'By Speed'!$U127*Scenario_VMT_EX*$N114","v":0},0,{"$f":"(VLOOKUP($B114,'By Population'!$G$2:$K$14,5,FALSE))*'By Speed'!$M127*Scenario_VMT_1*$N114","v":0},{"$f":"(VLOOKUP($B114,'By Population'!$G$2:$K$14,5,FALSE))*'By Speed'!$N127*Scenario_VMT_1*$N114","v":0},{"$f":"(VLOOKUP($B114,'By Population'!$G$2:$K$14,5,FALSE))*'By Speed'!$O127*Scenario_VMT_1*$N114","v":0},{"$f":"(VLOOKUP($B114,'By Population'!$G$2:$K$14,5,FALSE))*'By Speed'!$P127*Scenario_VMT_1*$N114","v":0},{"$f":"(VLOOKUP($B114,'By Population'!$G$2:$K$14,5,FALSE))*'By Speed'!$Q127*Scenario_VMT_1*$N114","v":0},{"$f":"(VLOOKUP($B114,'By Population'!$G$2:$K$14,5,FALSE))*'By Speed'!$R127*Scenario_VMT_1*$N114","v":0},{"$f":"(VLOOKUP($B114,'By Population'!$G$2:$K$14,5,FALSE))*'By Speed'!$S127*Scenario_VMT_1*$N114","v":0},{"$f":"(VLOOKUP($B114,'By Population'!$G$2:$K$14,5,FALSE))*'By Speed'!$T127*Scenario_VMT_1*$N114","v":0},{"$f":"(VLOOKUP($B114,'By Population'!$G$2:$K$14,5,FALSE))*'By Speed'!$U127*Scenario_VMT_1*$N114","v":0},0,{"$f":"(VLOOKUP($B114,'By Population'!$G$2:$K$14,5,FALSE))*'By Speed'!$M127*Scenario_VMT_2*$N114","v":0},{"$f":"(VLOOKUP($B114,'By Population'!$G$2:$K$14,5,FALSE))*'By Speed'!$N127*Scenario_VMT_2*$N114","v":0},{"$f":"(VLOOKUP($B114,'By Population'!$G$2:$K$14,5,FALSE))*'By Speed'!$O127*Scenario_VMT_2*$N114","v":0},{"$f":"(VLOOKUP($B114,'By Population'!$G$2:$K$14,5,FALSE))*'By Speed'!$P127*Scenario_VMT_2*$N114","v":0},{"$f":"(VLOOKUP($B114,'By Population'!$G$2:$K$14,5,FALSE))*'By Speed'!$Q127*Scenario_VMT_2*$N114","v":0},{"$f":"(VLOOKUP($B114,'By Population'!$G$2:$K$14,5,FALSE))*'By Speed'!$R127*Scenario_VMT_2*$N114","v":0},{"$f":"(VLOOKUP($B114,'By Population'!$G$2:$K$14,5,FALSE))*'By Speed'!$S127*Scenario_VMT_2*$N114","v":0},{"$f":"(VLOOKUP($B114,'By Population'!$G$2:$K$14,5,FALSE))*'By Speed'!$T127*Scenario_VMT_2*$N114","v":0},{"$f":"(VLOOKUP($B114,'By Population'!$G$2:$K$14,5,FALSE))*'By Speed'!$U127*Scenario_VMT_2*$N114","v":0},0,{"$f":"(VLOOKUP($B114,'By Population'!$G$2:$K$14,5,FALSE))*'By Speed'!$M127*Scenario_VMT_3*$N114","v":0},{"$f":"(VLOOKUP($B114,'By Population'!$G$2:$K$14,5,FALSE))*'By Speed'!$N127*Scenario_VMT_3*$N114","v":0},{"$f":"(VLOOKUP($B114,'By Population'!$G$2:$K$14,5,FALSE))*'By Speed'!$O127*Scenario_VMT_3*$N114","v":0},{"$f":"(VLOOKUP($B114,'By Population'!$G$2:$K$14,5,FALSE))*'By Speed'!$P127*Scenario_VMT_3*$N114","v":0},{"$f":"(VLOOKUP($B114,'By Population'!$G$2:$K$14,5,FALSE))*'By Speed'!$Q127*Scenario_VMT_3*$N114","v":0},{"$f":"(VLOOKUP($B114,'By Population'!$G$2:$K$14,5,FALSE))*'By Speed'!$R127*Scenario_VMT_3*$N114","v":0},{"$f":"(VLOOKUP($B114,'By Population'!$G$2:$K$14,5,FALSE))*'By Speed'!$S127*Scenario_VMT_3*$N114","v":0},{"$f":"(VLOOKUP($B114,'By Population'!$G$2:$K$14,5,FALSE))*'By Speed'!$T127*Scenario_VMT_3*$N114","v":0},{"$f":"(VLOOKUP($B114,'By Population'!$G$2:$K$14,5,FALSE))*'By Speed'!$U127*Scenario_VMT_3*$N114","v":0},0,{"$f":"(VLOOKUP($B114,'By Population'!$G$2:$K$14,5,FALSE))*'By Speed'!$M127*Scenario_VMT_4*$N114","v":0},{"$f":"(VLOOKUP($B114,'By Population'!$G$2:$K$14,5,FALSE))*'By Speed'!$N127*Scenario_VMT_4*$N114","v":0},{"$f":"(VLOOKUP($B114,'By Population'!$G$2:$K$14,5,FALSE))*'By Speed'!$O127*Scenario_VMT_4*$N114","v":0},{"$f":"(VLOOKUP($B114,'By Population'!$G$2:$K$14,5,FALSE))*'By Speed'!$P127*Scenario_VMT_4*$N114","v":0},{"$f":"(VLOOKUP($B114,'By Population'!$G$2:$K$14,5,FALSE))*'By Speed'!$Q127*Scenario_VMT_4*$N114","v":0},{"$f":"(VLOOKUP($B114,'By Population'!$G$2:$K$14,5,FALSE))*'By Speed'!$R127*Scenario_VMT_4*$N114","v":0},{"$f":"(VLOOKUP($B114,'By Population'!$G$2:$K$14,5,FALSE))*'By Speed'!$S127*Scenario_VMT_4*$N114","v":0},{"$f":"(VLOOKUP($B114,'By Population'!$G$2:$K$14,5,FALSE))*'By Speed'!$T127*Scenario_VMT_4*$N114","v":0},{"$f":"(VLOOKUP($B114,'By Population'!$G$2:$K$14,5,FALSE))*'By Speed'!$U127*Scenario_VMT_4*$N114","v":0},0,{"$f":"(VLOOKUP($B114,'By Population'!$G$2:$K$14,5,FALSE))*'By Speed'!$M127*Scenario_VMT_5*$N114","v":0},{"$f":"(VLOOKUP($B114,'By Population'!$G$2:$K$14,5,FALSE))*'By Speed'!$N127*Scenario_VMT_5*$N114","v":0},{"$f":"(VLOOKUP($B114,'By Population'!$G$2:$K$14,5,FALSE))*'By Speed'!$O127*Scenario_VMT_5*$N114","v":0},{"$f":"(VLOOKUP($B114,'By Population'!$G$2:$K$14,5,FALSE))*'By Speed'!$P127*Scenario_VMT_5*$N114","v":0},{"$f":"(VLOOKUP($B114,'By Population'!$G$2:$K$14,5,FALSE))*'By Speed'!$Q127*Scenario_VMT_5*$N114","v":0},{"$f":"(VLOOKUP($B114,'By Population'!$G$2:$K$14,5,FALSE))*'By Speed'!$R127*Scenario_VMT_5*$N114","v":0},{"$f":"(VLOOKUP($B114,'By Population'!$G$2:$K$14,5,FALSE))*'By Speed'!$S127*Scenario_VMT_5*$N114","v":0},{"$f":"(VLOOKUP($B114,'By Population'!$G$2:$K$14,5,FALSE))*'By Speed'!$T127*Scenario_VMT_5*$N114","v":0},{"$f":"(VLOOKUP($B114,'By Population'!$G$2:$K$14,5,FALSE))*'By Speed'!$U127*Scenario_VMT_5*$N114","v":0},0]
[116,"LHD2_DSL",10,"LHD2_DSL_10",{"$f":"(VLOOKUP($B115,'By Population'!$G$2:$K$14,5,FALSE))*'By Speed'!$M128*Scenario_VMT_EX*$N115","v":0},{"$f":"(VLOOKUP($B115,'By Population'!$G$2:$K$14,5,FALSE))*'By Speed'!$N128*Scenario_VMT_EX*$N115","v":0},{"$f":"(VLOOKUP($B115,'By Population'!$G$2:$K$14,5,FALSE))*'By Speed'!$O128*Scenario_VMT_EX*$N115","v":0},{"$f":"(VLOOKUP($B115,'By Population'!$G$2:$K$14,5,FALSE))*'By Speed'!$P128*Scenario_VMT_EX*$N115","v":0},{"$f":"(VLOOKUP($B115,'By Population'!$G$2:$K$14,5,FALSE))*'By Speed'!$Q128*Scenario_VMT_EX*$N115","v":0},{"$f":"(VLOOKUP($B115,'By Population'!$G$2:$K$14,5,FALSE))*'By Speed'!$R128*Scenario_VMT_EX*$N115","v":0},{"$f":"(VLOOKUP($B115,'By Population'!$G$2:$K$14,5,FALSE))*'By Speed'!$S128*Scenario_VMT_EX*$N115","v":0},{"$f":"(VLOOKUP($B115,'By Population'!$G$2:$K$14,5,FALSE))*'By Speed'!$T128*Scenario_VMT_EX*$N115","v":0},{"$f":"(VLOOKUP($B115,'By Population'!$G$2:$K$14,5,FALSE))*'By Speed'!$U128*Scenario_VMT_EX*$N115","v":0},0,{"$f":"(VLOOKUP($B115,'By Population'!$G$2:$K$14,5,FALSE))*'By Speed'!$M128*Scenario_VMT_1*$N115","v":0},{"$f":"(VLOOKUP($B115,'By Population'!$G$2:$K$14,5,FALSE))*'By Speed'!$N128*Scenario_VMT_1*$N115","v":0},{"$f":"(VLOOKUP($B115,'By Population'!$G$2:$K$14,5,FALSE))*'By Speed'!$O128*Scenario_VMT_1*$N115","v":0},{"$f":"(VLOOKUP($B115,'By Population'!$G$2:$K$14,5,FALSE))*'By Speed'!$P128*Scenario_VMT_1*$N115","v":0},{"$f":"(VLOOKUP($B115,'By Population'!$G$2:$K$14,5,FALSE))*'By Speed'!$Q128*Scenario_VMT_1*$N115","v":0},{"$f":"(VLOOKUP($B115,'By Population'!$G$2:$K$14,5,FALSE))*'By Speed'!$R128*Scenario_VMT_1*$N115","v":0},{"$f":"(VLOOKUP($B115,'By Population'!$G$2:$K$14,5,FALSE))*'By Speed'!$S128*Scenario_VMT_1*$N115","v":0},{"$f":"(VLOOKUP($B115,'By Population'!$G$2:$K$14,5,FALSE))*'By Speed'!$T128*Scenario_VMT_1*$N115","v":0},{"$f":"(VLOOKUP($B115,'By Population'!$G$2:$K$14,5,FALSE))*'By Speed'!$U128*Scenario_VMT_1*$N115","v":0},0,{"$f":"(VLOOKUP($B115,'By Population'!$G$2:$K$14,5,FALSE))*'By Speed'!$M128*Scenario_VMT_2*$N115","v":0},{"$f":"(VLOOKUP($B115,'By Population'!$G$2:$K$14,5,FALSE))*'By Speed'!$N128*Scenario_VMT_2*$N115","v":0},{"$f":"(VLOOKUP($B115,'By Population'!$G$2:$K$14,5,FALSE))*'By Speed'!$O128*Scenario_VMT_2*$N115","v":0},{"$f":"(VLOOKUP($B115,'By Population'!$G$2:$K$14,5,FALSE))*'By Speed'!$P128*Scenario_VMT_2*$N115","v":0},{"$f":"(VLOOKUP($B115,'By Population'!$G$2:$K$14,5,FALSE))*'By Speed'!$Q128*Scenario_VMT_2*$N115","v":0},{"$f":"(VLOOKUP($B115,'By Population'!$G$2:$K$14,5,FALSE))*'By Speed'!$R128*Scenario_VMT_2*$N115","v":0},{"$f":"(VLOOKUP($B115,'By Population'!$G$2:$K$14,5,FALSE))*'By Speed'!$S128*Scenario_VMT_2*$N115","v":0},{"$f":"(VLOOKUP($B115,'By Population'!$G$2:$K$14,5,FALSE))*'By Speed'!$T128*Scenario_VMT_2*$N115","v":0},{"$f":"(VLOOKUP($B115,'By Population'!$G$2:$K$14,5,FALSE))*'By Speed'!$U128*Scenario_VMT_2*$N115","v":0},0,{"$f":"(VLOOKUP($B115,'By Population'!$G$2:$K$14,5,FALSE))*'By Speed'!$M128*Scenario_VMT_3*$N115","v":0},{"$f":"(VLOOKUP($B115,'By Population'!$G$2:$K$14,5,FALSE))*'By Speed'!$N128*Scenario_VMT_3*$N115","v":0},{"$f":"(VLOOKUP($B115,'By Population'!$G$2:$K$14,5,FALSE))*'By Speed'!$O128*Scenario_VMT_3*$N115","v":0},{"$f":"(VLOOKUP($B115,'By Population'!$G$2:$K$14,5,FALSE))*'By Speed'!$P128*Scenario_VMT_3*$N115","v":0},{"$f":"(VLOOKUP($B115,'By Population'!$G$2:$K$14,5,FALSE))*'By Speed'!$Q128*Scenario_VMT_3*$N115","v":0},{"$f":"(VLOOKUP($B115,'By Population'!$G$2:$K$14,5,FALSE))*'By Speed'!$R128*Scenario_VMT_3*$N115","v":0},{"$f":"(VLOOKUP($B115,'By Population'!$G$2:$K$14,5,FALSE))*'By Speed'!$S128*Scenario_VMT_3*$N115","v":0},{"$f":"(VLOOKUP($B115,'By Population'!$G$2:$K$14,5,FALSE))*'By Speed'!$T128*Scenario_VMT_3*$N115","v":0},{"$f":"(VLOOKUP($B115,'By Population'!$G$2:$K$14,5,FALSE))*'By Speed'!$U128*Scenario_VMT_3*$N115","v":0},0,{"$f":"(VLOOKUP($B115,'By Population'!$G$2:$K$14,5,FALSE))*'By Speed'!$M128*Scenario_VMT_4*$N115","v":0},{"$f":"(VLOOKUP($B115,'By Population'!$G$2:$K$14,5,FALSE))*'By Speed'!$N128*Scenario_VMT_4*$N115","v":0},{"$f":"(VLOOKUP($B115,'By Population'!$G$2:$K$14,5,FALSE))*'By Speed'!$O128*Scenario_VMT_4*$N115","v":0},{"$f":"(VLOOKUP($B115,'By Population'!$G$2:$K$14,5,FALSE))*'By Speed'!$P128*Scenario_VMT_4*$N115","v":0},{"$f":"(VLOOKUP($B115,'By Population'!$G$2:$K$14,5,FALSE))*'By Speed'!$Q128*Scenario_VMT_4*$N115","v":0},{"$f":"(VLOOKUP($B115,'By Population'!$G$2:$K$14,5,FALSE))*'By Speed'!$R128*Scenario_VMT_4*$N115","v":0},{"$f":"(VLOOKUP($B115,'By Population'!$G$2:$K$14,5,FALSE))*'By Speed'!$S128*Scenario_VMT_4*$N115","v":0},{"$f":"(VLOOKUP($B115,'By Population'!$G$2:$K$14,5,FALSE))*'By Speed'!$T128*Scenario_VMT_4*$N115","v":0},{"$f":"(VLOOKUP($B115,'By Population'!$G$2:$K$14,5,FALSE))*'By Speed'!$U128*Scenario_VMT_4*$N115","v":0},0,{"$f":"(VLOOKUP($B115,'By Population'!$G$2:$K$14,5,FALSE))*'By Speed'!$M128*Scenario_VMT_5*$N115","v":0},{"$f":"(VLOOKUP($B115,'By Population'!$G$2:$K$14,5,FALSE))*'By Speed'!$N128*Scenario_VMT_5*$N115","v":0},{"$f":"(VLOOKUP($B115,'By Population'!$G$2:$K$14,5,FALSE))*'By Speed'!$O128*Scenario_VMT_5*$N115","v":0},{"$f":"(VLOOKUP($B115,'By Population'!$G$2:$K$14,5,FALSE))*'By Speed'!$P128*Scenario_VMT_5*$N115","v":0},{"$f":"(VLOOKUP($B115,'By Population'!$G$2:$K$14,5,FALSE))*'By Speed'!$Q128*Scenario_VMT_5*$N115","v":0},{"$f":"(VLOOKUP($B115,'By Population'!$G$2:$K$14,5,FALSE))*'By Speed'!$R128*Scenario_VMT_5*$N115","v":0},{"$f":"(VLOOKUP($B115,'By Population'!$G$2:$K$14,5,FALSE))*'By Speed'!$S128*Scenario_VMT_5*$N115","v":0},{"$f":"(VLOOKUP($B115,'By Population'!$G$2:$K$14,5,FALSE))*'By Speed'!$T128*Scenario_VMT_5*$N115","v":0},{"$f":"(VLOOKUP($B115,'By Population'!$G$2:$K$14,5,FALSE))*'By Speed'!$U128*Scenario_VMT_5*$N115","v":0},0]
[118,"LHD2_DSL",15,"LHD2_DSL_15",{"$f":"(VLOOKUP($B116,'By Population'!$G$2:$K$14,5,FALSE))*'By Speed'!$M129*Scenario_VMT_EX*$N116","v":0},{"$f":"(VLOOKUP($B116,'By Population'!$G$2:$K$14,5,FALSE))*'By Speed'!$N129*Scenario_VMT_EX*$N116","v":0},{"$f":"(VLOOKUP($B116,'By Population'!$G$2:$K$14,5,FALSE))*'By Speed'!$O129*Scenario_VMT_EX*$N116","v":0},{"$f":"(VLOOKUP($B116,'By Population'!$G$2:$K$14,5,FALSE))*'By Speed'!$P129*Scenario_VMT_EX*$N116","v":0},{"$f":"(VLOOKUP($B116,'By Population'!$G$2:$K$14,5,FALSE))*'By Speed'!$Q129*Scenario_VMT_EX*$N116","v":0},{"$f":"(VLOOKUP($B116,'By Population'!$G$2:$K$14,5,FALSE))*'By Speed'!$R129*Scenario_VMT_EX*$N116","v":0},{"$f":"(VLOOKUP($B116,'By Population'!$G$2:$K$14,5,FALSE))*'By Speed'!$S129*Scenario_VMT_EX*$N116","v":0},{"$f":"(VLOOKUP($B116,'By Population'!$G$2:$K$14,5,FALSE))*'By Speed'!$T129*Scenario_VMT_EX*$N116","v":0},{"$f":"(VLOOKUP($B116,'By Population'!$G$2:$K$14,5,FALSE))*'By Speed'!$U129*Scenario_VMT_EX*$N116","v":0},0,{"$f":"(VLOOKUP($B116,'By Population'!$G$2:$K$14,5,FALSE))*'By Speed'!$M129*Scenario_VMT_1*$N116","v":0},{"$f":"(VLOOKUP($B116,'By Population'!$G$2:$K$14,5,FALSE))*'By Speed'!$N129*Scenario_VMT_1*$N116","v":0},{"$f":"(VLOOKUP($B116,'By Population'!$G$2:$K$14,5,FALSE))*'By Speed'!$O129*Scenario_VMT_1*$N116","v":0},{"$f":"(VLOOKUP($B116,'By Population'!$G$2:$K$14,5,FALSE))*'By Speed'!$P129*Scenario_VMT_1*$N116","v":0},{"$f":"(VLOOKUP($B116,'By Population'!$G$2:$K$14,5,FALSE))*'By Speed'!$Q129*Scenario_VMT_1*$N116","v":0},{"$f":"(VLOOKUP($B116,'By Population'!$G$2:$K$14,5,FALSE))*'By Speed'!$R129*Scenario_VMT_1*$N116","v":0},{"$f":"(VLOOKUP($B116,'By Population'!$G$2:$K$14,5,FALSE))*'By Speed'!$S129*Scenario_VMT_1*$N116","v":0},{"$f":"(VLOOKUP($B116,'By Population'!$G$2:$K$14,5,FALSE))*'By Speed'!$T129*Scenario_VMT_1*$N116","v":0},{"$f":"(VLOOKUP($B116,'By Population'!$G$2:$K$14,5,FALSE))*'By Speed'!$U129*Scenario_VMT_1*$N116","v":0},0,{"$f":"(VLOOKUP($B116,'By Population'!$G$2:$K$14,5,FALSE))*'By Speed'!$M129*Scenario_VMT_2*$N116","v":0},{"$f":"(VLOOKUP($B116,'By Population'!$G$2:$K$14,5,FALSE))*'By Speed'!$N129*Scenario_VMT_2*$N116","v":0},{"$f":"(VLOOKUP($B116,'By Population'!$G$2:$K$14,5,FALSE))*'By Speed'!$O129*Scenario_VMT_2*$N116","v":0},{"$f":"(VLOOKUP($B116,'By Population'!$G$2:$K$14,5,FALSE))*'By Speed'!$P129*Scenario_VMT_2*$N116","v":0},{"$f":"(VLOOKUP($B116,'By Population'!$G$2:$K$14,5,FALSE))*'By Speed'!$Q129*Scenario_VMT_2*$N116","v":0},{"$f":"(VLOOKUP($B116,'By Population'!$G$2:$K$14,5,FALSE))*'By Speed'!$R129*Scenario_VMT_2*$N116","v":0},{"$f":"(VLOOKUP($B116,'By Population'!$G$2:$K$14,5,FALSE))*'By Speed'!$S129*Scenario_VMT_2*$N116","v":0},{"$f":"(VLOOKUP($B116,'By Population'!$G$2:$K$14,5,FALSE))*'By Speed'!$T129*Scenario_VMT_2*$N116","v":0},{"$f":"(VLOOKUP($B116,'By Population'!$G$2:$K$14,5,FALSE))*'By Speed'!$U129*Scenario_VMT_2*$N116","v":0},0,{"$f":"(VLOOKUP($B116,'By Population'!$G$2:$K$14,5,FALSE))*'By Speed'!$M129*Scenario_VMT_3*$N116","v":0},{"$f":"(VLOOKUP($B116,'By Population'!$G$2:$K$14,5,FALSE))*'By Speed'!$N129*Scenario_VMT_3*$N116","v":0},{"$f":"(VLOOKUP($B116,'By Population'!$G$2:$K$14,5,FALSE))*'By Speed'!$O129*Scenario_VMT_3*$N116","v":0},{"$f":"(VLOOKUP($B116,'By Population'!$G$2:$K$14,5,FALSE))*'By Speed'!$P129*Scenario_VMT_3*$N116","v":0},{"$f":"(VLOOKUP($B116,'By Population'!$G$2:$K$14,5,FALSE))*'By Speed'!$Q129*Scenario_VMT_3*$N116","v":0},{"$f":"(VLOOKUP($B116,'By Population'!$G$2:$K$14,5,FALSE))*'By Speed'!$R129*Scenario_VMT_3*$N116","v":0},{"$f":"(VLOOKUP($B116,'By Population'!$G$2:$K$14,5,FALSE))*'By Speed'!$S129*Scenario_VMT_3*$N116","v":0},{"$f":"(VLOOKUP($B116,'By Population'!$G$2:$K$14,5,FALSE))*'By Speed'!$T129*Scenario_VMT_3*$N116","v":0},{"$f":"(VLOOKUP($B116,'By Population'!$G$2:$K$14,5,FALSE))*'By Speed'!$U129*Scenario_VMT_3*$N116","v":0},0,{"$f":"(VLOOKUP($B116,'By Population'!$G$2:$K$14,5,FALSE))*'By Speed'!$M129*Scenario_VMT_4*$N116","v":0},{"$f":"(VLOOKUP($B116,'By Population'!$G$2:$K$14,5,FALSE))*'By Speed'!$N129*Scenario_VMT_4*$N116","v":0},{"$f":"(VLOOKUP($B116,'By Population'!$G$2:$K$14,5,FALSE))*'By Speed'!$O129*Scenario_VMT_4*$N116","v":0},{"$f":"(VLOOKUP($B116,'By Population'!$G$2:$K$14,5,FALSE))*'By Speed'!$P129*Scenario_VMT_4*$N116","v":0},{"$f":"(VLOOKUP($B116,'By Population'!$G$2:$K$14,5,FALSE))*'By Speed'!$Q129*Scenario_VMT_4*$N116","v":0},{"$f":"(VLOOKUP($B116,'By Population'!$G$2:$K$14,5,FALSE))*'By Speed'!$R129*Scenario_VMT_4*$N116","v":0},{"$f":"(VLOOKUP($B116,'By Population'!$G$2:$K$14,5,FALSE))*'By Speed'!$S129*Scenario_VMT_4*$N116","v":0},{"$f":"(VLOOKUP($B116,'By Population'!$G$2:$K$14,5,FALSE))*'By Speed'!$T129*Scenario_VMT_4*$N116","v":0},{"$f":"(VLOOKUP($B116,'By Population'!$G$2:$K$14,5,FALSE))*'By Speed'!$U129*Scenario_VMT_4*$N116","v":0},0,{"$f":"(VLOOKUP($B116,'By Population'!$G$2:$K$14,5,FALSE))*'By Speed'!$M129*Scenario_VMT_5*$N116","v":0},{"$f":"(VLOOKUP($B116,'By Population'!$G$2:$K$14,5,FALSE))*'By Speed'!$N129*Scenario_VMT_5*$N116","v":0},{"$f":"(VLOOKUP($B116,'By Population'!$G$2:$K$14,5,FALSE))*'By Speed'!$O129*Scenario_VMT_5*$N116","v":0},{"$f":"(VLOOKUP($B116,'By Population'!$G$2:$K$14,5,FALSE))*'By Speed'!$P129*Scenario_VMT_5*$N116","v":0},{"$f":"(VLOOKUP($B116,'By Population'!$G$2:$K$14,5,FALSE))*'By Speed'!$Q129*Scenario_VMT_5*$N116","v":0},{"$f":"(VLOOKUP($B116,'By Population'!$G$2:$K$14,5,FALSE))*'By Speed'!$R129*Scenario_VMT_5*$N116","v":0},{"$f":"(VLOOKUP($B116,'By Population'!$G$2:$K$14,5,FALSE))*'By Speed'!$S129*Scenario_VMT_5*$N116","v":0},{"$f":"(VLOOKUP($B116,'By Population'!$G$2:$K$14,5,FALSE))*'By Speed'!$T129*Scenario_VMT_5*$N116","v":0},{"$f":"(VLOOKUP($B116,'By Population'!$G$2:$K$14,5,FALSE))*'By Speed'!$U129*Scenario_VMT_5*$N116","v":0},0]
[120,"LHD2_DSL",20,"LHD2_DSL_20",{"$f":"(VLOOKUP($B117,'By Population'!$G$2:$K$14,5,FALSE))*'By Speed'!$M130*Scenario_VMT_EX*$N117","v":0},{"$f":"(VLOOKUP($B117,'By Population'!$G$2:$K$14,5,FALSE))*'By Speed'!$N130*Scenario_VMT_EX*$N117","v":0},{"$f":"(VLOOKUP($B117,'By Population'!$G$2:$K$14,5,FALSE))*'By Speed'!$O130*Scenario_VMT_EX*$N117","v":0},{"$f":"(VLOOKUP($B117,'By Population'!$G$2:$K$14,5,FALSE))*'By Speed'!$P130*Scenario_VMT_EX*$N117","v":0},{"$f":"(VLOOKUP($B117,'By Population'!$G$2:$K$14,5,FALSE))*'By Speed'!$Q130*Scenario_VMT_EX*$N117","v":0},{"$f":"(VLOOKUP($B117,'By Population'!$G$2:$K$14,5,FALSE))*'By Speed'!$R130*Scenario_VMT_EX*$N117","v":0},{"$f":"(VLOOKUP($B117,'By Population'!$G$2:$K$14,5,FALSE))*'By Speed'!$S130*Scenario_VMT_EX*$N117","v":0},{"$f":"(VLOOKUP($B117,'By Population'!$G$2:$K$14,5,FALSE))*'By Speed'!$T130*Scenario_VMT_EX*$N117","v":0},{"$f":"(VLOOKUP($B117,'By Population'!$G$2:$K$14,5,FALSE))*'By Speed'!$U130*Scenario_VMT_EX*$N117","v":0},0,{"$f":"(VLOOKUP($B117,'By Population'!$G$2:$K$14,5,FALSE))*'By Speed'!$M130*Scenario_VMT_1*$N117","v":0},{"$f":"(VLOOKUP($B117,'By Population'!$G$2:$K$14,5,FALSE))*'By Speed'!$N130*Scenario_VMT_1*$N117","v":0},{"$f":"(VLOOKUP($B117,'By Population'!$G$2:$K$14,5,FALSE))*'By Speed'!$O130*Scenario_VMT_1*$N117","v":0},{"$f":"(VLOOKUP($B117,'By Population'!$G$2:$K$14,5,FALSE))*'By Speed'!$P130*Scenario_VMT_1*$N117","v":0},{"$f":"(VLOOKUP($B117,'By Population'!$G$2:$K$14,5,FALSE))*'By Speed'!$Q130*Scenario_VMT_1*$N117","v":0},{"$f":"(VLOOKUP($B117,'By Population'!$G$2:$K$14,5,FALSE))*'By Speed'!$R130*Scenario_VMT_1*$N117","v":0},{"$f":"(VLOOKUP($B117,'By Population'!$G$2:$K$14,5,FALSE))*'By Speed'!$S130*Scenario_VMT_1*$N117","v":0},{"$f":"(VLOOKUP($B117,'By Population'!$G$2:$K$14,5,FALSE))*'By Speed'!$T130*Scenario_VMT_1*$N117","v":0},{"$f":"(VLOOKUP($B117,'By Population'!$G$2:$K$14,5,FALSE))*'By Speed'!$U130*Scenario_VMT_1*$N117","v":0},0,{"$f":"(VLOOKUP($B117,'By Population'!$G$2:$K$14,5,FALSE))*'By Speed'!$M130*Scenario_VMT_2*$N117","v":0},{"$f":"(VLOOKUP($B117,'By Population'!$G$2:$K$14,5,FALSE))*'By Speed'!$N130*Scenario_VMT_2*$N117","v":0},{"$f":"(VLOOKUP($B117,'By Population'!$G$2:$K$14,5,FALSE))*'By Speed'!$O130*Scenario_VMT_2*$N117","v":0},{"$f":"(VLOOKUP($B117,'By Population'!$G$2:$K$14,5,FALSE))*'By Speed'!$P130*Scenario_VMT_2*$N117","v":0},{"$f":"(VLOOKUP($B117,'By Population'!$G$2:$K$14,5,FALSE))*'By Speed'!$Q130*Scenario_VMT_2*$N117","v":0},{"$f":"(VLOOKUP($B117,'By Population'!$G$2:$K$14,5,FALSE))*'By Speed'!$R130*Scenario_VMT_2*$N117","v":0},{"$f":"(VLOOKUP($B117,'By Population'!$G$2:$K$14,5,FALSE))*'By Speed'!$S130*Scenario_VMT_2*$N117","v":0},{"$f":"(VLOOKUP($B117,'By Population'!$G$2:$K$14,5,FALSE))*'By Speed'!$T130*Scenario_VMT_2*$N117","v":0},{"$f":"(VLOOKUP($B117,'By Population'!$G$2:$K$14,5,FALSE))*'By Speed'!$U130*Scenario_VMT_2*$N117","v":0},0,{"$f":"(VLOOKUP($B117,'By Population'!$G$2:$K$14,5,FALSE))*'By Speed'!$M130*Scenario_VMT_3*$N117","v":0},{"$f":"(VLOOKUP($B117,'By Population'!$G$2:$K$14,5,FALSE))*'By Speed'!$N130*Scenario_VMT_3*$N117","v":0},{"$f":"(VLOOKUP($B117,'By Population'!$G$2:$K$14,5,FALSE))*'By Speed'!$O130*Scenario_VMT_3*$N117","v":0},{"$f":"(VLOOKUP($B117,'By Population'!$G$2:$K$14,5,FALSE))*'By Speed'!$P130*Scenario_VMT_3*$N117","v":0},{"$f":"(VLOOKUP($B117,'By Population'!$G$2:$K$14,5,FALSE))*'By Speed'!$Q130*Scenario_VMT_3*$N117","v":0},{"$f":"(VLOOKUP($B117,'By Population'!$G$2:$K$14,5,FALSE))*'By Speed'!$R130*Scenario_VMT_3*$N117","v":0},{"$f":"(VLOOKUP($B117,'By Population'!$G$2:$K$14,5,FALSE))*'By Speed'!$S130*Scenario_VMT_3*$N117","v":0},{"$f":"(VLOOKUP($B117,'By Population'!$G$2:$K$14,5,FALSE))*'By Speed'!$T130*Scenario_VMT_3*$N117","v":0},{"$f":"(VLOOKUP($B117,'By Population'!$G$2:$K$14,5,FALSE))*'By Speed'!$U130*Scenario_VMT_3*$N117","v":0},0,{"$f":"(VLOOKUP($B117,'By Population'!$G$2:$K$14,5,FALSE))*'By Speed'!$M130*Scenario_VMT_4*$N117","v":0},{"$f":"(VLOOKUP($B117,'By Population'!$G$2:$K$14,5,FALSE))*'By Speed'!$N130*Scenario_VMT_4*$N117","v":0},{"$f":"(VLOOKUP($B117,'By Population'!$G$2:$K$14,5,FALSE))*'By Speed'!$O130*Scenario_VMT_4*$N117","v":0},{"$f":"(VLOOKUP($B117,'By Population'!$G$2:$K$14,5,FALSE))*'By Speed'!$P130*Scenario_VMT_4*$N117","v":0},{"$f":"(VLOOKUP($B117,'By Population'!$G$2:$K$14,5,FALSE))*'By Speed'!$Q130*Scenario_VMT_4*$N117","v":0},{"$f":"(VLOOKUP($B117,'By Population'!$G$2:$K$14,5,FALSE))*'By Speed'!$R130*Scenario_VMT_4*$N117","v":0},{"$f":"(VLOOKUP($B117,'By Population'!$G$2:$K$14,5,FALSE))*'By Speed'!$S130*Scenario_VMT_4*$N117","v":0},{"$f":"(VLOOKUP($B117,'By Population'!$G$2:$K$14,5,FALSE))*'By Speed'!$T130*Scenario_VMT_4*$N117","v":0},{"$f":"(VLOOKUP($B117,'By Population'!$G$2:$K$14,5,FALSE))*'By Speed'!$U130*Scenario_VMT_4*$N117","v":0},0,{"$f":"(VLOOKUP($B117,'By Population'!$G$2:$K$14,5,FALSE))*'By Speed'!$M130*Scenario_VMT_5*$N117","v":0},{"$f":"(VLOOKUP($B117,'By Population'!$G$2:$K$14,5,FALSE))*'By Speed'!$N130*Scenario_VMT_5*$N117","v":0},{"$f":"(VLOOKUP($B117,'By Population'!$G$2:$K$14,5,FALSE))*'By Speed'!$O130*Scenario_VMT_5*$N117","v":0},{"$f":"(VLOOKUP($B117,'By Population'!$G$2:$K$14,5,FALSE))*'By Speed'!$P130*Scenario_VMT_5*$N117","v":0},{"$f":"(VLOOKUP($B117,'By Population'!$G$2:$K$14,5,FALSE))*'By Speed'!$Q130*Scenario_VMT_5*$N117","v":0},{"$f":"(VLOOKUP($B117,'By Population'!$G$2:$K$14,5,FALSE))*'By Speed'!$R130*Scenario_VMT_5*$N117","v":0},{"$f":"(VLOOKUP($B117,'By Population'!$G$2:$K$14,5,FALSE))*'By Speed'!$S130*Scenario_VMT_5*$N117","v":0},{"$f":"(VLOOKUP($B117,'By Population'!$G$2:$K$14,5,FALSE))*'By Speed'!$T130*Scenario_VMT_5*$N117","v":0},{"$f":"(VLOOKUP($B117,'By Population'!$G$2:$K$14,5,FALSE))*'By Speed'!$U130*Scenario_VMT_5*$N117","v":0},0]
[122,"LHD2_DSL",25,"LHD2_DSL_25",{"$f":"(VLOOKUP($B118,'By Population'!$G$2:$K$14,5,FALSE))*'By Speed'!$M131*Scenario_VMT_EX*$N118","v":0},{"$f":"(VLOOKUP($B118,'By Population'!$G$2:$K$14,5,FALSE))*'By Speed'!$N131*Scenario_VMT_EX*$N118","v":0},{"$f":"(VLOOKUP($B118,'By Population'!$G$2:$K$14,5,FALSE))*'By Speed'!$O131*Scenario_VMT_EX*$N118","v":0},{"$f":"(VLOOKUP($B118,'By Population'!$G$2:$K$14,5,FALSE))*'By Speed'!$P131*Scenario_VMT_EX*$N118","v":0},{"$f":"(VLOOKUP($B118,'By Population'!$G$2:$K$14,5,FALSE))*'By Speed'!$Q131*Scenario_VMT_EX*$N118","v":0},{"$f":"(VLOOKUP($B118,'By Population'!$G$2:$K$14,5,FALSE))*'By Speed'!$R131*Scenario_VMT_EX*$N118","v":0},{"$f":"(VLOOKUP($B118,'By Population'!$G$2:$K$14,5,FALSE))*'By Speed'!$S131*Scenario_VMT_EX*$N118","v":0},{"$f":"(VLOOKUP($B118,'By Population'!$G$2:$K$14,5,FALSE))*'By Speed'!$T131*Scenario_VMT_EX*$N118","v":0},{"$f":"(VLOOKUP($B118,'By Population'!$G$2:$K$14,5,FALSE))*'By Speed'!$U131*Scenario_VMT_EX*$N118","v":0},1,{"$f":"(VLOOKUP($B118,'By Population'!$G$2:$K$14,5,FALSE))*'By Speed'!$M131*Scenario_VMT_1*$N118","v":0},{"$f":"(VLOOKUP($B118,'By Population'!$G$2:$K$14,5,FALSE))*'By Speed'!$N131*Scenario_VMT_1*$N118","v":0},{"$f":"(VLOOKUP($B118,'By Population'!$G$2:$K$14,5,FALSE))*'By Speed'!$O131*Scenario_VMT_1*$N118","v":0},{"$f":"(VLOOKUP($B118,'By Population'!$G$2:$K$14,5,FALSE))*'By Speed'!$P131*Scenario_VMT_1*$N118","v":0},{"$f":"(VLOOKUP($B118,'By Population'!$G$2:$K$14,5,FALSE))*'By Speed'!$Q131*Scenario_VMT_1*$N118","v":0},{"$f":"(VLOOKUP($B118,'By Population'!$G$2:$K$14,5,FALSE))*'By Speed'!$R131*Scenario_VMT_1*$N118","v":0},{"$f":"(VLOOKUP($B118,'By Population'!$G$2:$K$14,5,FALSE))*'By Speed'!$S131*Scenario_VMT_1*$N118","v":0},{"$f":"(VLOOKUP($B118,'By Population'!$G$2:$K$14,5,FALSE))*'By Speed'!$T131*Scenario_VMT_1*$N118","v":0},{"$f":"(VLOOKUP($B118,'By Population'!$G$2:$K$14,5,FALSE))*'By Speed'!$U131*Scenario_VMT_1*$N118","v":0},0,{"$f":"(VLOOKUP($B118,'By Population'!$G$2:$K$14,5,FALSE))*'By Speed'!$M131*Scenario_VMT_2*$N118","v":0},{"$f":"(VLOOKUP($B118,'By Population'!$G$2:$K$14,5,FALSE))*'By Speed'!$N131*Scenario_VMT_2*$N118","v":0},{"$f":"(VLOOKUP($B118,'By Population'!$G$2:$K$14,5,FALSE))*'By Speed'!$O131*Scenario_VMT_2*$N118","v":0},{"$f":"(VLOOKUP($B118,'By Population'!$G$2:$K$14,5,FALSE))*'By Speed'!$P131*Scenario_VMT_2*$N118","v":0},{"$f":"(VLOOKUP($B118,'By Population'!$G$2:$K$14,5,FALSE))*'By Speed'!$Q131*Scenario_VMT_2*$N118","v":0},{"$f":"(VLOOKUP($B118,'By Population'!$G$2:$K$14,5,FALSE))*'By Speed'!$R131*Scenario_VMT_2*$N118","v":0},{"$f":"(VLOOKUP($B118,'By Population'!$G$2:$K$14,5,FALSE))*'By Speed'!$S131*Scenario_VMT_2*$N118","v":0},{"$f":"(VLOOKUP($B118,'By Population'!$G$2:$K$14,5,FALSE))*'By Speed'!$T131*Scenario_VMT_2*$N118","v":0},{"$f":"(VLOOKUP($B118,'By Population'!$G$2:$K$14,5,FALSE))*'By Speed'!$U131*Scenario_VMT_2*$N118","v":0},0,{"$f":"(VLOOKUP($B118,'By Population'!$G$2:$K$14,5,FALSE))*'By Speed'!$M131*Scenario_VMT_3*$N118","v":0},{"$f":"(VLOOKUP($B118,'By Population'!$G$2:$K$14,5,FALSE))*'By Speed'!$N131*Scenario_VMT_3*$N118","v":0},{"$f":"(VLOOKUP($B118,'By Population'!$G$2:$K$14,5,FALSE))*'By Speed'!$O131*Scenario_VMT_3*$N118","v":0},{"$f":"(VLOOKUP($B118,'By Population'!$G$2:$K$14,5,FALSE))*'By Speed'!$P131*Scenario_VMT_3*$N118","v":0},{"$f":"(VLOOKUP($B118,'By Population'!$G$2:$K$14,5,FALSE))*'By Speed'!$Q131*Scenario_VMT_3*$N118","v":0},{"$f":"(VLOOKUP($B118,'By Population'!$G$2:$K$14,5,FALSE))*'By Speed'!$R131*Scenario_VMT_3*$N118","v":0},{"$f":"(VLOOKUP($B118,'By Population'!$G$2:$K$14,5,FALSE))*'By Speed'!$S131*Scenario_VMT_3*$N118","v":0},{"$f":"(VLOOKUP($B118,'By Population'!$G$2:$K$14,5,FALSE))*'By Speed'!$T131*Scenario_VMT_3*$N118","v":0},{"$f":"(VLOOKUP($B118,'By Population'!$G$2:$K$14,5,FALSE))*'By Speed'!$U131*Scenario_VMT_3*$N118","v":0},0,{"$f":"(VLOOKUP($B118,'By Population'!$G$2:$K$14,5,FALSE))*'By Speed'!$M131*Scenario_VMT_4*$N118","v":0},{"$f":"(VLOOKUP($B118,'By Population'!$G$2:$K$14,5,FALSE))*'By Speed'!$N131*Scenario_VMT_4*$N118","v":0},{"$f":"(VLOOKUP($B118,'By Population'!$G$2:$K$14,5,FALSE))*'By Speed'!$O131*Scenario_VMT_4*$N118","v":0},{"$f":"(VLOOKUP($B118,'By Population'!$G$2:$K$14,5,FALSE))*'By Speed'!$P131*Scenario_VMT_4*$N118","v":0},{"$f":"(VLOOKUP($B118,'By Population'!$G$2:$K$14,5,FALSE))*'By Speed'!$Q131*Scenario_VMT_4*$N118","v":0},{"$f":"(VLOOKUP($B118,'By Population'!$G$2:$K$14,5,FALSE))*'By Speed'!$R131*Scenario_VMT_4*$N118","v":0},{"$f":"(VLOOKUP($B118,'By Population'!$G$2:$K$14,5,FALSE))*'By Speed'!$S131*Scenario_VMT_4*$N118","v":0},{"$f":"(VLOOKUP($B118,'By Population'!$G$2:$K$14,5,FALSE))*'By Speed'!$T131*Scenario_VMT_4*$N118","v":0},{"$f":"(VLOOKUP($B118,'By Population'!$G$2:$K$14,5,FALSE))*'By Speed'!$U131*Scenario_VMT_4*$N118","v":0},0,{"$f":"(VLOOKUP($B118,'By Population'!$G$2:$K$14,5,FALSE))*'By Speed'!$M131*Scenario_VMT_5*$N118","v":0},{"$f":"(VLOOKUP($B118,'By Population'!$G$2:$K$14,5,FALSE))*'By Speed'!$N131*Scenario_VMT_5*$N118","v":0},{"$f":"(VLOOKUP($B118,'By Population'!$G$2:$K$14,5,FALSE))*'By Speed'!$O131*Scenario_VMT_5*$N118","v":0},{"$f":"(VLOOKUP($B118,'By Population'!$G$2:$K$14,5,FALSE))*'By Speed'!$P131*Scenario_VMT_5*$N118","v":0},{"$f":"(VLOOKUP($B118,'By Population'!$G$2:$K$14,5,FALSE))*'By Speed'!$Q131*Scenario_VMT_5*$N118","v":0},{"$f":"(VLOOKUP($B118,'By Population'!$G$2:$K$14,5,FALSE))*'By Speed'!$R131*Scenario_VMT_5*$N118","v":0},{"$f":"(VLOOKUP($B118,'By Population'!$G$2:$K$14,5,FALSE))*'By Speed'!$S131*Scenario_VMT_5*$N118","v":0},{"$f":"(VLOOKUP($B118,'By Population'!$G$2:$K$14,5,FALSE))*'By Speed'!$T131*Scenario_VMT_5*$N118","v":0},{"$f":"(VLOOKUP($B118,'By Population'!$G$2:$K$14,5,FALSE))*'By Speed'!$U131*Scenario_VMT_5*$N118","v":0},0]
[124,"LHD2_DSL",30,"LHD2_DSL_30",{"$f":"(VLOOKUP($B119,'By Population'!$G$2:$K$14,5,FALSE))*'By Speed'!$M132*Scenario_VMT_EX*$N119","v":0},{"$f":"(VLOOKUP($B119,'By Population'!$G$2:$K$14,5,FALSE))*'By Speed'!$N132*Scenario_VMT_EX*$N119","v":0},{"$f":"(VLOOKUP($B119,'By Population'!$G$2:$K$14,5,FALSE))*'By Speed'!$O132*Scenario_VMT_EX*$N119","v":0},{"$f":"(VLOOKUP($B119,'By Population'!$G$2:$K$14,5,FALSE))*'By Speed'!$P132*Scenario_VMT_EX*$N119","v":0},{"$f":"(VLOOKUP($B119,'By Population'!$G$2:$K$14,5,FALSE))*'By Speed'!$Q132*Scenario_VMT_EX*$N119","v":0},{"$f":"(VLOOKUP($B119,'By Population'!$G$2:$K$14,5,FALSE))*'By Speed'!$R132*Scenario_VMT_EX*$N119","v":0},{"$f":"(VLOOKUP($B119,'By Population'!$G$2:$K$14,5,FALSE))*'By Speed'!$S132*Scenario_VMT_EX*$N119","v":0},{"$f":"(VLOOKUP($B119,'By Population'!$G$2:$K$14,5,FALSE))*'By Speed'!$T132*Scenario_VMT_EX*$N119","v":0},{"$f":"(VLOOKUP($B119,'By Population'!$G$2:$K$14,5,FALSE))*'By Speed'!$U132*Scenario_VMT_EX*$N119","v":0},0,{"$f":"(VLOOKUP($B119,'By Population'!$G$2:$K$14,5,FALSE))*'By Speed'!$M132*Scenario_VMT_1*$N119","v":0},{"$f":"(VLOOKUP($B119,'By Population'!$G$2:$K$14,5,FALSE))*'By Speed'!$N132*Scenario_VMT_1*$N119","v":0},{"$f":"(VLOOKUP($B119,'By Population'!$G$2:$K$14,5,FALSE))*'By Speed'!$O132*Scenario_VMT_1*$N119","v":0},{"$f":"(VLOOKUP($B119,'By Population'!$G$2:$K$14,5,FALSE))*'By Speed'!$P132*Scenario_VMT_1*$N119","v":0},{"$f":"(VLOOKUP($B119,'By Population'!$G$2:$K$14,5,FALSE))*'By Speed'!$Q132*Scenario_VMT_1*$N119","v":0},{"$f":"(VLOOKUP($B119,'By Population'!$G$2:$K$14,5,FALSE))*'By Speed'!$R132*Scenario_VMT_1*$N119","v":0},{"$f":"(VLOOKUP($B119,'By Population'!$G$2:$K$14,5,FALSE))*'By Speed'!$S132*Scenario_VMT_1*$N119","v":0},{"$f":"(VLOOKUP($B119,'By Population'!$G$2:$K$14,5,FALSE))*'By Speed'!$T132*Scenario_VMT_1*$N119","v":0},{"$f":"(VLOOKUP($B119,'By Population'!$G$2:$K$14,5,FALSE))*'By Speed'!$U132*Scenario_VMT_1*$N119","v":0},0,{"$f":"(VLOOKUP($B119,'By Population'!$G$2:$K$14,5,FALSE))*'By Speed'!$M132*Scenario_VMT_2*$N119","v":0},{"$f":"(VLOOKUP($B119,'By Population'!$G$2:$K$14,5,FALSE))*'By Speed'!$N132*Scenario_VMT_2*$N119","v":0},{"$f":"(VLOOKUP($B119,'By Population'!$G$2:$K$14,5,FALSE))*'By Speed'!$O132*Scenario_VMT_2*$N119","v":0},{"$f":"(VLOOKUP($B119,'By Population'!$G$2:$K$14,5,FALSE))*'By Speed'!$P132*Scenario_VMT_2*$N119","v":0},{"$f":"(VLOOKUP($B119,'By Population'!$G$2:$K$14,5,FALSE))*'By Speed'!$Q132*Scenario_VMT_2*$N119","v":0},{"$f":"(VLOOKUP($B119,'By Population'!$G$2:$K$14,5,FALSE))*'By Speed'!$R132*Scenario_VMT_2*$N119","v":0},{"$f":"(VLOOKUP($B119,'By Population'!$G$2:$K$14,5,FALSE))*'By Speed'!$S132*Scenario_VMT_2*$N119","v":0},{"$f":"(VLOOKUP($B119,'By Population'!$G$2:$K$14,5,FALSE))*'By Speed'!$T132*Scenario_VMT_2*$N119","v":0},{"$f":"(VLOOKUP($B119,'By Population'!$G$2:$K$14,5,FALSE))*'By Speed'!$U132*Scenario_VMT_2*$N119","v":0},0,{"$f":"(VLOOKUP($B119,'By Population'!$G$2:$K$14,5,FALSE))*'By Speed'!$M132*Scenario_VMT_3*$N119","v":0},{"$f":"(VLOOKUP($B119,'By Population'!$G$2:$K$14,5,FALSE))*'By Speed'!$N132*Scenario_VMT_3*$N119","v":0},{"$f":"(VLOOKUP($B119,'By Population'!$G$2:$K$14,5,FALSE))*'By Speed'!$O132*Scenario_VMT_3*$N119","v":0},{"$f":"(VLOOKUP($B119,'By Population'!$G$2:$K$14,5,FALSE))*'By Speed'!$P132*Scenario_VMT_3*$N119","v":0},{"$f":"(VLOOKUP($B119,'By Population'!$G$2:$K$14,5,FALSE))*'By Speed'!$Q132*Scenario_VMT_3*$N119","v":0},{"$f":"(VLOOKUP($B119,'By Population'!$G$2:$K$14,5,FALSE))*'By Speed'!$R132*Scenario_VMT_3*$N119","v":0},{"$f":"(VLOOKUP($B119,'By Population'!$G$2:$K$14,5,FALSE))*'By Speed'!$S132*Scenario_VMT_3*$N119","v":0},{"$f":"(VLOOKUP($B119,'By Population'!$G$2:$K$14,5,FALSE))*'By Speed'!$T132*Scenario_VMT_3*$N119","v":0},{"$f":"(VLOOKUP($B119,'By Population'!$G$2:$K$14,5,FALSE))*'By Speed'!$U132*Scenario_VMT_3*$N119","v":0},0,{"$f":"(VLOOKUP($B119,'By Population'!$G$2:$K$14,5,FALSE))*'By Speed'!$M132*Scenario_VMT_4*$N119","v":0},{"$f":"(VLOOKUP($B119,'By Population'!$G$2:$K$14,5,FALSE))*'By Speed'!$N132*Scenario_VMT_4*$N119","v":0},{"$f":"(VLOOKUP($B119,'By Population'!$G$2:$K$14,5,FALSE))*'By Speed'!$O132*Scenario_VMT_4*$N119","v":0},{"$f":"(VLOOKUP($B119,'By Population'!$G$2:$K$14,5,FALSE))*'By Speed'!$P132*Scenario_VMT_4*$N119","v":0},{"$f":"(VLOOKUP($B119,'By Population'!$G$2:$K$14,5,FALSE))*'By Speed'!$Q132*Scenario_VMT_4*$N119","v":0},{"$f":"(VLOOKUP($B119,'By Population'!$G$2:$K$14,5,FALSE))*'By Speed'!$R132*Scenario_VMT_4*$N119","v":0},{"$f":"(VLOOKUP($B119,'By Population'!$G$2:$K$14,5,FALSE))*'By Speed'!$S132*Scenario_VMT_4*$N119","v":0},{"$f":"(VLOOKUP($B119,'By Population'!$G$2:$K$14,5,FALSE))*'By Speed'!$T132*Scenario_VMT_4*$N119","v":0},{"$f":"(VLOOKUP($B119,'By Population'!$G$2:$K$14,5,FALSE))*'By Speed'!$U132*Scenario_VMT_4*$N119","v":0},0,{"$f":"(VLOOKUP($B119,'By Population'!$G$2:$K$14,5,FALSE))*'By Speed'!$M132*Scenario_VMT_5*$N119","v":0},{"$f":"(VLOOKUP($B119,'By Population'!$G$2:$K$14,5,FALSE))*'By Speed'!$N132*Scenario_VMT_5*$N119","v":0},{"$f":"(VLOOKUP($B119,'By Population'!$G$2:$K$14,5,FALSE))*'By Speed'!$O132*Scenario_VMT_5*$N119","v":0},{"$f":"(VLOOKUP($B119,'By Population'!$G$2:$K$14,5,FALSE))*'By Speed'!$P132*Scenario_VMT_5*$N119","v":0},{"$f":"(VLOOKUP($B119,'By Population'!$G$2:$K$14,5,FALSE))*'By Speed'!$Q132*Scenario_VMT_5*$N119","v":0},{"$f":"(VLOOKUP($B119,'By Population'!$G$2:$K$14,5,FALSE))*'By Speed'!$R132*Scenario_VMT_5*$N119","v":0},{"$f":"(VLOOKUP($B119,'By Population'!$G$2:$K$14,5,FALSE))*'By Speed'!$S132*Scenario_VMT_5*$N119","v":0},{"$f":"(VLOOKUP($B119,'By Population'!$G$2:$K$14,5,FALSE))*'By Speed'!$T132*Scenario_VMT_5*$N119","v":0},{"$f":"(VLOOKUP($B119,'By Population'!$G$2:$K$14,5,FALSE))*'By Speed'!$U132*Scenario_VMT_5*$N119","v":0},0]
[126,"LHD2_DSL",35,"LHD2_DSL_35",{"$f":"(VLOOKUP($B120,'By Population'!$G$2:$K$14,5,FALSE))*'By Speed'!$M133*Scenario_VMT_EX*$N120","v":0},{"$f":"(VLOOKUP($B120,'By Population'!$G$2:$K$14,5,FALSE))*'By Speed'!$N133*Scenario_VMT_EX*$N120","v":0},{"$f":"(VLOOKUP($B120,'By Population'!$G$2:$K$14,5,FALSE))*'By Speed'!$O133*Scenario_VMT_EX*$N120","v":0},{"$f":"(VLOOKUP($B120,'By Population'!$G$2:$K$14,5,FALSE))*'By Speed'!$P133*Scenario_VMT_EX*$N120","v":0},{"$f":"(VLOOKUP($B120,'By Population'!$G$2:$K$14,5,FALSE))*'By Speed'!$Q133*Scenario_VMT_EX*$N120","v":0},{"$f":"(VLOOKUP($B120,'By Population'!$G$2:$K$14,5,FALSE))*'By Speed'!$R133*Scenario_VMT_EX*$N120","v":0},{"$f":"(VLOOKUP($B120,'By Population'!$G$2:$K$14,5,FALSE))*'By Speed'!$S133*Scenario_VMT_EX*$N120","v":0},{"$f":"(VLOOKUP($B120,'By Population'!$G$2:$K$14,5,FALSE))*'By Speed'!$T133*Scenario_VMT_EX*$N120","v":0},{"$f":"(VLOOKUP($B120,'By Population'!$G$2:$K$14,5,FALSE))*'By Speed'!$U133*Scenario_VMT_EX*$N120","v":0},0,{"$f":"(VLOOKUP($B120,'By Population'!$G$2:$K$14,5,FALSE))*'By Speed'!$M133*Scenario_VMT_1*$N120","v":0},{"$f":"(VLOOKUP($B120,'By Population'!$G$2:$K$14,5,FALSE))*'By Speed'!$N133*Scenario_VMT_1*$N120","v":0},{"$f":"(VLOOKUP($B120,'By Population'!$G$2:$K$14,5,FALSE))*'By Speed'!$O133*Scenario_VMT_1*$N120","v":0},{"$f":"(VLOOKUP($B120,'By Population'!$G$2:$K$14,5,FALSE))*'By Speed'!$P133*Scenario_VMT_1*$N120","v":0},{"$f":"(VLOOKUP($B120,'By Population'!$G$2:$K$14,5,FALSE))*'By Speed'!$Q133*Scenario_VMT_1*$N120","v":0},{"$f":"(VLOOKUP($B120,'By Population'!$G$2:$K$14,5,FALSE))*'By Speed'!$R133*Scenario_VMT_1*$N120","v":0},{"$f":"(VLOOKUP($B120,'By Population'!$G$2:$K$14,5,FALSE))*'By Speed'!$S133*Scenario_VMT_1*$N120","v":0},{"$f":"(VLOOKUP($B120,'By Population'!$G$2:$K$14,5,FALSE))*'By Speed'!$T133*Scenario_VMT_1*$N120","v":0},{"$f":"(VLOOKUP($B120,'By Population'!$G$2:$K$14,5,FALSE))*'By Speed'!$U133*Scenario_VMT_1*$N120","v":0},0,{"$f":"(VLOOKUP($B120,'By Population'!$G$2:$K$14,5,FALSE))*'By Speed'!$M133*Scenario_VMT_2*$N120","v":0},{"$f":"(VLOOKUP($B120,'By Population'!$G$2:$K$14,5,FALSE))*'By Speed'!$N133*Scenario_VMT_2*$N120","v":0},{"$f":"(VLOOKUP($B120,'By Population'!$G$2:$K$14,5,FALSE))*'By Speed'!$O133*Scenario_VMT_2*$N120","v":0},{"$f":"(VLOOKUP($B120,'By Population'!$G$2:$K$14,5,FALSE))*'By Speed'!$P133*Scenario_VMT_2*$N120","v":0},{"$f":"(VLOOKUP($B120,'By Population'!$G$2:$K$14,5,FALSE))*'By Speed'!$Q133*Scenario_VMT_2*$N120","v":0},{"$f":"(VLOOKUP($B120,'By Population'!$G$2:$K$14,5,FALSE))*'By Speed'!$R133*Scenario_VMT_2*$N120","v":0},{"$f":"(VLOOKUP($B120,'By Population'!$G$2:$K$14,5,FALSE))*'By Speed'!$S133*Scenario_VMT_2*$N120","v":0},{"$f":"(VLOOKUP($B120,'By Population'!$G$2:$K$14,5,FALSE))*'By Speed'!$T133*Scenario_VMT_2*$N120","v":0},{"$f":"(VLOOKUP($B120,'By Population'!$G$2:$K$14,5,FALSE))*'By Speed'!$U133*Scenario_VMT_2*$N120","v":0},0,{"$f":"(VLOOKUP($B120,'By Population'!$G$2:$K$14,5,FALSE))*'By Speed'!$M133*Scenario_VMT_3*$N120","v":0},{"$f":"(VLOOKUP($B120,'By Population'!$G$2:$K$14,5,FALSE))*'By Speed'!$N133*Scenario_VMT_3*$N120","v":0},{"$f":"(VLOOKUP($B120,'By Population'!$G$2:$K$14,5,FALSE))*'By Speed'!$O133*Scenario_VMT_3*$N120","v":0},{"$f":"(VLOOKUP($B120,'By Population'!$G$2:$K$14,5,FALSE))*'By Speed'!$P133*Scenario_VMT_3*$N120","v":0},{"$f":"(VLOOKUP($B120,'By Population'!$G$2:$K$14,5,FALSE))*'By Speed'!$Q133*Scenario_VMT_3*$N120","v":0},{"$f":"(VLOOKUP($B120,'By Population'!$G$2:$K$14,5,FALSE))*'By Speed'!$R133*Scenario_VMT_3*$N120","v":0},{"$f":"(VLOOKUP($B120,'By Population'!$G$2:$K$14,5,FALSE))*'By Speed'!$S133*Scenario_VMT_3*$N120","v":0},{"$f":"(VLOOKUP($B120,'By Population'!$G$2:$K$14,5,FALSE))*'By Speed'!$T133*Scenario_VMT_3*$N120","v":0},{"$f":"(VLOOKUP($B120,'By Population'!$G$2:$K$14,5,FALSE))*'By Speed'!$U133*Scenario_VMT_3*$N120","v":0},0,{"$f":"(VLOOKUP($B120,'By Population'!$G$2:$K$14,5,FALSE))*'By Speed'!$M133*Scenario_VMT_4*$N120","v":0},{"$f":"(VLOOKUP($B120,'By Population'!$G$2:$K$14,5,FALSE))*'By Speed'!$N133*Scenario_VMT_4*$N120","v":0},{"$f":"(VLOOKUP($B120,'By Population'!$G$2:$K$14,5,FALSE))*'By Speed'!$O133*Scenario_VMT_4*$N120","v":0},{"$f":"(VLOOKUP($B120,'By Population'!$G$2:$K$14,5,FALSE))*'By Speed'!$P133*Scenario_VMT_4*$N120","v":0},{"$f":"(VLOOKUP($B120,'By Population'!$G$2:$K$14,5,FALSE))*'By Speed'!$Q133*Scenario_VMT_4*$N120","v":0},{"$f":"(VLOOKUP($B120,'By Population'!$G$2:$K$14,5,FALSE))*'By Speed'!$R133*Scenario_VMT_4*$N120","v":0},{"$f":"(VLOOKUP($B120,'By Population'!$G$2:$K$14,5,FALSE))*'By Speed'!$S133*Scenario_VMT_4*$N120","v":0},{"$f":"(VLOOKUP($B120,'By Population'!$G$2:$K$14,5,FALSE))*'By Speed'!$T133*Scenario_VMT_4*$N120","v":0},{"$f":"(VLOOKUP($B120,'By Population'!$G$2:$K$14,5,FALSE))*'By Speed'!$U133*Scenario_VMT_4*$N120","v":0},0,{"$f":"(VLOOKUP($B120,'By Population'!$G$2:$K$14,5,FALSE))*'By Speed'!$M133*Scenario_VMT_5*$N120","v":0},{"$f":"(VLOOKUP($B120,'By Population'!$G$2:$K$14,5,FALSE))*'By Speed'!$N133*Scenario_VMT_5*$N120","v":0},{"$f":"(VLOOKUP($B120,'By Population'!$G$2:$K$14,5,FALSE))*'By Speed'!$O133*Scenario_VMT_5*$N120","v":0},{"$f":"(VLOOKUP($B120,'By Population'!$G$2:$K$14,5,FALSE))*'By Speed'!$P133*Scenario_VMT_5*$N120","v":0},{"$f":"(VLOOKUP($B120,'By Population'!$G$2:$K$14,5,FALSE))*'By Speed'!$Q133*Scenario_VMT_5*$N120","v":0},{"$f":"(VLOOKUP($B120,'By Population'!$G$2:$K$14,5,FALSE))*'By Speed'!$R133*Scenario_VMT_5*$N120","v":0},{"$f":"(VLOOKUP($B120,'By Population'!$G$2:$K$14,5,FALSE))*'By Speed'!$S133*Scenario_VMT_5*$N120","v":0},{"$f":"(VLOOKUP($B120,'By Population'!$G$2:$K$14,5,FALSE))*'By Speed'!$T133*Scenario_VMT_5*$N120","v":0},{"$f":"(VLOOKUP($B120,'By Population'!$G$2:$K$14,5,FALSE))*'By Speed'!$U133*Scenario_VMT_5*$N120","v":0},0]
[128,"LHD2_DSL",40,"LHD2_DSL_40",{"$f":"(VLOOKUP($B121,'By Population'!$G$2:$K$14,5,FALSE))*'By Speed'!$M134*Scenario_VMT_EX*$N121","v":0},{"$f":"(VLOOKUP($B121,'By Population'!$G$2:$K$14,5,FALSE))*'By Speed'!$N134*Scenario_VMT_EX*$N121","v":0},{"$f":"(VLOOKUP($B121,'By Population'!$G$2:$K$14,5,FALSE))*'By Speed'!$O134*Scenario_VMT_EX*$N121","v":0},{"$f":"(VLOOKUP($B121,'By Population'!$G$2:$K$14,5,FALSE))*'By Speed'!$P134*Scenario_VMT_EX*$N121","v":0},{"$f":"(VLOOKUP($B121,'By Population'!$G$2:$K$14,5,FALSE))*'By Speed'!$Q134*Scenario_VMT_EX*$N121","v":0},{"$f":"(VLOOKUP($B121,'By Population'!$G$2:$K$14,5,FALSE))*'By Speed'!$R134*Scenario_VMT_EX*$N121","v":0},{"$f":"(VLOOKUP($B121,'By Population'!$G$2:$K$14,5,FALSE))*'By Speed'!$S134*Scenario_VMT_EX*$N121","v":0},{"$f":"(VLOOKUP($B121,'By Population'!$G$2:$K$14,5,FALSE))*'By Speed'!$T134*Scenario_VMT_EX*$N121","v":0},{"$f":"(VLOOKUP($B121,'By Population'!$G$2:$K$14,5,FALSE))*'By Speed'!$U134*Scenario_VMT_EX*$N121","v":0},0,{"$f":"(VLOOKUP($B121,'By Population'!$G$2:$K$14,5,FALSE))*'By Speed'!$M134*Scenario_VMT_1*$N121","v":0},{"$f":"(VLOOKUP($B121,'By Population'!$G$2:$K$14,5,FALSE))*'By Speed'!$N134*Scenario_VMT_1*$N121","v":0},{"$f":"(VLOOKUP($B121,'By Population'!$G$2:$K$14,5,FALSE))*'By Speed'!$O134*Scenario_VMT_1*$N121","v":0},{"$f":"(VLOOKUP($B121,'By Population'!$G$2:$K$14,5,FALSE))*'By Speed'!$P134*Scenario_VMT_1*$N121","v":0},{"$f":"(VLOOKUP($B121,'By Population'!$G$2:$K$14,5,FALSE))*'By Speed'!$Q134*Scenario_VMT_1*$N121","v":0},{"$f":"(VLOOKUP($B121,'By Population'!$G$2:$K$14,5,FALSE))*'By Speed'!$R134*Scenario_VMT_1*$N121","v":0},{"$f":"(VLOOKUP($B121,'By Population'!$G$2:$K$14,5,FALSE))*'By Speed'!$S134*Scenario_VMT_1*$N121","v":0},{"$f":"(VLOOKUP($B121,'By Population'!$G$2:$K$14,5,FALSE))*'By Speed'!$T134*Scenario_VMT_1*$N121","v":0},{"$f":"(VLOOKUP($B121,'By Population'!$G$2:$K$14,5,FALSE))*'By Speed'!$U134*Scenario_VMT_1*$N121","v":0},0,{"$f":"(VLOOKUP($B121,'By Population'!$G$2:$K$14,5,FALSE))*'By Speed'!$M134*Scenario_VMT_2*$N121","v":0},{"$f":"(VLOOKUP($B121,'By Population'!$G$2:$K$14,5,FALSE))*'By Speed'!$N134*Scenario_VMT_2*$N121","v":0},{"$f":"(VLOOKUP($B121,'By Population'!$G$2:$K$14,5,FALSE))*'By Speed'!$O134*Scenario_VMT_2*$N121","v":0},{"$f":"(VLOOKUP($B121,'By Population'!$G$2:$K$14,5,FALSE))*'By Speed'!$P134*Scenario_VMT_2*$N121","v":0},{"$f":"(VLOOKUP($B121,'By Population'!$G$2:$K$14,5,FALSE))*'By Speed'!$Q134*Scenario_VMT_2*$N121","v":0},{"$f":"(VLOOKUP($B121,'By Population'!$G$2:$K$14,5,FALSE))*'By Speed'!$R134*Scenario_VMT_2*$N121","v":0},{"$f":"(VLOOKUP($B121,'By Population'!$G$2:$K$14,5,FALSE))*'By Speed'!$S134*Scenario_VMT_2*$N121","v":0},{"$f":"(VLOOKUP($B121,'By Population'!$G$2:$K$14,5,FALSE))*'By Speed'!$T134*Scenario_VMT_2*$N121","v":0},{"$f":"(VLOOKUP($B121,'By Population'!$G$2:$K$14,5,FALSE))*'By Speed'!$U134*Scenario_VMT_2*$N121","v":0},0,{"$f":"(VLOOKUP($B121,'By Population'!$G$2:$K$14,5,FALSE))*'By Speed'!$M134*Scenario_VMT_3*$N121","v":0},{"$f":"(VLOOKUP($B121,'By Population'!$G$2:$K$14,5,FALSE))*'By Speed'!$N134*Scenario_VMT_3*$N121","v":0},{"$f":"(VLOOKUP($B121,'By Population'!$G$2:$K$14,5,FALSE))*'By Speed'!$O134*Scenario_VMT_3*$N121","v":0},{"$f":"(VLOOKUP($B121,'By Population'!$G$2:$K$14,5,FALSE))*'By Speed'!$P134*Scenario_VMT_3*$N121","v":0},{"$f":"(VLOOKUP($B121,'By Population'!$G$2:$K$14,5,FALSE))*'By Speed'!$Q134*Scenario_VMT_3*$N121","v":0},{"$f":"(VLOOKUP($B121,'By Population'!$G$2:$K$14,5,FALSE))*'By Speed'!$R134*Scenario_VMT_3*$N121","v":0},{"$f":"(VLOOKUP($B121,'By Population'!$G$2:$K$14,5,FALSE))*'By Speed'!$S134*Scenario_VMT_3*$N121","v":0},{"$f":"(VLOOKUP($B121,'By Population'!$G$2:$K$14,5,FALSE))*'By Speed'!$T134*Scenario_VMT_3*$N121","v":0},{"$f":"(VLOOKUP($B121,'By Population'!$G$2:$K$14,5,FALSE))*'By Speed'!$U134*Scenario_VMT_3*$N121","v":0},0,{"$f":"(VLOOKUP($B121,'By Population'!$G$2:$K$14,5,FALSE))*'By Speed'!$M134*Scenario_VMT_4*$N121","v":0},{"$f":"(VLOOKUP($B121,'By Population'!$G$2:$K$14,5,FALSE))*'By Speed'!$N134*Scenario_VMT_4*$N121","v":0},{"$f":"(VLOOKUP($B121,'By Population'!$G$2:$K$14,5,FALSE))*'By Speed'!$O134*Scenario_VMT_4*$N121","v":0},{"$f":"(VLOOKUP($B121,'By Population'!$G$2:$K$14,5,FALSE))*'By Speed'!$P134*Scenario_VMT_4*$N121","v":0},{"$f":"(VLOOKUP($B121,'By Population'!$G$2:$K$14,5,FALSE))*'By Speed'!$Q134*Scenario_VMT_4*$N121","v":0},{"$f":"(VLOOKUP($B121,'By Population'!$G$2:$K$14,5,FALSE))*'By Speed'!$R134*Scenario_VMT_4*$N121","v":0},{"$f":"(VLOOKUP($B121,'By Population'!$G$2:$K$14,5,FALSE))*'By Speed'!$S134*Scenario_VMT_4*$N121","v":0},{"$f":"(VLOOKUP($B121,'By Population'!$G$2:$K$14,5,FALSE))*'By Speed'!$T134*Scenario_VMT_4*$N121","v":0},{"$f":"(VLOOKUP($B121,'By Population'!$G$2:$K$14,5,FALSE))*'By Speed'!$U134*Scenario_VMT_4*$N121","v":0},0,{"$f":"(VLOOKUP($B121,'By Population'!$G$2:$K$14,5,FALSE))*'By Speed'!$M134*Scenario_VMT_5*$N121","v":0},{"$f":"(VLOOKUP($B121,'By Population'!$G$2:$K$14,5,FALSE))*'By Speed'!$N134*Scenario_VMT_5*$N121","v":0},{"$f":"(VLOOKUP($B121,'By Population'!$G$2:$K$14,5,FALSE))*'By Speed'!$O134*Scenario_VMT_5*$N121","v":0},{"$f":"(VLOOKUP($B121,'By Population'!$G$2:$K$14,5,FALSE))*'By Speed'!$P134*Scenario_VMT_5*$N121","v":0},{"$f":"(VLOOKUP($B121,'By Population'!$G$2:$K$14,5,FALSE))*'By Speed'!$Q134*Scenario_VMT_5*$N121","v":0},{"$f":"(VLOOKUP($B121,'By Population'!$G$2:$K$14,5,FALSE))*'By Speed'!$R134*Scenario_VMT_5*$N121","v":0},{"$f":"(VLOOKUP($B121,'By Population'!$G$2:$K$14,5,FALSE))*'By Speed'!$S134*Scenario_VMT_5*$N121","v":0},{"$f":"(VLOOKUP($B121,'By Population'!$G$2:$K$14,5,FALSE))*'By Speed'!$T134*Scenario_VMT_5*$N121","v":0},{"$f":"(VLOOKUP($B121,'By Population'!$G$2:$K$14,5,FALSE))*'By Speed'!$U134*Scenario_VMT_5*$N121","v":0},0]
[130,"LHD2_DSL",45,"LHD2_DSL_45",{"$f":"(VLOOKUP($B122,'By Population'!$G$2:$K$14,5,FALSE))*'By Speed'!$M135*Scenario_VMT_EX*$N122","v":0},{"$f":"(VLOOKUP($B122,'By Population'!$G$2:$K$14,5,FALSE))*'By Speed'!$N135*Scenario_VMT_EX*$N122","v":0},{"$f":"(VLOOKUP($B122,'By Population'!$G$2:$K$14,5,FALSE))*'By Speed'!$O135*Scenario_VMT_EX*$N122","v":0},{"$f":"(VLOOKUP($B122,'By Population'!$G$2:$K$14,5,FALSE))*'By Speed'!$P135*Scenario_VMT_EX*$N122","v":0},{"$f":"(VLOOKUP($B122,'By Population'!$G$2:$K$14,5,FALSE))*'By Speed'!$Q135*Scenario_VMT_EX*$N122","v":0},{"$f":"(VLOOKUP($B122,'By Population'!$G$2:$K$14,5,FALSE))*'By Speed'!$R135*Scenario_VMT_EX*$N122","v":0},{"$f":"(VLOOKUP($B122,'By Population'!$G$2:$K$14,5,FALSE))*'By Speed'!$S135*Scenario_VMT_EX*$N122","v":0},{"$f":"(VLOOKUP($B122,'By Population'!$G$2:$K$14,5,FALSE))*'By Speed'!$T135*Scenario_VMT_EX*$N122","v":0},{"$f":"(VLOOKUP($B122,'By Population'!$G$2:$K$14,5,FALSE))*'By Speed'!$U135*Scenario_VMT_EX*$N122","v":0},0,{"$f":"(VLOOKUP($B122,'By Population'!$G$2:$K$14,5,FALSE))*'By Speed'!$M135*Scenario_VMT_1*$N122","v":0},{"$f":"(VLOOKUP($B122,'By Population'!$G$2:$K$14,5,FALSE))*'By Speed'!$N135*Scenario_VMT_1*$N122","v":0},{"$f":"(VLOOKUP($B122,'By Population'!$G$2:$K$14,5,FALSE))*'By Speed'!$O135*Scenario_VMT_1*$N122","v":0},{"$f":"(VLOOKUP($B122,'By Population'!$G$2:$K$14,5,FALSE))*'By Speed'!$P135*Scenario_VMT_1*$N122","v":0},{"$f":"(VLOOKUP($B122,'By Population'!$G$2:$K$14,5,FALSE))*'By Speed'!$Q135*Scenario_VMT_1*$N122","v":0},{"$f":"(VLOOKUP($B122,'By Population'!$G$2:$K$14,5,FALSE))*'By Speed'!$R135*Scenario_VMT_1*$N122","v":0},{"$f":"(VLOOKUP($B122,'By Population'!$G$2:$K$14,5,FALSE))*'By Speed'!$S135*Scenario_VMT_1*$N122","v":0},{"$f":"(VLOOKUP($B122,'By Population'!$G$2:$K$14,5,FALSE))*'By Speed'!$T135*Scenario_VMT_1*$N122","v":0},{"$f":"(VLOOKUP($B122,'By Population'!$G$2:$K$14,5,FALSE))*'By Speed'!$U135*Scenario_VMT_1*$N122","v":0},0,{"$f":"(VLOOKUP($B122,'By Population'!$G$2:$K$14,5,FALSE))*'By Speed'!$M135*Scenario_VMT_2*$N122","v":0},{"$f":"(VLOOKUP($B122,'By Population'!$G$2:$K$14,5,FALSE))*'By Speed'!$N135*Scenario_VMT_2*$N122","v":0},{"$f":"(VLOOKUP($B122,'By Population'!$G$2:$K$14,5,FALSE))*'By Speed'!$O135*Scenario_VMT_2*$N122","v":0},{"$f":"(VLOOKUP($B122,'By Population'!$G$2:$K$14,5,FALSE))*'By Speed'!$P135*Scenario_VMT_2*$N122","v":0},{"$f":"(VLOOKUP($B122,'By Population'!$G$2:$K$14,5,FALSE))*'By Speed'!$Q135*Scenario_VMT_2*$N122","v":0},{"$f":"(VLOOKUP($B122,'By Population'!$G$2:$K$14,5,FALSE))*'By Speed'!$R135*Scenario_VMT_2*$N122","v":0},{"$f":"(VLOOKUP($B122,'By Population'!$G$2:$K$14,5,FALSE))*'By Speed'!$S135*Scenario_VMT_2*$N122","v":0},{"$f":"(VLOOKUP($B122,'By Population'!$G$2:$K$14,5,FALSE))*'By Speed'!$T135*Scenario_VMT_2*$N122","v":0},{"$f":"(VLOOKUP($B122,'By Population'!$G$2:$K$14,5,FALSE))*'By Speed'!$U135*Scenario_VMT_2*$N122","v":0},0,{"$f":"(VLOOKUP($B122,'By Population'!$G$2:$K$14,5,FALSE))*'By Speed'!$M135*Scenario_VMT_3*$N122","v":0},{"$f":"(VLOOKUP($B122,'By Population'!$G$2:$K$14,5,FALSE))*'By Speed'!$N135*Scenario_VMT_3*$N122","v":0},{"$f":"(VLOOKUP($B122,'By Population'!$G$2:$K$14,5,FALSE))*'By Speed'!$O135*Scenario_VMT_3*$N122","v":0},{"$f":"(VLOOKUP($B122,'By Population'!$G$2:$K$14,5,FALSE))*'By Speed'!$P135*Scenario_VMT_3*$N122","v":0},{"$f":"(VLOOKUP($B122,'By Population'!$G$2:$K$14,5,FALSE))*'By Speed'!$Q135*Scenario_VMT_3*$N122","v":0},{"$f":"(VLOOKUP($B122,'By Population'!$G$2:$K$14,5,FALSE))*'By Speed'!$R135*Scenario_VMT_3*$N122","v":0},{"$f":"(VLOOKUP($B122,'By Population'!$G$2:$K$14,5,FALSE))*'By Speed'!$S135*Scenario_VMT_3*$N122","v":0},{"$f":"(VLOOKUP($B122,'By Population'!$G$2:$K$14,5,FALSE))*'By Speed'!$T135*Scenario_VMT_3*$N122","v":0},{"$f":"(VLOOKUP($B122,'By Population'!$G$2:$K$14,5,FALSE))*'By Speed'!$U135*Scenario_VMT_3*$N122","v":0},0,{"$f":"(VLOOKUP($B122,'By Population'!$G$2:$K$14,5,FALSE))*'By Speed'!$M135*Scenario_VMT_4*$N122","v":0},{"$f":"(VLOOKUP($B122,'By Population'!$G$2:$K$14,5,FALSE))*'By Speed'!$N135*Scenario_VMT_4*$N122","v":0},{"$f":"(VLOOKUP($B122,'By Population'!$G$2:$K$14,5,FALSE))*'By Speed'!$O135*Scenario_VMT_4*$N122","v":0},{"$f":"(VLOOKUP($B122,'By Population'!$G$2:$K$14,5,FALSE))*'By Speed'!$P135*Scenario_VMT_4*$N122","v":0},{"$f":"(VLOOKUP($B122,'By Population'!$G$2:$K$14,5,FALSE))*'By Speed'!$Q135*Scenario_VMT_4*$N122","v":0},{"$f":"(VLOOKUP($B122,'By Population'!$G$2:$K$14,5,FALSE))*'By Speed'!$R135*Scenario_VMT_4*$N122","v":0},{"$f":"(VLOOKUP($B122,'By Population'!$G$2:$K$14,5,FALSE))*'By Speed'!$S135*Scenario_VMT_4*$N122","v":0},{"$f":"(VLOOKUP($B122,'By Population'!$G$2:$K$14,5,FALSE))*'By Speed'!$T135*Scenario_VMT_4*$N122","v":0},{"$f":"(VLOOKUP($B122,'By Population'!$G$2:$K$14,5,FALSE))*'By Speed'!$U135*Scenario_VMT_4*$N122","v":0},0,{"$f":"(VLOOKUP($B122,'By Population'!$G$2:$K$14,5,FALSE))*'By Speed'!$M135*Scenario_VMT_5*$N122","v":0},{"$f":"(VLOOKUP($B122,'By Population'!$G$2:$K$14,5,FALSE))*'By Speed'!$N135*Scenario_VMT_5*$N122","v":0},{"$f":"(VLOOKUP($B122,'By Population'!$G$2:$K$14,5,FALSE))*'By Speed'!$O135*Scenario_VMT_5*$N122","v":0},{"$f":"(VLOOKUP($B122,'By Population'!$G$2:$K$14,5,FALSE))*'By Speed'!$P135*Scenario_VMT_5*$N122","v":0},{"$f":"(VLOOKUP($B122,'By Population'!$G$2:$K$14,5,FALSE))*'By Speed'!$Q135*Scenario_VMT_5*$N122","v":0},{"$f":"(VLOOKUP($B122,'By Population'!$G$2:$K$14,5,FALSE))*'By Speed'!$R135*Scenario_VMT_5*$N122","v":0},{"$f":"(VLOOKUP($B122,'By Population'!$G$2:$K$14,5,FALSE))*'By Speed'!$S135*Scenario_VMT_5*$N122","v":0},{"$f":"(VLOOKUP($B122,'By Population'!$G$2:$K$14,5,FALSE))*'By Speed'!$T135*Scenario_VMT_5*$N122","v":0},{"$f":"(VLOOKUP($B122,'By Population'!$G$2:$K$14,5,FALSE))*'By Speed'!$U135*Scenario_VMT_5*$N122","v":0},0]
[114,"LHD2_DSL",5,"LHD2_DSL_5",{"$f":"(VLOOKUP($B123,'By Population'!$G$2:$K$14,5,FALSE))*'By Speed'!$M136*Scenario_VMT_EX*$N123","v":0},{"$f":"(VLOOKUP($B123,'By Population'!$G$2:$K$14,5,FALSE))*'By Speed'!$N136*Scenario_VMT_EX*$N123","v":0},{"$f":"(VLOOKUP($B123,'By Population'!$G$2:$K$14,5,FALSE))*'By Speed'!$O136*Scenario_VMT_EX*$N123","v":0},{"$f":"(VLOOKUP($B123,'By Population'!$G$2:$K$14,5,FALSE))*'By Speed'!$P136*Scenario_VMT_EX*$N123","v":0},{"$f":"(VLOOKUP($B123,'By Population'!$G$2:$K$14,5,FALSE))*'By Speed'!$Q136*Scenario_VMT_EX*$N123","v":0},{"$f":"(VLOOKUP($B123,'By Population'!$G$2:$K$14,5,FALSE))*'By Speed'!$R136*Scenario_VMT_EX*$N123","v":0},{"$f":"(VLOOKUP($B123,'By Population'!$G$2:$K$14,5,FALSE))*'By Speed'!$S136*Scenario_VMT_EX*$N123","v":0},{"$f":"(VLOOKUP($B123,'By Population'!$G$2:$K$14,5,FALSE))*'By Speed'!$T136*Scenario_VMT_EX*$N123","v":0},{"$f":"(VLOOKUP($B123,'By Population'!$G$2:$K$14,5,FALSE))*'By Speed'!$U136*Scenario_VMT_EX*$N123","v":0},0,{"$f":"(VLOOKUP($B123,'By Population'!$G$2:$K$14,5,FALSE))*'By Speed'!$M136*Scenario_VMT_1*$N123","v":0},{"$f":"(VLOOKUP($B123,'By Population'!$G$2:$K$14,5,FALSE))*'By Speed'!$N136*Scenario_VMT_1*$N123","v":0},{"$f":"(VLOOKUP($B123,'By Population'!$G$2:$K$14,5,FALSE))*'By Speed'!$O136*Scenario_VMT_1*$N123","v":0},{"$f":"(VLOOKUP($B123,'By Population'!$G$2:$K$14,5,FALSE))*'By Speed'!$P136*Scenario_VMT_1*$N123","v":0},{"$f":"(VLOOKUP($B123,'By Population'!$G$2:$K$14,5,FALSE))*'By Speed'!$Q136*Scenario_VMT_1*$N123","v":0},{"$f":"(VLOOKUP($B123,'By Population'!$G$2:$K$14,5,FALSE))*'By Speed'!$R136*Scenario_VMT_1*$N123","v":0},{"$f":"(VLOOKUP($B123,'By Population'!$G$2:$K$14,5,FALSE))*'By Speed'!$S136*Scenario_VMT_1*$N123","v":0},{"$f":"(VLOOKUP($B123,'By Population'!$G$2:$K$14,5,FALSE))*'By Speed'!$T136*Scenario_VMT_1*$N123","v":0},{"$f":"(VLOOKUP($B123,'By Population'!$G$2:$K$14,5,FALSE))*'By Speed'!$U136*Scenario_VMT_1*$N123","v":0},0,{"$f":"(VLOOKUP($B123,'By Population'!$G$2:$K$14,5,FALSE))*'By Speed'!$M136*Scenario_VMT_2*$N123","v":0},{"$f":"(VLOOKUP($B123,'By Population'!$G$2:$K$14,5,FALSE))*'By Speed'!$N136*Scenario_VMT_2*$N123","v":0},{"$f":"(VLOOKUP($B123,'By Population'!$G$2:$K$14,5,FALSE))*'By Speed'!$O136*Scenario_VMT_2*$N123","v":0},{"$f":"(VLOOKUP($B123,'By Population'!$G$2:$K$14,5,FALSE))*'By Speed'!$P136*Scenario_VMT_2*$N123","v":0},{"$f":"(VLOOKUP($B123,'By Population'!$G$2:$K$14,5,FALSE))*'By Speed'!$Q136*Scenario_VMT_2*$N123","v":0},{"$f":"(VLOOKUP($B123,'By Population'!$G$2:$K$14,5,FALSE))*'By Speed'!$R136*Scenario_VMT_2*$N123","v":0},{"$f":"(VLOOKUP($B123,'By Population'!$G$2:$K$14,5,FALSE))*'By Speed'!$S136*Scenario_VMT_2*$N123","v":0},{"$f":"(VLOOKUP($B123,'By Population'!$G$2:$K$14,5,FALSE))*'By Speed'!$T136*Scenario_VMT_2*$N123","v":0},{"$f":"(VLOOKUP($B123,'By Population'!$G$2:$K$14,5,FALSE))*'By Speed'!$U136*Scenario_VMT_2*$N123","v":0},0,{"$f":"(VLOOKUP($B123,'By Population'!$G$2:$K$14,5,FALSE))*'By Speed'!$M136*Scenario_VMT_3*$N123","v":0},{"$f":"(VLOOKUP($B123,'By Population'!$G$2:$K$14,5,FALSE))*'By Speed'!$N136*Scenario_VMT_3*$N123","v":0},{"$f":"(VLOOKUP($B123,'By Population'!$G$2:$K$14,5,FALSE))*'By Speed'!$O136*Scenario_VMT_3*$N123","v":0},{"$f":"(VLOOKUP($B123,'By Population'!$G$2:$K$14,5,FALSE))*'By Speed'!$P136*Scenario_VMT_3*$N123","v":0},{"$f":"(VLOOKUP($B123,'By Population'!$G$2:$K$14,5,FALSE))*'By Speed'!$Q136*Scenario_VMT_3*$N123","v":0},{"$f":"(VLOOKUP($B123,'By Population'!$G$2:$K$14,5,FALSE))*'By Speed'!$R136*Scenario_VMT_3*$N123","v":0},{"$f":"(VLOOKUP($B123,'By Population'!$G$2:$K$14,5,FALSE))*'By Speed'!$S136*Scenario_VMT_3*$N123","v":0},{"$f":"(VLOOKUP($B123,'By Population'!$G$2:$K$14,5,FALSE))*'By Speed'!$T136*Scenario_VMT_3*$N123","v":0},{"$f":"(VLOOKUP($B123,'By Population'!$G$2:$K$14,5,FALSE))*'By Speed'!$U136*Scenario_VMT_3*$N123","v":0},0,{"$f":"(VLOOKUP($B123,'By Population'!$G$2:$K$14,5,FALSE))*'By Speed'!$M136*Scenario_VMT_4*$N123","v":0},{"$f":"(VLOOKUP($B123,'By Population'!$G$2:$K$14,5,FALSE))*'By Speed'!$N136*Scenario_VMT_4*$N123","v":0},{"$f":"(VLOOKUP($B123,'By Population'!$G$2:$K$14,5,FALSE))*'By Speed'!$O136*Scenario_VMT_4*$N123","v":0},{"$f":"(VLOOKUP($B123,'By Population'!$G$2:$K$14,5,FALSE))*'By Speed'!$P136*Scenario_VMT_4*$N123","v":0},{"$f":"(VLOOKUP($B123,'By Population'!$G$2:$K$14,5,FALSE))*'By Speed'!$Q136*Scenario_VMT_4*$N123","v":0},{"$f":"(VLOOKUP($B123,'By Population'!$G$2:$K$14,5,FALSE))*'By Speed'!$R136*Scenario_VMT_4*$N123","v":0},{"$f":"(VLOOKUP($B123,'By Population'!$G$2:$K$14,5,FALSE))*'By Speed'!$S136*Scenario_VMT_4*$N123","v":0},{"$f":"(VLOOKUP($B123,'By Population'!$G$2:$K$14,5,FALSE))*'By Speed'!$T136*Scenario_VMT_4*$N123","v":0},{"$f":"(VLOOKUP($B123,'By Population'!$G$2:$K$14,5,FALSE))*'By Speed'!$U136*Scenario_VMT_4*$N123","v":0},0,{"$f":"(VLOOKUP($B123,'By Population'!$G$2:$K$14,5,FALSE))*'By Speed'!$M136*Scenario_VMT_5*$N123","v":0},{"$f":"(VLOOKUP($B123,'By Population'!$G$2:$K$14,5,FALSE))*'By Speed'!$N136*Scenario_VMT_5*$N123","v":0},{"$f":"(VLOOKUP($B123,'By Population'!$G$2:$K$14,5,FALSE))*'By Speed'!$O136*Scenario_VMT_5*$N123","v":0},{"$f":"(VLOOKUP($B123,'By Population'!$G$2:$K$14,5,FALSE))*'By Speed'!$P136*Scenario_VMT_5*$N123","v":0},{"$f":"(VLOOKUP($B123,'By Population'!$G$2:$K$14,5,FALSE))*'By Speed'!$Q136*Scenario_VMT_5*$N123","v":0},{"$f":"(VLOOKUP($B123,'By Population'!$G$2:$K$14,5,FALSE))*'By Speed'!$R136*Scenario_VMT_5*$N123","v":0},{"$f":"(VLOOKUP($B123,'By Population'!$G$2:$K$14,5,FALSE))*'By Speed'!$S136*Scenario_VMT_5*$N123","v":0},{"$f":"(VLOOKUP($B123,'By Population'!$G$2:$K$14,5,FALSE))*'By Speed'!$T136*Scenario_VMT_5*$N123","v":0},{"$f":"(VLOOKUP($B123,'By Population'!$G$2:$K$14,5,FALSE))*'By Speed'!$U136*Scenario_VMT_5*$N123","v":0},0]
[132,"LHD2_DSL",50,"LHD2_DSL_50",{"$f":"(VLOOKUP($B124,'By Population'!$G$2:$K$14,5,FALSE))*'By Speed'!$M137*Scenario_VMT_EX*$N124","v":0},{"$f":"(VLOOKUP($B124,'By Population'!$G$2:$K$14,5,FALSE))*'By Speed'!$N137*Scenario_VMT_EX*$N124","v":0},{"$f":"(VLOOKUP($B124,'By Population'!$G$2:$K$14,5,FALSE))*'By Speed'!$O137*Scenario_VMT_EX*$N124","v":0},{"$f":"(VLOOKUP($B124,'By Population'!$G$2:$K$14,5,FALSE))*'By Speed'!$P137*Scenario_VMT_EX*$N124","v":0},{"$f":"(VLOOKUP($B124,'By Population'!$G$2:$K$14,5,FALSE))*'By Speed'!$Q137*Scenario_VMT_EX*$N124","v":0},{"$f":"(VLOOKUP($B124,'By Population'!$G$2:$K$14,5,FALSE))*'By Speed'!$R137*Scenario_VMT_EX*$N124","v":0},{"$f":"(VLOOKUP($B124,'By Population'!$G$2:$K$14,5,FALSE))*'By Speed'!$S137*Scenario_VMT_EX*$N124","v":0},{"$f":"(VLOOKUP($B124,'By Population'!$G$2:$K$14,5,FALSE))*'By Speed'!$T137*Scenario_VMT_EX*$N124","v":0},{"$f":"(VLOOKUP($B124,'By Population'!$G$2:$K$14,5,FALSE))*'By Speed'!$U137*Scenario_VMT_EX*$N124","v":0},0,{"$f":"(VLOOKUP($B124,'By Population'!$G$2:$K$14,5,FALSE))*'By Speed'!$M137*Scenario_VMT_1*$N124","v":0},{"$f":"(VLOOKUP($B124,'By Population'!$G$2:$K$14,5,FALSE))*'By Speed'!$N137*Scenario_VMT_1*$N124","v":0},{"$f":"(VLOOKUP($B124,'By Population'!$G$2:$K$14,5,FALSE))*'By Speed'!$O137*Scenario_VMT_1*$N124","v":0},{"$f":"(VLOOKUP($B124,'By Population'!$G$2:$K$14,5,FALSE))*'By Speed'!$P137*Scenario_VMT_1*$N124","v":0},{"$f":"(VLOOKUP($B124,'By Population'!$G$2:$K$14,5,FALSE))*'By Speed'!$Q137*Scenario_VMT_1*$N124","v":0},{"$f":"(VLOOKUP($B124,'By Population'!$G$2:$K$14,5,FALSE))*'By Speed'!$R137*Scenario_VMT_1*$N124","v":0},{"$f":"(VLOOKUP($B124,'By Population'!$G$2:$K$14,5,FALSE))*'By Speed'!$S137*Scenario_VMT_1*$N124","v":0},{"$f":"(VLOOKUP($B124,'By Population'!$G$2:$K$14,5,FALSE))*'By Speed'!$T137*Scenario_VMT_1*$N124","v":0},{"$f":"(VLOOKUP($B124,'By Population'!$G$2:$K$14,5,FALSE))*'By Speed'!$U137*Scenario_VMT_1*$N124","v":0},0,{"$f":"(VLOOKUP($B124,'By Population'!$G$2:$K$14,5,FALSE))*'By Speed'!$M137*Scenario_VMT_2*$N124","v":0},{"$f":"(VLOOKUP($B124,'By Population'!$G$2:$K$14,5,FALSE))*'By Speed'!$N137*Scenario_VMT_2*$N124","v":0},{"$f":"(VLOOKUP($B124,'By Population'!$G$2:$K$14,5,FALSE))*'By Speed'!$O137*Scenario_VMT_2*$N124","v":0},{"$f":"(VLOOKUP($B124,'By Population'!$G$2:$K$14,5,FALSE))*'By Speed'!$P137*Scenario_VMT_2*$N124","v":0},{"$f":"(VLOOKUP($B124,'By Population'!$G$2:$K$14,5,FALSE))*'By Speed'!$Q137*Scenario_VMT_2*$N124","v":0},{"$f":"(VLOOKUP($B124,'By Population'!$G$2:$K$14,5,FALSE))*'By Speed'!$R137*Scenario_VMT_2*$N124","v":0},{"$f":"(VLOOKUP($B124,'By Population'!$G$2:$K$14,5,FALSE))*'By Speed'!$S137*Scenario_VMT_2*$N124","v":0},{"$f":"(VLOOKUP($B124,'By Population'!$G$2:$K$14,5,FALSE))*'By Speed'!$T137*Scenario_VMT_2*$N124","v":0},{"$f":"(VLOOKUP($B124,'By Population'!$G$2:$K$14,5,FALSE))*'By Speed'!$U137*Scenario_VMT_2*$N124","v":0},0,{"$f":"(VLOOKUP($B124,'By Population'!$G$2:$K$14,5,FALSE))*'By Speed'!$M137*Scenario_VMT_3*$N124","v":0},{"$f":"(VLOOKUP($B124,'By Population'!$G$2:$K$14,5,FALSE))*'By Speed'!$N137*Scenario_VMT_3*$N124","v":0},{"$f":"(VLOOKUP($B124,'By Population'!$G$2:$K$14,5,FALSE))*'By Speed'!$O137*Scenario_VMT_3*$N124","v":0},{"$f":"(VLOOKUP($B124,'By Population'!$G$2:$K$14,5,FALSE))*'By Speed'!$P137*Scenario_VMT_3*$N124","v":0},{"$f":"(VLOOKUP($B124,'By Population'!$G$2:$K$14,5,FALSE))*'By Speed'!$Q137*Scenario_VMT_3*$N124","v":0},{"$f":"(VLOOKUP($B124,'By Population'!$G$2:$K$14,5,FALSE))*'By Speed'!$R137*Scenario_VMT_3*$N124","v":0},{"$f":"(VLOOKUP($B124,'By Population'!$G$2:$K$14,5,FALSE))*'By Speed'!$S137*Scenario_VMT_3*$N124","v":0},{"$f":"(VLOOKUP($B124,'By Population'!$G$2:$K$14,5,FALSE))*'By Speed'!$T137*Scenario_VMT_3*$N124","v":0},{"$f":"(VLOOKUP($B124,'By Population'!$G$2:$K$14,5,FALSE))*'By Speed'!$U137*Scenario_VMT_3*$N124","v":0},0,{"$f":"(VLOOKUP($B124,'By Population'!$G$2:$K$14,5,FALSE))*'By Speed'!$M137*Scenario_VMT_4*$N124","v":0},{"$f":"(VLOOKUP($B124,'By Population'!$G$2:$K$14,5,FALSE))*'By Speed'!$N137*Scenario_VMT_4*$N124","v":0},{"$f":"(VLOOKUP($B124,'By Population'!$G$2:$K$14,5,FALSE))*'By Speed'!$O137*Scenario_VMT_4*$N124","v":0},{"$f":"(VLOOKUP($B124,'By Population'!$G$2:$K$14,5,FALSE))*'By Speed'!$P137*Scenario_VMT_4*$N124","v":0},{"$f":"(VLOOKUP($B124,'By Population'!$G$2:$K$14,5,FALSE))*'By Speed'!$Q137*Scenario_VMT_4*$N124","v":0},{"$f":"(VLOOKUP($B124,'By Population'!$G$2:$K$14,5,FALSE))*'By Speed'!$R137*Scenario_VMT_4*$N124","v":0},{"$f":"(VLOOKUP($B124,'By Population'!$G$2:$K$14,5,FALSE))*'By Speed'!$S137*Scenario_VMT_4*$N124","v":0},{"$f":"(VLOOKUP($B124,'By Population'!$G$2:$K$14,5,FALSE))*'By Speed'!$T137*Scenario_VMT_4*$N124","v":0},{"$f":"(VLOOKUP($B124,'By Population'!$G$2:$K$14,5,FALSE))*'By Speed'!$U137*Scenario_VMT_4*$N124","v":0},0,{"$f":"(VLOOKUP($B124,'By Population'!$G$2:$K$14,5,FALSE))*'By Speed'!$M137*Scenario_VMT_5*$N124","v":0},{"$f":"(VLOOKUP($B124,'By Population'!$G$2:$K$14,5,FALSE))*'By Speed'!$N137*Scenario_VMT_5*$N124","v":0},{"$f":"(VLOOKUP($B124,'By Population'!$G$2:$K$14,5,FALSE))*'By Speed'!$O137*Scenario_VMT_5*$N124","v":0},{"$f":"(VLOOKUP($B124,'By Population'!$G$2:$K$14,5,FALSE))*'By Speed'!$P137*Scenario_VMT_5*$N124","v":0},{"$f":"(VLOOKUP($B124,'By Population'!$G$2:$K$14,5,FALSE))*'By Speed'!$Q137*Scenario_VMT_5*$N124","v":0},{"$f":"(VLOOKUP($B124,'By Population'!$G$2:$K$14,5,FALSE))*'By Speed'!$R137*Scenario_VMT_5*$N124","v":0},{"$f":"(VLOOKUP($B124,'By Population'!$G$2:$K$14,5,FALSE))*'By Speed'!$S137*Scenario_VMT_5*$N124","v":0},{"$f":"(VLOOKUP($B124,'By Population'!$G$2:$K$14,5,FALSE))*'By Speed'!$T137*Scenario_VMT_5*$N124","v":0},{"$f":"(VLOOKUP($B124,'By Population'!$G$2:$K$14,5,FALSE))*'By Speed'!$U137*Scenario_VMT_5*$N124","v":0},0]
[134,"LHD2_DSL",55,"LHD2_DSL_55",{"$f":"(VLOOKUP($B125,'By Population'!$G$2:$K$14,5,FALSE))*'By Speed'!$M138*Scenario_VMT_EX*$N125","v":0},{"$f":"(VLOOKUP($B125,'By Population'!$G$2:$K$14,5,FALSE))*'By Speed'!$N138*Scenario_VMT_EX*$N125","v":0},{"$f":"(VLOOKUP($B125,'By Population'!$G$2:$K$14,5,FALSE))*'By Speed'!$O138*Scenario_VMT_EX*$N125","v":0},{"$f":"(VLOOKUP($B125,'By Population'!$G$2:$K$14,5,FALSE))*'By Speed'!$P138*Scenario_VMT_EX*$N125","v":0},{"$f":"(VLOOKUP($B125,'By Population'!$G$2:$K$14,5,FALSE))*'By Speed'!$Q138*Scenario_VMT_EX*$N125","v":0},{"$f":"(VLOOKUP($B125,'By Population'!$G$2:$K$14,5,FALSE))*'By Speed'!$R138*Scenario_VMT_EX*$N125","v":0},{"$f":"(VLOOKUP($B125,'By Population'!$G$2:$K$14,5,FALSE))*'By Speed'!$S138*Scenario_VMT_EX*$N125","v":0},{"$f":"(VLOOKUP($B125,'By Population'!$G$2:$K$14,5,FALSE))*'By Speed'!$T138*Scenario_VMT_EX*$N125","v":0},{"$f":"(VLOOKUP($B125,'By Population'!$G$2:$K$14,5,FALSE))*'By Speed'!$U138*Scenario_VMT_EX*$N125","v":0},0,{"$f":"(VLOOKUP($B125,'By Population'!$G$2:$K$14,5,FALSE))*'By Speed'!$M138*Scenario_VMT_1*$N125","v":0},{"$f":"(VLOOKUP($B125,'By Population'!$G$2:$K$14,5,FALSE))*'By Speed'!$N138*Scenario_VMT_1*$N125","v":0},{"$f":"(VLOOKUP($B125,'By Population'!$G$2:$K$14,5,FALSE))*'By Speed'!$O138*Scenario_VMT_1*$N125","v":0},{"$f":"(VLOOKUP($B125,'By Population'!$G$2:$K$14,5,FALSE))*'By Speed'!$P138*Scenario_VMT_1*$N125","v":0},{"$f":"(VLOOKUP($B125,'By Population'!$G$2:$K$14,5,FALSE))*'By Speed'!$Q138*Scenario_VMT_1*$N125","v":0},{"$f":"(VLOOKUP($B125,'By Population'!$G$2:$K$14,5,FALSE))*'By Speed'!$R138*Scenario_VMT_1*$N125","v":0},{"$f":"(VLOOKUP($B125,'By Population'!$G$2:$K$14,5,FALSE))*'By Speed'!$S138*Scenario_VMT_1*$N125","v":0},{"$f":"(VLOOKUP($B125,'By Population'!$G$2:$K$14,5,FALSE))*'By Speed'!$T138*Scenario_VMT_1*$N125","v":0},{"$f":"(VLOOKUP($B125,'By Population'!$G$2:$K$14,5,FALSE))*'By Speed'!$U138*Scenario_VMT_1*$N125","v":0},0,{"$f":"(VLOOKUP($B125,'By Population'!$G$2:$K$14,5,FALSE))*'By Speed'!$M138*Scenario_VMT_2*$N125","v":0},{"$f":"(VLOOKUP($B125,'By Population'!$G$2:$K$14,5,FALSE))*'By Speed'!$N138*Scenario_VMT_2*$N125","v":0},{"$f":"(VLOOKUP($B125,'By Population'!$G$2:$K$14,5,FALSE))*'By Speed'!$O138*Scenario_VMT_2*$N125","v":0},{"$f":"(VLOOKUP($B125,'By Population'!$G$2:$K$14,5,FALSE))*'By Speed'!$P138*Scenario_VMT_2*$N125","v":0},{"$f":"(VLOOKUP($B125,'By Population'!$G$2:$K$14,5,FALSE))*'By Speed'!$Q138*Scenario_VMT_2*$N125","v":0},{"$f":"(VLOOKUP($B125,'By Population'!$G$2:$K$14,5,FALSE))*'By Speed'!$R138*Scenario_VMT_2*$N125","v":0},{"$f":"(VLOOKUP($B125,'By Population'!$G$2:$K$14,5,FALSE))*'By Speed'!$S138*Scenario_VMT_2*$N125","v":0},{"$f":"(VLOOKUP($B125,'By Population'!$G$2:$K$14,5,FALSE))*'By Speed'!$T138*Scenario_VMT_2*$N125","v":0},{"$f":"(VLOOKUP($B125,'By Population'!$G$2:$K$14,5,FALSE))*'By Speed'!$U138*Scenario_VMT_2*$N125","v":0},0,{"$f":"(VLOOKUP($B125,'By Population'!$G$2:$K$14,5,FALSE))*'By Speed'!$M138*Scenario_VMT_3*$N125","v":0},{"$f":"(VLOOKUP($B125,'By Population'!$G$2:$K$14,5,FALSE))*'By Speed'!$N138*Scenario_VMT_3*$N125","v":0},{"$f":"(VLOOKUP($B125,'By Population'!$G$2:$K$14,5,FALSE))*'By Speed'!$O138*Scenario_VMT_3*$N125","v":0},{"$f":"(VLOOKUP($B125,'By Population'!$G$2:$K$14,5,FALSE))*'By Speed'!$P138*Scenario_VMT_3*$N125","v":0},{"$f":"(VLOOKUP($B125,'By Population'!$G$2:$K$14,5,FALSE))*'By Speed'!$Q138*Scenario_VMT_3*$N125","v":0},{"$f":"(VLOOKUP($B125,'By Population'!$G$2:$K$14,5,FALSE))*'By Speed'!$R138*Scenario_VMT_3*$N125","v":0},{"$f":"(VLOOKUP($B125,'By Population'!$G$2:$K$14,5,FALSE))*'By Speed'!$S138*Scenario_VMT_3*$N125","v":0},{"$f":"(VLOOKUP($B125,'By Population'!$G$2:$K$14,5,FALSE))*'By Speed'!$T138*Scenario_VMT_3*$N125","v":0},{"$f":"(VLOOKUP($B125,'By Population'!$G$2:$K$14,5,FALSE))*'By Speed'!$U138*Scenario_VMT_3*$N125","v":0},0,{"$f":"(VLOOKUP($B125,'By Population'!$G$2:$K$14,5,FALSE))*'By Speed'!$M138*Scenario_VMT_4*$N125","v":0},{"$f":"(VLOOKUP($B125,'By Population'!$G$2:$K$14,5,FALSE))*'By Speed'!$N138*Scenario_VMT_4*$N125","v":0},{"$f":"(VLOOKUP($B125,'By Population'!$G$2:$K$14,5,FALSE))*'By Speed'!$O138*Scenario_VMT_4*$N125","v":0},{"$f":"(VLOOKUP($B125,'By Population'!$G$2:$K$14,5,FALSE))*'By Speed'!$P138*Scenario_VMT_4*$N125","v":0},{"$f":"(VLOOKUP($B125,'By Population'!$G$2:$K$14,5,FALSE))*'By Speed'!$Q138*Scenario_VMT_4*$N125","v":0},{"$f":"(VLOOKUP($B125,'By Population'!$G$2:$K$14,5,FALSE))*'By Speed'!$R138*Scenario_VMT_4*$N125","v":0},{"$f":"(VLOOKUP($B125,'By Population'!$G$2:$K$14,5,FALSE))*'By Speed'!$S138*Scenario_VMT_4*$N125","v":0},{"$f":"(VLOOKUP($B125,'By Population'!$G$2:$K$14,5,FALSE))*'By Speed'!$T138*Scenario_VMT_4*$N125","v":0},{"$f":"(VLOOKUP($B125,'By Population'!$G$2:$K$14,5,FALSE))*'By Speed'!$U138*Scenario_VMT_4*$N125","v":0},0,{"$f":"(VLOOKUP($B125,'By Population'!$G$2:$K$14,5,FALSE))*'By Speed'!$M138*Scenario_VMT_5*$N125","v":0},{"$f":"(VLOOKUP($B125,'By Population'!$G$2:$K$14,5,FALSE))*'By Speed'!$N138*Scenario_VMT_5*$N125","v":0},{"$f":"(VLOOKUP($B125,'By Population'!$G$2:$K$14,5,FALSE))*'By Speed'!$O138*Scenario_VMT_5*$N125","v":0},{"$f":"(VLOOKUP($B125,'By Population'!$G$2:$K$14,5,FALSE))*'By Speed'!$P138*Scenario_VMT_5*$N125","v":0},{"$f":"(VLOOKUP($B125,'By Population'!$G$2:$K$14,5,FALSE))*'By Speed'!$Q138*Scenario_VMT_5*$N125","v":0},{"$f":"(VLOOKUP($B125,'By Population'!$G$2:$K$14,5,FALSE))*'By Speed'!$R138*Scenario_VMT_5*$N125","v":0},{"$f":"(VLOOKUP($B125,'By Population'!$G$2:$K$14,5,FALSE))*'By Speed'!$S138*Scenario_VMT_5*$N125","v":0},{"$f":"(VLOOKUP($B125,'By Population'!$G$2:$K$14,5,FALSE))*'By Speed'!$T138*Scenario_VMT_5*$N125","v":0},{"$f":"(VLOOKUP($B125,'By Population'!$G$2:$K$14,5,FALSE))*'By Speed'!$U138*Scenario_VMT_5*$N125","v":0},0]
[136,"LHD2_DSL",60,"LHD2_DSL_60",{"$f":"(VLOOKUP($B126,'By Population'!$G$2:$K$14,5,FALSE))*'By Speed'!$M139*Scenario_VMT_EX*$N126","v":0},{"$f":"(VLOOKUP($B126,'By Population'!$G$2:$K$14,5,FALSE))*'By Speed'!$N139*Scenario_VMT_EX*$N126","v":0},{"$f":"(VLOOKUP($B126,'By Population'!$G$2:$K$14,5,FALSE))*'By Speed'!$O139*Scenario_VMT_EX*$N126","v":0},{"$f":"(VLOOKUP($B126,'By Population'!$G$2:$K$14,5,FALSE))*'By Speed'!$P139*Scenario_VMT_EX*$N126","v":0},{"$f":"(VLOOKUP($B126,'By Population'!$G$2:$K$14,5,FALSE))*'By Speed'!$Q139*Scenario_VMT_EX*$N126","v":0},{"$f":"(VLOOKUP($B126,'By Population'!$G$2:$K$14,5,FALSE))*'By Speed'!$R139*Scenario_VMT_EX*$N126","v":0},{"$f":"(VLOOKUP($B126,'By Population'!$G$2:$K$14,5,FALSE))*'By Speed'!$S139*Scenario_VMT_EX*$N126","v":0},{"$f":"(VLOOKUP($B126,'By Population'!$G$2:$K$14,5,FALSE))*'By Speed'!$T139*Scenario_VMT_EX*$N126","v":0},{"$f":"(VLOOKUP($B126,'By Population'!$G$2:$K$14,5,FALSE))*'By Speed'!$U139*Scenario_VMT_EX*$N126","v":0},0,{"$f":"(VLOOKUP($B126,'By Population'!$G$2:$K$14,5,FALSE))*'By Speed'!$M139*Scenario_VMT_1*$N126","v":0},{"$f":"(VLOOKUP($B126,'By Population'!$G$2:$K$14,5,FALSE))*'By Speed'!$N139*Scenario_VMT_1*$N126","v":0},{"$f":"(VLOOKUP($B126,'By Population'!$G$2:$K$14,5,FALSE))*'By Speed'!$O139*Scenario_VMT_1*$N126","v":0},{"$f":"(VLOOKUP($B126,'By Population'!$G$2:$K$14,5,FALSE))*'By Speed'!$P139*Scenario_VMT_1*$N126","v":0},{"$f":"(VLOOKUP($B126,'By Population'!$G$2:$K$14,5,FALSE))*'By Speed'!$Q139*Scenario_VMT_1*$N126","v":0},{"$f":"(VLOOKUP($B126,'By Population'!$G$2:$K$14,5,FALSE))*'By Speed'!$R139*Scenario_VMT_1*$N126","v":0},{"$f":"(VLOOKUP($B126,'By Population'!$G$2:$K$14,5,FALSE))*'By Speed'!$S139*Scenario_VMT_1*$N126","v":0},{"$f":"(VLOOKUP($B126,'By Population'!$G$2:$K$14,5,FALSE))*'By Speed'!$T139*Scenario_VMT_1*$N126","v":0},{"$f":"(VLOOKUP($B126,'By Population'!$G$2:$K$14,5,FALSE))*'By Speed'!$U139*Scenario_VMT_1*$N126","v":0},0,{"$f":"(VLOOKUP($B126,'By Population'!$G$2:$K$14,5,FALSE))*'By Speed'!$M139*Scenario_VMT_2*$N126","v":0},{"$f":"(VLOOKUP($B126,'By Population'!$G$2:$K$14,5,FALSE))*'By Speed'!$N139*Scenario_VMT_2*$N126","v":0},{"$f":"(VLOOKUP($B126,'By Population'!$G$2:$K$14,5,FALSE))*'By Speed'!$O139*Scenario_VMT_2*$N126","v":0},{"$f":"(VLOOKUP($B126,'By Population'!$G$2:$K$14,5,FALSE))*'By Speed'!$P139*Scenario_VMT_2*$N126","v":0},{"$f":"(VLOOKUP($B126,'By Population'!$G$2:$K$14,5,FALSE))*'By Speed'!$Q139*Scenario_VMT_2*$N126","v":0},{"$f":"(VLOOKUP($B126,'By Population'!$G$2:$K$14,5,FALSE))*'By Speed'!$R139*Scenario_VMT_2*$N126","v":0},{"$f":"(VLOOKUP($B126,'By Population'!$G$2:$K$14,5,FALSE))*'By Speed'!$S139*Scenario_VMT_2*$N126","v":0},{"$f":"(VLOOKUP($B126,'By Population'!$G$2:$K$14,5,FALSE))*'By Speed'!$T139*Scenario_VMT_2*$N126","v":0},{"$f":"(VLOOKUP($B126,'By Population'!$G$2:$K$14,5,FALSE))*'By Speed'!$U139*Scenario_VMT_2*$N126","v":0},0,{"$f":"(VLOOKUP($B126,'By Population'!$G$2:$K$14,5,FALSE))*'By Speed'!$M139*Scenario_VMT_3*$N126","v":0},{"$f":"(VLOOKUP($B126,'By Population'!$G$2:$K$14,5,FALSE))*'By Speed'!$N139*Scenario_VMT_3*$N126","v":0},{"$f":"(VLOOKUP($B126,'By Population'!$G$2:$K$14,5,FALSE))*'By Speed'!$O139*Scenario_VMT_3*$N126","v":0},{"$f":"(VLOOKUP($B126,'By Population'!$G$2:$K$14,5,FALSE))*'By Speed'!$P139*Scenario_VMT_3*$N126","v":0},{"$f":"(VLOOKUP($B126,'By Population'!$G$2:$K$14,5,FALSE))*'By Speed'!$Q139*Scenario_VMT_3*$N126","v":0},{"$f":"(VLOOKUP($B126,'By Population'!$G$2:$K$14,5,FALSE))*'By Speed'!$R139*Scenario_VMT_3*$N126","v":0},{"$f":"(VLOOKUP($B126,'By Population'!$G$2:$K$14,5,FALSE))*'By Speed'!$S139*Scenario_VMT_3*$N126","v":0},{"$f":"(VLOOKUP($B126,'By Population'!$G$2:$K$14,5,FALSE))*'By Speed'!$T139*Scenario_VMT_3*$N126","v":0},{"$f":"(VLOOKUP($B126,'By Population'!$G$2:$K$14,5,FALSE))*'By Speed'!$U139*Scenario_VMT_3*$N126","v":0},0,{"$f":"(VLOOKUP($B126,'By Population'!$G$2:$K$14,5,FALSE))*'By Speed'!$M139*Scenario_VMT_4*$N126","v":0},{"$f":"(VLOOKUP($B126,'By Population'!$G$2:$K$14,5,FALSE))*'By Speed'!$N139*Scenario_VMT_4*$N126","v":0},{"$f":"(VLOOKUP($B126,'By Population'!$G$2:$K$14,5,FALSE))*'By Speed'!$O139*Scenario_VMT_4*$N126","v":0},{"$f":"(VLOOKUP($B126,'By Population'!$G$2:$K$14,5,FALSE))*'By Speed'!$P139*Scenario_VMT_4*$N126","v":0},{"$f":"(VLOOKUP($B126,'By Population'!$G$2:$K$14,5,FALSE))*'By Speed'!$Q139*Scenario_VMT_4*$N126","v":0},{"$f":"(VLOOKUP($B126,'By Population'!$G$2:$K$14,5,FALSE))*'By Speed'!$R139*Scenario_VMT_4*$N126","v":0},{"$f":"(VLOOKUP($B126,'By Population'!$G$2:$K$14,5,FALSE))*'By Speed'!$S139*Scenario_VMT_4*$N126","v":0},{"$f":"(VLOOKUP($B126,'By Population'!$G$2:$K$14,5,FALSE))*'By Speed'!$T139*Scenario_VMT_4*$N126","v":0},{"$f":"(VLOOKUP($B126,'By Population'!$G$2:$K$14,5,FALSE))*'By Speed'!$U139*Scenario_VMT_4*$N126","v":0},0,{"$f":"(VLOOKUP($B126,'By Population'!$G$2:$K$14,5,FALSE))*'By Speed'!$M139*Scenario_VMT_5*$N126","v":0},{"$f":"(VLOOKUP($B126,'By Population'!$G$2:$K$14,5,FALSE))*'By Speed'!$N139*Scenario_VMT_5*$N126","v":0},{"$f":"(VLOOKUP($B126,'By Population'!$G$2:$K$14,5,FALSE))*'By Speed'!$O139*Scenario_VMT_5*$N126","v":0},{"$f":"(VLOOKUP($B126,'By Population'!$G$2:$K$14,5,FALSE))*'By Speed'!$P139*Scenario_VMT_5*$N126","v":0},{"$f":"(VLOOKUP($B126,'By Population'!$G$2:$K$14,5,FALSE))*'By Speed'!$Q139*Scenario_VMT_5*$N126","v":0},{"$f":"(VLOOKUP($B126,'By Population'!$G$2:$K$14,5,FALSE))*'By Speed'!$R139*Scenario_VMT_5*$N126","v":0},{"$f":"(VLOOKUP($B126,'By Population'!$G$2:$K$14,5,FALSE))*'By Speed'!$S139*Scenario_VMT_5*$N126","v":0},{"$f":"(VLOOKUP($B126,'By Population'!$G$2:$K$14,5,FALSE))*'By Speed'!$T139*Scenario_VMT_5*$N126","v":0},{"$f":"(VLOOKUP($B126,'By Population'!$G$2:$K$14,5,FALSE))*'By Speed'!$U139*Scenario_VMT_5*$N126","v":0},0]
[138,"LHD2_DSL",65,"LHD2_DSL_65",{"$f":"(VLOOKUP($B127,'By Population'!$G$2:$K$14,5,FALSE))*'By Speed'!$M140*Scenario_VMT_EX*$N127","v":0},{"$f":"(VLOOKUP($B127,'By Population'!$G$2:$K$14,5,FALSE))*'By Speed'!$N140*Scenario_VMT_EX*$N127","v":0},{"$f":"(VLOOKUP($B127,'By Population'!$G$2:$K$14,5,FALSE))*'By Speed'!$O140*Scenario_VMT_EX*$N127","v":0},{"$f":"(VLOOKUP($B127,'By Population'!$G$2:$K$14,5,FALSE))*'By Speed'!$P140*Scenario_VMT_EX*$N127","v":0},{"$f":"(VLOOKUP($B127,'By Population'!$G$2:$K$14,5,FALSE))*'By Speed'!$Q140*Scenario_VMT_EX*$N127","v":0},{"$f":"(VLOOKUP($B127,'By Population'!$G$2:$K$14,5,FALSE))*'By Speed'!$R140*Scenario_VMT_EX*$N127","v":0},{"$f":"(VLOOKUP($B127,'By Population'!$G$2:$K$14,5,FALSE))*'By Speed'!$S140*Scenario_VMT_EX*$N127","v":0},{"$f":"(VLOOKUP($B127,'By Population'!$G$2:$K$14,5,FALSE))*'By Speed'!$T140*Scenario_VMT_EX*$N127","v":0},{"$f":"(VLOOKUP($B127,'By Population'!$G$2:$K$14,5,FALSE))*'By Speed'!$U140*Scenario_VMT_EX*$N127","v":0},0,{"$f":"(VLOOKUP($B127,'By Population'!$G$2:$K$14,5,FALSE))*'By Speed'!$M140*Scenario_VMT_1*$N127","v":0},{"$f":"(VLOOKUP($B127,'By Population'!$G$2:$K$14,5,FALSE))*'By Speed'!$N140*Scenario_VMT_1*$N127","v":0},{"$f":"(VLOOKUP($B127,'By Population'!$G$2:$K$14,5,FALSE))*'By Speed'!$O140*Scenario_VMT_1*$N127","v":0},{"$f":"(VLOOKUP($B127,'By Population'!$G$2:$K$14,5,FALSE))*'By Speed'!$P140*Scenario_VMT_1*$N127","v":0},{"$f":"(VLOOKUP($B127,'By Population'!$G$2:$K$14,5,FALSE))*'By Speed'!$Q140*Scenario_VMT_1*$N127","v":0},{"$f":"(VLOOKUP($B127,'By Population'!$G$2:$K$14,5,FALSE))*'By Speed'!$R140*Scenario_VMT_1*$N127","v":0},{"$f":"(VLOOKUP($B127,'By Population'!$G$2:$K$14,5,FALSE))*'By Speed'!$S140*Scenario_VMT_1*$N127","v":0},{"$f":"(VLOOKUP($B127,'By Population'!$G$2:$K$14,5,FALSE))*'By Speed'!$T140*Scenario_VMT_1*$N127","v":0},{"$f":"(VLOOKUP($B127,'By Population'!$G$2:$K$14,5,FALSE))*'By Speed'!$U140*Scenario_VMT_1*$N127","v":0},0,{"$f":"(VLOOKUP($B127,'By Population'!$G$2:$K$14,5,FALSE))*'By Speed'!$M140*Scenario_VMT_2*$N127","v":0},{"$f":"(VLOOKUP($B127,'By Population'!$G$2:$K$14,5,FALSE))*'By Speed'!$N140*Scenario_VMT_2*$N127","v":0},{"$f":"(VLOOKUP($B127,'By Population'!$G$2:$K$14,5,FALSE))*'By Speed'!$O140*Scenario_VMT_2*$N127","v":0},{"$f":"(VLOOKUP($B127,'By Population'!$G$2:$K$14,5,FALSE))*'By Speed'!$P140*Scenario_VMT_2*$N127","v":0},{"$f":"(VLOOKUP($B127,'By Population'!$G$2:$K$14,5,FALSE))*'By Speed'!$Q140*Scenario_VMT_2*$N127","v":0},{"$f":"(VLOOKUP($B127,'By Population'!$G$2:$K$14,5,FALSE))*'By Speed'!$R140*Scenario_VMT_2*$N127","v":0},{"$f":"(VLOOKUP($B127,'By Population'!$G$2:$K$14,5,FALSE))*'By Speed'!$S140*Scenario_VMT_2*$N127","v":0},{"$f":"(VLOOKUP($B127,'By Population'!$G$2:$K$14,5,FALSE))*'By Speed'!$T140*Scenario_VMT_2*$N127","v":0},{"$f":"(VLOOKUP($B127,'By Population'!$G$2:$K$14,5,FALSE))*'By Speed'!$U140*Scenario_VMT_2*$N127","v":0},0,{"$f":"(VLOOKUP($B127,'By Population'!$G$2:$K$14,5,FALSE))*'By Speed'!$M140*Scenario_VMT_3*$N127","v":0},{"$f":"(VLOOKUP($B127,'By Population'!$G$2:$K$14,5,FALSE))*'By Speed'!$N140*Scenario_VMT_3*$N127","v":0},{"$f":"(VLOOKUP($B127,'By Population'!$G$2:$K$14,5,FALSE))*'By Speed'!$O140*Scenario_VMT_3*$N127","v":0},{"$f":"(VLOOKUP($B127,'By Population'!$G$2:$K$14,5,FALSE))*'By Speed'!$P140*Scenario_VMT_3*$N127","v":0},{"$f":"(VLOOKUP($B127,'By Population'!$G$2:$K$14,5,FALSE))*'By Speed'!$Q140*Scenario_VMT_3*$N127","v":0},{"$f":"(VLOOKUP($B127,'By Population'!$G$2:$K$14,5,FALSE))*'By Speed'!$R140*Scenario_VMT_3*$N127","v":0},{"$f":"(VLOOKUP($B127,'By Population'!$G$2:$K$14,5,FALSE))*'By Speed'!$S140*Scenario_VMT_3*$N127","v":0},{"$f":"(VLOOKUP($B127,'By Population'!$G$2:$K$14,5,FALSE))*'By Speed'!$T140*Scenario_VMT_3*$N127","v":0},{"$f":"(VLOOKUP($B127,'By Population'!$G$2:$K$14,5,FALSE))*'By Speed'!$U140*Scenario_VMT_3*$N127","v":0},0,{"$f":"(VLOOKUP($B127,'By Population'!$G$2:$K$14,5,FALSE))*'By Speed'!$M140*Scenario_VMT_4*$N127","v":0},{"$f":"(VLOOKUP($B127,'By Population'!$G$2:$K$14,5,FALSE))*'By Speed'!$N140*Scenario_VMT_4*$N127","v":0},{"$f":"(VLOOKUP($B127,'By Population'!$G$2:$K$14,5,FALSE))*'By Speed'!$O140*Scenario_VMT_4*$N127","v":0},{"$f":"(VLOOKUP($B127,'By Population'!$G$2:$K$14,5,FALSE))*'By Speed'!$P140*Scenario_VMT_4*$N127","v":0},{"$f":"(VLOOKUP($B127,'By Population'!$G$2:$K$14,5,FALSE))*'By Speed'!$Q140*Scenario_VMT_4*$N127","v":0},{"$f":"(VLOOKUP($B127,'By Population'!$G$2:$K$14,5,FALSE))*'By Speed'!$R140*Scenario_VMT_4*$N127","v":0},{"$f":"(VLOOKUP($B127,'By Population'!$G$2:$K$14,5,FALSE))*'By Speed'!$S140*Scenario_VMT_4*$N127","v":0},{"$f":"(VLOOKUP($B127,'By Population'!$G$2:$K$14,5,FALSE))*'By Speed'!$T140*Scenario_VMT_4*$N127","v":0},{"$f":"(VLOOKUP($B127,'By Population'!$G$2:$K$14,5,FALSE))*'By Speed'!$U140*Scenario_VMT_4*$N127","v":0},0,{"$f":"(VLOOKUP($B127,'By Population'!$G$2:$K$14,5,FALSE))*'By Speed'!$M140*Scenario_VMT_5*$N127","v":0},{"$f":"(VLOOKUP($B127,'By Population'!$G$2:$K$14,5,FALSE))*'By Speed'!$N140*Scenario_VMT_5*$N127","v":0},{"$f":"(VLOOKUP($B127,'By Population'!$G$2:$K$14,5,FALSE))*'By Speed'!$O140*Scenario_VMT_5*$N127","v":0},{"$f":"(VLOOKUP($B127,'By Population'!$G$2:$K$14,5,FALSE))*'By Speed'!$P140*Scenario_VMT_5*$N127","v":0},{"$f":"(VLOOKUP($B127,'By Population'!$G$2:$K$14,5,FALSE))*'By Speed'!$Q140*Scenario_VMT_5*$N127","v":0},{"$f":"(VLOOKUP($B127,'By Population'!$G$2:$K$14,5,FALSE))*'By Speed'!$R140*Scenario_VMT_5*$N127","v":0},{"$f":"(VLOOKUP($B127,'By Population'!$G$2:$K$14,5,FALSE))*'By Speed'!$S140*Scenario_VMT_5*$N127","v":0},{"$f":"(VLOOKUP($B127,'By Population'!$G$2:$K$14,5,FALSE))*'By Speed'!$T140*Scenario_VMT_5*$N127","v":0},{"$f":"(VLOOKUP($B127,'By Population'!$G$2:$K$14,5,FALSE))*'By Speed'!$U140*Scenario_VMT_5*$N127","v":0},0]
[140,"LHD2_DSL",70,"LHD2_DSL_70",{"$f":"(VLOOKUP($B128,'By Population'!$G$2:$K$14,5,FALSE))*'By Speed'!$M141*Scenario_VMT_EX*$N128","v":0},{"$f":"(VLOOKUP($B128,'By Population'!$G$2:$K$14,5,FALSE))*'By Speed'!$N141*Scenario_VMT_EX*$N128","v":0},{"$f":"(VLOOKUP($B128,'By Population'!$G$2:$K$14,5,FALSE))*'By Speed'!$O141*Scenario_VMT_EX*$N128","v":0},{"$f":"(VLOOKUP($B128,'By Population'!$G$2:$K$14,5,FALSE))*'By Speed'!$P141*Scenario_VMT_EX*$N128","v":0},{"$f":"(VLOOKUP($B128,'By Population'!$G$2:$K$14,5,FALSE))*'By Speed'!$Q141*Scenario_VMT_EX*$N128","v":0},{"$f":"(VLOOKUP($B128,'By Population'!$G$2:$K$14,5,FALSE))*'By Speed'!$R141*Scenario_VMT_EX*$N128","v":0},{"$f":"(VLOOKUP($B128,'By Population'!$G$2:$K$14,5,FALSE))*'By Speed'!$S141*Scenario_VMT_EX*$N128","v":0},{"$f":"(VLOOKUP($B128,'By Population'!$G$2:$K$14,5,FALSE))*'By Speed'!$T141*Scenario_VMT_EX*$N128","v":0},{"$f":"(VLOOKUP($B128,'By Population'!$G$2:$K$14,5,FALSE))*'By Speed'!$U141*Scenario_VMT_EX*$N128","v":0},0,{"$f":"(VLOOKUP($B128,'By Population'!$G$2:$K$14,5,FALSE))*'By Speed'!$M141*Scenario_VMT_1*$N128","v":0},{"$f":"(VLOOKUP($B128,'By Population'!$G$2:$K$14,5,FALSE))*'By Speed'!$N141*Scenario_VMT_1*$N128","v":0},{"$f":"(VLOOKUP($B128,'By Population'!$G$2:$K$14,5,FALSE))*'By Speed'!$O141*Scenario_VMT_1*$N128","v":0},{"$f":"(VLOOKUP($B128,'By Population'!$G$2:$K$14,5,FALSE))*'By Speed'!$P141*Scenario_VMT_1*$N128","v":0},{"$f":"(VLOOKUP($B128,'By Population'!$G$2:$K$14,5,FALSE))*'By Speed'!$Q141*Scenario_VMT_1*$N128","v":0},{"$f":"(VLOOKUP($B128,'By Population'!$G$2:$K$14,5,FALSE))*'By Speed'!$R141*Scenario_VMT_1*$N128","v":0},{"$f":"(VLOOKUP($B128,'By Population'!$G$2:$K$14,5,FALSE))*'By Speed'!$S141*Scenario_VMT_1*$N128","v":0},{"$f":"(VLOOKUP($B128,'By Population'!$G$2:$K$14,5,FALSE))*'By Speed'!$T141*Scenario_VMT_1*$N128","v":0},{"$f":"(VLOOKUP($B128,'By Population'!$G$2:$K$14,5,FALSE))*'By Speed'!$U141*Scenario_VMT_1*$N128","v":0},0,{"$f":"(VLOOKUP($B128,'By Population'!$G$2:$K$14,5,FALSE))*'By Speed'!$M141*Scenario_VMT_2*$N128","v":0},{"$f":"(VLOOKUP($B128,'By Population'!$G$2:$K$14,5,FALSE))*'By Speed'!$N141*Scenario_VMT_2*$N128","v":0},{"$f":"(VLOOKUP($B128,'By Population'!$G$2:$K$14,5,FALSE))*'By Speed'!$O141*Scenario_VMT_2*$N128","v":0},{"$f":"(VLOOKUP($B128,'By Population'!$G$2:$K$14,5,FALSE))*'By Speed'!$P141*Scenario_VMT_2*$N128","v":0},{"$f":"(VLOOKUP($B128,'By Population'!$G$2:$K$14,5,FALSE))*'By Speed'!$Q141*Scenario_VMT_2*$N128","v":0},{"$f":"(VLOOKUP($B128,'By Population'!$G$2:$K$14,5,FALSE))*'By Speed'!$R141*Scenario_VMT_2*$N128","v":0},{"$f":"(VLOOKUP($B128,'By Population'!$G$2:$K$14,5,FALSE))*'By Speed'!$S141*Scenario_VMT_2*$N128","v":0},{"$f":"(VLOOKUP($B128,'By Population'!$G$2:$K$14,5,FALSE))*'By Speed'!$T141*Scenario_VMT_2*$N128","v":0},{"$f":"(VLOOKUP($B128,'By Population'!$G$2:$K$14,5,FALSE))*'By Speed'!$U141*Scenario_VMT_2*$N128","v":0},0,{"$f":"(VLOOKUP($B128,'By Population'!$G$2:$K$14,5,FALSE))*'By Speed'!$M141*Scenario_VMT_3*$N128","v":0},{"$f":"(VLOOKUP($B128,'By Population'!$G$2:$K$14,5,FALSE))*'By Speed'!$N141*Scenario_VMT_3*$N128","v":0},{"$f":"(VLOOKUP($B128,'By Population'!$G$2:$K$14,5,FALSE))*'By Speed'!$O141*Scenario_VMT_3*$N128","v":0},{"$f":"(VLOOKUP($B128,'By Population'!$G$2:$K$14,5,FALSE))*'By Speed'!$P141*Scenario_VMT_3*$N128","v":0},{"$f":"(VLOOKUP($B128,'By Population'!$G$2:$K$14,5,FALSE))*'By Speed'!$Q141*Scenario_VMT_3*$N128","v":0},{"$f":"(VLOOKUP($B128,'By Population'!$G$2:$K$14,5,FALSE))*'By Speed'!$R141*Scenario_VMT_3*$N128","v":0},{"$f":"(VLOOKUP($B128,'By Population'!$G$2:$K$14,5,FALSE))*'By Speed'!$S141*Scenario_VMT_3*$N128","v":0},{"$f":"(VLOOKUP($B128,'By Population'!$G$2:$K$14,5,FALSE))*'By Speed'!$T141*Scenario_VMT_3*$N128","v":0},{"$f":"(VLOOKUP($B128,'By Population'!$G$2:$K$14,5,FALSE))*'By Speed'!$U141*Scenario_VMT_3*$N128","v":0},0,{"$f":"(VLOOKUP($B128,'By Population'!$G$2:$K$14,5,FALSE))*'By Speed'!$M141*Scenario_VMT_4*$N128","v":0},{"$f":"(VLOOKUP($B128,'By Population'!$G$2:$K$14,5,FALSE))*'By Speed'!$N141*Scenario_VMT_4*$N128","v":0},{"$f":"(VLOOKUP($B128,'By Population'!$G$2:$K$14,5,FALSE))*'By Speed'!$O141*Scenario_VMT_4*$N128","v":0},{"$f":"(VLOOKUP($B128,'By Population'!$G$2:$K$14,5,FALSE))*'By Speed'!$P141*Scenario_VMT_4*$N128","v":0},{"$f":"(VLOOKUP($B128,'By Population'!$G$2:$K$14,5,FALSE))*'By Speed'!$Q141*Scenario_VMT_4*$N128","v":0},{"$f":"(VLOOKUP($B128,'By Population'!$G$2:$K$14,5,FALSE))*'By Speed'!$R141*Scenario_VMT_4*$N128","v":0},{"$f":"(VLOOKUP($B128,'By Population'!$G$2:$K$14,5,FALSE))*'By Speed'!$S141*Scenario_VMT_4*$N128","v":0},{"$f":"(VLOOKUP($B128,'By Population'!$G$2:$K$14,5,FALSE))*'By Speed'!$T141*Scenario_VMT_4*$N128","v":0},{"$f":"(VLOOKUP($B128,'By Population'!$G$2:$K$14,5,FALSE))*'By Speed'!$U141*Scenario_VMT_4*$N128","v":0},0,{"$f":"(VLOOKUP($B128,'By Population'!$G$2:$K$14,5,FALSE))*'By Speed'!$M141*Scenario_VMT_5*$N128","v":0},{"$f":"(VLOOKUP($B128,'By Population'!$G$2:$K$14,5,FALSE))*'By Speed'!$N141*Scenario_VMT_5*$N128","v":0},{"$f":"(VLOOKUP($B128,'By Population'!$G$2:$K$14,5,FALSE))*'By Speed'!$O141*Scenario_VMT_5*$N128","v":0},{"$f":"(VLOOKUP($B128,'By Population'!$G$2:$K$14,5,FALSE))*'By Speed'!$P141*Scenario_VMT_5*$N128","v":0},{"$f":"(VLOOKUP($B128,'By Population'!$G$2:$K$14,5,FALSE))*'By Speed'!$Q141*Scenario_VMT_5*$N128","v":0},{"$f":"(VLOOKUP($B128,'By Population'!$G$2:$K$14,5,FALSE))*'By Speed'!$R141*Scenario_VMT_5*$N128","v":0},{"$f":"(VLOOKUP($B128,'By Population'!$G$2:$K$14,5,FALSE))*'By Speed'!$S141*Scenario_VMT_5*$N128","v":0},{"$f":"(VLOOKUP($B128,'By Population'!$G$2:$K$14,5,FALSE))*'By Speed'!$T141*Scenario_VMT_5*$N128","v":0},{"$f":"(VLOOKUP($B128,'By Population'!$G$2:$K$14,5,FALSE))*'By Speed'!$U141*Scenario_VMT_5*$N128","v":0},0]
[115,"LHD2_GAS",10,"LHD2_GAS_10",{"$f":"(VLOOKUP($B129,'By Population'!$G$2:$K$14,5,FALSE))*'By Speed'!$M142*Scenario_VMT_EX*$N129","v":0},{"$f":"(VLOOKUP($B129,'By Population'!$G$2:$K$14,5,FALSE))*'By Speed'!$N142*Scenario_VMT_EX*$N129","v":0},{"$f":"(VLOOKUP($B129,'By Population'!$G$2:$K$14,5,FALSE))*'By Speed'!$O142*Scenario_VMT_EX*$N129","v":0},{"$f":"(VLOOKUP($B129,'By Population'!$G$2:$K$14,5,FALSE))*'By Speed'!$P142*Scenario_VMT_EX*$N129","v":0},{"$f":"(VLOOKUP($B129,'By Population'!$G$2:$K$14,5,FALSE))*'By Speed'!$Q142*Scenario_VMT_EX*$N129","v":0},{"$f":"(VLOOKUP($B129,'By Population'!$G$2:$K$14,5,FALSE))*'By Speed'!$R142*Scenario_VMT_EX*$N129","v":0},{"$f":"(VLOOKUP($B129,'By Population'!$G$2:$K$14,5,FALSE))*'By Speed'!$S142*Scenario_VMT_EX*$N129","v":0},{"$f":"(VLOOKUP($B129,'By Population'!$G$2:$K$14,5,FALSE))*'By Speed'!$T142*Scenario_VMT_EX*$N129","v":0},{"$f":"(VLOOKUP($B129,'By Population'!$G$2:$K$14,5,FALSE))*'By Speed'!$U142*Scenario_VMT_EX*$N129","v":0},0,{"$f":"(VLOOKUP($B129,'By Population'!$G$2:$K$14,5,FALSE))*'By Speed'!$M142*Scenario_VMT_1*$N129","v":0},{"$f":"(VLOOKUP($B129,'By Population'!$G$2:$K$14,5,FALSE))*'By Speed'!$N142*Scenario_VMT_1*$N129","v":0},{"$f":"(VLOOKUP($B129,'By Population'!$G$2:$K$14,5,FALSE))*'By Speed'!$O142*Scenario_VMT_1*$N129","v":0},{"$f":"(VLOOKUP($B129,'By Population'!$G$2:$K$14,5,FALSE))*'By Speed'!$P142*Scenario_VMT_1*$N129","v":0},{"$f":"(VLOOKUP($B129,'By Population'!$G$2:$K$14,5,FALSE))*'By Speed'!$Q142*Scenario_VMT_1*$N129","v":0},{"$f":"(VLOOKUP($B129,'By Population'!$G$2:$K$14,5,FALSE))*'By Speed'!$R142*Scenario_VMT_1*$N129","v":0},{"$f":"(VLOOKUP($B129,'By Population'!$G$2:$K$14,5,FALSE))*'By Speed'!$S142*Scenario_VMT_1*$N129","v":0},{"$f":"(VLOOKUP($B129,'By Population'!$G$2:$K$14,5,FALSE))*'By Speed'!$T142*Scenario_VMT_1*$N129","v":0},{"$f":"(VLOOKUP($B129,'By Population'!$G$2:$K$14,5,FALSE))*'By Speed'!$U142*Scenario_VMT_1*$N129","v":0},0,{"$f":"(VLOOKUP($B129,'By Population'!$G$2:$K$14,5,FALSE))*'By Speed'!$M142*Scenario_VMT_2*$N129","v":0},{"$f":"(VLOOKUP($B129,'By Population'!$G$2:$K$14,5,FALSE))*'By Speed'!$N142*Scenario_VMT_2*$N129","v":0},{"$f":"(VLOOKUP($B129,'By Population'!$G$2:$K$14,5,FALSE))*'By Speed'!$O142*Scenario_VMT_2*$N129","v":0},{"$f":"(VLOOKUP($B129,'By Population'!$G$2:$K$14,5,FALSE))*'By Speed'!$P142*Scenario_VMT_2*$N129","v":0},{"$f":"(VLOOKUP($B129,'By Population'!$G$2:$K$14,5,FALSE))*'By Speed'!$Q142*Scenario_VMT_2*$N129","v":0},{"$f":"(VLOOKUP($B129,'By Population'!$G$2:$K$14,5,FALSE))*'By Speed'!$R142*Scenario_VMT_2*$N129","v":0},{"$f":"(VLOOKUP($B129,'By Population'!$G$2:$K$14,5,FALSE))*'By Speed'!$S142*Scenario_VMT_2*$N129","v":0},{"$f":"(VLOOKUP($B129,'By Population'!$G$2:$K$14,5,FALSE))*'By Speed'!$T142*Scenario_VMT_2*$N129","v":0},{"$f":"(VLOOKUP($B129,'By Population'!$G$2:$K$14,5,FALSE))*'By Speed'!$U142*Scenario_VMT_2*$N129","v":0},0,{"$f":"(VLOOKUP($B129,'By Population'!$G$2:$K$14,5,FALSE))*'By Speed'!$M142*Scenario_VMT_3*$N129","v":0},{"$f":"(VLOOKUP($B129,'By Population'!$G$2:$K$14,5,FALSE))*'By Speed'!$N142*Scenario_VMT_3*$N129","v":0},{"$f":"(VLOOKUP($B129,'By Population'!$G$2:$K$14,5,FALSE))*'By Speed'!$O142*Scenario_VMT_3*$N129","v":0},{"$f":"(VLOOKUP($B129,'By Population'!$G$2:$K$14,5,FALSE))*'By Speed'!$P142*Scenario_VMT_3*$N129","v":0},{"$f":"(VLOOKUP($B129,'By Population'!$G$2:$K$14,5,FALSE))*'By Speed'!$Q142*Scenario_VMT_3*$N129","v":0},{"$f":"(VLOOKUP($B129,'By Population'!$G$2:$K$14,5,FALSE))*'By Speed'!$R142*Scenario_VMT_3*$N129","v":0},{"$f":"(VLOOKUP($B129,'By Population'!$G$2:$K$14,5,FALSE))*'By Speed'!$S142*Scenario_VMT_3*$N129","v":0},{"$f":"(VLOOKUP($B129,'By Population'!$G$2:$K$14,5,FALSE))*'By Speed'!$T142*Scenario_VMT_3*$N129","v":0},{"$f":"(VLOOKUP($B129,'By Population'!$G$2:$K$14,5,FALSE))*'By Speed'!$U142*Scenario_VMT_3*$N129","v":0},0,{"$f":"(VLOOKUP($B129,'By Population'!$G$2:$K$14,5,FALSE))*'By Speed'!$M142*Scenario_VMT_4*$N129","v":0},{"$f":"(VLOOKUP($B129,'By Population'!$G$2:$K$14,5,FALSE))*'By Speed'!$N142*Scenario_VMT_4*$N129","v":0},{"$f":"(VLOOKUP($B129,'By Population'!$G$2:$K$14,5,FALSE))*'By Speed'!$O142*Scenario_VMT_4*$N129","v":0},{"$f":"(VLOOKUP($B129,'By Population'!$G$2:$K$14,5,FALSE))*'By Speed'!$P142*Scenario_VMT_4*$N129","v":0},{"$f":"(VLOOKUP($B129,'By Population'!$G$2:$K$14,5,FALSE))*'By Speed'!$Q142*Scenario_VMT_4*$N129","v":0},{"$f":"(VLOOKUP($B129,'By Population'!$G$2:$K$14,5,FALSE))*'By Speed'!$R142*Scenario_VMT_4*$N129","v":0},{"$f":"(VLOOKUP($B129,'By Population'!$G$2:$K$14,5,FALSE))*'By Speed'!$S142*Scenario_VMT_4*$N129","v":0},{"$f":"(VLOOKUP($B129,'By Population'!$G$2:$K$14,5,FALSE))*'By Speed'!$T142*Scenario_VMT_4*$N129","v":0},{"$f":"(VLOOKUP($B129,'By Population'!$G$2:$K$14,5,FALSE))*'By Speed'!$U142*Scenario_VMT_4*$N129","v":0},0,{"$f":"(VLOOKUP($B129,'By Population'!$G$2:$K$14,5,FALSE))*'By Speed'!$M142*Scenario_VMT_5*$N129","v":0},{"$f":"(VLOOKUP($B129,'By Population'!$G$2:$K$14,5,FALSE))*'By Speed'!$N142*Scenario_VMT_5*$N129","v":0},{"$f":"(VLOOKUP($B129,'By Population'!$G$2:$K$14,5,FALSE))*'By Speed'!$O142*Scenario_VMT_5*$N129","v":0},{"$f":"(VLOOKUP($B129,'By Population'!$G$2:$K$14,5,FALSE))*'By Speed'!$P142*Scenario_VMT_5*$N129","v":0},{"$f":"(VLOOKUP($B129,'By Population'!$G$2:$K$14,5,FALSE))*'By Speed'!$Q142*Scenario_VMT_5*$N129","v":0},{"$f":"(VLOOKUP($B129,'By Population'!$G$2:$K$14,5,FALSE))*'By Speed'!$R142*Scenario_VMT_5*$N129","v":0},{"$f":"(VLOOKUP($B129,'By Population'!$G$2:$K$14,5,FALSE))*'By Speed'!$S142*Scenario_VMT_5*$N129","v":0},{"$f":"(VLOOKUP($B129,'By Population'!$G$2:$K$14,5,FALSE))*'By Speed'!$T142*Scenario_VMT_5*$N129","v":0},{"$f":"(VLOOKUP($B129,'By Population'!$G$2:$K$14,5,FALSE))*'By Speed'!$U142*Scenario_VMT_5*$N129","v":0},0]
[117,"LHD2_GAS",15,"LHD2_GAS_15",{"$f":"(VLOOKUP($B130,'By Population'!$G$2:$K$14,5,FALSE))*'By Speed'!$M143*Scenario_VMT_EX*$N130","v":0},{"$f":"(VLOOKUP($B130,'By Population'!$G$2:$K$14,5,FALSE))*'By Speed'!$N143*Scenario_VMT_EX*$N130","v":0},{"$f":"(VLOOKUP($B130,'By Population'!$G$2:$K$14,5,FALSE))*'By Speed'!$O143*Scenario_VMT_EX*$N130","v":0},{"$f":"(VLOOKUP($B130,'By Population'!$G$2:$K$14,5,FALSE))*'By Speed'!$P143*Scenario_VMT_EX*$N130","v":0},{"$f":"(VLOOKUP($B130,'By Population'!$G$2:$K$14,5,FALSE))*'By Speed'!$Q143*Scenario_VMT_EX*$N130","v":0},{"$f":"(VLOOKUP($B130,'By Population'!$G$2:$K$14,5,FALSE))*'By Speed'!$R143*Scenario_VMT_EX*$N130","v":0},{"$f":"(VLOOKUP($B130,'By Population'!$G$2:$K$14,5,FALSE))*'By Speed'!$S143*Scenario_VMT_EX*$N130","v":0},{"$f":"(VLOOKUP($B130,'By Population'!$G$2:$K$14,5,FALSE))*'By Speed'!$T143*Scenario_VMT_EX*$N130","v":0},{"$f":"(VLOOKUP($B130,'By Population'!$G$2:$K$14,5,FALSE))*'By Speed'!$U143*Scenario_VMT_EX*$N130","v":0},0,{"$f":"(VLOOKUP($B130,'By Population'!$G$2:$K$14,5,FALSE))*'By Speed'!$M143*Scenario_VMT_1*$N130","v":0},{"$f":"(VLOOKUP($B130,'By Population'!$G$2:$K$14,5,FALSE))*'By Speed'!$N143*Scenario_VMT_1*$N130","v":0},{"$f":"(VLOOKUP($B130,'By Population'!$G$2:$K$14,5,FALSE))*'By Speed'!$O143*Scenario_VMT_1*$N130","v":0},{"$f":"(VLOOKUP($B130,'By Population'!$G$2:$K$14,5,FALSE))*'By Speed'!$P143*Scenario_VMT_1*$N130","v":0},{"$f":"(VLOOKUP($B130,'By Population'!$G$2:$K$14,5,FALSE))*'By Speed'!$Q143*Scenario_VMT_1*$N130","v":0},{"$f":"(VLOOKUP($B130,'By Population'!$G$2:$K$14,5,FALSE))*'By Speed'!$R143*Scenario_VMT_1*$N130","v":0},{"$f":"(VLOOKUP($B130,'By Population'!$G$2:$K$14,5,FALSE))*'By Speed'!$S143*Scenario_VMT_1*$N130","v":0},{"$f":"(VLOOKUP($B130,'By Population'!$G$2:$K$14,5,FALSE))*'By Speed'!$T143*Scenario_VMT_1*$N130","v":0},{"$f":"(VLOOKUP($B130,'By Population'!$G$2:$K$14,5,FALSE))*'By Speed'!$U143*Scenario_VMT_1*$N130","v":0},0,{"$f":"(VLOOKUP($B130,'By Population'!$G$2:$K$14,5,FALSE))*'By Speed'!$M143*Scenario_VMT_2*$N130","v":0},{"$f":"(VLOOKUP($B130,'By Population'!$G$2:$K$14,5,FALSE))*'By Speed'!$N143*Scenario_VMT_2*$N130","v":0},{"$f":"(VLOOKUP($B130,'By Population'!$G$2:$K$14,5,FALSE))*'By Speed'!$O143*Scenario_VMT_2*$N130","v":0},{"$f":"(VLOOKUP($B130,'By Population'!$G$2:$K$14,5,FALSE))*'By Speed'!$P143*Scenario_VMT_2*$N130","v":0},{"$f":"(VLOOKUP($B130,'By Population'!$G$2:$K$14,5,FALSE))*'By Speed'!$Q143*Scenario_VMT_2*$N130","v":0},{"$f":"(VLOOKUP($B130,'By Population'!$G$2:$K$14,5,FALSE))*'By Speed'!$R143*Scenario_VMT_2*$N130","v":0},{"$f":"(VLOOKUP($B130,'By Population'!$G$2:$K$14,5,FALSE))*'By Speed'!$S143*Scenario_VMT_2*$N130","v":0},{"$f":"(VLOOKUP($B130,'By Population'!$G$2:$K$14,5,FALSE))*'By Speed'!$T143*Scenario_VMT_2*$N130","v":0},{"$f":"(VLOOKUP($B130,'By Population'!$G$2:$K$14,5,FALSE))*'By Speed'!$U143*Scenario_VMT_2*$N130","v":0},0,{"$f":"(VLOOKUP($B130,'By Population'!$G$2:$K$14,5,FALSE))*'By Speed'!$M143*Scenario_VMT_3*$N130","v":0},{"$f":"(VLOOKUP($B130,'By Population'!$G$2:$K$14,5,FALSE))*'By Speed'!$N143*Scenario_VMT_3*$N130","v":0},{"$f":"(VLOOKUP($B130,'By Population'!$G$2:$K$14,5,FALSE))*'By Speed'!$O143*Scenario_VMT_3*$N130","v":0},{"$f":"(VLOOKUP($B130,'By Population'!$G$2:$K$14,5,FALSE))*'By Speed'!$P143*Scenario_VMT_3*$N130","v":0},{"$f":"(VLOOKUP($B130,'By Population'!$G$2:$K$14,5,FALSE))*'By Speed'!$Q143*Scenario_VMT_3*$N130","v":0},{"$f":"(VLOOKUP($B130,'By Population'!$G$2:$K$14,5,FALSE))*'By Speed'!$R143*Scenario_VMT_3*$N130","v":0},{"$f":"(VLOOKUP($B130,'By Population'!$G$2:$K$14,5,FALSE))*'By Speed'!$S143*Scenario_VMT_3*$N130","v":0},{"$f":"(VLOOKUP($B130,'By Population'!$G$2:$K$14,5,FALSE))*'By Speed'!$T143*Scenario_VMT_3*$N130","v":0},{"$f":"(VLOOKUP($B130,'By Population'!$G$2:$K$14,5,FALSE))*'By Speed'!$U143*Scenario_VMT_3*$N130","v":0},0,{"$f":"(VLOOKUP($B130,'By Population'!$G$2:$K$14,5,FALSE))*'By Speed'!$M143*Scenario_VMT_4*$N130","v":0},{"$f":"(VLOOKUP($B130,'By Population'!$G$2:$K$14,5,FALSE))*'By Speed'!$N143*Scenario_VMT_4*$N130","v":0},{"$f":"(VLOOKUP($B130,'By Population'!$G$2:$K$14,5,FALSE))*'By Speed'!$O143*Scenario_VMT_4*$N130","v":0},{"$f":"(VLOOKUP($B130,'By Population'!$G$2:$K$14,5,FALSE))*'By Speed'!$P143*Scenario_VMT_4*$N130","v":0},{"$f":"(VLOOKUP($B130,'By Population'!$G$2:$K$14,5,FALSE))*'By Speed'!$Q143*Scenario_VMT_4*$N130","v":0},{"$f":"(VLOOKUP($B130,'By Population'!$G$2:$K$14,5,FALSE))*'By Speed'!$R143*Scenario_VMT_4*$N130","v":0},{"$f":"(VLOOKUP($B130,'By Population'!$G$2:$K$14,5,FALSE))*'By Speed'!$S143*Scenario_VMT_4*$N130","v":0},{"$f":"(VLOOKUP($B130,'By Population'!$G$2:$K$14,5,FALSE))*'By Speed'!$T143*Scenario_VMT_4*$N130","v":0},{"$f":"(VLOOKUP($B130,'By Population'!$G$2:$K$14,5,FALSE))*'By Speed'!$U143*Scenario_VMT_4*$N130","v":0},0,{"$f":"(VLOOKUP($B130,'By Population'!$G$2:$K$14,5,FALSE))*'By Speed'!$M143*Scenario_VMT_5*$N130","v":0},{"$f":"(VLOOKUP($B130,'By Population'!$G$2:$K$14,5,FALSE))*'By Speed'!$N143*Scenario_VMT_5*$N130","v":0},{"$f":"(VLOOKUP($B130,'By Population'!$G$2:$K$14,5,FALSE))*'By Speed'!$O143*Scenario_VMT_5*$N130","v":0},{"$f":"(VLOOKUP($B130,'By Population'!$G$2:$K$14,5,FALSE))*'By Speed'!$P143*Scenario_VMT_5*$N130","v":0},{"$f":"(VLOOKUP($B130,'By Population'!$G$2:$K$14,5,FALSE))*'By Speed'!$Q143*Scenario_VMT_5*$N130","v":0},{"$f":"(VLOOKUP($B130,'By Population'!$G$2:$K$14,5,FALSE))*'By Speed'!$R143*Scenario_VMT_5*$N130","v":0},{"$f":"(VLOOKUP($B130,'By Population'!$G$2:$K$14,5,FALSE))*'By Speed'!$S143*Scenario_VMT_5*$N130","v":0},{"$f":"(VLOOKUP($B130,'By Population'!$G$2:$K$14,5,FALSE))*'By Speed'!$T143*Scenario_VMT_5*$N130","v":0},{"$f":"(VLOOKUP($B130,'By Population'!$G$2:$K$14,5,FALSE))*'By Speed'!$U143*Scenario_VMT_5*$N130","v":0},0]
[119,"LHD2_GAS",20,"LHD2_GAS_20",{"$f":"(VLOOKUP($B131,'By Population'!$G$2:$K$14,5,FALSE))*'By Speed'!$M144*Scenario_VMT_EX*$N131","v":0},{"$f":"(VLOOKUP($B131,'By Population'!$G$2:$K$14,5,FALSE))*'By Speed'!$N144*Scenario_VMT_EX*$N131","v":0},{"$f":"(VLOOKUP($B131,'By Population'!$G$2:$K$14,5,FALSE))*'By Speed'!$O144*Scenario_VMT_EX*$N131","v":0},{"$f":"(VLOOKUP($B131,'By Population'!$G$2:$K$14,5,FALSE))*'By Speed'!$P144*Scenario_VMT_EX*$N131","v":0},{"$f":"(VLOOKUP($B131,'By Population'!$G$2:$K$14,5,FALSE))*'By Speed'!$Q144*Scenario_VMT_EX*$N131","v":0},{"$f":"(VLOOKUP($B131,'By Population'!$G$2:$K$14,5,FALSE))*'By Speed'!$R144*Scenario_VMT_EX*$N131","v":0},{"$f":"(VLOOKUP($B131,'By Population'!$G$2:$K$14,5,FALSE))*'By Speed'!$S144*Scenario_VMT_EX*$N131","v":0},{"$f":"(VLOOKUP($B131,'By Population'!$G$2:$K$14,5,FALSE))*'By Speed'!$T144*Scenario_VMT_EX*$N131","v":0},{"$f":"(VLOOKUP($B131,'By Population'!$G$2:$K$14,5,FALSE))*'By Speed'!$U144*Scenario_VMT_EX*$N131","v":0},0,{"$f":"(VLOOKUP($B131,'By Population'!$G$2:$K$14,5,FALSE))*'By Speed'!$M144*Scenario_VMT_1*$N131","v":0},{"$f":"(VLOOKUP($B131,'By Population'!$G$2:$K$14,5,FALSE))*'By Speed'!$N144*Scenario_VMT_1*$N131","v":0},{"$f":"(VLOOKUP($B131,'By Population'!$G$2:$K$14,5,FALSE))*'By Speed'!$O144*Scenario_VMT_1*$N131","v":0},{"$f":"(VLOOKUP($B131,'By Population'!$G$2:$K$14,5,FALSE))*'By Speed'!$P144*Scenario_VMT_1*$N131","v":0},{"$f":"(VLOOKUP($B131,'By Population'!$G$2:$K$14,5,FALSE))*'By Speed'!$Q144*Scenario_VMT_1*$N131","v":0},{"$f":"(VLOOKUP($B131,'By Population'!$G$2:$K$14,5,FALSE))*'By Speed'!$R144*Scenario_VMT_1*$N131","v":0},{"$f":"(VLOOKUP($B131,'By Population'!$G$2:$K$14,5,FALSE))*'By Speed'!$S144*Scenario_VMT_1*$N131","v":0},{"$f":"(VLOOKUP($B131,'By Population'!$G$2:$K$14,5,FALSE))*'By Speed'!$T144*Scenario_VMT_1*$N131","v":0},{"$f":"(VLOOKUP($B131,'By Population'!$G$2:$K$14,5,FALSE))*'By Speed'!$U144*Scenario_VMT_1*$N131","v":0},{"$f":"IF(M131=Scenario_Speed_1,1,0)","v":0},{"$f":"(VLOOKUP($B131,'By Population'!$G$2:$K$14,5,FALSE))*'By Speed'!$M144*Scenario_VMT_2*$N131","v":0},{"$f":"(VLOOKUP($B131,'By Population'!$G$2:$K$14,5,FALSE))*'By Speed'!$N144*Scenario_VMT_2*$N131","v":0},{"$f":"(VLOOKUP($B131,'By Population'!$G$2:$K$14,5,FALSE))*'By Speed'!$O144*Scenario_VMT_2*$N131","v":0},{"$f":"(VLOOKUP($B131,'By Population'!$G$2:$K$14,5,FALSE))*'By Speed'!$P144*Scenario_VMT_2*$N131","v":0},{"$f":"(VLOOKUP($B131,'By Population'!$G$2:$K$14,5,FALSE))*'By Speed'!$Q144*Scenario_VMT_2*$N131","v":0},{"$f":"(VLOOKUP($B131,'By Population'!$G$2:$K$14,5,FALSE))*'By Speed'!$R144*Scenario_VMT_2*$N131","v":0},{"$f":"(VLOOKUP($B131,'By Population'!$G$2:$K$14,5,FALSE))*'By Speed'!$S144*Scenario_VMT_2*$N131","v":0},{"$f":"(VLOOKUP($B131,'By Population'!$G$2:$K$14,5,FALSE))*'By Speed'!$T144*Scenario_VMT_2*$N131","v":0},{"$f":"(VLOOKUP($B131,'By Population'!$G$2:$K$14,5,FALSE))*'By Speed'!$U144*Scenario_VMT_2*$N131","v":0},{"$f":"IF(W131=Scenario_Speed_2,1,0)","v":0},{"$f":"(VLOOKUP($B131,'By Population'!$G$2:$K$14,5,FALSE))*'By Speed'!$M144*Scenario_VMT_3*$N131","v":0},{"$f":"(VLOOKUP($B131,'By Population'!$G$2:$K$14,5,FALSE))*'By Speed'!$N144*Scenario_VMT_3*$N131","v":0},{"$f":"(VLOOKUP($B131,'By Population'!$G$2:$K$14,5,FALSE))*'By Speed'!$O144*Scenario_VMT_3*$N131","v":0},{"$f":"(VLOOKUP($B131,'By Population'!$G$2:$K$14,5,FALSE))*'By Speed'!$P144*Scenario_VMT_3*$N131","v":0},{"$f":"(VLOOKUP($B131,'By Population'!$G$2:$K$14,5,FALSE))*'By Speed'!$Q144*Scenario_VMT_3*$N131","v":0},{"$f":"(VLOOKUP($B131,'By Population'!$G$2:$K$14,5,FALSE))*'By Speed'!$R144*Scenario_VMT_3*$N131","v":0},{"$f":"(VLOOKUP($B131,'By Population'!$G$2:$K$14,5,FALSE))*'By Speed'!$S144*Scenario_VMT_3*$N131","v":0},{"$f":"(VLOOKUP($B131,'By Population'!$G$2:$K$14,5,FALSE))*'By Speed'!$T144*Scenario_VMT_3*$N131","v":0},{"$f":"(VLOOKUP($B131,'By Population'!$G$2:$K$14,5,FALSE))*'By Speed'!$U144*Scenario_VMT_3*$N131","v":0},{"$f":"IF(AG131=Scenario_Speed_3,1,0)","v":0},{"$f":"(VLOOKUP($B131,'By Population'!$G$2:$K$14,5,FALSE))*'By Speed'!$M144*Scenario_VMT_4*$N131","v":0},{"$f":"(VLOOKUP($B131,'By Population'!$G$2:$K$14,5,FALSE))*'By Speed'!$N144*Scenario_VMT_4*$N131","v":0},{"$f":"(VLOOKUP($B131,'By Population'!$G$2:$K$14,5,FALSE))*'By Speed'!$O144*Scenario_VMT_4*$N131","v":0},{"$f":"(VLOOKUP($B131,'By Population'!$G$2:$K$14,5,FALSE))*'By Speed'!$P144*Scenario_VMT_4*$N131","v":0},{"$f":"(VLOOKUP($B131,'By Population'!$G$2:$K$14,5,FALSE))*'By Speed'!$Q144*Scenario_VMT_4*$N131","v":0},{"$f":"(VLOOKUP($B131,'By Population'!$G$2:$K$14,5,FALSE))*'By Speed'!$R144*Scenario_VMT_4*$N131","v":0},{"$f":"(VLOOKUP($B131,'By Population'!$G$2:$K$14,5,FALSE))*'By Speed'!$S144*Scenario_VMT_4*$N131","v":0},{"$f":"(VLOOKUP($B131,'By Population'!$G$2:$K$14,5,FALSE))*'By Speed'!$T144*Scenario_VMT_4*$N131","v":0},{"$f":"(VLOOKUP($B131,'By Population'!$G$2:$K$14,5,FALSE))*'By Speed'!$U144*Scenario_VMT_4*$N131","v":0},{"$f":"IF(AQ131=Scenario_Speed_4,1,0)","v":0},{"$f":"(VLOOKUP($B131,'By Population'!$G$2:$K$14,5,FALSE))*'By Speed'!$M144*Scenario_VMT_5*$N131","v":0},{"$f":"(VLOOKUP($B131,'By Population'!$G$2:$K$14,5,FALSE))*'By Speed'!$N144*Scenario_VMT_5*$N131","v":0},{"$f":"(VLOOKUP($B131,'By Population'!$G$2:$K$14,5,FALSE))*'By Speed'!$O144*Scenario_VMT_5*$N131","v":0},{"$f":"(VLOOKUP($B131,'By Population'!$G$2:$K$14,5,FALSE))*'By Speed'!$P144*Scenario_VMT_5*$N131","v":0},{"$f":"(VLOOKUP($B131,'By Population'!$G$2:$K$14,5,FALSE))*'By Speed'!$Q144*Scenario_VMT_5*$N131","v":0},{"$f":"(VLOOKUP($B131,'By Population'!$G$2:$K$14,5,FALSE))*'By Speed'!$R144*Scenario_VMT_5*$N131","v":0},{"$f":"(VLOOKUP($B131,'By Population'!$G$2:$K$14,5,FALSE))*'By Speed'!$S144*Scenario_VMT_5*$N131","v":0},{"$f":"(VLOOKUP($B131,'By Population'!$G$2:$K$14,5,FALSE))*'By Speed'!$T144*Scenario_VMT_5*$N131","v":0},{"$f":"(VLOOKUP($B131,'By Population'!$G$2:$K$14,5,FALSE))*'By Speed'!$U144*Scenario_VMT_5*$N131","v":0},{"$f":"IF(BA131=Scenario_Speed_5,1,0)","v":0}]
[121,"LHD2_GAS",25,"LHD2_GAS_25",{"$f":"(VLOOKUP($B132,'By Population'!$G$2:$K$14,5,FALSE))*'By Speed'!$M145*Scenario_VMT_EX*$N132","v":0},{"$f":"(VLOOKUP($B132,'By Population'!$G$2:$K$14,5,FALSE))*'By Speed'!$N145*Scenario_VMT_EX*$N132","v":0},{"$f":"(VLOOKUP($B132,'By Population'!$G$2:$K$14,5,FALSE))*'By Speed'!$O145*Scenario_VMT_EX*$N132","v":0},{"$f":"(VLOOKUP($B132,'By Population'!$G$2:$K$14,5,FALSE))*'By Speed'!$P145*Scenario_VMT_EX*$N132","v":0},{"$f":"(VLOOKUP($B132,'By Population'!$G$2:$K$14,5,FALSE))*'By Speed'!$Q145*Scenario_VMT_EX*$N132","v":0},{"$f":"(VLOOKUP($B132,'By Population'!$G$2:$K$14,5,FALSE))*'By Speed'!$R145*Scenario_VMT_EX*$N132","v":0},{"$f":"(VLOOKUP($B132,'By Population'!$G$2:$K$14,5,FALSE))*'By Speed'!$S145*Scenario_VMT_EX*$N132","v":0},{"$f":"(VLOOKUP($B132,'By Population'!$G$2:$K$14,5,FALSE))*'By Speed'!$T145*Scenario_VMT_EX*$N132","v":0},{"$f":"(VLOOKUP($B132,'By Population'!$G$2:$K$14,5,FALSE))*'By Speed'!$U145*Scenario_VMT_EX*$N132","v":0},{"$f":"IF(C132=Scenario_Speed_EX,1,0)","v":1},{"$f":"(VLOOKUP($B132,'By Population'!$G$2:$K$14,5,FALSE))*'By Speed'!$M145*Scenario_VMT_1*$N132","v":0},{"$f":"(VLOOKUP($B132,'By Population'!$G$2:$K$14,5,FALSE))*'By Speed'!$N145*Scenario_VMT_1*$N132","v":0},{"$f":"(VLOOKUP($B132,'By Population'!$G$2:$K$14,5,FALSE))*'By Speed'!$O145*Scenario_VMT_1*$N132","v":0},{"$f":"(VLOOKUP($B132,'By Population'!$G$2:$K$14,5,FALSE))*'By Speed'!$P145*Scenario_VMT_1*$N132","v":0},{"$f":"(VLOOKUP($B132,'By Population'!$G$2:$K$14,5,FALSE))*'By Speed'!$Q145*Scenario_VMT_1*$N132","v":0},{"$f":"(VLOOKUP($B132,'By Population'!$G$2:$K$14,5,FALSE))*'By Speed'!$R145*Scenario_VMT_1*$N132","v":0},{"$f":"(VLOOKUP($B132,'By Population'!$G$2:$K$14,5,FALSE))*'By Speed'!$S145*Scenario_VMT_1*$N132","v":0},{"$f":"(VLOOKUP($B132,'By Population'!$G$2:$K$14,5,FALSE))*'By Speed'!$T145*Scenario_VMT_1*$N132","v":0},{"$f":"(VLOOKUP($B132,'By Population'!$G$2:$K$14,5,FALSE))*'By Speed'!$U145*Scenario_VMT_1*$N132","v":0},0,{"$f":"(VLOOKUP($B132,'By Population'!$G$2:$K$14,5,FALSE))*'By Speed'!$M145*Scenario_VMT_2*$N132","v":0},{"$f":"(VLOOKUP($B132,'By Population'!$G$2:$K$14,5,FALSE))*'By Speed'!$N145*Scenario_VMT_2*$N132","v":0},{"$f":"(VLOOKUP($B132,'By Population'!$G$2:$K$14,5,FALSE))*'By Speed'!$O145*Scenario_VMT_2*$N132","v":0},{"$f":"(VLOOKUP($B132,'By Population'!$G$2:$K$14,5,FALSE))*'By Speed'!$P145*Scenario_VMT_2*$N132","v":0},{"$f":"(VLOOKUP($B132,'By Population'!$G$2:$K$14,5,FALSE))*'By Speed'!$Q145*Scenario_VMT_2*$N132","v":0},{"$f":"(VLOOKUP($B132,'By Population'!$G$2:$K$14,5,FALSE))*'By Speed'!$R145*Scenario_VMT_2*$N132","v":0},{"$f":"(VLOOKUP($B132,'By Population'!$G$2:$K$14,5,FALSE))*'By Speed'!$S145*Scenario_VMT_2*$N132","v":0},{"$f":"(VLOOKUP($B132,'By Population'!$G$2:$K$14,5,FALSE))*'By Speed'!$T145*Scenario_VMT_2*$N132","v":0},{"$f":"(VLOOKUP($B132,'By Population'!$G$2:$K$14,5,FALSE))*'By Speed'!$U145*Scenario_VMT_2*$N132","v":0},0,{"$f":"(VLOOKUP($B132,'By Population'!$G$2:$K$14,5,FALSE))*'By Speed'!$M145*Scenario_VMT_3*$N132","v":0},{"$f":"(VLOOKUP($B132,'By Population'!$G$2:$K$14,5,FALSE))*'By Speed'!$N145*Scenario_VMT_3*$N132","v":0},{"$f":"(VLOOKUP($B132,'By Population'!$G$2:$K$14,5,FALSE))*'By Speed'!$O145*Scenario_VMT_3*$N132","v":0},{"$f":"(VLOOKUP($B132,'By Population'!$G$2:$K$14,5,FALSE))*'By Speed'!$P145*Scenario_VMT_3*$N132","v":0},{"$f":"(VLOOKUP($B132,'By Population'!$G$2:$K$14,5,FALSE))*'By Speed'!$Q145*Scenario_VMT_3*$N132","v":0},{"$f":"(VLOOKUP($B132,'By Population'!$G$2:$K$14,5,FALSE))*'By Speed'!$R145*Scenario_VMT_3*$N132","v":0},{"$f":"(VLOOKUP($B132,'By Population'!$G$2:$K$14,5,FALSE))*'By Speed'!$S145*Scenario_VMT_3*$N132","v":0},{"$f":"(VLOOKUP($B132,'By Population'!$G$2:$K$14,5,FALSE))*'By Speed'!$T145*Scenario_VMT_3*$N132","v":0},{"$f":"(VLOOKUP($B132,'By Population'!$G$2:$K$14,5,FALSE))*'By Speed'!$U145*Scenario_VMT_3*$N132","v":0},0,{"$f":"(VLOOKUP($B132,'By Population'!$G$2:$K$14,5,FALSE))*'By Speed'!$M145*Scenario_VMT_4*$N132","v":0},{"$f":"(VLOOKUP($B132,'By Population'!$G$2:$K$14,5,FALSE))*'By Speed'!$N145*Scenario_VMT_4*$N132","v":0},{"$f":"(VLOOKUP($B132,'By Population'!$G$2:$K$14,5,FALSE))*'By Speed'!$O145*Scenario_VMT_4*$N132","v":0},{"$f":"(VLOOKUP($B132,'By Population'!$G$2:$K$14,5,FALSE))*'By Speed'!$P145*Scenario_VMT_4*$N132","v":0},{"$f":"(VLOOKUP($B132,'By Population'!$G$2:$K$14,5,FALSE))*'By Speed'!$Q145*Scenario_VMT_4*$N132","v":0},{"$f":"(VLOOKUP($B132,'By Population'!$G$2:$K$14,5,FALSE))*'By Speed'!$R145*Scenario_VMT_4*$N132","v":0},{"$f":"(VLOOKUP($B132,'By Population'!$G$2:$K$14,5,FALSE))*'By Speed'!$S145*Scenario_VMT_4*$N132","v":0},{"$f":"(VLOOKUP($B132,'By Population'!$G$2:$K$14,5,FALSE))*'By Speed'!$T145*Scenario_VMT_4*$N132","v":0},{"$f":"(VLOOKUP($B132,'By Population'!$G$2:$K$14,5,FALSE))*'By Speed'!$U145*Scenario_VMT_4*$N132","v":0},0,{"$f":"(VLOOKUP($B132,'By Population'!$G$2:$K$14,5,FALSE))*'By Speed'!$M145*Scenario_VMT_5*$N132","v":0},{"$f":"(VLOOKUP($B132,'By Population'!$G$2:$K$14,5,FALSE))*'By Speed'!$N145*Scenario_VMT_5*$N132","v":0},{"$f":"(VLOOKUP($B132,'By Population'!$G$2:$K$14,5,FALSE))*'By Speed'!$O145*Scenario_VMT_5*$N132","v":0},{"$f":"(VLOOKUP($B132,'By Population'!$G$2:$K$14,5,FALSE))*'By Speed'!$P145*Scenario_VMT_5*$N132","v":0},{"$f":"(VLOOKUP($B132,'By Population'!$G$2:$K$14,5,FALSE))*'By Speed'!$Q145*Scenario_VMT_5*$N132","v":0},{"$f":"(VLOOKUP($B132,'By Population'!$G$2:$K$14,5,FALSE))*'By Speed'!$R145*Scenario_VMT_5*$N132","v":0},{"$f":"(VLOOKUP($B132,'By Population'!$G$2:$K$14,5,FALSE))*'By Speed'!$S145*Scenario_VMT_5*$N132","v":0},{"$f":"(VLOOKUP($B132,'By Population'!$G$2:$K$14,5,FALSE))*'By Speed'!$T145*Scenario_VMT_5*$N132","v":0},{"$f":"(VLOOKUP($B132,'By Population'!$G$2:$K$14,5,FALSE))*'By Speed'!$U145*Scenario_VMT_5*$N132","v":0},0]
[123,"LHD2_GAS",30,"LHD2_GAS_30",{"$f":"(VLOOKUP($B133,'By Population'!$G$2:$K$14,5,FALSE))*'By Speed'!$M146*Scenario_VMT_EX*$N133","v":0},{"$f":"(VLOOKUP($B133,'By Population'!$G$2:$K$14,5,FALSE))*'By Speed'!$N146*Scenario_VMT_EX*$N133","v":0},{"$f":"(VLOOKUP($B133,'By Population'!$G$2:$K$14,5,FALSE))*'By Speed'!$O146*Scenario_VMT_EX*$N133","v":0},{"$f":"(VLOOKUP($B133,'By Population'!$G$2:$K$14,5,FALSE))*'By Speed'!$P146*Scenario_VMT_EX*$N133","v":0},{"$f":"(VLOOKUP($B133,'By Population'!$G$2:$K$14,5,FALSE))*'By Speed'!$Q146*Scenario_VMT_EX*$N133","v":0},{"$f":"(VLOOKUP($B133,'By Population'!$G$2:$K$14,5,FALSE))*'By Speed'!$R146*Scenario_VMT_EX*$N133","v":0},{"$f":"(VLOOKUP($B133,'By Population'!$G$2:$K$14,5,FALSE))*'By Speed'!$S146*Scenario_VMT_EX*$N133","v":0},{"$f":"(VLOOKUP($B133,'By Population'!$G$2:$K$14,5,FALSE))*'By Speed'!$T146*Scenario_VMT_EX*$N133","v":0},{"$f":"(VLOOKUP($B133,'By Population'!$G$2:$K$14,5,FALSE))*'By Speed'!$U146*Scenario_VMT_EX*$N133","v":0},0,{"$f":"(VLOOKUP($B133,'By Population'!$G$2:$K$14,5,FALSE))*'By Speed'!$M146*Scenario_VMT_1*$N133","v":0},{"$f":"(VLOOKUP($B133,'By Population'!$G$2:$K$14,5,FALSE))*'By Speed'!$N146*Scenario_VMT_1*$N133","v":0},{"$f":"(VLOOKUP($B133,'By Population'!$G$2:$K$14,5,FALSE))*'By Speed'!$O146*Scenario_VMT_1*$N133","v":0},{"$f":"(VLOOKUP($B133,'By Population'!$G$2:$K$14,5,FALSE))*'By Speed'!$P146*Scenario_VMT_1*$N133","v":0},{"$f":"(VLOOKUP($B133,'By Population'!$G$2:$K$14,5,FALSE))*'By Speed'!$Q146*Scenario_VMT_1*$N133","v":0},{"$f":"(VLOOKUP($B133,'By Population'!$G$2:$K$14,5,FALSE))*'By Speed'!$R146*Scenario_VMT_1*$N133","v":0},{"$f":"(VLOOKUP($B133,'By Population'!$G$2:$K$14,5,FALSE))*'By Speed'!$S146*Scenario_VMT_1*$N133","v":0},{"$f":"(VLOOKUP($B133,'By Population'!$G$2:$K$14,5,FALSE))*'By Speed'!$T146*Scenario_VMT_1*$N133","v":0},{"$f":"(VLOOKUP($B133,'By Population'!$G$2:$K$14,5,FALSE))*'By Speed'!$U146*Scenario_VMT_1*$N133","v":0},0,{"$f":"(VLOOKUP($B133,'By Population'!$G$2:$K$14,5,FALSE))*'By Speed'!$M146*Scenario_VMT_2*$N133","v":0},{"$f":"(VLOOKUP($B133,'By Population'!$G$2:$K$14,5,FALSE))*'By Speed'!$N146*Scenario_VMT_2*$N133","v":0},{"$f":"(VLOOKUP($B133,'By Population'!$G$2:$K$14,5,FALSE))*'By Speed'!$O146*Scenario_VMT_2*$N133","v":0},{"$f":"(VLOOKUP($B133,'By Population'!$G$2:$K$14,5,FALSE))*'By Speed'!$P146*Scenario_VMT_2*$N133","v":0},{"$f":"(VLOOKUP($B133,'By Population'!$G$2:$K$14,5,FALSE))*'By Speed'!$Q146*Scenario_VMT_2*$N133","v":0},{"$f":"(VLOOKUP($B133,'By Population'!$G$2:$K$14,5,FALSE))*'By Speed'!$R146*Scenario_VMT_2*$N133","v":0},{"$f":"(VLOOKUP($B133,'By Population'!$G$2:$K$14,5,FALSE))*'By Speed'!$S146*Scenario_VMT_2*$N133","v":0},{"$f":"(VLOOKUP($B133,'By Population'!$G$2:$K$14,5,FALSE))*'By Speed'!$T146*Scenario_VMT_2*$N133","v":0},{"$f":"(VLOOKUP($B133,'By Population'!$G$2:$K$14,5,FALSE))*'By Speed'!$U146*Scenario_VMT_2*$N133","v":0},0,{"$f":"(VLOOKUP($B133,'By Population'!$G$2:$K$14,5,FALSE))*'By Speed'!$M146*Scenario_VMT_3*$N133","v":0},{"$f":"(VLOOKUP($B133,'By Population'!$G$2:$K$14,5,FALSE))*'By Speed'!$N146*Scenario_VMT_3*$N133","v":0},{"$f":"(VLOOKUP($B133,'By Population'!$G$2:$K$14,5,FALSE))*'By Speed'!$O146*Scenario_VMT_3*$N133","v":0},{"$f":"(VLOOKUP($B133,'By Population'!$G$2:$K$14,5,FALSE))*'By Speed'!$P146*Scenario_VMT_3*$N133","v":0},{"$f":"(VLOOKUP($B133,'By Population'!$G$2:$K$14,5,FALSE))*'By Speed'!$Q146*Scenario_VMT_3*$N133","v":0},{"$f":"(VLOOKUP($B133,'By Population'!$G$2:$K$14,5,FALSE))*'By Speed'!$R146*Scenario_VMT_3*$N133","v":0},{"$f":"(VLOOKUP($B133,'By Population'!$G$2:$K$14,5,FALSE))*'By Speed'!$S146*Scenario_VMT_3*$N133","v":0},{"$f":"(VLOOKUP($B133,'By Population'!$G$2:$K$14,5,FALSE))*'By Speed'!$T146*Scenario_VMT_3*$N133","v":0},{"$f":"(VLOOKUP($B133,'By Population'!$G$2:$K$14,5,FALSE))*'By Speed'!$U146*Scenario_VMT_3*$N133","v":0},0,{"$f":"(VLOOKUP($B133,'By Population'!$G$2:$K$14,5,FALSE))*'By Speed'!$M146*Scenario_VMT_4*$N133","v":0},{"$f":"(VLOOKUP($B133,'By Population'!$G$2:$K$14,5,FALSE))*'By Speed'!$N146*Scenario_VMT_4*$N133","v":0},{"$f":"(VLOOKUP($B133,'By Population'!$G$2:$K$14,5,FALSE))*'By Speed'!$O146*Scenario_VMT_4*$N133","v":0},{"$f":"(VLOOKUP($B133,'By Population'!$G$2:$K$14,5,FALSE))*'By Speed'!$P146*Scenario_VMT_4*$N133","v":0},{"$f":"(VLOOKUP($B133,'By Population'!$G$2:$K$14,5,FALSE))*'By Speed'!$Q146*Scenario_VMT_4*$N133","v":0},{"$f":"(VLOOKUP($B133,'By Population'!$G$2:$K$14,5,FALSE))*'By Speed'!$R146*Scenario_VMT_4*$N133","v":0},{"$f":"(VLOOKUP($B133,'By Population'!$G$2:$K$14,5,FALSE))*'By Speed'!$S146*Scenario_VMT_4*$N133","v":0},{"$f":"(VLOOKUP($B133,'By Population'!$G$2:$K$14,5,FALSE))*'By Speed'!$T146*Scenario_VMT_4*$N133","v":0},{"$f":"(VLOOKUP($B133,'By Population'!$G$2:$K$14,5,FALSE))*'By Speed'!$U146*Scenario_VMT_4*$N133","v":0},0,{"$f":"(VLOOKUP($B133,'By Population'!$G$2:$K$14,5,FALSE))*'By Speed'!$M146*Scenario_VMT_5*$N133","v":0},{"$f":"(VLOOKUP($B133,'By Population'!$G$2:$K$14,5,FALSE))*'By Speed'!$N146*Scenario_VMT_5*$N133","v":0},{"$f":"(VLOOKUP($B133,'By Population'!$G$2:$K$14,5,FALSE))*'By Speed'!$O146*Scenario_VMT_5*$N133","v":0},{"$f":"(VLOOKUP($B133,'By Population'!$G$2:$K$14,5,FALSE))*'By Speed'!$P146*Scenario_VMT_5*$N133","v":0},{"$f":"(VLOOKUP($B133,'By Population'!$G$2:$K$14,5,FALSE))*'By Speed'!$Q146*Scenario_VMT_5*$N133","v":0},{"$f":"(VLOOKUP($B133,'By Population'!$G$2:$K$14,5,FALSE))*'By Speed'!$R146*Scenario_VMT_5*$N133","v":0},{"$f":"(VLOOKUP($B133,'By Population'!$G$2:$K$14,5,FALSE))*'By Speed'!$S146*Scenario_VMT_5*$N133","v":0},{"$f":"(VLOOKUP($B133,'By Population'!$G$2:$K$14,5,FALSE))*'By Speed'!$T146*Scenario_VMT_5*$N133","v":0},{"$f":"(VLOOKUP($B133,'By Population'!$G$2:$K$14,5,FALSE))*'By Speed'!$U146*Scenario_VMT_5*$N133","v":0},0]
[125,"LHD2_GAS",35,"LHD2_GAS_35",{"$f":"(VLOOKUP($B134,'By Population'!$G$2:$K$14,5,FALSE))*'By Speed'!$M147*Scenario_VMT_EX*$N134","v":0},{"$f":"(VLOOKUP($B134,'By Population'!$G$2:$K$14,5,FALSE))*'By Speed'!$N147*Scenario_VMT_EX*$N134","v":0},{"$f":"(VLOOKUP($B134,'By Population'!$G$2:$K$14,5,FALSE))*'By Speed'!$O147*Scenario_VMT_EX*$N134","v":0},{"$f":"(VLOOKUP($B134,'By Population'!$G$2:$K$14,5,FALSE))*'By Speed'!$P147*Scenario_VMT_EX*$N134","v":0},{"$f":"(VLOOKUP($B134,'By Population'!$G$2:$K$14,5,FALSE))*'By Speed'!$Q147*Scenario_VMT_EX*$N134","v":0},{"$f":"(VLOOKUP($B134,'By Population'!$G$2:$K$14,5,FALSE))*'By Speed'!$R147*Scenario_VMT_EX*$N134","v":0},{"$f":"(VLOOKUP($B134,'By Population'!$G$2:$K$14,5,FALSE))*'By Speed'!$S147*Scenario_VMT_EX*$N134","v":0},{"$f":"(VLOOKUP($B134,'By Population'!$G$2:$K$14,5,FALSE))*'By Speed'!$T147*Scenario_VMT_EX*$N134","v":0},{"$f":"(VLOOKUP($B134,'By Population'!$G$2:$K$14,5,FALSE))*'By Speed'!$U147*Scenario_VMT_EX*$N134","v":0},0,{"$f":"(VLOOKUP($B134,'By Population'!$G$2:$K$14,5,FALSE))*'By Speed'!$M147*Scenario_VMT_1*$N134","v":0},{"$f":"(VLOOKUP($B134,'By Population'!$G$2:$K$14,5,FALSE))*'By Speed'!$N147*Scenario_VMT_1*$N134","v":0},{"$f":"(VLOOKUP($B134,'By Population'!$G$2:$K$14,5,FALSE))*'By Speed'!$O147*Scenario_VMT_1*$N134","v":0},{"$f":"(VLOOKUP($B134,'By Population'!$G$2:$K$14,5,FALSE))*'By Speed'!$P147*Scenario_VMT_1*$N134","v":0},{"$f":"(VLOOKUP($B134,'By Population'!$G$2:$K$14,5,FALSE))*'By Speed'!$Q147*Scenario_VMT_1*$N134","v":0},{"$f":"(VLOOKUP($B134,'By Population'!$G$2:$K$14,5,FALSE))*'By Speed'!$R147*Scenario_VMT_1*$N134","v":0},{"$f":"(VLOOKUP($B134,'By Population'!$G$2:$K$14,5,FALSE))*'By Speed'!$S147*Scenario_VMT_1*$N134","v":0},{"$f":"(VLOOKUP($B134,'By Population'!$G$2:$K$14,5,FALSE))*'By Speed'!$T147*Scenario_VMT_1*$N134","v":0},{"$f":"(VLOOKUP($B134,'By Population'!$G$2:$K$14,5,FALSE))*'By Speed'!$U147*Scenario_VMT_1*$N134","v":0},0,{"$f":"(VLOOKUP($B134,'By Population'!$G$2:$K$14,5,FALSE))*'By Speed'!$M147*Scenario_VMT_2*$N134","v":0},{"$f":"(VLOOKUP($B134,'By Population'!$G$2:$K$14,5,FALSE))*'By Speed'!$N147*Scenario_VMT_2*$N134","v":0},{"$f":"(VLOOKUP($B134,'By Population'!$G$2:$K$14,5,FALSE))*'By Speed'!$O147*Scenario_VMT_2*$N134","v":0},{"$f":"(VLOOKUP($B134,'By Population'!$G$2:$K$14,5,FALSE))*'By Speed'!$P147*Scenario_VMT_2*$N134","v":0},{"$f":"(VLOOKUP($B134,'By Population'!$G$2:$K$14,5,FALSE))*'By Speed'!$Q147*Scenario_VMT_2*$N134","v":0},{"$f":"(VLOOKUP($B134,'By Population'!$G$2:$K$14,5,FALSE))*'By Speed'!$R147*Scenario_VMT_2*$N134","v":0},{"$f":"(VLOOKUP($B134,'By Population'!$G$2:$K$14,5,FALSE))*'By Speed'!$S147*Scenario_VMT_2*$N134","v":0},{"$f":"(VLOOKUP($B134,'By Population'!$G$2:$K$14,5,FALSE))*'By Speed'!$T147*Scenario_VMT_2*$N134","v":0},{"$f":"(VLOOKUP($B134,'By Population'!$G$2:$K$14,5,FALSE))*'By Speed'!$U147*Scenario_VMT_2*$N134","v":0},0,{"$f":"(VLOOKUP($B134,'By Population'!$G$2:$K$14,5,FALSE))*'By Speed'!$M147*Scenario_VMT_3*$N134","v":0},{"$f":"(VLOOKUP($B134,'By Population'!$G$2:$K$14,5,FALSE))*'By Speed'!$N147*Scenario_VMT_3*$N134","v":0},{"$f":"(VLOOKUP($B134,'By Population'!$G$2:$K$14,5,FALSE))*'By Speed'!$O147*Scenario_VMT_3*$N134","v":0},{"$f":"(VLOOKUP($B134,'By Population'!$G$2:$K$14,5,FALSE))*'By Speed'!$P147*Scenario_VMT_3*$N134","v":0},{"$f":"(VLOOKUP($B134,'By Population'!$G$2:$K$14,5,FALSE))*'By Speed'!$Q147*Scenario_VMT_3*$N134","v":0},{"$f":"(VLOOKUP($B134,'By Population'!$G$2:$K$14,5,FALSE))*'By Speed'!$R147*Scenario_VMT_3*$N134","v":0},{"$f":"(VLOOKUP($B134,'By Population'!$G$2:$K$14,5,FALSE))*'By Speed'!$S147*Scenario_VMT_3*$N134","v":0},{"$f":"(VLOOKUP($B134,'By Population'!$G$2:$K$14,5,FALSE))*'By Speed'!$T147*Scenario_VMT_3*$N134","v":0},{"$f":"(VLOOKUP($B134,'By Population'!$G$2:$K$14,5,FALSE))*'By Speed'!$U147*Scenario_VMT_3*$N134","v":0},0,{"$f":"(VLOOKUP($B134,'By Population'!$G$2:$K$14,5,FALSE))*'By Speed'!$M147*Scenario_VMT_4*$N134","v":0},{"$f":"(VLOOKUP($B134,'By Population'!$G$2:$K$14,5,FALSE))*'By Speed'!$N147*Scenario_VMT_4*$N134","v":0},{"$f":"(VLOOKUP($B134,'By Population'!$G$2:$K$14,5,FALSE))*'By Speed'!$O147*Scenario_VMT_4*$N134","v":0},{"$f":"(VLOOKUP($B134,'By Population'!$G$2:$K$14,5,FALSE))*'By Speed'!$P147*Scenario_VMT_4*$N134","v":0},{"$f":"(VLOOKUP($B134,'By Population'!$G$2:$K$14,5,FALSE))*'By Speed'!$Q147*Scenario_VMT_4*$N134","v":0},{"$f":"(VLOOKUP($B134,'By Population'!$G$2:$K$14,5,FALSE))*'By Speed'!$R147*Scenario_VMT_4*$N134","v":0},{"$f":"(VLOOKUP($B134,'By Population'!$G$2:$K$14,5,FALSE))*'By Speed'!$S147*Scenario_VMT_4*$N134","v":0},{"$f":"(VLOOKUP($B134,'By Population'!$G$2:$K$14,5,FALSE))*'By Speed'!$T147*Scenario_VMT_4*$N134","v":0},{"$f":"(VLOOKUP($B134,'By Population'!$G$2:$K$14,5,FALSE))*'By Speed'!$U147*Scenario_VMT_4*$N134","v":0},0,{"$f":"(VLOOKUP($B134,'By Population'!$G$2:$K$14,5,FALSE))*'By Speed'!$M147*Scenario_VMT_5*$N134","v":0},{"$f":"(VLOOKUP($B134,'By Population'!$G$2:$K$14,5,FALSE))*'By Speed'!$N147*Scenario_VMT_5*$N134","v":0},{"$f":"(VLOOKUP($B134,'By Population'!$G$2:$K$14,5,FALSE))*'By Speed'!$O147*Scenario_VMT_5*$N134","v":0},{"$f":"(VLOOKUP($B134,'By Population'!$G$2:$K$14,5,FALSE))*'By Speed'!$P147*Scenario_VMT_5*$N134","v":0},{"$f":"(VLOOKUP($B134,'By Population'!$G$2:$K$14,5,FALSE))*'By Speed'!$Q147*Scenario_VMT_5*$N134","v":0},{"$f":"(VLOOKUP($B134,'By Population'!$G$2:$K$14,5,FALSE))*'By Speed'!$R147*Scenario_VMT_5*$N134","v":0},{"$f":"(VLOOKUP($B134,'By Population'!$G$2:$K$14,5,FALSE))*'By Speed'!$S147*Scenario_VMT_5*$N134","v":0},{"$f":"(VLOOKUP($B134,'By Population'!$G$2:$K$14,5,FALSE))*'By Speed'!$T147*Scenario_VMT_5*$N134","v":0},{"$f":"(VLOOKUP($B134,'By Population'!$G$2:$K$14,5,FALSE))*'By Speed'!$U147*Scenario_VMT_5*$N134","v":0},0]
[127,"LHD2_GAS",40,"LHD2_GAS_40",{"$f":"(VLOOKUP($B135,'By Population'!$G$2:$K$14,5,FALSE))*'By Speed'!$M148*Scenario_VMT_EX*$N135","v":0},{"$f":"(VLOOKUP($B135,'By Population'!$G$2:$K$14,5,FALSE))*'By Speed'!$N148*Scenario_VMT_EX*$N135","v":0},{"$f":"(VLOOKUP($B135,'By Population'!$G$2:$K$14,5,FALSE))*'By Speed'!$O148*Scenario_VMT_EX*$N135","v":0},{"$f":"(VLOOKUP($B135,'By Population'!$G$2:$K$14,5,FALSE))*'By Speed'!$P148*Scenario_VMT_EX*$N135","v":0},{"$f":"(VLOOKUP($B135,'By Population'!$G$2:$K$14,5,FALSE))*'By Speed'!$Q148*Scenario_VMT_EX*$N135","v":0},{"$f":"(VLOOKUP($B135,'By Population'!$G$2:$K$14,5,FALSE))*'By Speed'!$R148*Scenario_VMT_EX*$N135","v":0},{"$f":"(VLOOKUP($B135,'By Population'!$G$2:$K$14,5,FALSE))*'By Speed'!$S148*Scenario_VMT_EX*$N135","v":0},{"$f":"(VLOOKUP($B135,'By Population'!$G$2:$K$14,5,FALSE))*'By Speed'!$T148*Scenario_VMT_EX*$N135","v":0},{"$f":"(VLOOKUP($B135,'By Population'!$G$2:$K$14,5,FALSE))*'By Speed'!$U148*Scenario_VMT_EX*$N135","v":0},0,{"$f":"(VLOOKUP($B135,'By Population'!$G$2:$K$14,5,FALSE))*'By Speed'!$M148*Scenario_VMT_1*$N135","v":0},{"$f":"(VLOOKUP($B135,'By Population'!$G$2:$K$14,5,FALSE))*'By Speed'!$N148*Scenario_VMT_1*$N135","v":0},{"$f":"(VLOOKUP($B135,'By Population'!$G$2:$K$14,5,FALSE))*'By Speed'!$O148*Scenario_VMT_1*$N135","v":0},{"$f":"(VLOOKUP($B135,'By Population'!$G$2:$K$14,5,FALSE))*'By Speed'!$P148*Scenario_VMT_1*$N135","v":0},{"$f":"(VLOOKUP($B135,'By Population'!$G$2:$K$14,5,FALSE))*'By Speed'!$Q148*Scenario_VMT_1*$N135","v":0},{"$f":"(VLOOKUP($B135,'By Population'!$G$2:$K$14,5,FALSE))*'By Speed'!$R148*Scenario_VMT_1*$N135","v":0},{"$f":"(VLOOKUP($B135,'By Population'!$G$2:$K$14,5,FALSE))*'By Speed'!$S148*Scenario_VMT_1*$N135","v":0},{"$f":"(VLOOKUP($B135,'By Population'!$G$2:$K$14,5,FALSE))*'By Speed'!$T148*Scenario_VMT_1*$N135","v":0},{"$f":"(VLOOKUP($B135,'By Population'!$G$2:$K$14,5,FALSE))*'By Speed'!$U148*Scenario_VMT_1*$N135","v":0},0,{"$f":"(VLOOKUP($B135,'By Population'!$G$2:$K$14,5,FALSE))*'By Speed'!$M148*Scenario_VMT_2*$N135","v":0},{"$f":"(VLOOKUP($B135,'By Population'!$G$2:$K$14,5,FALSE))*'By Speed'!$N148*Scenario_VMT_2*$N135","v":0},{"$f":"(VLOOKUP($B135,'By Population'!$G$2:$K$14,5,FALSE))*'By Speed'!$O148*Scenario_VMT_2*$N135","v":0},{"$f":"(VLOOKUP($B135,'By Population'!$G$2:$K$14,5,FALSE))*'By Speed'!$P148*Scenario_VMT_2*$N135","v":0},{"$f":"(VLOOKUP($B135,'By Population'!$G$2:$K$14,5,FALSE))*'By Speed'!$Q148*Scenario_VMT_2*$N135","v":0},{"$f":"(VLOOKUP($B135,'By Population'!$G$2:$K$14,5,FALSE))*'By Speed'!$R148*Scenario_VMT_2*$N135","v":0},{"$f":"(VLOOKUP($B135,'By Population'!$G$2:$K$14,5,FALSE))*'By Speed'!$S148*Scenario_VMT_2*$N135","v":0},{"$f":"(VLOOKUP($B135,'By Population'!$G$2:$K$14,5,FALSE))*'By Speed'!$T148*Scenario_VMT_2*$N135","v":0},{"$f":"(VLOOKUP($B135,'By Population'!$G$2:$K$14,5,FALSE))*'By Speed'!$U148*Scenario_VMT_2*$N135","v":0},0,{"$f":"(VLOOKUP($B135,'By Population'!$G$2:$K$14,5,FALSE))*'By Speed'!$M148*Scenario_VMT_3*$N135","v":0},{"$f":"(VLOOKUP($B135,'By Population'!$G$2:$K$14,5,FALSE))*'By Speed'!$N148*Scenario_VMT_3*$N135","v":0},{"$f":"(VLOOKUP($B135,'By Population'!$G$2:$K$14,5,FALSE))*'By Speed'!$O148*Scenario_VMT_3*$N135","v":0},{"$f":"(VLOOKUP($B135,'By Population'!$G$2:$K$14,5,FALSE))*'By Speed'!$P148*Scenario_VMT_3*$N135","v":0},{"$f":"(VLOOKUP($B135,'By Population'!$G$2:$K$14,5,FALSE))*'By Speed'!$Q148*Scenario_VMT_3*$N135","v":0},{"$f":"(VLOOKUP($B135,'By Population'!$G$2:$K$14,5,FALSE))*'By Speed'!$R148*Scenario_VMT_3*$N135","v":0},{"$f":"(VLOOKUP($B135,'By Population'!$G$2:$K$14,5,FALSE))*'By Speed'!$S148*Scenario_VMT_3*$N135","v":0},{"$f":"(VLOOKUP($B135,'By Population'!$G$2:$K$14,5,FALSE))*'By Speed'!$T148*Scenario_VMT_3*$N135","v":0},{"$f":"(VLOOKUP($B135,'By Population'!$G$2:$K$14,5,FALSE))*'By Speed'!$U148*Scenario_VMT_3*$N135","v":0},0,{"$f":"(VLOOKUP($B135,'By Population'!$G$2:$K$14,5,FALSE))*'By Speed'!$M148*Scenario_VMT_4*$N135","v":0},{"$f":"(VLOOKUP($B135,'By Population'!$G$2:$K$14,5,FALSE))*'By Speed'!$N148*Scenario_VMT_4*$N135","v":0},{"$f":"(VLOOKUP($B135,'By Population'!$G$2:$K$14,5,FALSE))*'By Speed'!$O148*Scenario_VMT_4*$N135","v":0},{"$f":"(VLOOKUP($B135,'By Population'!$G$2:$K$14,5,FALSE))*'By Speed'!$P148*Scenario_VMT_4*$N135","v":0},{"$f":"(VLOOKUP($B135,'By Population'!$G$2:$K$14,5,FALSE))*'By Speed'!$Q148*Scenario_VMT_4*$N135","v":0},{"$f":"(VLOOKUP($B135,'By Population'!$G$2:$K$14,5,FALSE))*'By Speed'!$R148*Scenario_VMT_4*$N135","v":0},{"$f":"(VLOOKUP($B135,'By Population'!$G$2:$K$14,5,FALSE))*'By Speed'!$S148*Scenario_VMT_4*$N135","v":0},{"$f":"(VLOOKUP($B135,'By Population'!$G$2:$K$14,5,FALSE))*'By Speed'!$T148*Scenario_VMT_4*$N135","v":0},{"$f":"(VLOOKUP($B135,'By Population'!$G$2:$K$14,5,FALSE))*'By Speed'!$U148*Scenario_VMT_4*$N135","v":0},0,{"$f":"(VLOOKUP($B135,'By Population'!$G$2:$K$14,5,FALSE))*'By Speed'!$M148*Scenario_VMT_5*$N135","v":0},{"$f":"(VLOOKUP($B135,'By Population'!$G$2:$K$14,5,FALSE))*'By Speed'!$N148*Scenario_VMT_5*$N135","v":0},{"$f":"(VLOOKUP($B135,'By Population'!$G$2:$K$14,5,FALSE))*'By Speed'!$O148*Scenario_VMT_5*$N135","v":0},{"$f":"(VLOOKUP($B135,'By Population'!$G$2:$K$14,5,FALSE))*'By Speed'!$P148*Scenario_VMT_5*$N135","v":0},{"$f":"(VLOOKUP($B135,'By Population'!$G$2:$K$14,5,FALSE))*'By Speed'!$Q148*Scenario_VMT_5*$N135","v":0},{"$f":"(VLOOKUP($B135,'By Population'!$G$2:$K$14,5,FALSE))*'By Speed'!$R148*Scenario_VMT_5*$N135","v":0},{"$f":"(VLOOKUP($B135,'By Population'!$G$2:$K$14,5,FALSE))*'By Speed'!$S148*Scenario_VMT_5*$N135","v":0},{"$f":"(VLOOKUP($B135,'By Population'!$G$2:$K$14,5,FALSE))*'By Speed'!$T148*Scenario_VMT_5*$N135","v":0},{"$f":"(VLOOKUP($B135,'By Population'!$G$2:$K$14,5,FALSE))*'By Speed'!$U148*Scenario_VMT_5*$N135","v":0},0]
[129,"LHD2_GAS",45,"LHD2_GAS_45",{"$f":"(VLOOKUP($B136,'By Population'!$G$2:$K$14,5,FALSE))*'By Speed'!$M149*Scenario_VMT_EX*$N136","v":0},{"$f":"(VLOOKUP($B136,'By Population'!$G$2:$K$14,5,FALSE))*'By Speed'!$N149*Scenario_VMT_EX*$N136","v":0},{"$f":"(VLOOKUP($B136,'By Population'!$G$2:$K$14,5,FALSE))*'By Speed'!$O149*Scenario_VMT_EX*$N136","v":0},{"$f":"(VLOOKUP($B136,'By Population'!$G$2:$K$14,5,FALSE))*'By Speed'!$P149*Scenario_VMT_EX*$N136","v":0},{"$f":"(VLOOKUP($B136,'By Population'!$G$2:$K$14,5,FALSE))*'By Speed'!$Q149*Scenario_VMT_EX*$N136","v":0},{"$f":"(VLOOKUP($B136,'By Population'!$G$2:$K$14,5,FALSE))*'By Speed'!$R149*Scenario_VMT_EX*$N136","v":0},{"$f":"(VLOOKUP($B136,'By Population'!$G$2:$K$14,5,FALSE))*'By Speed'!$S149*Scenario_VMT_EX*$N136","v":0},{"$f":"(VLOOKUP($B136,'By Population'!$G$2:$K$14,5,FALSE))*'By Speed'!$T149*Scenario_VMT_EX*$N136","v":0},{"$f":"(VLOOKUP($B136,'By Population'!$G$2:$K$14,5,FALSE))*'By Speed'!$U149*Scenario_VMT_EX*$N136","v":0},0,{"$f":"(VLOOKUP($B136,'By Population'!$G$2:$K$14,5,FALSE))*'By Speed'!$M149*Scenario_VMT_1*$N136","v":0},{"$f":"(VLOOKUP($B136,'By Population'!$G$2:$K$14,5,FALSE))*'By Speed'!$N149*Scenario_VMT_1*$N136","v":0},{"$f":"(VLOOKUP($B136,'By Population'!$G$2:$K$14,5,FALSE))*'By Speed'!$O149*Scenario_VMT_1*$N136","v":0},{"$f":"(VLOOKUP($B136,'By Population'!$G$2:$K$14,5,FALSE))*'By Speed'!$P149*Scenario_VMT_1*$N136","v":0},{"$f":"(VLOOKUP($B136,'By Population'!$G$2:$K$14,5,FALSE))*'By Speed'!$Q149*Scenario_VMT_1*$N136","v":0},{"$f":"(VLOOKUP($B136,'By Population'!$G$2:$K$14,5,FALSE))*'By Speed'!$R149*Scenario_VMT_1*$N136","v":0},{"$f":"(VLOOKUP($B136,'By Population'!$G$2:$K$14,5,FALSE))*'By Speed'!$S149*Scenario_VMT_1*$N136","v":0},{"$f":"(VLOOKUP($B136,'By Population'!$G$2:$K$14,5,FALSE))*'By Speed'!$T149*Scenario_VMT_1*$N136","v":0},{"$f":"(VLOOKUP($B136,'By Population'!$G$2:$K$14,5,FALSE))*'By Speed'!$U149*Scenario_VMT_1*$N136","v":0},0,{"$f":"(VLOOKUP($B136,'By Population'!$G$2:$K$14,5,FALSE))*'By Speed'!$M149*Scenario_VMT_2*$N136","v":0},{"$f":"(VLOOKUP($B136,'By Population'!$G$2:$K$14,5,FALSE))*'By Speed'!$N149*Scenario_VMT_2*$N136","v":0},{"$f":"(VLOOKUP($B136,'By Population'!$G$2:$K$14,5,FALSE))*'By Speed'!$O149*Scenario_VMT_2*$N136","v":0},{"$f":"(VLOOKUP($B136,'By Population'!$G$2:$K$14,5,FALSE))*'By Speed'!$P149*Scenario_VMT_2*$N136","v":0},{"$f":"(VLOOKUP($B136,'By Population'!$G$2:$K$14,5,FALSE))*'By Speed'!$Q149*Scenario_VMT_2*$N136","v":0},{"$f":"(VLOOKUP($B136,'By Population'!$G$2:$K$14,5,FALSE))*'By Speed'!$R149*Scenario_VMT_2*$N136","v":0},{"$f":"(VLOOKUP($B136,'By Population'!$G$2:$K$14,5,FALSE))*'By Speed'!$S149*Scenario_VMT_2*$N136","v":0},{"$f":"(VLOOKUP($B136,'By Population'!$G$2:$K$14,5,FALSE))*'By Speed'!$T149*Scenario_VMT_2*$N136","v":0},{"$f":"(VLOOKUP($B136,'By Population'!$G$2:$K$14,5,FALSE))*'By Speed'!$U149*Scenario_VMT_2*$N136","v":0},0,{"$f":"(VLOOKUP($B136,'By Population'!$G$2:$K$14,5,FALSE))*'By Speed'!$M149*Scenario_VMT_3*$N136","v":0},{"$f":"(VLOOKUP($B136,'By Population'!$G$2:$K$14,5,FALSE))*'By Speed'!$N149*Scenario_VMT_3*$N136","v":0},{"$f":"(VLOOKUP($B136,'By Population'!$G$2:$K$14,5,FALSE))*'By Speed'!$O149*Scenario_VMT_3*$N136","v":0},{"$f":"(VLOOKUP($B136,'By Population'!$G$2:$K$14,5,FALSE))*'By Speed'!$P149*Scenario_VMT_3*$N136","v":0},{"$f":"(VLOOKUP($B136,'By Population'!$G$2:$K$14,5,FALSE))*'By Speed'!$Q149*Scenario_VMT_3*$N136","v":0},{"$f":"(VLOOKUP($B136,'By Population'!$G$2:$K$14,5,FALSE))*'By Speed'!$R149*Scenario_VMT_3*$N136","v":0},{"$f":"(VLOOKUP($B136,'By Population'!$G$2:$K$14,5,FALSE))*'By Speed'!$S149*Scenario_VMT_3*$N136","v":0},{"$f":"(VLOOKUP($B136,'By Population'!$G$2:$K$14,5,FALSE))*'By Speed'!$T149*Scenario_VMT_3*$N136","v":0},{"$f":"(VLOOKUP($B136,'By Population'!$G$2:$K$14,5,FALSE))*'By Speed'!$U149*Scenario_VMT_3*$N136","v":0},0,{"$f":"(VLOOKUP($B136,'By Population'!$G$2:$K$14,5,FALSE))*'By Speed'!$M149*Scenario_VMT_4*$N136","v":0},{"$f":"(VLOOKUP($B136,'By Population'!$G$2:$K$14,5,FALSE))*'By Speed'!$N149*Scenario_VMT_4*$N136","v":0},{"$f":"(VLOOKUP($B136,'By Population'!$G$2:$K$14,5,FALSE))*'By Speed'!$O149*Scenario_VMT_4*$N136","v":0},{"$f":"(VLOOKUP($B136,'By Population'!$G$2:$K$14,5,FALSE))*'By Speed'!$P149*Scenario_VMT_4*$N136","v":0},{"$f":"(VLOOKUP($B136,'By Population'!$G$2:$K$14,5,FALSE))*'By Speed'!$Q149*Scenario_VMT_4*$N136","v":0},{"$f":"(VLOOKUP($B136,'By Population'!$G$2:$K$14,5,FALSE))*'By Speed'!$R149*Scenario_VMT_4*$N136","v":0},{"$f":"(VLOOKUP($B136,'By Population'!$G$2:$K$14,5,FALSE))*'By Speed'!$S149*Scenario_VMT_4*$N136","v":0},{"$f":"(VLOOKUP($B136,'By Population'!$G$2:$K$14,5,FALSE))*'By Speed'!$T149*Scenario_VMT_4*$N136","v":0},{"$f":"(VLOOKUP($B136,'By Population'!$G$2:$K$14,5,FALSE))*'By Speed'!$U149*Scenario_VMT_4*$N136","v":0},0,{"$f":"(VLOOKUP($B136,'By Population'!$G$2:$K$14,5,FALSE))*'By Speed'!$M149*Scenario_VMT_5*$N136","v":0},{"$f":"(VLOOKUP($B136,'By Population'!$G$2:$K$14,5,FALSE))*'By Speed'!$N149*Scenario_VMT_5*$N136","v":0},{"$f":"(VLOOKUP($B136,'By Population'!$G$2:$K$14,5,FALSE))*'By Speed'!$O149*Scenario_VMT_5*$N136","v":0},{"$f":"(VLOOKUP($B136,'By Population'!$G$2:$K$14,5,FALSE))*'By Speed'!$P149*Scenario_VMT_5*$N136","v":0},{"$f":"(VLOOKUP($B136,'By Population'!$G$2:$K$14,5,FALSE))*'By Speed'!$Q149*Scenario_VMT_5*$N136","v":0},{"$f":"(VLOOKUP($B136,'By Population'!$G$2:$K$14,5,FALSE))*'By Speed'!$R149*Scenario_VMT_5*$N136","v":0},{"$f":"(VLOOKUP($B136,'By Population'!$G$2:$K$14,5,FALSE))*'By Speed'!$S149*Scenario_VMT_5*$N136","v":0},{"$f":"(VLOOKUP($B136,'By Population'!$G$2:$K$14,5,FALSE))*'By Speed'!$T149*Scenario_VMT_5*$N136","v":0},{"$f":"(VLOOKUP($B136,'By Population'!$G$2:$K$14,5,FALSE))*'By Speed'!$U149*Scenario_VMT_5*$N136","v":0},0]
[113,"LHD2_GAS",5,"LHD2_GAS_5",{"$f":"(VLOOKUP($B137,'By Population'!$G$2:$K$14,5,FALSE))*'By Speed'!$M150*Scenario_VMT_EX*$N137","v":0},{"$f":"(VLOOKUP($B137,'By Population'!$G$2:$K$14,5,FALSE))*'By Speed'!$N150*Scenario_VMT_EX*$N137","v":0},{"$f":"(VLOOKUP($B137,'By Population'!$G$2:$K$14,5,FALSE))*'By Speed'!$O150*Scenario_VMT_EX*$N137","v":0},{"$f":"(VLOOKUP($B137,'By Population'!$G$2:$K$14,5,FALSE))*'By Speed'!$P150*Scenario_VMT_EX*$N137","v":0},{"$f":"(VLOOKUP($B137,'By Population'!$G$2:$K$14,5,FALSE))*'By Speed'!$Q150*Scenario_VMT_EX*$N137","v":0},{"$f":"(VLOOKUP($B137,'By Population'!$G$2:$K$14,5,FALSE))*'By Speed'!$R150*Scenario_VMT_EX*$N137","v":0},{"$f":"(VLOOKUP($B137,'By Population'!$G$2:$K$14,5,FALSE))*'By Speed'!$S150*Scenario_VMT_EX*$N137","v":0},{"$f":"(VLOOKUP($B137,'By Population'!$G$2:$K$14,5,FALSE))*'By Speed'!$T150*Scenario_VMT_EX*$N137","v":0},{"$f":"(VLOOKUP($B137,'By Population'!$G$2:$K$14,5,FALSE))*'By Speed'!$U150*Scenario_VMT_EX*$N137","v":0},0,{"$f":"(VLOOKUP($B137,'By Population'!$G$2:$K$14,5,FALSE))*'By Speed'!$M150*Scenario_VMT_1*$N137","v":0},{"$f":"(VLOOKUP($B137,'By Population'!$G$2:$K$14,5,FALSE))*'By Speed'!$N150*Scenario_VMT_1*$N137","v":0},{"$f":"(VLOOKUP($B137,'By Population'!$G$2:$K$14,5,FALSE))*'By Speed'!$O150*Scenario_VMT_1*$N137","v":0},{"$f":"(VLOOKUP($B137,'By Population'!$G$2:$K$14,5,FALSE))*'By Speed'!$P150*Scenario_VMT_1*$N137","v":0},{"$f":"(VLOOKUP($B137,'By Population'!$G$2:$K$14,5,FALSE))*'By Speed'!$Q150*Scenario_VMT_1*$N137","v":0},{"$f":"(VLOOKUP($B137,'By Population'!$G$2:$K$14,5,FALSE))*'By Speed'!$R150*Scenario_VMT_1*$N137","v":0},{"$f":"(VLOOKUP($B137,'By Population'!$G$2:$K$14,5,FALSE))*'By Speed'!$S150*Scenario_VMT_1*$N137","v":0},{"$f":"(VLOOKUP($B137,'By Population'!$G$2:$K$14,5,FALSE))*'By Speed'!$T150*Scenario_VMT_1*$N137","v":0},{"$f":"(VLOOKUP($B137,'By Population'!$G$2:$K$14,5,FALSE))*'By Speed'!$U150*Scenario_VMT_1*$N137","v":0},0,{"$f":"(VLOOKUP($B137,'By Population'!$G$2:$K$14,5,FALSE))*'By Speed'!$M150*Scenario_VMT_2*$N137","v":0},{"$f":"(VLOOKUP($B137,'By Population'!$G$2:$K$14,5,FALSE))*'By Speed'!$N150*Scenario_VMT_2*$N137","v":0},{"$f":"(VLOOKUP($B137,'By Population'!$G$2:$K$14,5,FALSE))*'By Speed'!$O150*Scenario_VMT_2*$N137","v":0},{"$f":"(VLOOKUP($B137,'By Population'!$G$2:$K$14,5,FALSE))*'By Speed'!$P150*Scenario_VMT_2*$N137","v":0},{"$f":"(VLOOKUP($B137,'By Population'!$G$2:$K$14,5,FALSE))*'By Speed'!$Q150*Scenario_VMT_2*$N137","v":0},{"$f":"(VLOOKUP($B137,'By Population'!$G$2:$K$14,5,FALSE))*'By Speed'!$R150*Scenario_VMT_2*$N137","v":0},{"$f":"(VLOOKUP($B137,'By Population'!$G$2:$K$14,5,FALSE))*'By Speed'!$S150*Scenario_VMT_2*$N137","v":0},{"$f":"(VLOOKUP($B137,'By Population'!$G$2:$K$14,5,FALSE))*'By Speed'!$T150*Scenario_VMT_2*$N137","v":0},{"$f":"(VLOOKUP($B137,'By Population'!$G$2:$K$14,5,FALSE))*'By Speed'!$U150*Scenario_VMT_2*$N137","v":0},0,{"$f":"(VLOOKUP($B137,'By Population'!$G$2:$K$14,5,FALSE))*'By Speed'!$M150*Scenario_VMT_3*$N137","v":0},{"$f":"(VLOOKUP($B137,'By Population'!$G$2:$K$14,5,FALSE))*'By Speed'!$N150*Scenario_VMT_3*$N137","v":0},{"$f":"(VLOOKUP($B137,'By Population'!$G$2:$K$14,5,FALSE))*'By Speed'!$O150*Scenario_VMT_3*$N137","v":0},{"$f":"(VLOOKUP($B137,'By Population'!$G$2:$K$14,5,FALSE))*'By Speed'!$P150*Scenario_VMT_3*$N137","v":0},{"$f":"(VLOOKUP($B137,'By Population'!$G$2:$K$14,5,FALSE))*'By Speed'!$Q150*Scenario_VMT_3*$N137","v":0},{"$f":"(VLOOKUP($B137,'By Population'!$G$2:$K$14,5,FALSE))*'By Speed'!$R150*Scenario_VMT_3*$N137","v":0},{"$f":"(VLOOKUP($B137,'By Population'!$G$2:$K$14,5,FALSE))*'By Speed'!$S150*Scenario_VMT_3*$N137","v":0},{"$f":"(VLOOKUP($B137,'By Population'!$G$2:$K$14,5,FALSE))*'By Speed'!$T150*Scenario_VMT_3*$N137","v":0},{"$f":"(VLOOKUP($B137,'By Population'!$G$2:$K$14,5,FALSE))*'By Speed'!$U150*Scenario_VMT_3*$N137","v":0},0,{"$f":"(VLOOKUP($B137,'By Population'!$G$2:$K$14,5,FALSE))*'By Speed'!$M150*Scenario_VMT_4*$N137","v":0},{"$f":"(VLOOKUP($B137,'By Population'!$G$2:$K$14,5,FALSE))*'By Speed'!$N150*Scenario_VMT_4*$N137","v":0},{"$f":"(VLOOKUP($B137,'By Population'!$G$2:$K$14,5,FALSE))*'By Speed'!$O150*Scenario_VMT_4*$N137","v":0},{"$f":"(VLOOKUP($B137,'By Population'!$G$2:$K$14,5,FALSE))*'By Speed'!$P150*Scenario_VMT_4*$N137","v":0},{"$f":"(VLOOKUP($B137,'By Population'!$G$2:$K$14,5,FALSE))*'By Speed'!$Q150*Scenario_VMT_4*$N137","v":0},{"$f":"(VLOOKUP($B137,'By Population'!$G$2:$K$14,5,FALSE))*'By Speed'!$R150*Scenario_VMT_4*$N137","v":0},{"$f":"(VLOOKUP($B137,'By Population'!$G$2:$K$14,5,FALSE))*'By Speed'!$S150*Scenario_VMT_4*$N137","v":0},{"$f":"(VLOOKUP($B137,'By Population'!$G$2:$K$14,5,FALSE))*'By Speed'!$T150*Scenario_VMT_4*$N137","v":0},{"$f":"(VLOOKUP($B137,'By Population'!$G$2:$K$14,5,FALSE))*'By Speed'!$U150*Scenario_VMT_4*$N137","v":0},0,{"$f":"(VLOOKUP($B137,'By Population'!$G$2:$K$14,5,FALSE))*'By Speed'!$M150*Scenario_VMT_5*$N137","v":0},{"$f":"(VLOOKUP($B137,'By Population'!$G$2:$K$14,5,FALSE))*'By Speed'!$N150*Scenario_VMT_5*$N137","v":0},{"$f":"(VLOOKUP($B137,'By Population'!$G$2:$K$14,5,FALSE))*'By Speed'!$O150*Scenario_VMT_5*$N137","v":0},{"$f":"(VLOOKUP($B137,'By Population'!$G$2:$K$14,5,FALSE))*'By Speed'!$P150*Scenario_VMT_5*$N137","v":0},{"$f":"(VLOOKUP($B137,'By Population'!$G$2:$K$14,5,FALSE))*'By Speed'!$Q150*Scenario_VMT_5*$N137","v":0},{"$f":"(VLOOKUP($B137,'By Population'!$G$2:$K$14,5,FALSE))*'By Speed'!$R150*Scenario_VMT_5*$N137","v":0},{"$f":"(VLOOKUP($B137,'By Population'!$G$2:$K$14,5,FALSE))*'By Speed'!$S150*Scenario_VMT_5*$N137","v":0},{"$f":"(VLOOKUP($B137,'By Population'!$G$2:$K$14,5,FALSE))*'By Speed'!$T150*Scenario_VMT_5*$N137","v":0},{"$f":"(VLOOKUP($B137,'By Population'!$G$2:$K$14,5,FALSE))*'By Speed'!$U150*Scenario_VMT_5*$N137","v":0},0]
[131,"LHD2_GAS",50,"LHD2_GAS_50",{"$f":"(VLOOKUP($B138,'By Population'!$G$2:$K$14,5,FALSE))*'By Speed'!$M151*Scenario_VMT_EX*$N138","v":0},{"$f":"(VLOOKUP($B138,'By Population'!$G$2:$K$14,5,FALSE))*'By Speed'!$N151*Scenario_VMT_EX*$N138","v":0},{"$f":"(VLOOKUP($B138,'By Population'!$G$2:$K$14,5,FALSE))*'By Speed'!$O151*Scenario_VMT_EX*$N138","v":0},{"$f":"(VLOOKUP($B138,'By Population'!$G$2:$K$14,5,FALSE))*'By Speed'!$P151*Scenario_VMT_EX*$N138","v":0},{"$f":"(VLOOKUP($B138,'By Population'!$G$2:$K$14,5,FALSE))*'By Speed'!$Q151*Scenario_VMT_EX*$N138","v":0},{"$f":"(VLOOKUP($B138,'By Population'!$G$2:$K$14,5,FALSE))*'By Speed'!$R151*Scenario_VMT_EX*$N138","v":0},{"$f":"(VLOOKUP($B138,'By Population'!$G$2:$K$14,5,FALSE))*'By Speed'!$S151*Scenario_VMT_EX*$N138","v":0},{"$f":"(VLOOKUP($B138,'By Population'!$G$2:$K$14,5,FALSE))*'By Speed'!$T151*Scenario_VMT_EX*$N138","v":0},{"$f":"(VLOOKUP($B138,'By Population'!$G$2:$K$14,5,FALSE))*'By Speed'!$U151*Scenario_VMT_EX*$N138","v":0},0,{"$f":"(VLOOKUP($B138,'By Population'!$G$2:$K$14,5,FALSE))*'By Speed'!$M151*Scenario_VMT_1*$N138","v":0},{"$f":"(VLOOKUP($B138,'By Population'!$G$2:$K$14,5,FALSE))*'By Speed'!$N151*Scenario_VMT_1*$N138","v":0},{"$f":"(VLOOKUP($B138,'By Population'!$G$2:$K$14,5,FALSE))*'By Speed'!$O151*Scenario_VMT_1*$N138","v":0},{"$f":"(VLOOKUP($B138,'By Population'!$G$2:$K$14,5,FALSE))*'By Speed'!$P151*Scenario_VMT_1*$N138","v":0},{"$f":"(VLOOKUP($B138,'By Population'!$G$2:$K$14,5,FALSE))*'By Speed'!$Q151*Scenario_VMT_1*$N138","v":0},{"$f":"(VLOOKUP($B138,'By Population'!$G$2:$K$14,5,FALSE))*'By Speed'!$R151*Scenario_VMT_1*$N138","v":0},{"$f":"(VLOOKUP($B138,'By Population'!$G$2:$K$14,5,FALSE))*'By Speed'!$S151*Scenario_VMT_1*$N138","v":0},{"$f":"(VLOOKUP($B138,'By Population'!$G$2:$K$14,5,FALSE))*'By Speed'!$T151*Scenario_VMT_1*$N138","v":0},{"$f":"(VLOOKUP($B138,'By Population'!$G$2:$K$14,5,FALSE))*'By Speed'!$U151*Scenario_VMT_1*$N138","v":0},0,{"$f":"(VLOOKUP($B138,'By Population'!$G$2:$K$14,5,FALSE))*'By Speed'!$M151*Scenario_VMT_2*$N138","v":0},{"$f":"(VLOOKUP($B138,'By Population'!$G$2:$K$14,5,FALSE))*'By Speed'!$N151*Scenario_VMT_2*$N138","v":0},{"$f":"(VLOOKUP($B138,'By Population'!$G$2:$K$14,5,FALSE))*'By Speed'!$O151*Scenario_VMT_2*$N138","v":0},{"$f":"(VLOOKUP($B138,'By Population'!$G$2:$K$14,5,FALSE))*'By Speed'!$P151*Scenario_VMT_2*$N138","v":0},{"$f":"(VLOOKUP($B138,'By Population'!$G$2:$K$14,5,FALSE))*'By Speed'!$Q151*Scenario_VMT_2*$N138","v":0},{"$f":"(VLOOKUP($B138,'By Population'!$G$2:$K$14,5,FALSE))*'By Speed'!$R151*Scenario_VMT_2*$N138","v":0},{"$f":"(VLOOKUP($B138,'By Population'!$G$2:$K$14,5,FALSE))*'By Speed'!$S151*Scenario_VMT_2*$N138","v":0},{"$f":"(VLOOKUP($B138,'By Population'!$G$2:$K$14,5,FALSE))*'By Speed'!$T151*Scenario_VMT_2*$N138","v":0},{"$f":"(VLOOKUP($B138,'By Population'!$G$2:$K$14,5,FALSE))*'By Speed'!$U151*Scenario_VMT_2*$N138","v":0},0,{"$f":"(VLOOKUP($B138,'By Population'!$G$2:$K$14,5,FALSE))*'By Speed'!$M151*Scenario_VMT_3*$N138","v":0},{"$f":"(VLOOKUP($B138,'By Population'!$G$2:$K$14,5,FALSE))*'By Speed'!$N151*Scenario_VMT_3*$N138","v":0},{"$f":"(VLOOKUP($B138,'By Population'!$G$2:$K$14,5,FALSE))*'By Speed'!$O151*Scenario_VMT_3*$N138","v":0},{"$f":"(VLOOKUP($B138,'By Population'!$G$2:$K$14,5,FALSE))*'By Speed'!$P151*Scenario_VMT_3*$N138","v":0},{"$f":"(VLOOKUP($B138,'By Population'!$G$2:$K$14,5,FALSE))*'By Speed'!$Q151*Scenario_VMT_3*$N138","v":0},{"$f":"(VLOOKUP($B138,'By Population'!$G$2:$K$14,5,FALSE))*'By Speed'!$R151*Scenario_VMT_3*$N138","v":0},{"$f":"(VLOOKUP($B138,'By Population'!$G$2:$K$14,5,FALSE))*'By Speed'!$S151*Scenario_VMT_3*$N138","v":0},{"$f":"(VLOOKUP($B138,'By Population'!$G$2:$K$14,5,FALSE))*'By Speed'!$T151*Scenario_VMT_3*$N138","v":0},{"$f":"(VLOOKUP($B138,'By Population'!$G$2:$K$14,5,FALSE))*'By Speed'!$U151*Scenario_VMT_3*$N138","v":0},0,{"$f":"(VLOOKUP($B138,'By Population'!$G$2:$K$14,5,FALSE))*'By Speed'!$M151*Scenario_VMT_4*$N138","v":0},{"$f":"(VLOOKUP($B138,'By Population'!$G$2:$K$14,5,FALSE))*'By Speed'!$N151*Scenario_VMT_4*$N138","v":0},{"$f":"(VLOOKUP($B138,'By Population'!$G$2:$K$14,5,FALSE))*'By Speed'!$O151*Scenario_VMT_4*$N138","v":0},{"$f":"(VLOOKUP($B138,'By Population'!$G$2:$K$14,5,FALSE))*'By Speed'!$P151*Scenario_VMT_4*$N138","v":0},{"$f":"(VLOOKUP($B138,'By Population'!$G$2:$K$14,5,FALSE))*'By Speed'!$Q151*Scenario_VMT_4*$N138","v":0},{"$f":"(VLOOKUP($B138,'By Population'!$G$2:$K$14,5,FALSE))*'By Speed'!$R151*Scenario_VMT_4*$N138","v":0},{"$f":"(VLOOKUP($B138,'By Population'!$G$2:$K$14,5,FALSE))*'By Speed'!$S151*Scenario_VMT_4*$N138","v":0},{"$f":"(VLOOKUP($B138,'By Population'!$G$2:$K$14,5,FALSE))*'By Speed'!$T151*Scenario_VMT_4*$N138","v":0},{"$f":"(VLOOKUP($B138,'By Population'!$G$2:$K$14,5,FALSE))*'By Speed'!$U151*Scenario_VMT_4*$N138","v":0},0,{"$f":"(VLOOKUP($B138,'By Population'!$G$2:$K$14,5,FALSE))*'By Speed'!$M151*Scenario_VMT_5*$N138","v":0},{"$f":"(VLOOKUP($B138,'By Population'!$G$2:$K$14,5,FALSE))*'By Speed'!$N151*Scenario_VMT_5*$N138","v":0},{"$f":"(VLOOKUP($B138,'By Population'!$G$2:$K$14,5,FALSE))*'By Speed'!$O151*Scenario_VMT_5*$N138","v":0},{"$f":"(VLOOKUP($B138,'By Population'!$G$2:$K$14,5,FALSE))*'By Speed'!$P151*Scenario_VMT_5*$N138","v":0},{"$f":"(VLOOKUP($B138,'By Population'!$G$2:$K$14,5,FALSE))*'By Speed'!$Q151*Scenario_VMT_5*$N138","v":0},{"$f":"(VLOOKUP($B138,'By Population'!$G$2:$K$14,5,FALSE))*'By Speed'!$R151*Scenario_VMT_5*$N138","v":0},{"$f":"(VLOOKUP($B138,'By Population'!$G$2:$K$14,5,FALSE))*'By Speed'!$S151*Scenario_VMT_5*$N138","v":0},{"$f":"(VLOOKUP($B138,'By Population'!$G$2:$K$14,5,FALSE))*'By Speed'!$T151*Scenario_VMT_5*$N138","v":0},{"$f":"(VLOOKUP($B138,'By Population'!$G$2:$K$14,5,FALSE))*'By Speed'!$U151*Scenario_VMT_5*$N138","v":0},0]
[133,"LHD2_GAS",55,"LHD2_GAS_55",{"$f":"(VLOOKUP($B139,'By Population'!$G$2:$K$14,5,FALSE))*'By Speed'!$M152*Scenario_VMT_EX*$N139","v":0},{"$f":"(VLOOKUP($B139,'By Population'!$G$2:$K$14,5,FALSE))*'By Speed'!$N152*Scenario_VMT_EX*$N139","v":0},{"$f":"(VLOOKUP($B139,'By Population'!$G$2:$K$14,5,FALSE))*'By Speed'!$O152*Scenario_VMT_EX*$N139","v":0},{"$f":"(VLOOKUP($B139,'By Population'!$G$2:$K$14,5,FALSE))*'By Speed'!$P152*Scenario_VMT_EX*$N139","v":0},{"$f":"(VLOOKUP($B139,'By Population'!$G$2:$K$14,5,FALSE))*'By Speed'!$Q152*Scenario_VMT_EX*$N139","v":0},{"$f":"(VLOOKUP($B139,'By Population'!$G$2:$K$14,5,FALSE))*'By Speed'!$R152*Scenario_VMT_EX*$N139","v":0},{"$f":"(VLOOKUP($B139,'By Population'!$G$2:$K$14,5,FALSE))*'By Speed'!$S152*Scenario_VMT_EX*$N139","v":0},{"$f":"(VLOOKUP($B139,'By Population'!$G$2:$K$14,5,FALSE))*'By Speed'!$T152*Scenario_VMT_EX*$N139","v":0},{"$f":"(VLOOKUP($B139,'By Population'!$G$2:$K$14,5,FALSE))*'By Speed'!$U152*Scenario_VMT_EX*$N139","v":0},0,{"$f":"(VLOOKUP($B139,'By Population'!$G$2:$K$14,5,FALSE))*'By Speed'!$M152*Scenario_VMT_1*$N139","v":0},{"$f":"(VLOOKUP($B139,'By Population'!$G$2:$K$14,5,FALSE))*'By Speed'!$N152*Scenario_VMT_1*$N139","v":0},{"$f":"(VLOOKUP($B139,'By Population'!$G$2:$K$14,5,FALSE))*'By Speed'!$O152*Scenario_VMT_1*$N139","v":0},{"$f":"(VLOOKUP($B139,'By Population'!$G$2:$K$14,5,FALSE))*'By Speed'!$P152*Scenario_VMT_1*$N139","v":0},{"$f":"(VLOOKUP($B139,'By Population'!$G$2:$K$14,5,FALSE))*'By Speed'!$Q152*Scenario_VMT_1*$N139","v":0},{"$f":"(VLOOKUP($B139,'By Population'!$G$2:$K$14,5,FALSE))*'By Speed'!$R152*Scenario_VMT_1*$N139","v":0},{"$f":"(VLOOKUP($B139,'By Population'!$G$2:$K$14,5,FALSE))*'By Speed'!$S152*Scenario_VMT_1*$N139","v":0},{"$f":"(VLOOKUP($B139,'By Population'!$G$2:$K$14,5,FALSE))*'By Speed'!$T152*Scenario_VMT_1*$N139","v":0},{"$f":"(VLOOKUP($B139,'By Population'!$G$2:$K$14,5,FALSE))*'By Speed'!$U152*Scenario_VMT_1*$N139","v":0},0,{"$f":"(VLOOKUP($B139,'By Population'!$G$2:$K$14,5,FALSE))*'By Speed'!$M152*Scenario_VMT_2*$N139","v":0},{"$f":"(VLOOKUP($B139,'By Population'!$G$2:$K$14,5,FALSE))*'By Speed'!$N152*Scenario_VMT_2*$N139","v":0},{"$f":"(VLOOKUP($B139,'By Population'!$G$2:$K$14,5,FALSE))*'By Speed'!$O152*Scenario_VMT_2*$N139","v":0},{"$f":"(VLOOKUP($B139,'By Population'!$G$2:$K$14,5,FALSE))*'By Speed'!$P152*Scenario_VMT_2*$N139","v":0},{"$f":"(VLOOKUP($B139,'By Population'!$G$2:$K$14,5,FALSE))*'By Speed'!$Q152*Scenario_VMT_2*$N139","v":0},{"$f":"(VLOOKUP($B139,'By Population'!$G$2:$K$14,5,FALSE))*'By Speed'!$R152*Scenario_VMT_2*$N139","v":0},{"$f":"(VLOOKUP($B139,'By Population'!$G$2:$K$14,5,FALSE))*'By Speed'!$S152*Scenario_VMT_2*$N139","v":0},{"$f":"(VLOOKUP($B139,'By Population'!$G$2:$K$14,5,FALSE))*'By Speed'!$T152*Scenario_VMT_2*$N139","v":0},{"$f":"(VLOOKUP($B139,'By Population'!$G$2:$K$14,5,FALSE))*'By Speed'!$U152*Scenario_VMT_2*$N139","v":0},0,{"$f":"(VLOOKUP($B139,'By Population'!$G$2:$K$14,5,FALSE))*'By Speed'!$M152*Scenario_VMT_3*$N139","v":0},{"$f":"(VLOOKUP($B139,'By Population'!$G$2:$K$14,5,FALSE))*'By Speed'!$N152*Scenario_VMT_3*$N139","v":0},{"$f":"(VLOOKUP($B139,'By Population'!$G$2:$K$14,5,FALSE))*'By Speed'!$O152*Scenario_VMT_3*$N139","v":0},{"$f":"(VLOOKUP($B139,'By Population'!$G$2:$K$14,5,FALSE))*'By Speed'!$P152*Scenario_VMT_3*$N139","v":0},{"$f":"(VLOOKUP($B139,'By Population'!$G$2:$K$14,5,FALSE))*'By Speed'!$Q152*Scenario_VMT_3*$N139","v":0},{"$f":"(VLOOKUP($B139,'By Population'!$G$2:$K$14,5,FALSE))*'By Speed'!$R152*Scenario_VMT_3*$N139","v":0},{"$f":"(VLOOKUP($B139,'By Population'!$G$2:$K$14,5,FALSE))*'By Speed'!$S152*Scenario_VMT_3*$N139","v":0},{"$f":"(VLOOKUP($B139,'By Population'!$G$2:$K$14,5,FALSE))*'By Speed'!$T152*Scenario_VMT_3*$N139","v":0},{"$f":"(VLOOKUP($B139,'By Population'!$G$2:$K$14,5,FALSE))*'By Speed'!$U152*Scenario_VMT_3*$N139","v":0},0,{"$f":"(VLOOKUP($B139,'By Population'!$G$2:$K$14,5,FALSE))*'By Speed'!$M152*Scenario_VMT_4*$N139","v":0},{"$f":"(VLOOKUP($B139,'By Population'!$G$2:$K$14,5,FALSE))*'By Speed'!$N152*Scenario_VMT_4*$N139","v":0},{"$f":"(VLOOKUP($B139,'By Population'!$G$2:$K$14,5,FALSE))*'By Speed'!$O152*Scenario_VMT_4*$N139","v":0},{"$f":"(VLOOKUP($B139,'By Population'!$G$2:$K$14,5,FALSE))*'By Speed'!$P152*Scenario_VMT_4*$N139","v":0},{"$f":"(VLOOKUP($B139,'By Population'!$G$2:$K$14,5,FALSE))*'By Speed'!$Q152*Scenario_VMT_4*$N139","v":0},{"$f":"(VLOOKUP($B139,'By Population'!$G$2:$K$14,5,FALSE))*'By Speed'!$R152*Scenario_VMT_4*$N139","v":0},{"$f":"(VLOOKUP($B139,'By Population'!$G$2:$K$14,5,FALSE))*'By Speed'!$S152*Scenario_VMT_4*$N139","v":0},{"$f":"(VLOOKUP($B139,'By Population'!$G$2:$K$14,5,FALSE))*'By Speed'!$T152*Scenario_VMT_4*$N139","v":0},{"$f":"(VLOOKUP($B139,'By Population'!$G$2:$K$14,5,FALSE))*'By Speed'!$U152*Scenario_VMT_4*$N139","v":0},0,{"$f":"(VLOOKUP($B139,'By Population'!$G$2:$K$14,5,FALSE))*'By Speed'!$M152*Scenario_VMT_5*$N139","v":0},{"$f":"(VLOOKUP($B139,'By Population'!$G$2:$K$14,5,FALSE))*'By Speed'!$N152*Scenario_VMT_5*$N139","v":0},{"$f":"(VLOOKUP($B139,'By Population'!$G$2:$K$14,5,FALSE))*'By Speed'!$O152*Scenario_VMT_5*$N139","v":0},{"$f":"(VLOOKUP($B139,'By Population'!$G$2:$K$14,5,FALSE))*'By Speed'!$P152*Scenario_VMT_5*$N139","v":0},{"$f":"(VLOOKUP($B139,'By Population'!$G$2:$K$14,5,FALSE))*'By Speed'!$Q152*Scenario_VMT_5*$N139","v":0},{"$f":"(VLOOKUP($B139,'By Population'!$G$2:$K$14,5,FALSE))*'By Speed'!$R152*Scenario_VMT_5*$N139","v":0},{"$f":"(VLOOKUP($B139,'By Population'!$G$2:$K$14,5,FALSE))*'By Speed'!$S152*Scenario_VMT_5*$N139","v":0},{"$f":"(VLOOKUP($B139,'By Population'!$G$2:$K$14,5,FALSE))*'By Speed'!$T152*Scenario_VMT_5*$N139","v":0},{"$f":"(VLOOKUP($B139,'By Population'!$G$2:$K$14,5,FALSE))*'By Speed'!$U152*Scenario_VMT_5*$N139","v":0},0]
[135,"LHD2_GAS",60,"LHD2_GAS_60",{"$f":"(VLOOKUP($B140,'By Population'!$G$2:$K$14,5,FALSE))*'By Speed'!$M153*Scenario_VMT_EX*$N140","v":0},{"$f":"(VLOOKUP($B140,'By Population'!$G$2:$K$14,5,FALSE))*'By Speed'!$N153*Scenario_VMT_EX*$N140","v":0},{"$f":"(VLOOKUP($B140,'By Population'!$G$2:$K$14,5,FALSE))*'By Speed'!$O153*Scenario_VMT_EX*$N140","v":0},{"$f":"(VLOOKUP($B140,'By Population'!$G$2:$K$14,5,FALSE))*'By Speed'!$P153*Scenario_VMT_EX*$N140","v":0},{"$f":"(VLOOKUP($B140,'By Population'!$G$2:$K$14,5,FALSE))*'By Speed'!$Q153*Scenario_VMT_EX*$N140","v":0},{"$f":"(VLOOKUP($B140,'By Population'!$G$2:$K$14,5,FALSE))*'By Speed'!$R153*Scenario_VMT_EX*$N140","v":0},{"$f":"(VLOOKUP($B140,'By Population'!$G$2:$K$14,5,FALSE))*'By Speed'!$S153*Scenario_VMT_EX*$N140","v":0},{"$f":"(VLOOKUP($B140,'By Population'!$G$2:$K$14,5,FALSE))*'By Speed'!$T153*Scenario_VMT_EX*$N140","v":0},{"$f":"(VLOOKUP($B140,'By Population'!$G$2:$K$14,5,FALSE))*'By Speed'!$U153*Scenario_VMT_EX*$N140","v":0},0,{"$f":"(VLOOKUP($B140,'By Population'!$G$2:$K$14,5,FALSE))*'By Speed'!$M153*Scenario_VMT_1*$N140","v":0},{"$f":"(VLOOKUP($B140,'By Population'!$G$2:$K$14,5,FALSE))*'By Speed'!$N153*Scenario_VMT_1*$N140","v":0},{"$f":"(VLOOKUP($B140,'By Population'!$G$2:$K$14,5,FALSE))*'By Speed'!$O153*Scenario_VMT_1*$N140","v":0},{"$f":"(VLOOKUP($B140,'By Population'!$G$2:$K$14,5,FALSE))*'By Speed'!$P153*Scenario_VMT_1*$N140","v":0},{"$f":"(VLOOKUP($B140,'By Population'!$G$2:$K$14,5,FALSE))*'By Speed'!$Q153*Scenario_VMT_1*$N140","v":0},{"$f":"(VLOOKUP($B140,'By Population'!$G$2:$K$14,5,FALSE))*'By Speed'!$R153*Scenario_VMT_1*$N140","v":0},{"$f":"(VLOOKUP($B140,'By Population'!$G$2:$K$14,5,FALSE))*'By Speed'!$S153*Scenario_VMT_1*$N140","v":0},{"$f":"(VLOOKUP($B140,'By Population'!$G$2:$K$14,5,FALSE))*'By Speed'!$T153*Scenario_VMT_1*$N140","v":0},{"$f":"(VLOOKUP($B140,'By Population'!$G$2:$K$14,5,FALSE))*'By Speed'!$U153*Scenario_VMT_1*$N140","v":0},0,{"$f":"(VLOOKUP($B140,'By Population'!$G$2:$K$14,5,FALSE))*'By Speed'!$M153*Scenario_VMT_2*$N140","v":0},{"$f":"(VLOOKUP($B140,'By Population'!$G$2:$K$14,5,FALSE))*'By Speed'!$N153*Scenario_VMT_2*$N140","v":0},{"$f":"(VLOOKUP($B140,'By Population'!$G$2:$K$14,5,FALSE))*'By Speed'!$O153*Scenario_VMT_2*$N140","v":0},{"$f":"(VLOOKUP($B140,'By Population'!$G$2:$K$14,5,FALSE))*'By Speed'!$P153*Scenario_VMT_2*$N140","v":0},{"$f":"(VLOOKUP($B140,'By Population'!$G$2:$K$14,5,FALSE))*'By Speed'!$Q153*Scenario_VMT_2*$N140","v":0},{"$f":"(VLOOKUP($B140,'By Population'!$G$2:$K$14,5,FALSE))*'By Speed'!$R153*Scenario_VMT_2*$N140","v":0},{"$f":"(VLOOKUP($B140,'By Population'!$G$2:$K$14,5,FALSE))*'By Speed'!$S153*Scenario_VMT_2*$N140","v":0},{"$f":"(VLOOKUP($B140,'By Population'!$G$2:$K$14,5,FALSE))*'By Speed'!$T153*Scenario_VMT_2*$N140","v":0},{"$f":"(VLOOKUP($B140,'By Population'!$G$2:$K$14,5,FALSE))*'By Speed'!$U153*Scenario_VMT_2*$N140","v":0},0,{"$f":"(VLOOKUP($B140,'By Population'!$G$2:$K$14,5,FALSE))*'By Speed'!$M153*Scenario_VMT_3*$N140","v":0},{"$f":"(VLOOKUP($B140,'By Population'!$G$2:$K$14,5,FALSE))*'By Speed'!$N153*Scenario_VMT_3*$N140","v":0},{"$f":"(VLOOKUP($B140,'By Population'!$G$2:$K$14,5,FALSE))*'By Speed'!$O153*Scenario_VMT_3*$N140","v":0},{"$f":"(VLOOKUP($B140,'By Population'!$G$2:$K$14,5,FALSE))*'By Speed'!$P153*Scenario_VMT_3*$N140","v":0},{"$f":"(VLOOKUP($B140,'By Population'!$G$2:$K$14,5,FALSE))*'By Speed'!$Q153*Scenario_VMT_3*$N140","v":0},{"$f":"(VLOOKUP($B140,'By Population'!$G$2:$K$14,5,FALSE))*'By Speed'!$R153*Scenario_VMT_3*$N140","v":0},{"$f":"(VLOOKUP($B140,'By Population'!$G$2:$K$14,5,FALSE))*'By Speed'!$S153*Scenario_VMT_3*$N140","v":0},{"$f":"(VLOOKUP($B140,'By Population'!$G$2:$K$14,5,FALSE))*'By Speed'!$T153*Scenario_VMT_3*$N140","v":0},{"$f":"(VLOOKUP($B140,'By Population'!$G$2:$K$14,5,FALSE))*'By Speed'!$U153*Scenario_VMT_3*$N140","v":0},0,{"$f":"(VLOOKUP($B140,'By Population'!$G$2:$K$14,5,FALSE))*'By Speed'!$M153*Scenario_VMT_4*$N140","v":0},{"$f":"(VLOOKUP($B140,'By Population'!$G$2:$K$14,5,FALSE))*'By Speed'!$N153*Scenario_VMT_4*$N140","v":0},{"$f":"(VLOOKUP($B140,'By Population'!$G$2:$K$14,5,FALSE))*'By Speed'!$O153*Scenario_VMT_4*$N140","v":0},{"$f":"(VLOOKUP($B140,'By Population'!$G$2:$K$14,5,FALSE))*'By Speed'!$P153*Scenario_VMT_4*$N140","v":0},{"$f":"(VLOOKUP($B140,'By Population'!$G$2:$K$14,5,FALSE))*'By Speed'!$Q153*Scenario_VMT_4*$N140","v":0},{"$f":"(VLOOKUP($B140,'By Population'!$G$2:$K$14,5,FALSE))*'By Speed'!$R153*Scenario_VMT_4*$N140","v":0},{"$f":"(VLOOKUP($B140,'By Population'!$G$2:$K$14,5,FALSE))*'By Speed'!$S153*Scenario_VMT_4*$N140","v":0},{"$f":"(VLOOKUP($B140,'By Population'!$G$2:$K$14,5,FALSE))*'By Speed'!$T153*Scenario_VMT_4*$N140","v":0},{"$f":"(VLOOKUP($B140,'By Population'!$G$2:$K$14,5,FALSE))*'By Speed'!$U153*Scenario_VMT_4*$N140","v":0},0,{"$f":"(VLOOKUP($B140,'By Population'!$G$2:$K$14,5,FALSE))*'By Speed'!$M153*Scenario_VMT_5*$N140","v":0},{"$f":"(VLOOKUP($B140,'By Population'!$G$2:$K$14,5,FALSE))*'By Speed'!$N153*Scenario_VMT_5*$N140","v":0},{"$f":"(VLOOKUP($B140,'By Population'!$G$2:$K$14,5,FALSE))*'By Speed'!$O153*Scenario_VMT_5*$N140","v":0},{"$f":"(VLOOKUP($B140,'By Population'!$G$2:$K$14,5,FALSE))*'By Speed'!$P153*Scenario_VMT_5*$N140","v":0},{"$f":"(VLOOKUP($B140,'By Population'!$G$2:$K$14,5,FALSE))*'By Speed'!$Q153*Scenario_VMT_5*$N140","v":0},{"$f":"(VLOOKUP($B140,'By Population'!$G$2:$K$14,5,FALSE))*'By Speed'!$R153*Scenario_VMT_5*$N140","v":0},{"$f":"(VLOOKUP($B140,'By Population'!$G$2:$K$14,5,FALSE))*'By Speed'!$S153*Scenario_VMT_5*$N140","v":0},{"$f":"(VLOOKUP($B140,'By Population'!$G$2:$K$14,5,FALSE))*'By Speed'!$T153*Scenario_VMT_5*$N140","v":0},{"$f":"(VLOOKUP($B140,'By Population'!$G$2:$K$14,5,FALSE))*'By Speed'!$U153*Scenario_VMT_5*$N140","v":0},0]
[137,"LHD2_GAS",65,"LHD2_GAS_65",{"$f":"(VLOOKUP($B141,'By Population'!$G$2:$K$14,5,FALSE))*'By Speed'!$M154*Scenario_VMT_EX*$N141","v":0},{"$f":"(VLOOKUP($B141,'By Population'!$G$2:$K$14,5,FALSE))*'By Speed'!$N154*Scenario_VMT_EX*$N141","v":0},{"$f":"(VLOOKUP($B141,'By Population'!$G$2:$K$14,5,FALSE))*'By Speed'!$O154*Scenario_VMT_EX*$N141","v":0},{"$f":"(VLOOKUP($B141,'By Population'!$G$2:$K$14,5,FALSE))*'By Speed'!$P154*Scenario_VMT_EX*$N141","v":0},{"$f":"(VLOOKUP($B141,'By Population'!$G$2:$K$14,5,FALSE))*'By Speed'!$Q154*Scenario_VMT_EX*$N141","v":0},{"$f":"(VLOOKUP($B141,'By Population'!$G$2:$K$14,5,FALSE))*'By Speed'!$R154*Scenario_VMT_EX*$N141","v":0},{"$f":"(VLOOKUP($B141,'By Population'!$G$2:$K$14,5,FALSE))*'By Speed'!$S154*Scenario_VMT_EX*$N141","v":0},{"$f":"(VLOOKUP($B141,'By Population'!$G$2:$K$14,5,FALSE))*'By Speed'!$T154*Scenario_VMT_EX*$N141","v":0},{"$f":"(VLOOKUP($B141,'By Population'!$G$2:$K$14,5,FALSE))*'By Speed'!$U154*Scenario_VMT_EX*$N141","v":0},0,{"$f":"(VLOOKUP($B141,'By Population'!$G$2:$K$14,5,FALSE))*'By Speed'!$M154*Scenario_VMT_1*$N141","v":0},{"$f":"(VLOOKUP($B141,'By Population'!$G$2:$K$14,5,FALSE))*'By Speed'!$N154*Scenario_VMT_1*$N141","v":0},{"$f":"(VLOOKUP($B141,'By Population'!$G$2:$K$14,5,FALSE))*'By Speed'!$O154*Scenario_VMT_1*$N141","v":0},{"$f":"(VLOOKUP($B141,'By Population'!$G$2:$K$14,5,FALSE))*'By Speed'!$P154*Scenario_VMT_1*$N141","v":0},{"$f":"(VLOOKUP($B141,'By Population'!$G$2:$K$14,5,FALSE))*'By Speed'!$Q154*Scenario_VMT_1*$N141","v":0},{"$f":"(VLOOKUP($B141,'By Population'!$G$2:$K$14,5,FALSE))*'By Speed'!$R154*Scenario_VMT_1*$N141","v":0},{"$f":"(VLOOKUP($B141,'By Population'!$G$2:$K$14,5,FALSE))*'By Speed'!$S154*Scenario_VMT_1*$N141","v":0},{"$f":"(VLOOKUP($B141,'By Population'!$G$2:$K$14,5,FALSE))*'By Speed'!$T154*Scenario_VMT_1*$N141","v":0},{"$f":"(VLOOKUP($B141,'By Population'!$G$2:$K$14,5,FALSE))*'By Speed'!$U154*Scenario_VMT_1*$N141","v":0},0,{"$f":"(VLOOKUP($B141,'By Population'!$G$2:$K$14,5,FALSE))*'By Speed'!$M154*Scenario_VMT_2*$N141","v":0},{"$f":"(VLOOKUP($B141,'By Population'!$G$2:$K$14,5,FALSE))*'By Speed'!$N154*Scenario_VMT_2*$N141","v":0},{"$f":"(VLOOKUP($B141,'By Population'!$G$2:$K$14,5,FALSE))*'By Speed'!$O154*Scenario_VMT_2*$N141","v":0},{"$f":"(VLOOKUP($B141,'By Population'!$G$2:$K$14,5,FALSE))*'By Speed'!$P154*Scenario_VMT_2*$N141","v":0},{"$f":"(VLOOKUP($B141,'By Population'!$G$2:$K$14,5,FALSE))*'By Speed'!$Q154*Scenario_VMT_2*$N141","v":0},{"$f":"(VLOOKUP($B141,'By Population'!$G$2:$K$14,5,FALSE))*'By Speed'!$R154*Scenario_VMT_2*$N141","v":0},{"$f":"(VLOOKUP($B141,'By Population'!$G$2:$K$14,5,FALSE))*'By Speed'!$S154*Scenario_VMT_2*$N141","v":0},{"$f":"(VLOOKUP($B141,'By Population'!$G$2:$K$14,5,FALSE))*'By Speed'!$T154*Scenario_VMT_2*$N141","v":0},{"$f":"(VLOOKUP($B141,'By Population'!$G$2:$K$14,5,FALSE))*'By Speed'!$U154*Scenario_VMT_2*$N141","v":0},0,{"$f":"(VLOOKUP($B141,'By Population'!$G$2:$K$14,5,FALSE))*'By Speed'!$M154*Scenario_VMT_3*$N141","v":0},{"$f":"(VLOOKUP($B141,'By Population'!$G$2:$K$14,5,FALSE))*'By Speed'!$N154*Scenario_VMT_3*$N141","v":0},{"$f":"(VLOOKUP($B141,'By Population'!$G$2:$K$14,5,FALSE))*'By Speed'!$O154*Scenario_VMT_3*$N141","v":0},{"$f":"(VLOOKUP($B141,'By Population'!$G$2:$K$14,5,FALSE))*'By Speed'!$P154*Scenario_VMT_3*$N141","v":0},{"$f":"(VLOOKUP($B141,'By Population'!$G$2:$K$14,5,FALSE))*'By Speed'!$Q154*Scenario_VMT_3*$N141","v":0},{"$f":"(VLOOKUP($B141,'By Population'!$G$2:$K$14,5,FALSE))*'By Speed'!$R154*Scenario_VMT_3*$N141","v":0},{"$f":"(VLOOKUP($B141,'By Population'!$G$2:$K$14,5,FALSE))*'By Speed'!$S154*Scenario_VMT_3*$N141","v":0},{"$f":"(VLOOKUP($B141,'By Population'!$G$2:$K$14,5,FALSE))*'By Speed'!$T154*Scenario_VMT_3*$N141","v":0},{"$f":"(VLOOKUP($B141,'By Population'!$G$2:$K$14,5,FALSE))*'By Speed'!$U154*Scenario_VMT_3*$N141","v":0},0,{"$f":"(VLOOKUP($B141,'By Population'!$G$2:$K$14,5,FALSE))*'By Speed'!$M154*Scenario_VMT_4*$N141","v":0},{"$f":"(VLOOKUP($B141,'By Population'!$G$2:$K$14,5,FALSE))*'By Speed'!$N154*Scenario_VMT_4*$N141","v":0},{"$f":"(VLOOKUP($B141,'By Population'!$G$2:$K$14,5,FALSE))*'By Speed'!$O154*Scenario_VMT_4*$N141","v":0},{"$f":"(VLOOKUP($B141,'By Population'!$G$2:$K$14,5,FALSE))*'By Speed'!$P154*Scenario_VMT_4*$N141","v":0},{"$f":"(VLOOKUP($B141,'By Population'!$G$2:$K$14,5,FALSE))*'By Speed'!$Q154*Scenario_VMT_4*$N141","v":0},{"$f":"(VLOOKUP($B141,'By Population'!$G$2:$K$14,5,FALSE))*'By Speed'!$R154*Scenario_VMT_4*$N141","v":0},{"$f":"(VLOOKUP($B141,'By Population'!$G$2:$K$14,5,FALSE))*'By Speed'!$S154*Scenario_VMT_4*$N141","v":0},{"$f":"(VLOOKUP($B141,'By Population'!$G$2:$K$14,5,FALSE))*'By Speed'!$T154*Scenario_VMT_4*$N141","v":0},{"$f":"(VLOOKUP($B141,'By Population'!$G$2:$K$14,5,FALSE))*'By Speed'!$U154*Scenario_VMT_4*$N141","v":0},0,{"$f":"(VLOOKUP($B141,'By Population'!$G$2:$K$14,5,FALSE))*'By Speed'!$M154*Scenario_VMT_5*$N141","v":0},{"$f":"(VLOOKUP($B141,'By Population'!$G$2:$K$14,5,FALSE))*'By Speed'!$N154*Scenario_VMT_5*$N141","v":0},{"$f":"(VLOOKUP($B141,'By Population'!$G$2:$K$14,5,FALSE))*'By Speed'!$O154*Scenario_VMT_5*$N141","v":0},{"$f":"(VLOOKUP($B141,'By Population'!$G$2:$K$14,5,FALSE))*'By Speed'!$P154*Scenario_VMT_5*$N141","v":0},{"$f":"(VLOOKUP($B141,'By Population'!$G$2:$K$14,5,FALSE))*'By Speed'!$Q154*Scenario_VMT_5*$N141","v":0},{"$f":"(VLOOKUP($B141,'By Population'!$G$2:$K$14,5,FALSE))*'By Speed'!$R154*Scenario_VMT_5*$N141","v":0},{"$f":"(VLOOKUP($B141,'By Population'!$G$2:$K$14,5,FALSE))*'By Speed'!$S154*Scenario_VMT_5*$N141","v":0},{"$f":"(VLOOKUP($B141,'By Population'!$G$2:$K$14,5,FALSE))*'By Speed'!$T154*Scenario_VMT_5*$N141","v":0},{"$f":"(VLOOKUP($B141,'By Population'!$G$2:$K$14,5,FALSE))*'By Speed'!$U154*Scenario_VMT_5*$N141","v":0},0]
[139,"LHD2_GAS",70,"LHD2_GAS_70",{"$f":"(VLOOKUP($B142,'By Population'!$G$2:$K$14,5,FALSE))*'By Speed'!$M155*Scenario_VMT_EX*$N142","v":0},{"$f":"(VLOOKUP($B142,'By Population'!$G$2:$K$14,5,FALSE))*'By Speed'!$N155*Scenario_VMT_EX*$N142","v":0},{"$f":"(VLOOKUP($B142,'By Population'!$G$2:$K$14,5,FALSE))*'By Speed'!$O155*Scenario_VMT_EX*$N142","v":0},{"$f":"(VLOOKUP($B142,'By Population'!$G$2:$K$14,5,FALSE))*'By Speed'!$P155*Scenario_VMT_EX*$N142","v":0},{"$f":"(VLOOKUP($B142,'By Population'!$G$2:$K$14,5,FALSE))*'By Speed'!$Q155*Scenario_VMT_EX*$N142","v":0},{"$f":"(VLOOKUP($B142,'By Population'!$G$2:$K$14,5,FALSE))*'By Speed'!$R155*Scenario_VMT_EX*$N142","v":0},{"$f":"(VLOOKUP($B142,'By Population'!$G$2:$K$14,5,FALSE))*'By Speed'!$S155*Scenario_VMT_EX*$N142","v":0},{"$f":"(VLOOKUP($B142,'By Population'!$G$2:$K$14,5,FALSE))*'By Speed'!$T155*Scenario_VMT_EX*$N142","v":0},{"$f":"(VLOOKUP($B142,'By Population'!$G$2:$K$14,5,FALSE))*'By Speed'!$U155*Scenario_VMT_EX*$N142","v":0},0,{"$f":"(VLOOKUP($B142,'By Population'!$G$2:$K$14,5,FALSE))*'By Speed'!$M155*Scenario_VMT_1*$N142","v":0},{"$f":"(VLOOKUP($B142,'By Population'!$G$2:$K$14,5,FALSE))*'By Speed'!$N155*Scenario_VMT_1*$N142","v":0},{"$f":"(VLOOKUP($B142,'By Population'!$G$2:$K$14,5,FALSE))*'By Speed'!$O155*Scenario_VMT_1*$N142","v":0},{"$f":"(VLOOKUP($B142,'By Population'!$G$2:$K$14,5,FALSE))*'By Speed'!$P155*Scenario_VMT_1*$N142","v":0},{"$f":"(VLOOKUP($B142,'By Population'!$G$2:$K$14,5,FALSE))*'By Speed'!$Q155*Scenario_VMT_1*$N142","v":0},{"$f":"(VLOOKUP($B142,'By Population'!$G$2:$K$14,5,FALSE))*'By Speed'!$R155*Scenario_VMT_1*$N142","v":0},{"$f":"(VLOOKUP($B142,'By Population'!$G$2:$K$14,5,FALSE))*'By Speed'!$S155*Scenario_VMT_1*$N142","v":0},{"$f":"(VLOOKUP($B142,'By Population'!$G$2:$K$14,5,FALSE))*'By Speed'!$T155*Scenario_VMT_1*$N142","v":0},{"$f":"(VLOOKUP($B142,'By Population'!$G$2:$K$14,5,FALSE))*'By Speed'!$U155*Scenario_VMT_1*$N142","v":0},0,{"$f":"(VLOOKUP($B142,'By Population'!$G$2:$K$14,5,FALSE))*'By Speed'!$M155*Scenario_VMT_2*$N142","v":0},{"$f":"(VLOOKUP($B142,'By Population'!$G$2:$K$14,5,FALSE))*'By Speed'!$N155*Scenario_VMT_2*$N142","v":0},{"$f":"(VLOOKUP($B142,'By Population'!$G$2:$K$14,5,FALSE))*'By Speed'!$O155*Scenario_VMT_2*$N142","v":0},{"$f":"(VLOOKUP($B142,'By Population'!$G$2:$K$14,5,FALSE))*'By Speed'!$P155*Scenario_VMT_2*$N142","v":0},{"$f":"(VLOOKUP($B142,'By Population'!$G$2:$K$14,5,FALSE))*'By Speed'!$Q155*Scenario_VMT_2*$N142","v":0},{"$f":"(VLOOKUP($B142,'By Population'!$G$2:$K$14,5,FALSE))*'By Speed'!$R155*Scenario_VMT_2*$N142","v":0},{"$f":"(VLOOKUP($B142,'By Population'!$G$2:$K$14,5,FALSE))*'By Speed'!$S155*Scenario_VMT_2*$N142","v":0},{"$f":"(VLOOKUP($B142,'By Population'!$G$2:$K$14,5,FALSE))*'By Speed'!$T155*Scenario_VMT_2*$N142","v":0},{"$f":"(VLOOKUP($B142,'By Population'!$G$2:$K$14,5,FALSE))*'By Speed'!$U155*Scenario_VMT_2*$N142","v":0},0,{"$f":"(VLOOKUP($B142,'By Population'!$G$2:$K$14,5,FALSE))*'By Speed'!$M155*Scenario_VMT_3*$N142","v":0},{"$f":"(VLOOKUP($B142,'By Population'!$G$2:$K$14,5,FALSE))*'By Speed'!$N155*Scenario_VMT_3*$N142","v":0},{"$f":"(VLOOKUP($B142,'By Population'!$G$2:$K$14,5,FALSE))*'By Speed'!$O155*Scenario_VMT_3*$N142","v":0},{"$f":"(VLOOKUP($B142,'By Population'!$G$2:$K$14,5,FALSE))*'By Speed'!$P155*Scenario_VMT_3*$N142","v":0},{"$f":"(VLOOKUP($B142,'By Population'!$G$2:$K$14,5,FALSE))*'By Speed'!$Q155*Scenario_VMT_3*$N142","v":0},{"$f":"(VLOOKUP($B142,'By Population'!$G$2:$K$14,5,FALSE))*'By Speed'!$R155*Scenario_VMT_3*$N142","v":0},{"$f":"(VLOOKUP($B142,'By Population'!$G$2:$K$14,5,FALSE))*'By Speed'!$S155*Scenario_VMT_3*$N142","v":0},{"$f":"(VLOOKUP($B142,'By Population'!$G$2:$K$14,5,FALSE))*'By Speed'!$T155*Scenario_VMT_3*$N142","v":0},{"$f":"(VLOOKUP($B142,'By Population'!$G$2:$K$14,5,FALSE))*'By Speed'!$U155*Scenario_VMT_3*$N142","v":0},0,{"$f":"(VLOOKUP($B142,'By Population'!$G$2:$K$14,5,FALSE))*'By Speed'!$M155*Scenario_VMT_4*$N142","v":0},{"$f":"(VLOOKUP($B142,'By Population'!$G$2:$K$14,5,FALSE))*'By Speed'!$N155*Scenario_VMT_4*$N142","v":0},{"$f":"(VLOOKUP($B142,'By Population'!$G$2:$K$14,5,FALSE))*'By Speed'!$O155*Scenario_VMT_4*$N142","v":0},{"$f":"(VLOOKUP($B142,'By Population'!$G$2:$K$14,5,FALSE))*'By Speed'!$P155*Scenario_VMT_4*$N142","v":0},{"$f":"(VLOOKUP($B142,'By Population'!$G$2:$K$14,5,FALSE))*'By Speed'!$Q155*Scenario_VMT_4*$N142","v":0},{"$f":"(VLOOKUP($B142,'By Population'!$G$2:$K$14,5,FALSE))*'By Speed'!$R155*Scenario_VMT_4*$N142","v":0},{"$f":"(VLOOKUP($B142,'By Population'!$G$2:$K$14,5,FALSE))*'By Speed'!$S155*Scenario_VMT_4*$N142","v":0},{"$f":"(VLOOKUP($B142,'By Population'!$G$2:$K$14,5,FALSE))*'By Speed'!$T155*Scenario_VMT_4*$N142","v":0},{"$f":"(VLOOKUP($B142,'By Population'!$G$2:$K$14,5,FALSE))*'By Speed'!$U155*Scenario_VMT_4*$N142","v":0},0,{"$f":"(VLOOKUP($B142,'By Population'!$G$2:$K$14,5,FALSE))*'By Speed'!$M155*Scenario_VMT_5*$N142","v":0},{"$f":"(VLOOKUP($B142,'By Population'!$G$2:$K$14,5,FALSE))*'By Speed'!$N155*Scenario_VMT_5*$N142","v":0},{"$f":"(VLOOKUP($B142,'By Population'!$G$2:$K$14,5,FALSE))*'By Speed'!$O155*Scenario_VMT_5*$N142","v":0},{"$f":"(VLOOKUP($B142,'By Population'!$G$2:$K$14,5,FALSE))*'By Speed'!$P155*Scenario_VMT_5*$N142","v":0},{"$f":"(VLOOKUP($B142,'By Population'!$G$2:$K$14,5,FALSE))*'By Speed'!$Q155*Scenario_VMT_5*$N142","v":0},{"$f":"(VLOOKUP($B142,'By Population'!$G$2:$K$14,5,FALSE))*'By Speed'!$R155*Scenario_VMT_5*$N142","v":0},{"$f":"(VLOOKUP($B142,'By Population'!$G$2:$K$14,5,FALSE))*'By Speed'!$S155*Scenario_VMT_5*$N142","v":0},{"$f":"(VLOOKUP($B142,'By Population'!$G$2:$K$14,5,FALSE))*'By Speed'!$T155*Scenario_VMT_5*$N142","v":0},{"$f":"(VLOOKUP($B142,'By Population'!$G$2:$K$14,5,FALSE))*'By Speed'!$U155*Scenario_VMT_5*$N142","v":0},0]
[142,"MCY_GAS",10,"MCY_GAS_10",{"$f":"(VLOOKUP($B143,'By Population'!$G$2:$K$14,5,FALSE))*'By Speed'!$M156*Scenario_VMT_EX*$N143","v":0},{"$f":"(VLOOKUP($B143,'By Population'!$G$2:$K$14,5,FALSE))*'By Speed'!$N156*Scenario_VMT_EX*$N143","v":0},{"$f":"(VLOOKUP($B143,'By Population'!$G$2:$K$14,5,FALSE))*'By Speed'!$O156*Scenario_VMT_EX*$N143","v":0},{"$f":"(VLOOKUP($B143,'By Population'!$G$2:$K$14,5,FALSE))*'By Speed'!$P156*Scenario_VMT_EX*$N143","v":0},{"$f":"(VLOOKUP($B143,'By Population'!$G$2:$K$14,5,FALSE))*'By Speed'!$Q156*Scenario_VMT_EX*$N143","v":0},{"$f":"(VLOOKUP($B143,'By Population'!$G$2:$K$14,5,FALSE))*'By Speed'!$R156*Scenario_VMT_EX*$N143","v":0},{"$f":"(VLOOKUP($B143,'By Population'!$G$2:$K$14,5,FALSE))*'By Speed'!$S156*Scenario_VMT_EX*$N143","v":0},{"$f":"(VLOOKUP($B143,'By Population'!$G$2:$K$14,5,FALSE))*'By Speed'!$T156*Scenario_VMT_EX*$N143","v":0},{"$f":"(VLOOKUP($B143,'By Population'!$G$2:$K$14,5,FALSE))*'By Speed'!$U156*Scenario_VMT_EX*$N143","v":0},0,{"$f":"(VLOOKUP($B143,'By Population'!$G$2:$K$14,5,FALSE))*'By Speed'!$M156*Scenario_VMT_1*$N143","v":0},{"$f":"(VLOOKUP($B143,'By Population'!$G$2:$K$14,5,FALSE))*'By Speed'!$N156*Scenario_VMT_1*$N143","v":0},{"$f":"(VLOOKUP($B143,'By Population'!$G$2:$K$14,5,FALSE))*'By Speed'!$O156*Scenario_VMT_1*$N143","v":0},{"$f":"(VLOOKUP($B143,'By Population'!$G$2:$K$14,5,FALSE))*'By Speed'!$P156*Scenario_VMT_1*$N143","v":0},{"$f":"(VLOOKUP($B143,'By Population'!$G$2:$K$14,5,FALSE))*'By Speed'!$Q156*Scenario_VMT_1*$N143","v":0},{"$f":"(VLOOKUP($B143,'By Population'!$G$2:$K$14,5,FALSE))*'By Speed'!$R156*Scenario_VMT_1*$N143","v":0},{"$f":"(VLOOKUP($B143,'By Population'!$G$2:$K$14,5,FALSE))*'By Speed'!$S156*Scenario_VMT_1*$N143","v":0},{"$f":"(VLOOKUP($B143,'By Population'!$G$2:$K$14,5,FALSE))*'By Speed'!$T156*Scenario_VMT_1*$N143","v":0},{"$f":"(VLOOKUP($B143,'By Population'!$G$2:$K$14,5,FALSE))*'By Speed'!$U156*Scenario_VMT_1*$N143","v":0},0,{"$f":"(VLOOKUP($B143,'By Population'!$G$2:$K$14,5,FALSE))*'By Speed'!$M156*Scenario_VMT_2*$N143","v":0},{"$f":"(VLOOKUP($B143,'By Population'!$G$2:$K$14,5,FALSE))*'By Speed'!$N156*Scenario_VMT_2*$N143","v":0},{"$f":"(VLOOKUP($B143,'By Population'!$G$2:$K$14,5,FALSE))*'By Speed'!$O156*Scenario_VMT_2*$N143","v":0},{"$f":"(VLOOKUP($B143,'By Population'!$G$2:$K$14,5,FALSE))*'By Speed'!$P156*Scenario_VMT_2*$N143","v":0},{"$f":"(VLOOKUP($B143,'By Population'!$G$2:$K$14,5,FALSE))*'By Speed'!$Q156*Scenario_VMT_2*$N143","v":0},{"$f":"(VLOOKUP($B143,'By Population'!$G$2:$K$14,5,FALSE))*'By Speed'!$R156*Scenario_VMT_2*$N143","v":0},{"$f":"(VLOOKUP($B143,'By Population'!$G$2:$K$14,5,FALSE))*'By Speed'!$S156*Scenario_VMT_2*$N143","v":0},{"$f":"(VLOOKUP($B143,'By Population'!$G$2:$K$14,5,FALSE))*'By Speed'!$T156*Scenario_VMT_2*$N143","v":0},{"$f":"(VLOOKUP($B143,'By Population'!$G$2:$K$14,5,FALSE))*'By Speed'!$U156*Scenario_VMT_2*$N143","v":0},0,{"$f":"(VLOOKUP($B143,'By Population'!$G$2:$K$14,5,FALSE))*'By Speed'!$M156*Scenario_VMT_3*$N143","v":0},{"$f":"(VLOOKUP($B143,'By Population'!$G$2:$K$14,5,FALSE))*'By Speed'!$N156*Scenario_VMT_3*$N143","v":0},{"$f":"(VLOOKUP($B143,'By Population'!$G$2:$K$14,5,FALSE))*'By Speed'!$O156*Scenario_VMT_3*$N143","v":0},{"$f":"(VLOOKUP($B143,'By Population'!$G$2:$K$14,5,FALSE))*'By Speed'!$P156*Scenario_VMT_3*$N143","v":0},{"$f":"(VLOOKUP($B143,'By Population'!$G$2:$K$14,5,FALSE))*'By Speed'!$Q156*Scenario_VMT_3*$N143","v":0},{"$f":"(VLOOKUP($B143,'By Population'!$G$2:$K$14,5,FALSE))*'By Speed'!$R156*Scenario_VMT_3*$N143","v":0},{"$f":"(VLOOKUP($B143,'By Population'!$G$2:$K$14,5,FALSE))*'By Speed'!$S156*Scenario_VMT_3*$N143","v":0},{"$f":"(VLOOKUP($B143,'By Population'!$G$2:$K$14,5,FALSE))*'By Speed'!$T156*Scenario_VMT_3*$N143","v":0},{"$f":"(VLOOKUP($B143,'By Population'!$G$2:$K$14,5,FALSE))*'By Speed'!$U156*Scenario_VMT_3*$N143","v":0},0,{"$f":"(VLOOKUP($B143,'By Population'!$G$2:$K$14,5,FALSE))*'By Speed'!$M156*Scenario_VMT_4*$N143","v":0},{"$f":"(VLOOKUP($B143,'By Population'!$G$2:$K$14,5,FALSE))*'By Speed'!$N156*Scenario_VMT_4*$N143","v":0},{"$f":"(VLOOKUP($B143,'By Population'!$G$2:$K$14,5,FALSE))*'By Speed'!$O156*Scenario_VMT_4*$N143","v":0},{"$f":"(VLOOKUP($B143,'By Population'!$G$2:$K$14,5,FALSE))*'By Speed'!$P156*Scenario_VMT_4*$N143","v":0},{"$f":"(VLOOKUP($B143,'By Population'!$G$2:$K$14,5,FALSE))*'By Speed'!$Q156*Scenario_VMT_4*$N143","v":0},{"$f":"(VLOOKUP($B143,'By Population'!$G$2:$K$14,5,FALSE))*'By Speed'!$R156*Scenario_VMT_4*$N143","v":0},{"$f":"(VLOOKUP($B143,'By Population'!$G$2:$K$14,5,FALSE))*'By Speed'!$S156*Scenario_VMT_4*$N143","v":0},{"$f":"(VLOOKUP($B143,'By Population'!$G$2:$K$14,5,FALSE))*'By Speed'!$T156*Scenario_VMT_4*$N143","v":0},{"$f":"(VLOOKUP($B143,'By Population'!$G$2:$K$14,5,FALSE))*'By Speed'!$U156*Scenario_VMT_4*$N143","v":0},0,{"$f":"(VLOOKUP($B143,'By Population'!$G$2:$K$14,5,FALSE))*'By Speed'!$M156*Scenario_VMT_5*$N143","v":0},{"$f":"(VLOOKUP($B143,'By Population'!$G$2:$K$14,5,FALSE))*'By Speed'!$N156*Scenario_VMT_5*$N143","v":0},{"$f":"(VLOOKUP($B143,'By Population'!$G$2:$K$14,5,FALSE))*'By Speed'!$O156*Scenario_VMT_5*$N143","v":0},{"$f":"(VLOOKUP($B143,'By Population'!$G$2:$K$14,5,FALSE))*'By Speed'!$P156*Scenario_VMT_5*$N143","v":0},{"$f":"(VLOOKUP($B143,'By Population'!$G$2:$K$14,5,FALSE))*'By Speed'!$Q156*Scenario_VMT_5*$N143","v":0},{"$f":"(VLOOKUP($B143,'By Population'!$G$2:$K$14,5,FALSE))*'By Speed'!$R156*Scenario_VMT_5*$N143","v":0},{"$f":"(VLOOKUP($B143,'By Population'!$G$2:$K$14,5,FALSE))*'By Speed'!$S156*Scenario_VMT_5*$N143","v":0},{"$f":"(VLOOKUP($B143,'By Population'!$G$2:$K$14,5,FALSE))*'By Speed'!$T156*Scenario_VMT_5*$N143","v":0},{"$f":"(VLOOKUP($B143,'By Population'!$G$2:$K$14,5,FALSE))*'By Speed'!$U156*Scenario_VMT_5*$N143","v":0},0]
[143,"MCY_GAS",15,"MCY_GAS_15",{"$f":"(VLOOKUP($B144,'By Population'!$G$2:$K$14,5,FALSE))*'By Speed'!$M157*Scenario_VMT_EX*$N144","v":0},{"$f":"(VLOOKUP($B144,'By Population'!$G$2:$K$14,5,FALSE))*'By Speed'!$N157*Scenario_VMT_EX*$N144","v":0},{"$f":"(VLOOKUP($B144,'By Population'!$G$2:$K$14,5,FALSE))*'By Speed'!$O157*Scenario_VMT_EX*$N144","v":0},{"$f":"(VLOOKUP($B144,'By Population'!$G$2:$K$14,5,FALSE))*'By Speed'!$P157*Scenario_VMT_EX*$N144","v":0},{"$f":"(VLOOKUP($B144,'By Population'!$G$2:$K$14,5,FALSE))*'By Speed'!$Q157*Scenario_VMT_EX*$N144","v":0},{"$f":"(VLOOKUP($B144,'By Population'!$G$2:$K$14,5,FALSE))*'By Speed'!$R157*Scenario_VMT_EX*$N144","v":0},{"$f":"(VLOOKUP($B144,'By Population'!$G$2:$K$14,5,FALSE))*'By Speed'!$S157*Scenario_VMT_EX*$N144","v":0},{"$f":"(VLOOKUP($B144,'By Population'!$G$2:$K$14,5,FALSE))*'By Speed'!$T157*Scenario_VMT_EX*$N144","v":0},{"$f":"(VLOOKUP($B144,'By Population'!$G$2:$K$14,5,FALSE))*'By Speed'!$U157*Scenario_VMT_EX*$N144","v":0},0,{"$f":"(VLOOKUP($B144,'By Population'!$G$2:$K$14,5,FALSE))*'By Speed'!$M157*Scenario_VMT_1*$N144","v":0},{"$f":"(VLOOKUP($B144,'By Population'!$G$2:$K$14,5,FALSE))*'By Speed'!$N157*Scenario_VMT_1*$N144","v":0},{"$f":"(VLOOKUP($B144,'By Population'!$G$2:$K$14,5,FALSE))*'By Speed'!$O157*Scenario_VMT_1*$N144","v":0},{"$f":"(VLOOKUP($B144,'By Population'!$G$2:$K$14,5,FALSE))*'By Speed'!$P157*Scenario_VMT_1*$N144","v":0},{"$f":"(VLOOKUP($B144,'By Population'!$G$2:$K$14,5,FALSE))*'By Speed'!$Q157*Scenario_VMT_1*$N144","v":0},{"$f":"(VLOOKUP($B144,'By Population'!$G$2:$K$14,5,FALSE))*'By Speed'!$R157*Scenario_VMT_1*$N144","v":0},{"$f":"(VLOOKUP($B144,'By Population'!$G$2:$K$14,5,FALSE))*'By Speed'!$S157*Scenario_VMT_1*$N144","v":0},{"$f":"(VLOOKUP($B144,'By Population'!$G$2:$K$14,5,FALSE))*'By Speed'!$T157*Scenario_VMT_1*$N144","v":0},{"$f":"(VLOOKUP($B144,'By Population'!$G$2:$K$14,5,FALSE))*'By Speed'!$U157*Scenario_VMT_1*$N144","v":0},0,{"$f":"(VLOOKUP($B144,'By Population'!$G$2:$K$14,5,FALSE))*'By Speed'!$M157*Scenario_VMT_2*$N144","v":0},{"$f":"(VLOOKUP($B144,'By Population'!$G$2:$K$14,5,FALSE))*'By Speed'!$N157*Scenario_VMT_2*$N144","v":0},{"$f":"(VLOOKUP($B144,'By Population'!$G$2:$K$14,5,FALSE))*'By Speed'!$O157*Scenario_VMT_2*$N144","v":0},{"$f":"(VLOOKUP($B144,'By Population'!$G$2:$K$14,5,FALSE))*'By Speed'!$P157*Scenario_VMT_2*$N144","v":0},{"$f":"(VLOOKUP($B144,'By Population'!$G$2:$K$14,5,FALSE))*'By Speed'!$Q157*Scenario_VMT_2*$N144","v":0},{"$f":"(VLOOKUP($B144,'By Population'!$G$2:$K$14,5,FALSE))*'By Speed'!$R157*Scenario_VMT_2*$N144","v":0},{"$f":"(VLOOKUP($B144,'By Population'!$G$2:$K$14,5,FALSE))*'By Speed'!$S157*Scenario_VMT_2*$N144","v":0},{"$f":"(VLOOKUP($B144,'By Population'!$G$2:$K$14,5,FALSE))*'By Speed'!$T157*Scenario_VMT_2*$N144","v":0},{"$f":"(VLOOKUP($B144,'By Population'!$G$2:$K$14,5,FALSE))*'By Speed'!$U157*Scenario_VMT_2*$N144","v":0},0,{"$f":"(VLOOKUP($B144,'By Population'!$G$2:$K$14,5,FALSE))*'By Speed'!$M157*Scenario_VMT_3*$N144","v":0},{"$f":"(VLOOKUP($B144,'By Population'!$G$2:$K$14,5,FALSE))*'By Speed'!$N157*Scenario_VMT_3*$N144","v":0},{"$f":"(VLOOKUP($B144,'By Population'!$G$2:$K$14,5,FALSE))*'By Speed'!$O157*Scenario_VMT_3*$N144","v":0},{"$f":"(VLOOKUP($B144,'By Population'!$G$2:$K$14,5,FALSE))*'By Speed'!$P157*Scenario_VMT_3*$N144","v":0},{"$f":"(VLOOKUP($B144,'By Population'!$G$2:$K$14,5,FALSE))*'By Speed'!$Q157*Scenario_VMT_3*$N144","v":0},{"$f":"(VLOOKUP($B144,'By Population'!$G$2:$K$14,5,FALSE))*'By Speed'!$R157*Scenario_VMT_3*$N144","v":0},{"$f":"(VLOOKUP($B144,'By Population'!$G$2:$K$14,5,FALSE))*'By Speed'!$S157*Scenario_VMT_3*$N144","v":0},{"$f":"(VLOOKUP($B144,'By Population'!$G$2:$K$14,5,FALSE))*'By Speed'!$T157*Scenario_VMT_3*$N144","v":0},{"$f":"(VLOOKUP($B144,'By Population'!$G$2:$K$14,5,FALSE))*'By Speed'!$U157*Scenario_VMT_3*$N144","v":0},0,{"$f":"(VLOOKUP($B144,'By Population'!$G$2:$K$14,5,FALSE))*'By Speed'!$M157*Scenario_VMT_4*$N144","v":0},{"$f":"(VLOOKUP($B144,'By Population'!$G$2:$K$14,5,FALSE))*'By Speed'!$N157*Scenario_VMT_4*$N144","v":0},{"$f":"(VLOOKUP($B144,'By Population'!$G$2:$K$14,5,FALSE))*'By Speed'!$O157*Scenario_VMT_4*$N144","v":0},{"$f":"(VLOOKUP($B144,'By Population'!$G$2:$K$14,5,FALSE))*'By Speed'!$P157*Scenario_VMT_4*$N144","v":0},{"$f":"(VLOOKUP($B144,'By Population'!$G$2:$K$14,5,FALSE))*'By Speed'!$Q157*Scenario_VMT_4*$N144","v":0},{"$f":"(VLOOKUP($B144,'By Population'!$G$2:$K$14,5,FALSE))*'By Speed'!$R157*Scenario_VMT_4*$N144","v":0},{"$f":"(VLOOKUP($B144,'By Population'!$G$2:$K$14,5,FALSE))*'By Speed'!$S157*Scenario_VMT_4*$N144","v":0},{"$f":"(VLOOKUP($B144,'By Population'!$G$2:$K$14,5,FALSE))*'By Speed'!$T157*Scenario_VMT_4*$N144","v":0},{"$f":"(VLOOKUP($B144,'By Population'!$G$2:$K$14,5,FALSE))*'By Speed'!$U157*Scenario_VMT_4*$N144","v":0},0,{"$f":"(VLOOKUP($B144,'By Population'!$G$2:$K$14,5,FALSE))*'By Speed'!$M157*Scenario_VMT_5*$N144","v":0},{"$f":"(VLOOKUP($B144,'By Population'!$G$2:$K$14,5,FALSE))*'By Speed'!$N157*Scenario_VMT_5*$N144","v":0},{"$f":"(VLOOKUP($B144,'By Population'!$G$2:$K$14,5,FALSE))*'By Speed'!$O157*Scenario_VMT_5*$N144","v":0},{"$f":"(VLOOKUP($B144,'By Population'!$G$2:$K$14,5,FALSE))*'By Speed'!$P157*Scenario_VMT_5*$N144","v":0},{"$f":"(VLOOKUP($B144,'By Population'!$G$2:$K$14,5,FALSE))*'By Speed'!$Q157*Scenario_VMT_5*$N144","v":0},{"$f":"(VLOOKUP($B144,'By Population'!$G$2:$K$14,5,FALSE))*'By Speed'!$R157*Scenario_VMT_5*$N144","v":0},{"$f":"(VLOOKUP($B144,'By Population'!$G$2:$K$14,5,FALSE))*'By Speed'!$S157*Scenario_VMT_5*$N144","v":0},{"$f":"(VLOOKUP($B144,'By Population'!$G$2:$K$14,5,FALSE))*'By Speed'!$T157*Scenario_VMT_5*$N144","v":0},{"$f":"(VLOOKUP($B144,'By Population'!$G$2:$K$14,5,FALSE))*'By Speed'!$U157*Scenario_VMT_5*$N144","v":0},0]
[144,"MCY_GAS",20,"MCY_GAS_20",{"$f":"(VLOOKUP($B145,'By Population'!$G$2:$K$14,5,FALSE))*'By Speed'!$M158*Scenario_VMT_EX*$N145","v":0},{"$f":"(VLOOKUP($B145,'By Population'!$G$2:$K$14,5,FALSE))*'By Speed'!$N158*Scenario_VMT_EX*$N145","v":0},{"$f":"(VLOOKUP($B145,'By Population'!$G$2:$K$14,5,FALSE))*'By Speed'!$O158*Scenario_VMT_EX*$N145","v":0},{"$f":"(VLOOKUP($B145,'By Population'!$G$2:$K$14,5,FALSE))*'By Speed'!$P158*Scenario_VMT_EX*$N145","v":0},{"$f":"(VLOOKUP($B145,'By Population'!$G$2:$K$14,5,FALSE))*'By Speed'!$Q158*Scenario_VMT_EX*$N145","v":0},{"$f":"(VLOOKUP($B145,'By Population'!$G$2:$K$14,5,FALSE))*'By Speed'!$R158*Scenario_VMT_EX*$N145","v":0},{"$f":"(VLOOKUP($B145,'By Population'!$G$2:$K$14,5,FALSE))*'By Speed'!$S158*Scenario_VMT_EX*$N145","v":0},{"$f":"(VLOOKUP($B145,'By Population'!$G$2:$K$14,5,FALSE))*'By Speed'!$T158*Scenario_VMT_EX*$N145","v":0},{"$f":"(VLOOKUP($B145,'By Population'!$G$2:$K$14,5,FALSE))*'By Speed'!$U158*Scenario_VMT_EX*$N145","v":0},0,{"$f":"(VLOOKUP($B145,'By Population'!$G$2:$K$14,5,FALSE))*'By Speed'!$M158*Scenario_VMT_1*$N145","v":0},{"$f":"(VLOOKUP($B145,'By Population'!$G$2:$K$14,5,FALSE))*'By Speed'!$N158*Scenario_VMT_1*$N145","v":0},{"$f":"(VLOOKUP($B145,'By Population'!$G$2:$K$14,5,FALSE))*'By Speed'!$O158*Scenario_VMT_1*$N145","v":0},{"$f":"(VLOOKUP($B145,'By Population'!$G$2:$K$14,5,FALSE))*'By Speed'!$P158*Scenario_VMT_1*$N145","v":0},{"$f":"(VLOOKUP($B145,'By Population'!$G$2:$K$14,5,FALSE))*'By Speed'!$Q158*Scenario_VMT_1*$N145","v":0},{"$f":"(VLOOKUP($B145,'By Population'!$G$2:$K$14,5,FALSE))*'By Speed'!$R158*Scenario_VMT_1*$N145","v":0},{"$f":"(VLOOKUP($B145,'By Population'!$G$2:$K$14,5,FALSE))*'By Speed'!$S158*Scenario_VMT_1*$N145","v":0},{"$f":"(VLOOKUP($B145,'By Population'!$G$2:$K$14,5,FALSE))*'By Speed'!$T158*Scenario_VMT_1*$N145","v":0},{"$f":"(VLOOKUP($B145,'By Population'!$G$2:$K$14,5,FALSE))*'By Speed'!$U158*Scenario_VMT_1*$N145","v":0},0,{"$f":"(VLOOKUP($B145,'By Population'!$G$2:$K$14,5,FALSE))*'By Speed'!$M158*Scenario_VMT_2*$N145","v":0},{"$f":"(VLOOKUP($B145,'By Population'!$G$2:$K$14,5,FALSE))*'By Speed'!$N158*Scenario_VMT_2*$N145","v":0},{"$f":"(VLOOKUP($B145,'By Population'!$G$2:$K$14,5,FALSE))*'By Speed'!$O158*Scenario_VMT_2*$N145","v":0},{"$f":"(VLOOKUP($B145,'By Population'!$G$2:$K$14,5,FALSE))*'By Speed'!$P158*Scenario_VMT_2*$N145","v":0},{"$f":"(VLOOKUP($B145,'By Population'!$G$2:$K$14,5,FALSE))*'By Speed'!$Q158*Scenario_VMT_2*$N145","v":0},{"$f":"(VLOOKUP($B145,'By Population'!$G$2:$K$14,5,FALSE))*'By Speed'!$R158*Scenario_VMT_2*$N145","v":0},{"$f":"(VLOOKUP($B145,'By Population'!$G$2:$K$14,5,FALSE))*'By Speed'!$S158*Scenario_VMT_2*$N145","v":0},{"$f":"(VLOOKUP($B145,'By Population'!$G$2:$K$14,5,FALSE))*'By Speed'!$T158*Scenario_VMT_2*$N145","v":0},{"$f":"(VLOOKUP($B145,'By Population'!$G$2:$K$14,5,FALSE))*'By Speed'!$U158*Scenario_VMT_2*$N145","v":0},0,{"$f":"(VLOOKUP($B145,'By Population'!$G$2:$K$14,5,FALSE))*'By Speed'!$M158*Scenario_VMT_3*$N145","v":0},{"$f":"(VLOOKUP($B145,'By Population'!$G$2:$K$14,5,FALSE))*'By Speed'!$N158*Scenario_VMT_3*$N145","v":0},{"$f":"(VLOOKUP($B145,'By Population'!$G$2:$K$14,5,FALSE))*'By Speed'!$O158*Scenario_VMT_3*$N145","v":0},{"$f":"(VLOOKUP($B145,'By Population'!$G$2:$K$14,5,FALSE))*'By Speed'!$P158*Scenario_VMT_3*$N145","v":0},{"$f":"(VLOOKUP($B145,'By Population'!$G$2:$K$14,5,FALSE))*'By Speed'!$Q158*Scenario_VMT_3*$N145","v":0},{"$f":"(VLOOKUP($B145,'By Population'!$G$2:$K$14,5,FALSE))*'By Speed'!$R158*Scenario_VMT_3*$N145","v":0},{"$f":"(VLOOKUP($B145,'By Population'!$G$2:$K$14,5,FALSE))*'By Speed'!$S158*Scenario_VMT_3*$N145","v":0},{"$f":"(VLOOKUP($B145,'By Population'!$G$2:$K$14,5,FALSE))*'By Speed'!$T158*Scenario_VMT_3*$N145","v":0},{"$f":"(VLOOKUP($B145,'By Population'!$G$2:$K$14,5,FALSE))*'By Speed'!$U158*Scenario_VMT_3*$N145","v":0},0,{"$f":"(VLOOKUP($B145,'By Population'!$G$2:$K$14,5,FALSE))*'By Speed'!$M158*Scenario_VMT_4*$N145","v":0},{"$f":"(VLOOKUP($B145,'By Population'!$G$2:$K$14,5,FALSE))*'By Speed'!$N158*Scenario_VMT_4*$N145","v":0},{"$f":"(VLOOKUP($B145,'By Population'!$G$2:$K$14,5,FALSE))*'By Speed'!$O158*Scenario_VMT_4*$N145","v":0},{"$f":"(VLOOKUP($B145,'By Population'!$G$2:$K$14,5,FALSE))*'By Speed'!$P158*Scenario_VMT_4*$N145","v":0},{"$f":"(VLOOKUP($B145,'By Population'!$G$2:$K$14,5,FALSE))*'By Speed'!$Q158*Scenario_VMT_4*$N145","v":0},{"$f":"(VLOOKUP($B145,'By Population'!$G$2:$K$14,5,FALSE))*'By Speed'!$R158*Scenario_VMT_4*$N145","v":0},{"$f":"(VLOOKUP($B145,'By Population'!$G$2:$K$14,5,FALSE))*'By Speed'!$S158*Scenario_VMT_4*$N145","v":0},{"$f":"(VLOOKUP($B145,'By Population'!$G$2:$K$14,5,FALSE))*'By Speed'!$T158*Scenario_VMT_4*$N145","v":0},{"$f":"(VLOOKUP($B145,'By Population'!$G$2:$K$14,5,FALSE))*'By Speed'!$U158*Scenario_VMT_4*$N145","v":0},0,{"$f":"(VLOOKUP($B145,'By Population'!$G$2:$K$14,5,FALSE))*'By Speed'!$M158*Scenario_VMT_5*$N145","v":0},{"$f":"(VLOOKUP($B145,'By Population'!$G$2:$K$14,5,FALSE))*'By Speed'!$N158*Scenario_VMT_5*$N145","v":0},{"$f":"(VLOOKUP($B145,'By Population'!$G$2:$K$14,5,FALSE))*'By Speed'!$O158*Scenario_VMT_5*$N145","v":0},{"$f":"(VLOOKUP($B145,'By Population'!$G$2:$K$14,5,FALSE))*'By Speed'!$P158*Scenario_VMT_5*$N145","v":0},{"$f":"(VLOOKUP($B145,'By Population'!$G$2:$K$14,5,FALSE))*'By Speed'!$Q158*Scenario_VMT_5*$N145","v":0},{"$f":"(VLOOKUP($B145,'By Population'!$G$2:$K$14,5,FALSE))*'By Speed'!$R158*Scenario_VMT_5*$N145","v":0},{"$f":"(VLOOKUP($B145,'By Population'!$G$2:$K$14,5,FALSE))*'By Speed'!$S158*Scenario_VMT_5*$N145","v":0},{"$f":"(VLOOKUP($B145,'By Population'!$G$2:$K$14,5,FALSE))*'By Speed'!$T158*Scenario_VMT_5*$N145","v":0},{"$f":"(VLOOKUP($B145,'By Population'!$G$2:$K$14,5,FALSE))*'By Speed'!$U158*Scenario_VMT_5*$N145","v":0},0]
[145,"MCY_GAS",25,"MCY_GAS_25",{"$f":"(VLOOKUP($B146,'By Population'!$G$2:$K$14,5,FALSE))*'By Speed'!$M159*Scenario_VMT_EX*$N146","v":0},{"$f":"(VLOOKUP($B146,'By Population'!$G$2:$K$14,5,FALSE))*'By Speed'!$N159*Scenario_VMT_EX*$N146","v":0},{"$f":"(VLOOKUP($B146,'By Population'!$G$2:$K$14,5,FALSE))*'By Speed'!$O159*Scenario_VMT_EX*$N146","v":0},{"$f":"(VLOOKUP($B146,'By Population'!$G$2:$K$14,5,FALSE))*'By Speed'!$P159*Scenario_VMT_EX*$N146","v":0},{"$f":"(VLOOKUP($B146,'By Population'!$G$2:$K$14,5,FALSE))*'By Speed'!$Q159*Scenario_VMT_EX*$N146","v":0},{"$f":"(VLOOKUP($B146,'By Population'!$G$2:$K$14,5,FALSE))*'By Speed'!$R159*Scenario_VMT_EX*$N146","v":0},{"$f":"(VLOOKUP($B146,'By Population'!$G$2:$K$14,5,FALSE))*'By Speed'!$S159*Scenario_VMT_EX*$N146","v":0},{"$f":"(VLOOKUP($B146,'By Population'!$G$2:$K$14,5,FALSE))*'By Speed'!$T159*Scenario_VMT_EX*$N146","v":0},{"$f":"(VLOOKUP($B146,'By Population'!$G$2:$K$14,5,FALSE))*'By Speed'!$U159*Scenario_VMT_EX*$N146","v":0},1,{"$f":"(VLOOKUP($B146,'By Population'!$G$2:$K$14,5,FALSE))*'By Speed'!$M159*Scenario_VMT_1*$N146","v":0},{"$f":"(VLOOKUP($B146,'By Population'!$G$2:$K$14,5,FALSE))*'By Speed'!$N159*Scenario_VMT_1*$N146","v":0},{"$f":"(VLOOKUP($B146,'By Population'!$G$2:$K$14,5,FALSE))*'By Speed'!$O159*Scenario_VMT_1*$N146","v":0},{"$f":"(VLOOKUP($B146,'By Population'!$G$2:$K$14,5,FALSE))*'By Speed'!$P159*Scenario_VMT_1*$N146","v":0},{"$f":"(VLOOKUP($B146,'By Population'!$G$2:$K$14,5,FALSE))*'By Speed'!$Q159*Scenario_VMT_1*$N146","v":0},{"$f":"(VLOOKUP($B146,'By Population'!$G$2:$K$14,5,FALSE))*'By Speed'!$R159*Scenario_VMT_1*$N146","v":0},{"$f":"(VLOOKUP($B146,'By Population'!$G$2:$K$14,5,FALSE))*'By Speed'!$S159*Scenario_VMT_1*$N146","v":0},{"$f":"(VLOOKUP($B146,'By Population'!$G$2:$K$14,5,FALSE))*'By Speed'!$T159*Scenario_VMT_1*$N146","v":0},{"$f":"(VLOOKUP($B146,'By Population'!$G$2:$K$14,5,FALSE))*'By Speed'!$U159*Scenario_VMT_1*$N146","v":0},0,{"$f":"(VLOOKUP($B146,'By Population'!$G$2:$K$14,5,FALSE))*'By Speed'!$M159*Scenario_VMT_2*$N146","v":0},{"$f":"(VLOOKUP($B146,'By Population'!$G$2:$K$14,5,FALSE))*'By Speed'!$N159*Scenario_VMT_2*$N146","v":0},{"$f":"(VLOOKUP($B146,'By Population'!$G$2:$K$14,5,FALSE))*'By Speed'!$O159*Scenario_VMT_2*$N146","v":0},{"$f":"(VLOOKUP($B146,'By Population'!$G$2:$K$14,5,FALSE))*'By Speed'!$P159*Scenario_VMT_2*$N146","v":0},{"$f":"(VLOOKUP($B146,'By Population'!$G$2:$K$14,5,FALSE))*'By Speed'!$Q159*Scenario_VMT_2*$N146","v":0},{"$f":"(VLOOKUP($B146,'By Population'!$G$2:$K$14,5,FALSE))*'By Speed'!$R159*Scenario_VMT_2*$N146","v":0},{"$f":"(VLOOKUP($B146,'By Population'!$G$2:$K$14,5,FALSE))*'By Speed'!$S159*Scenario_VMT_2*$N146","v":0},{"$f":"(VLOOKUP($B146,'By Population'!$G$2:$K$14,5,FALSE))*'By Speed'!$T159*Scenario_VMT_2*$N146","v":0},{"$f":"(VLOOKUP($B146,'By Population'!$G$2:$K$14,5,FALSE))*'By Speed'!$U159*Scenario_VMT_2*$N146","v":0},0,{"$f":"(VLOOKUP($B146,'By Population'!$G$2:$K$14,5,FALSE))*'By Speed'!$M159*Scenario_VMT_3*$N146","v":0},{"$f":"(VLOOKUP($B146,'By Population'!$G$2:$K$14,5,FALSE))*'By Speed'!$N159*Scenario_VMT_3*$N146","v":0},{"$f":"(VLOOKUP($B146,'By Population'!$G$2:$K$14,5,FALSE))*'By Speed'!$O159*Scenario_VMT_3*$N146","v":0},{"$f":"(VLOOKUP($B146,'By Population'!$G$2:$K$14,5,FALSE))*'By Speed'!$P159*Scenario_VMT_3*$N146","v":0},{"$f":"(VLOOKUP($B146,'By Population'!$G$2:$K$14,5,FALSE))*'By Speed'!$Q159*Scenario_VMT_3*$N146","v":0},{"$f":"(VLOOKUP($B146,'By Population'!$G$2:$K$14,5,FALSE))*'By Speed'!$R159*Scenario_VMT_3*$N146","v":0},{"$f":"(VLOOKUP($B146,'By Population'!$G$2:$K$14,5,FALSE))*'By Speed'!$S159*Scenario_VMT_3*$N146","v":0},{"$f":"(VLOOKUP($B146,'By Population'!$G$2:$K$14,5,FALSE))*'By Speed'!$T159*Scenario_VMT_3*$N146","v":0},{"$f":"(VLOOKUP($B146,'By Population'!$G$2:$K$14,5,FALSE))*'By Speed'!$U159*Scenario_VMT_3*$N146","v":0},0,{"$f":"(VLOOKUP($B146,'By Population'!$G$2:$K$14,5,FALSE))*'By Speed'!$M159*Scenario_VMT_4*$N146","v":0},{"$f":"(VLOOKUP($B146,'By Population'!$G$2:$K$14,5,FALSE))*'By Speed'!$N159*Scenario_VMT_4*$N146","v":0},{"$f":"(VLOOKUP($B146,'By Population'!$G$2:$K$14,5,FALSE))*'By Speed'!$O159*Scenario_VMT_4*$N146","v":0},{"$f":"(VLOOKUP($B146,'By Population'!$G$2:$K$14,5,FALSE))*'By Speed'!$P159*Scenario_VMT_4*$N146","v":0},{"$f":"(VLOOKUP($B146,'By Population'!$G$2:$K$14,5,FALSE))*'By Speed'!$Q159*Scenario_VMT_4*$N146","v":0},{"$f":"(VLOOKUP($B146,'By Population'!$G$2:$K$14,5,FALSE))*'By Speed'!$R159*Scenario_VMT_4*$N146","v":0},{"$f":"(VLOOKUP($B146,'By Population'!$G$2:$K$14,5,FALSE))*'By Speed'!$S159*Scenario_VMT_4*$N146","v":0},{"$f":"(VLOOKUP($B146,'By Population'!$G$2:$K$14,5,FALSE))*'By Speed'!$T159*Scenario_VMT_4*$N146","v":0},{"$f":"(VLOOKUP($B146,'By Population'!$G$2:$K$14,5,FALSE))*'By Speed'!$U159*Scenario_VMT_4*$N146","v":0},0,{"$f":"(VLOOKUP($B146,'By Population'!$G$2:$K$14,5,FALSE))*'By Speed'!$M159*Scenario_VMT_5*$N146","v":0},{"$f":"(VLOOKUP($B146,'By Population'!$G$2:$K$14,5,FALSE))*'By Speed'!$N159*Scenario_VMT_5*$N146","v":0},{"$f":"(VLOOKUP($B146,'By Population'!$G$2:$K$14,5,FALSE))*'By Speed'!$O159*Scenario_VMT_5*$N146","v":0},{"$f":"(VLOOKUP($B146,'By Population'!$G$2:$K$14,5,FALSE))*'By Speed'!$P159*Scenario_VMT_5*$N146","v":0},{"$f":"(VLOOKUP($B146,'By Population'!$G$2:$K$14,5,FALSE))*'By Speed'!$Q159*Scenario_VMT_5*$N146","v":0},{"$f":"(VLOOKUP($B146,'By Population'!$G$2:$K$14,5,FALSE))*'By Speed'!$R159*Scenario_VMT_5*$N146","v":0},{"$f":"(VLOOKUP($B146,'By Population'!$G$2:$K$14,5,FALSE))*'By Speed'!$S159*Scenario_VMT_5*$N146","v":0},{"$f":"(VLOOKUP($B146,'By Population'!$G$2:$K$14,5,FALSE))*'By Speed'!$T159*Scenario_VMT_5*$N146","v":0},{"$f":"(VLOOKUP($B146,'By Population'!$G$2:$K$14,5,FALSE))*'By Speed'!$U159*Scenario_VMT_5*$N146","v":0},0]
[146,"MCY_GAS",30,"MCY_GAS_30",{"$f":"(VLOOKUP($B147,'By Population'!$G$2:$K$14,5,FALSE))*'By Speed'!$M160*Scenario_VMT_EX*$N147","v":0},{"$f":"(VLOOKUP($B147,'By Population'!$G$2:$K$14,5,FALSE))*'By Speed'!$N160*Scenario_VMT_EX*$N147","v":0},{"$f":"(VLOOKUP($B147,'By Population'!$G$2:$K$14,5,FALSE))*'By Speed'!$O160*Scenario_VMT_EX*$N147","v":0},{"$f":"(VLOOKUP($B147,'By Population'!$G$2:$K$14,5,FALSE))*'By Speed'!$P160*Scenario_VMT_EX*$N147","v":0},{"$f":"(VLOOKUP($B147,'By Population'!$G$2:$K$14,5,FALSE))*'By Speed'!$Q160*Scenario_VMT_EX*$N147","v":0},{"$f":"(VLOOKUP($B147,'By Population'!$G$2:$K$14,5,FALSE))*'By Speed'!$R160*Scenario_VMT_EX*$N147","v":0},{"$f":"(VLOOKUP($B147,'By Population'!$G$2:$K$14,5,FALSE))*'By Speed'!$S160*Scenario_VMT_EX*$N147","v":0},{"$f":"(VLOOKUP($B147,'By Population'!$G$2:$K$14,5,FALSE))*'By Speed'!$T160*Scenario_VMT_EX*$N147","v":0},{"$f":"(VLOOKUP($B147,'By Population'!$G$2:$K$14,5,FALSE))*'By Speed'!$U160*Scenario_VMT_EX*$N147","v":0},0,{"$f":"(VLOOKUP($B147,'By Population'!$G$2:$K$14,5,FALSE))*'By Speed'!$M160*Scenario_VMT_1*$N147","v":0},{"$f":"(VLOOKUP($B147,'By Population'!$G$2:$K$14,5,FALSE))*'By Speed'!$N160*Scenario_VMT_1*$N147","v":0},{"$f":"(VLOOKUP($B147,'By Population'!$G$2:$K$14,5,FALSE))*'By Speed'!$O160*Scenario_VMT_1*$N147","v":0},{"$f":"(VLOOKUP($B147,'By Population'!$G$2:$K$14,5,FALSE))*'By Speed'!$P160*Scenario_VMT_1*$N147","v":0},{"$f":"(VLOOKUP($B147,'By Population'!$G$2:$K$14,5,FALSE))*'By Speed'!$Q160*Scenario_VMT_1*$N147","v":0},{"$f":"(VLOOKUP($B147,'By Population'!$G$2:$K$14,5,FALSE))*'By Speed'!$R160*Scenario_VMT_1*$N147","v":0},{"$f":"(VLOOKUP($B147,'By Population'!$G$2:$K$14,5,FALSE))*'By Speed'!$S160*Scenario_VMT_1*$N147","v":0},{"$f":"(VLOOKUP($B147,'By Population'!$G$2:$K$14,5,FALSE))*'By Speed'!$T160*Scenario_VMT_1*$N147","v":0},{"$f":"(VLOOKUP($B147,'By Population'!$G$2:$K$14,5,FALSE))*'By Speed'!$U160*Scenario_VMT_1*$N147","v":0},0,{"$f":"(VLOOKUP($B147,'By Population'!$G$2:$K$14,5,FALSE))*'By Speed'!$M160*Scenario_VMT_2*$N147","v":0},{"$f":"(VLOOKUP($B147,'By Population'!$G$2:$K$14,5,FALSE))*'By Speed'!$N160*Scenario_VMT_2*$N147","v":0},{"$f":"(VLOOKUP($B147,'By Population'!$G$2:$K$14,5,FALSE))*'By Speed'!$O160*Scenario_VMT_2*$N147","v":0},{"$f":"(VLOOKUP($B147,'By Population'!$G$2:$K$14,5,FALSE))*'By Speed'!$P160*Scenario_VMT_2*$N147","v":0},{"$f":"(VLOOKUP($B147,'By Population'!$G$2:$K$14,5,FALSE))*'By Speed'!$Q160*Scenario_VMT_2*$N147","v":0},{"$f":"(VLOOKUP($B147,'By Population'!$G$2:$K$14,5,FALSE))*'By Speed'!$R160*Scenario_VMT_2*$N147","v":0},{"$f":"(VLOOKUP($B147,'By Population'!$G$2:$K$14,5,FALSE))*'By Speed'!$S160*Scenario_VMT_2*$N147","v":0},{"$f":"(VLOOKUP($B147,'By Population'!$G$2:$K$14,5,FALSE))*'By Speed'!$T160*Scenario_VMT_2*$N147","v":0},{"$f":"(VLOOKUP($B147,'By Population'!$G$2:$K$14,5,FALSE))*'By Speed'!$U160*Scenario_VMT_2*$N147","v":0},0,{"$f":"(VLOOKUP($B147,'By Population'!$G$2:$K$14,5,FALSE))*'By Speed'!$M160*Scenario_VMT_3*$N147","v":0},{"$f":"(VLOOKUP($B147,'By Population'!$G$2:$K$14,5,FALSE))*'By Speed'!$N160*Scenario_VMT_3*$N147","v":0},{"$f":"(VLOOKUP($B147,'By Population'!$G$2:$K$14,5,FALSE))*'By Speed'!$O160*Scenario_VMT_3*$N147","v":0},{"$f":"(VLOOKUP($B147,'By Population'!$G$2:$K$14,5,FALSE))*'By Speed'!$P160*Scenario_VMT_3*$N147","v":0},{"$f":"(VLOOKUP($B147,'By Population'!$G$2:$K$14,5,FALSE))*'By Speed'!$Q160*Scenario_VMT_3*$N147","v":0},{"$f":"(VLOOKUP($B147,'By Population'!$G$2:$K$14,5,FALSE))*'By Speed'!$R160*Scenario_VMT_3*$N147","v":0},{"$f":"(VLOOKUP($B147,'By Population'!$G$2:$K$14,5,FALSE))*'By Speed'!$S160*Scenario_VMT_3*$N147","v":0},{"$f":"(VLOOKUP($B147,'By Population'!$G$2:$K$14,5,FALSE))*'By Speed'!$T160*Scenario_VMT_3*$N147","v":0},{"$f":"(VLOOKUP($B147,'By Population'!$G$2:$K$14,5,FALSE))*'By Speed'!$U160*Scenario_VMT_3*$N147","v":0},0,{"$f":"(VLOOKUP($B147,'By Population'!$G$2:$K$14,5,FALSE))*'By Speed'!$M160*Scenario_VMT_4*$N147","v":0},{"$f":"(VLOOKUP($B147,'By Population'!$G$2:$K$14,5,FALSE))*'By Speed'!$N160*Scenario_VMT_4*$N147","v":0},{"$f":"(VLOOKUP($B147,'By Population'!$G$2:$K$14,5,FALSE))*'By Speed'!$O160*Scenario_VMT_4*$N147","v":0},{"$f":"(VLOOKUP($B147,'By Population'!$G$2:$K$14,5,FALSE))*'By Speed'!$P160*Scenario_VMT_4*$N147","v":0},{"$f":"(VLOOKUP($B147,'By Population'!$G$2:$K$14,5,FALSE))*'By Speed'!$Q160*Scenario_VMT_4*$N147","v":0},{"$f":"(VLOOKUP($B147,'By Population'!$G$2:$K$14,5,FALSE))*'By Speed'!$R160*Scenario_VMT_4*$N147","v":0},{"$f":"(VLOOKUP($B147,'By Population'!$G$2:$K$14,5,FALSE))*'By Speed'!$S160*Scenario_VMT_4*$N147","v":0},{"$f":"(VLOOKUP($B147,'By Population'!$G$2:$K$14,5,FALSE))*'By Speed'!$T160*Scenario_VMT_4*$N147","v":0},{"$f":"(VLOOKUP($B147,'By Population'!$G$2:$K$14,5,FALSE))*'By Speed'!$U160*Scenario_VMT_4*$N147","v":0},0,{"$f":"(VLOOKUP($B147,'By Population'!$G$2:$K$14,5,FALSE))*'By Speed'!$M160*Scenario_VMT_5*$N147","v":0},{"$f":"(VLOOKUP($B147,'By Population'!$G$2:$K$14,5,FALSE))*'By Speed'!$N160*Scenario_VMT_5*$N147","v":0},{"$f":"(VLOOKUP($B147,'By Population'!$G$2:$K$14,5,FALSE))*'By Speed'!$O160*Scenario_VMT_5*$N147","v":0},{"$f":"(VLOOKUP($B147,'By Population'!$G$2:$K$14,5,FALSE))*'By Speed'!$P160*Scenario_VMT_5*$N147","v":0},{"$f":"(VLOOKUP($B147,'By Population'!$G$2:$K$14,5,FALSE))*'By Speed'!$Q160*Scenario_VMT_5*$N147","v":0},{"$f":"(VLOOKUP($B147,'By Population'!$G$2:$K$14,5,FALSE))*'By Speed'!$R160*Scenario_VMT_5*$N147","v":0},{"$f":"(VLOOKUP($B147,'By Population'!$G$2:$K$14,5,FALSE))*'By Speed'!$S160*Scenario_VMT_5*$N147","v":0},{"$f":"(VLOOKUP($B147,'By Population'!$G$2:$K$14,5,FALSE))*'By Speed'!$T160*Scenario_VMT_5*$N147","v":0},{"$f":"(VLOOKUP($B147,'By Population'!$G$2:$K$14,5,FALSE))*'By Speed'!$U160*Scenario_VMT_5*$N147","v":0},0]
[147,"MCY_GAS",35,"MCY_GAS_35",{"$f":"(VLOOKUP($B148,'By Population'!$G$2:$K$14,5,FALSE))*'By Speed'!$M161*Scenario_VMT_EX*$N148","v":0},{"$f":"(VLOOKUP($B148,'By Population'!$G$2:$K$14,5,FALSE))*'By Speed'!$N161*Scenario_VMT_EX*$N148","v":0},{"$f":"(VLOOKUP($B148,'By Population'!$G$2:$K$14,5,FALSE))*'By Speed'!$O161*Scenario_VMT_EX*$N148","v":0},{"$f":"(VLOOKUP($B148,'By Population'!$G$2:$K$14,5,FALSE))*'By Speed'!$P161*Scenario_VMT_EX*$N148","v":0},{"$f":"(VLOOKUP($B148,'By Population'!$G$2:$K$14,5,FALSE))*'By Speed'!$Q161*Scenario_VMT_EX*$N148","v":0},{"$f":"(VLOOKUP($B148,'By Population'!$G$2:$K$14,5,FALSE))*'By Speed'!$R161*Scenario_VMT_EX*$N148","v":0},{"$f":"(VLOOKUP($B148,'By Population'!$G$2:$K$14,5,FALSE))*'By Speed'!$S161*Scenario_VMT_EX*$N148","v":0},{"$f":"(VLOOKUP($B148,'By Population'!$G$2:$K$14,5,FALSE))*'By Speed'!$T161*Scenario_VMT_EX*$N148","v":0},{"$f":"(VLOOKUP($B148,'By Population'!$G$2:$K$14,5,FALSE))*'By Speed'!$U161*Scenario_VMT_EX*$N148","v":0},0,{"$f":"(VLOOKUP($B148,'By Population'!$G$2:$K$14,5,FALSE))*'By Speed'!$M161*Scenario_VMT_1*$N148","v":0},{"$f":"(VLOOKUP($B148,'By Population'!$G$2:$K$14,5,FALSE))*'By Speed'!$N161*Scenario_VMT_1*$N148","v":0},{"$f":"(VLOOKUP($B148,'By Population'!$G$2:$K$14,5,FALSE))*'By Speed'!$O161*Scenario_VMT_1*$N148","v":0},{"$f":"(VLOOKUP($B148,'By Population'!$G$2:$K$14,5,FALSE))*'By Speed'!$P161*Scenario_VMT_1*$N148","v":0},{"$f":"(VLOOKUP($B148,'By Population'!$G$2:$K$14,5,FALSE))*'By Speed'!$Q161*Scenario_VMT_1*$N148","v":0},{"$f":"(VLOOKUP($B148,'By Population'!$G$2:$K$14,5,FALSE))*'By Speed'!$R161*Scenario_VMT_1*$N148","v":0},{"$f":"(VLOOKUP($B148,'By Population'!$G$2:$K$14,5,FALSE))*'By Speed'!$S161*Scenario_VMT_1*$N148","v":0},{"$f":"(VLOOKUP($B148,'By Population'!$G$2:$K$14,5,FALSE))*'By Speed'!$T161*Scenario_VMT_1*$N148","v":0},{"$f":"(VLOOKUP($B148,'By Population'!$G$2:$K$14,5,FALSE))*'By Speed'!$U161*Scenario_VMT_1*$N148","v":0},0,{"$f":"(VLOOKUP($B148,'By Population'!$G$2:$K$14,5,FALSE))*'By Speed'!$M161*Scenario_VMT_2*$N148","v":0},{"$f":"(VLOOKUP($B148,'By Population'!$G$2:$K$14,5,FALSE))*'By Speed'!$N161*Scenario_VMT_2*$N148","v":0},{"$f":"(VLOOKUP($B148,'By Population'!$G$2:$K$14,5,FALSE))*'By Speed'!$O161*Scenario_VMT_2*$N148","v":0},{"$f":"(VLOOKUP($B148,'By Population'!$G$2:$K$14,5,FALSE))*'By Speed'!$P161*Scenario_VMT_2*$N148","v":0},{"$f":"(VLOOKUP($B148,'By Population'!$G$2:$K$14,5,FALSE))*'By Speed'!$Q161*Scenario_VMT_2*$N148","v":0},{"$f":"(VLOOKUP($B148,'By Population'!$G$2:$K$14,5,FALSE))*'By Speed'!$R161*Scenario_VMT_2*$N148","v":0},{"$f":"(VLOOKUP($B148,'By Population'!$G$2:$K$14,5,FALSE))*'By Speed'!$S161*Scenario_VMT_2*$N148","v":0},{"$f":"(VLOOKUP($B148,'By Population'!$G$2:$K$14,5,FALSE))*'By Speed'!$T161*Scenario_VMT_2*$N148","v":0},{"$f":"(VLOOKUP($B148,'By Population'!$G$2:$K$14,5,FALSE))*'By Speed'!$U161*Scenario_VMT_2*$N148","v":0},0,{"$f":"(VLOOKUP($B148,'By Population'!$G$2:$K$14,5,FALSE))*'By Speed'!$M161*Scenario_VMT_3*$N148","v":0},{"$f":"(VLOOKUP($B148,'By Population'!$G$2:$K$14,5,FALSE))*'By Speed'!$N161*Scenario_VMT_3*$N148","v":0},{"$f":"(VLOOKUP($B148,'By Population'!$G$2:$K$14,5,FALSE))*'By Speed'!$O161*Scenario_VMT_3*$N148","v":0},{"$f":"(VLOOKUP($B148,'By Population'!$G$2:$K$14,5,FALSE))*'By Speed'!$P161*Scenario_VMT_3*$N148","v":0},{"$f":"(VLOOKUP($B148,'By Population'!$G$2:$K$14,5,FALSE))*'By Speed'!$Q161*Scenario_VMT_3*$N148","v":0},{"$f":"(VLOOKUP($B148,'By Population'!$G$2:$K$14,5,FALSE))*'By Speed'!$R161*Scenario_VMT_3*$N148","v":0},{"$f":"(VLOOKUP($B148,'By Population'!$G$2:$K$14,5,FALSE))*'By Speed'!$S161*Scenario_VMT_3*$N148","v":0},{"$f":"(VLOOKUP($B148,'By Population'!$G$2:$K$14,5,FALSE))*'By Speed'!$T161*Scenario_VMT_3*$N148","v":0},{"$f":"(VLOOKUP($B148,'By Population'!$G$2:$K$14,5,FALSE))*'By Speed'!$U161*Scenario_VMT_3*$N148","v":0},0,{"$f":"(VLOOKUP($B148,'By Population'!$G$2:$K$14,5,FALSE))*'By Speed'!$M161*Scenario_VMT_4*$N148","v":0},{"$f":"(VLOOKUP($B148,'By Population'!$G$2:$K$14,5,FALSE))*'By Speed'!$N161*Scenario_VMT_4*$N148","v":0},{"$f":"(VLOOKUP($B148,'By Population'!$G$2:$K$14,5,FALSE))*'By Speed'!$O161*Scenario_VMT_4*$N148","v":0},{"$f":"(VLOOKUP($B148,'By Population'!$G$2:$K$14,5,FALSE))*'By Speed'!$P161*Scenario_VMT_4*$N148","v":0},{"$f":"(VLOOKUP($B148,'By Population'!$G$2:$K$14,5,FALSE))*'By Speed'!$Q161*Scenario_VMT_4*$N148","v":0},{"$f":"(VLOOKUP($B148,'By Population'!$G$2:$K$14,5,FALSE))*'By Speed'!$R161*Scenario_VMT_4*$N148","v":0},{"$f":"(VLOOKUP($B148,'By Population'!$G$2:$K$14,5,FALSE))*'By Speed'!$S161*Scenario_VMT_4*$N148","v":0},{"$f":"(VLOOKUP($B148,'By Population'!$G$2:$K$14,5,FALSE))*'By Speed'!$T161*Scenario_VMT_4*$N148","v":0},{"$f":"(VLOOKUP($B148,'By Population'!$G$2:$K$14,5,FALSE))*'By Speed'!$U161*Scenario_VMT_4*$N148","v":0},0,{"$f":"(VLOOKUP($B148,'By Population'!$G$2:$K$14,5,FALSE))*'By Speed'!$M161*Scenario_VMT_5*$N148","v":0},{"$f":"(VLOOKUP($B148,'By Population'!$G$2:$K$14,5,FALSE))*'By Speed'!$N161*Scenario_VMT_5*$N148","v":0},{"$f":"(VLOOKUP($B148,'By Population'!$G$2:$K$14,5,FALSE))*'By Speed'!$O161*Scenario_VMT_5*$N148","v":0},{"$f":"(VLOOKUP($B148,'By Population'!$G$2:$K$14,5,FALSE))*'By Speed'!$P161*Scenario_VMT_5*$N148","v":0},{"$f":"(VLOOKUP($B148,'By Population'!$G$2:$K$14,5,FALSE))*'By Speed'!$Q161*Scenario_VMT_5*$N148","v":0},{"$f":"(VLOOKUP($B148,'By Population'!$G$2:$K$14,5,FALSE))*'By Speed'!$R161*Scenario_VMT_5*$N148","v":0},{"$f":"(VLOOKUP($B148,'By Population'!$G$2:$K$14,5,FALSE))*'By Speed'!$S161*Scenario_VMT_5*$N148","v":0},{"$f":"(VLOOKUP($B148,'By Population'!$G$2:$K$14,5,FALSE))*'By Speed'!$T161*Scenario_VMT_5*$N148","v":0},{"$f":"(VLOOKUP($B148,'By Population'!$G$2:$K$14,5,FALSE))*'By Speed'!$U161*Scenario_VMT_5*$N148","v":0},0]
[148,"MCY_GAS",40,"MCY_GAS_40",{"$f":"(VLOOKUP($B149,'By Population'!$G$2:$K$14,5,FALSE))*'By Speed'!$M162*Scenario_VMT_EX*$N149","v":0},{"$f":"(VLOOKUP($B149,'By Population'!$G$2:$K$14,5,FALSE))*'By Speed'!$N162*Scenario_VMT_EX*$N149","v":0},{"$f":"(VLOOKUP($B149,'By Population'!$G$2:$K$14,5,FALSE))*'By Speed'!$O162*Scenario_VMT_EX*$N149","v":0},{"$f":"(VLOOKUP($B149,'By Population'!$G$2:$K$14,5,FALSE))*'By Speed'!$P162*Scenario_VMT_EX*$N149","v":0},{"$f":"(VLOOKUP($B149,'By Population'!$G$2:$K$14,5,FALSE))*'By Speed'!$Q162*Scenario_VMT_EX*$N149","v":0},{"$f":"(VLOOKUP($B149,'By Population'!$G$2:$K$14,5,FALSE))*'By Speed'!$R162*Scenario_VMT_EX*$N149","v":0},{"$f":"(VLOOKUP($B149,'By Population'!$G$2:$K$14,5,FALSE))*'By Speed'!$S162*Scenario_VMT_EX*$N149","v":0},{"$f":"(VLOOKUP($B149,'By Population'!$G$2:$K$14,5,FALSE))*'By Speed'!$T162*Scenario_VMT_EX*$N149","v":0},{"$f":"(VLOOKUP($B149,'By Population'!$G$2:$K$14,5,FALSE))*'By Speed'!$U162*Scenario_VMT_EX*$N149","v":0},0,{"$f":"(VLOOKUP($B149,'By Population'!$G$2:$K$14,5,FALSE))*'By Speed'!$M162*Scenario_VMT_1*$N149","v":0},{"$f":"(VLOOKUP($B149,'By Population'!$G$2:$K$14,5,FALSE))*'By Speed'!$N162*Scenario_VMT_1*$N149","v":0},{"$f":"(VLOOKUP($B149,'By Population'!$G$2:$K$14,5,FALSE))*'By Speed'!$O162*Scenario_VMT_1*$N149","v":0},{"$f":"(VLOOKUP($B149,'By Population'!$G$2:$K$14,5,FALSE))*'By Speed'!$P162*Scenario_VMT_1*$N149","v":0},{"$f":"(VLOOKUP($B149,'By Population'!$G$2:$K$14,5,FALSE))*'By Speed'!$Q162*Scenario_VMT_1*$N149","v":0},{"$f":"(VLOOKUP($B149,'By Population'!$G$2:$K$14,5,FALSE))*'By Speed'!$R162*Scenario_VMT_1*$N149","v":0},{"$f":"(VLOOKUP($B149,'By Population'!$G$2:$K$14,5,FALSE))*'By Speed'!$S162*Scenario_VMT_1*$N149","v":0},{"$f":"(VLOOKUP($B149,'By Population'!$G$2:$K$14,5,FALSE))*'By Speed'!$T162*Scenario_VMT_1*$N149","v":0},{"$f":"(VLOOKUP($B149,'By Population'!$G$2:$K$14,5,FALSE))*'By Speed'!$U162*Scenario_VMT_1*$N149","v":0},0,{"$f":"(VLOOKUP($B149,'By Population'!$G$2:$K$14,5,FALSE))*'By Speed'!$M162*Scenario_VMT_2*$N149","v":0},{"$f":"(VLOOKUP($B149,'By Population'!$G$2:$K$14,5,FALSE))*'By Speed'!$N162*Scenario_VMT_2*$N149","v":0},{"$f":"(VLOOKUP($B149,'By Population'!$G$2:$K$14,5,FALSE))*'By Speed'!$O162*Scenario_VMT_2*$N149","v":0},{"$f":"(VLOOKUP($B149,'By Population'!$G$2:$K$14,5,FALSE))*'By Speed'!$P162*Scenario_VMT_2*$N149","v":0},{"$f":"(VLOOKUP($B149,'By Population'!$G$2:$K$14,5,FALSE))*'By Speed'!$Q162*Scenario_VMT_2*$N149","v":0},{"$f":"(VLOOKUP($B149,'By Population'!$G$2:$K$14,5,FALSE))*'By Speed'!$R162*Scenario_VMT_2*$N149","v":0},{"$f":"(VLOOKUP($B149,'By Population'!$G$2:$K$14,5,FALSE))*'By Speed'!$S162*Scenario_VMT_2*$N149","v":0},{"$f":"(VLOOKUP($B149,'By Population'!$G$2:$K$14,5,FALSE))*'By Speed'!$T162*Scenario_VMT_2*$N149","v":0},{"$f":"(VLOOKUP($B149,'By Population'!$G$2:$K$14,5,FALSE))*'By Speed'!$U162*Scenario_VMT_2*$N149","v":0},0,{"$f":"(VLOOKUP($B149,'By Population'!$G$2:$K$14,5,FALSE))*'By Speed'!$M162*Scenario_VMT_3*$N149","v":0},{"$f":"(VLOOKUP($B149,'By Population'!$G$2:$K$14,5,FALSE))*'By Speed'!$N162*Scenario_VMT_3*$N149","v":0},{"$f":"(VLOOKUP($B149,'By Population'!$G$2:$K$14,5,FALSE))*'By Speed'!$O162*Scenario_VMT_3*$N149","v":0},{"$f":"(VLOOKUP($B149,'By Population'!$G$2:$K$14,5,FALSE))*'By Speed'!$P162*Scenario_VMT_3*$N149","v":0},{"$f":"(VLOOKUP($B149,'By Population'!$G$2:$K$14,5,FALSE))*'By Speed'!$Q162*Scenario_VMT_3*$N149","v":0},{"$f":"(VLOOKUP($B149,'By Population'!$G$2:$K$14,5,FALSE))*'By Speed'!$R162*Scenario_VMT_3*$N149","v":0},{"$f":"(VLOOKUP($B149,'By Population'!$G$2:$K$14,5,FALSE))*'By Speed'!$S162*Scenario_VMT_3*$N149","v":0},{"$f":"(VLOOKUP($B149,'By Population'!$G$2:$K$14,5,FALSE))*'By Speed'!$T162*Scenario_VMT_3*$N149","v":0},{"$f":"(VLOOKUP($B149,'By Population'!$G$2:$K$14,5,FALSE))*'By Speed'!$U162*Scenario_VMT_3*$N149","v":0},0,{"$f":"(VLOOKUP($B149,'By Population'!$G$2:$K$14,5,FALSE))*'By Speed'!$M162*Scenario_VMT_4*$N149","v":0},{"$f":"(VLOOKUP($B149,'By Population'!$G$2:$K$14,5,FALSE))*'By Speed'!$N162*Scenario_VMT_4*$N149","v":0},{"$f":"(VLOOKUP($B149,'By Population'!$G$2:$K$14,5,FALSE))*'By Speed'!$O162*Scenario_VMT_4*$N149","v":0},{"$f":"(VLOOKUP($B149,'By Population'!$G$2:$K$14,5,FALSE))*'By Speed'!$P162*Scenario_VMT_4*$N149","v":0},{"$f":"(VLOOKUP($B149,'By Population'!$G$2:$K$14,5,FALSE))*'By Speed'!$Q162*Scenario_VMT_4*$N149","v":0},{"$f":"(VLOOKUP($B149,'By Population'!$G$2:$K$14,5,FALSE))*'By Speed'!$R162*Scenario_VMT_4*$N149","v":0},{"$f":"(VLOOKUP($B149,'By Population'!$G$2:$K$14,5,FALSE))*'By Speed'!$S162*Scenario_VMT_4*$N149","v":0},{"$f":"(VLOOKUP($B149,'By Population'!$G$2:$K$14,5,FALSE))*'By Speed'!$T162*Scenario_VMT_4*$N149","v":0},{"$f":"(VLOOKUP($B149,'By Population'!$G$2:$K$14,5,FALSE))*'By Speed'!$U162*Scenario_VMT_4*$N149","v":0},0,{"$f":"(VLOOKUP($B149,'By Population'!$G$2:$K$14,5,FALSE))*'By Speed'!$M162*Scenario_VMT_5*$N149","v":0},{"$f":"(VLOOKUP($B149,'By Population'!$G$2:$K$14,5,FALSE))*'By Speed'!$N162*Scenario_VMT_5*$N149","v":0},{"$f":"(VLOOKUP($B149,'By Population'!$G$2:$K$14,5,FALSE))*'By Speed'!$O162*Scenario_VMT_5*$N149","v":0},{"$f":"(VLOOKUP($B149,'By Population'!$G$2:$K$14,5,FALSE))*'By Speed'!$P162*Scenario_VMT_5*$N149","v":0},{"$f":"(VLOOKUP($B149,'By Population'!$G$2:$K$14,5,FALSE))*'By Speed'!$Q162*Scenario_VMT_5*$N149","v":0},{"$f":"(VLOOKUP($B149,'By Population'!$G$2:$K$14,5,FALSE))*'By Speed'!$R162*Scenario_VMT_5*$N149","v":0},{"$f":"(VLOOKUP($B149,'By Population'!$G$2:$K$14,5,FALSE))*'By Speed'!$S162*Scenario_VMT_5*$N149","v":0},{"$f":"(VLOOKUP($B149,'By Population'!$G$2:$K$14,5,FALSE))*'By Speed'!$T162*Scenario_VMT_5*$N149","v":0},{"$f":"(VLOOKUP($B149,'By Population'!$G$2:$K$14,5,FALSE))*'By Speed'!$U162*Scenario_VMT_5*$N149","v":0},0]
[149,"MCY_GAS",45,"MCY_GAS_45",{"$f":"(VLOOKUP($B150,'By Population'!$G$2:$K$14,5,FALSE))*'By Speed'!$M163*Scenario_VMT_EX*$N150","v":0},{"$f":"(VLOOKUP($B150,'By Population'!$G$2:$K$14,5,FALSE))*'By Speed'!$N163*Scenario_VMT_EX*$N150","v":0},{"$f":"(VLOOKUP($B150,'By Population'!$G$2:$K$14,5,FALSE))*'By Speed'!$O163*Scenario_VMT_EX*$N150","v":0},{"$f":"(VLOOKUP($B150,'By Population'!$G$2:$K$14,5,FALSE))*'By Speed'!$P163*Scenario_VMT_EX*$N150","v":0},{"$f":"(VLOOKUP($B150,'By Population'!$G$2:$K$14,5,FALSE))*'By Speed'!$Q163*Scenario_VMT_EX*$N150","v":0},{"$f":"(VLOOKUP($B150,'By Population'!$G$2:$K$14,5,FALSE))*'By Speed'!$R163*Scenario_VMT_EX*$N150","v":0},{"$f":"(VLOOKUP($B150,'By Population'!$G$2:$K$14,5,FALSE))*'By Speed'!$S163*Scenario_VMT_EX*$N150","v":0},{"$f":"(VLOOKUP($B150,'By Population'!$G$2:$K$14,5,FALSE))*'By Speed'!$T163*Scenario_VMT_EX*$N150","v":0},{"$f":"(VLOOKUP($B150,'By Population'!$G$2:$K$14,5,FALSE))*'By Speed'!$U163*Scenario_VMT_EX*$N150","v":0},0,{"$f":"(VLOOKUP($B150,'By Population'!$G$2:$K$14,5,FALSE))*'By Speed'!$M163*Scenario_VMT_1*$N150","v":0},{"$f":"(VLOOKUP($B150,'By Population'!$G$2:$K$14,5,FALSE))*'By Speed'!$N163*Scenario_VMT_1*$N150","v":0},{"$f":"(VLOOKUP($B150,'By Population'!$G$2:$K$14,5,FALSE))*'By Speed'!$O163*Scenario_VMT_1*$N150","v":0},{"$f":"(VLOOKUP($B150,'By Population'!$G$2:$K$14,5,FALSE))*'By Speed'!$P163*Scenario_VMT_1*$N150","v":0},{"$f":"(VLOOKUP($B150,'By Population'!$G$2:$K$14,5,FALSE))*'By Speed'!$Q163*Scenario_VMT_1*$N150","v":0},{"$f":"(VLOOKUP($B150,'By Population'!$G$2:$K$14,5,FALSE))*'By Speed'!$R163*Scenario_VMT_1*$N150","v":0},{"$f":"(VLOOKUP($B150,'By Population'!$G$2:$K$14,5,FALSE))*'By Speed'!$S163*Scenario_VMT_1*$N150","v":0},{"$f":"(VLOOKUP($B150,'By Population'!$G$2:$K$14,5,FALSE))*'By Speed'!$T163*Scenario_VMT_1*$N150","v":0},{"$f":"(VLOOKUP($B150,'By Population'!$G$2:$K$14,5,FALSE))*'By Speed'!$U163*Scenario_VMT_1*$N150","v":0},0,{"$f":"(VLOOKUP($B150,'By Population'!$G$2:$K$14,5,FALSE))*'By Speed'!$M163*Scenario_VMT_2*$N150","v":0},{"$f":"(VLOOKUP($B150,'By Population'!$G$2:$K$14,5,FALSE))*'By Speed'!$N163*Scenario_VMT_2*$N150","v":0},{"$f":"(VLOOKUP($B150,'By Population'!$G$2:$K$14,5,FALSE))*'By Speed'!$O163*Scenario_VMT_2*$N150","v":0},{"$f":"(VLOOKUP($B150,'By Population'!$G$2:$K$14,5,FALSE))*'By Speed'!$P163*Scenario_VMT_2*$N150","v":0},{"$f":"(VLOOKUP($B150,'By Population'!$G$2:$K$14,5,FALSE))*'By Speed'!$Q163*Scenario_VMT_2*$N150","v":0},{"$f":"(VLOOKUP($B150,'By Population'!$G$2:$K$14,5,FALSE))*'By Speed'!$R163*Scenario_VMT_2*$N150","v":0},{"$f":"(VLOOKUP($B150,'By Population'!$G$2:$K$14,5,FALSE))*'By Speed'!$S163*Scenario_VMT_2*$N150","v":0},{"$f":"(VLOOKUP($B150,'By Population'!$G$2:$K$14,5,FALSE))*'By Speed'!$T163*Scenario_VMT_2*$N150","v":0},{"$f":"(VLOOKUP($B150,'By Population'!$G$2:$K$14,5,FALSE))*'By Speed'!$U163*Scenario_VMT_2*$N150","v":0},0,{"$f":"(VLOOKUP($B150,'By Population'!$G$2:$K$14,5,FALSE))*'By Speed'!$M163*Scenario_VMT_3*$N150","v":0},{"$f":"(VLOOKUP($B150,'By Population'!$G$2:$K$14,5,FALSE))*'By Speed'!$N163*Scenario_VMT_3*$N150","v":0},{"$f":"(VLOOKUP($B150,'By Population'!$G$2:$K$14,5,FALSE))*'By Speed'!$O163*Scenario_VMT_3*$N150","v":0},{"$f":"(VLOOKUP($B150,'By Population'!$G$2:$K$14,5,FALSE))*'By Speed'!$P163*Scenario_VMT_3*$N150","v":0},{"$f":"(VLOOKUP($B150,'By Population'!$G$2:$K$14,5,FALSE))*'By Speed'!$Q163*Scenario_VMT_3*$N150","v":0},{"$f":"(VLOOKUP($B150,'By Population'!$G$2:$K$14,5,FALSE))*'By Speed'!$R163*Scenario_VMT_3*$N150","v":0},{"$f":"(VLOOKUP($B150,'By Population'!$G$2:$K$14,5,FALSE))*'By Speed'!$S163*Scenario_VMT_3*$N150","v":0},{"$f":"(VLOOKUP($B150,'By Population'!$G$2:$K$14,5,FALSE))*'By Speed'!$T163*Scenario_VMT_3*$N150","v":0},{"$f":"(VLOOKUP($B150,'By Population'!$G$2:$K$14,5,FALSE))*'By Speed'!$U163*Scenario_VMT_3*$N150","v":0},0,{"$f":"(VLOOKUP($B150,'By Population'!$G$2:$K$14,5,FALSE))*'By Speed'!$M163*Scenario_VMT_4*$N150","v":0},{"$f":"(VLOOKUP($B150,'By Population'!$G$2:$K$14,5,FALSE))*'By Speed'!$N163*Scenario_VMT_4*$N150","v":0},{"$f":"(VLOOKUP($B150,'By Population'!$G$2:$K$14,5,FALSE))*'By Speed'!$O163*Scenario_VMT_4*$N150","v":0},{"$f":"(VLOOKUP($B150,'By Population'!$G$2:$K$14,5,FALSE))*'By Speed'!$P163*Scenario_VMT_4*$N150","v":0},{"$f":"(VLOOKUP($B150,'By Population'!$G$2:$K$14,5,FALSE))*'By Speed'!$Q163*Scenario_VMT_4*$N150","v":0},{"$f":"(VLOOKUP($B150,'By Population'!$G$2:$K$14,5,FALSE))*'By Speed'!$R163*Scenario_VMT_4*$N150","v":0},{"$f":"(VLOOKUP($B150,'By Population'!$G$2:$K$14,5,FALSE))*'By Speed'!$S163*Scenario_VMT_4*$N150","v":0},{"$f":"(VLOOKUP($B150,'By Population'!$G$2:$K$14,5,FALSE))*'By Speed'!$T163*Scenario_VMT_4*$N150","v":0},{"$f":"(VLOOKUP($B150,'By Population'!$G$2:$K$14,5,FALSE))*'By Speed'!$U163*Scenario_VMT_4*$N150","v":0},0,{"$f":"(VLOOKUP($B150,'By Population'!$G$2:$K$14,5,FALSE))*'By Speed'!$M163*Scenario_VMT_5*$N150","v":0},{"$f":"(VLOOKUP($B150,'By Population'!$G$2:$K$14,5,FALSE))*'By Speed'!$N163*Scenario_VMT_5*$N150","v":0},{"$f":"(VLOOKUP($B150,'By Population'!$G$2:$K$14,5,FALSE))*'By Speed'!$O163*Scenario_VMT_5*$N150","v":0},{"$f":"(VLOOKUP($B150,'By Population'!$G$2:$K$14,5,FALSE))*'By Speed'!$P163*Scenario_VMT_5*$N150","v":0},{"$f":"(VLOOKUP($B150,'By Population'!$G$2:$K$14,5,FALSE))*'By Speed'!$Q163*Scenario_VMT_5*$N150","v":0},{"$f":"(VLOOKUP($B150,'By Population'!$G$2:$K$14,5,FALSE))*'By Speed'!$R163*Scenario_VMT_5*$N150","v":0},{"$f":"(VLOOKUP($B150,'By Population'!$G$2:$K$14,5,FALSE))*'By Speed'!$S163*Scenario_VMT_5*$N150","v":0},{"$f":"(VLOOKUP($B150,'By Population'!$G$2:$K$14,5,FALSE))*'By Speed'!$T163*Scenario_VMT_5*$N150","v":0},{"$f":"(VLOOKUP($B150,'By Population'!$G$2:$K$14,5,FALSE))*'By Speed'!$U163*Scenario_VMT_5*$N150","v":0},0]
[141,"MCY_GAS",5,"MCY_GAS_5",{"$f":"(VLOOKUP($B151,'By Population'!$G$2:$K$14,5,FALSE))*'By Speed'!$M164*Scenario_VMT_EX*$N151","v":0},{"$f":"(VLOOKUP($B151,'By Population'!$G$2:$K$14,5,FALSE))*'By Speed'!$N164*Scenario_VMT_EX*$N151","v":0},{"$f":"(VLOOKUP($B151,'By Population'!$G$2:$K$14,5,FALSE))*'By Speed'!$O164*Scenario_VMT_EX*$N151","v":0},{"$f":"(VLOOKUP($B151,'By Population'!$G$2:$K$14,5,FALSE))*'By Speed'!$P164*Scenario_VMT_EX*$N151","v":0},{"$f":"(VLOOKUP($B151,'By Population'!$G$2:$K$14,5,FALSE))*'By Speed'!$Q164*Scenario_VMT_EX*$N151","v":0},{"$f":"(VLOOKUP($B151,'By Population'!$G$2:$K$14,5,FALSE))*'By Speed'!$R164*Scenario_VMT_EX*$N151","v":0},{"$f":"(VLOOKUP($B151,'By Population'!$G$2:$K$14,5,FALSE))*'By Speed'!$S164*Scenario_VMT_EX*$N151","v":0},{"$f":"(VLOOKUP($B151,'By Population'!$G$2:$K$14,5,FALSE))*'By Speed'!$T164*Scenario_VMT_EX*$N151","v":0},{"$f":"(VLOOKUP($B151,'By Population'!$G$2:$K$14,5,FALSE))*'By Speed'!$U164*Scenario_VMT_EX*$N151","v":0},0,{"$f":"(VLOOKUP($B151,'By Population'!$G$2:$K$14,5,FALSE))*'By Speed'!$M164*Scenario_VMT_1*$N151","v":0},{"$f":"(VLOOKUP($B151,'By Population'!$G$2:$K$14,5,FALSE))*'By Speed'!$N164*Scenario_VMT_1*$N151","v":0},{"$f":"(VLOOKUP($B151,'By Population'!$G$2:$K$14,5,FALSE))*'By Speed'!$O164*Scenario_VMT_1*$N151","v":0},{"$f":"(VLOOKUP($B151,'By Population'!$G$2:$K$14,5,FALSE))*'By Speed'!$P164*Scenario_VMT_1*$N151","v":0},{"$f":"(VLOOKUP($B151,'By Population'!$G$2:$K$14,5,FALSE))*'By Speed'!$Q164*Scenario_VMT_1*$N151","v":0},{"$f":"(VLOOKUP($B151,'By Population'!$G$2:$K$14,5,FALSE))*'By Speed'!$R164*Scenario_VMT_1*$N151","v":0},{"$f":"(VLOOKUP($B151,'By Population'!$G$2:$K$14,5,FALSE))*'By Speed'!$S164*Scenario_VMT_1*$N151","v":0},{"$f":"(VLOOKUP($B151,'By Population'!$G$2:$K$14,5,FALSE))*'By Speed'!$T164*Scenario_VMT_1*$N151","v":0},{"$f":"(VLOOKUP($B151,'By Population'!$G$2:$K$14,5,FALSE))*'By Speed'!$U164*Scenario_VMT_1*$N151","v":0},0,{"$f":"(VLOOKUP($B151,'By Population'!$G$2:$K$14,5,FALSE))*'By Speed'!$M164*Scenario_VMT_2*$N151","v":0},{"$f":"(VLOOKUP($B151,'By Population'!$G$2:$K$14,5,FALSE))*'By Speed'!$N164*Scenario_VMT_2*$N151","v":0},{"$f":"(VLOOKUP($B151,'By Population'!$G$2:$K$14,5,FALSE))*'By Speed'!$O164*Scenario_VMT_2*$N151","v":0},{"$f":"(VLOOKUP($B151,'By Population'!$G$2:$K$14,5,FALSE))*'By Speed'!$P164*Scenario_VMT_2*$N151","v":0},{"$f":"(VLOOKUP($B151,'By Population'!$G$2:$K$14,5,FALSE))*'By Speed'!$Q164*Scenario_VMT_2*$N151","v":0},{"$f":"(VLOOKUP($B151,'By Population'!$G$2:$K$14,5,FALSE))*'By Speed'!$R164*Scenario_VMT_2*$N151","v":0},{"$f":"(VLOOKUP($B151,'By Population'!$G$2:$K$14,5,FALSE))*'By Speed'!$S164*Scenario_VMT_2*$N151","v":0},{"$f":"(VLOOKUP($B151,'By Population'!$G$2:$K$14,5,FALSE))*'By Speed'!$T164*Scenario_VMT_2*$N151","v":0},{"$f":"(VLOOKUP($B151,'By Population'!$G$2:$K$14,5,FALSE))*'By Speed'!$U164*Scenario_VMT_2*$N151","v":0},0,{"$f":"(VLOOKUP($B151,'By Population'!$G$2:$K$14,5,FALSE))*'By Speed'!$M164*Scenario_VMT_3*$N151","v":0},{"$f":"(VLOOKUP($B151,'By Population'!$G$2:$K$14,5,FALSE))*'By Speed'!$N164*Scenario_VMT_3*$N151","v":0},{"$f":"(VLOOKUP($B151,'By Population'!$G$2:$K$14,5,FALSE))*'By Speed'!$O164*Scenario_VMT_3*$N151","v":0},{"$f":"(VLOOKUP($B151,'By Population'!$G$2:$K$14,5,FALSE))*'By Speed'!$P164*Scenario_VMT_3*$N151","v":0},{"$f":"(VLOOKUP($B151,'By Population'!$G$2:$K$14,5,FALSE))*'By Speed'!$Q164*Scenario_VMT_3*$N151","v":0},{"$f":"(VLOOKUP($B151,'By Population'!$G$2:$K$14,5,FALSE))*'By Speed'!$R164*Scenario_VMT_3*$N151","v":0},{"$f":"(VLOOKUP($B151,'By Population'!$G$2:$K$14,5,FALSE))*'By Speed'!$S164*Scenario_VMT_3*$N151","v":0},{"$f":"(VLOOKUP($B151,'By Population'!$G$2:$K$14,5,FALSE))*'By Speed'!$T164*Scenario_VMT_3*$N151","v":0},{"$f":"(VLOOKUP($B151,'By Population'!$G$2:$K$14,5,FALSE))*'By Speed'!$U164*Scenario_VMT_3*$N151","v":0},0,{"$f":"(VLOOKUP($B151,'By Population'!$G$2:$K$14,5,FALSE))*'By Speed'!$M164*Scenario_VMT_4*$N151","v":0},{"$f":"(VLOOKUP($B151,'By Population'!$G$2:$K$14,5,FALSE))*'By Speed'!$N164*Scenario_VMT_4*$N151","v":0},{"$f":"(VLOOKUP($B151,'By Population'!$G$2:$K$14,5,FALSE))*'By Speed'!$O164*Scenario_VMT_4*$N151","v":0},{"$f":"(VLOOKUP($B151,'By Population'!$G$2:$K$14,5,FALSE))*'By Speed'!$P164*Scenario_VMT_4*$N151","v":0},{"$f":"(VLOOKUP($B151,'By Population'!$G$2:$K$14,5,FALSE))*'By Speed'!$Q164*Scenario_VMT_4*$N151","v":0},{"$f":"(VLOOKUP($B151,'By Population'!$G$2:$K$14,5,FALSE))*'By Speed'!$R164*Scenario_VMT_4*$N151","v":0},{"$f":"(VLOOKUP($B151,'By Population'!$G$2:$K$14,5,FALSE))*'By Speed'!$S164*Scenario_VMT_4*$N151","v":0},{"$f":"(VLOOKUP($B151,'By Population'!$G$2:$K$14,5,FALSE))*'By Speed'!$T164*Scenario_VMT_4*$N151","v":0},{"$f":"(VLOOKUP($B151,'By Population'!$G$2:$K$14,5,FALSE))*'By Speed'!$U164*Scenario_VMT_4*$N151","v":0},0,{"$f":"(VLOOKUP($B151,'By Population'!$G$2:$K$14,5,FALSE))*'By Speed'!$M164*Scenario_VMT_5*$N151","v":0},{"$f":"(VLOOKUP($B151,'By Population'!$G$2:$K$14,5,FALSE))*'By Speed'!$N164*Scenario_VMT_5*$N151","v":0},{"$f":"(VLOOKUP($B151,'By Population'!$G$2:$K$14,5,FALSE))*'By Speed'!$O164*Scenario_VMT_5*$N151","v":0},{"$f":"(VLOOKUP($B151,'By Population'!$G$2:$K$14,5,FALSE))*'By Speed'!$P164*Scenario_VMT_5*$N151","v":0},{"$f":"(VLOOKUP($B151,'By Population'!$G$2:$K$14,5,FALSE))*'By Speed'!$Q164*Scenario_VMT_5*$N151","v":0},{"$f":"(VLOOKUP($B151,'By Population'!$G$2:$K$14,5,FALSE))*'By Speed'!$R164*Scenario_VMT_5*$N151","v":0},{"$f":"(VLOOKUP($B151,'By Population'!$G$2:$K$14,5,FALSE))*'By Speed'!$S164*Scenario_VMT_5*$N151","v":0},{"$f":"(VLOOKUP($B151,'By Population'!$G$2:$K$14,5,FALSE))*'By Speed'!$T164*Scenario_VMT_5*$N151","v":0},{"$f":"(VLOOKUP($B151,'By Population'!$G$2:$K$14,5,FALSE))*'By Speed'!$U164*Scenario_VMT_5*$N151","v":0},0]
[150,"MCY_GAS",50,"MCY_GAS_50",{"$f":"(VLOOKUP($B152,'By Population'!$G$2:$K$14,5,FALSE))*'By Speed'!$M165*Scenario_VMT_EX*$N152","v":0},{"$f":"(VLOOKUP($B152,'By Population'!$G$2:$K$14,5,FALSE))*'By Speed'!$N165*Scenario_VMT_EX*$N152","v":0},{"$f":"(VLOOKUP($B152,'By Population'!$G$2:$K$14,5,FALSE))*'By Speed'!$O165*Scenario_VMT_EX*$N152","v":0},{"$f":"(VLOOKUP($B152,'By Population'!$G$2:$K$14,5,FALSE))*'By Speed'!$P165*Scenario_VMT_EX*$N152","v":0},{"$f":"(VLOOKUP($B152,'By Population'!$G$2:$K$14,5,FALSE))*'By Speed'!$Q165*Scenario_VMT_EX*$N152","v":0},{"$f":"(VLOOKUP($B152,'By Population'!$G$2:$K$14,5,FALSE))*'By Speed'!$R165*Scenario_VMT_EX*$N152","v":0},{"$f":"(VLOOKUP($B152,'By Population'!$G$2:$K$14,5,FALSE))*'By Speed'!$S165*Scenario_VMT_EX*$N152","v":0},{"$f":"(VLOOKUP($B152,'By Population'!$G$2:$K$14,5,FALSE))*'By Speed'!$T165*Scenario_VMT_EX*$N152","v":0},{"$f":"(VLOOKUP($B152,'By Population'!$G$2:$K$14,5,FALSE))*'By Speed'!$U165*Scenario_VMT_EX*$N152","v":0},0,{"$f":"(VLOOKUP($B152,'By Population'!$G$2:$K$14,5,FALSE))*'By Speed'!$M165*Scenario_VMT_1*$N152","v":0},{"$f":"(VLOOKUP($B152,'By Population'!$G$2:$K$14,5,FALSE))*'By Speed'!$N165*Scenario_VMT_1*$N152","v":0},{"$f":"(VLOOKUP($B152,'By Population'!$G$2:$K$14,5,FALSE))*'By Speed'!$O165*Scenario_VMT_1*$N152","v":0},{"$f":"(VLOOKUP($B152,'By Population'!$G$2:$K$14,5,FALSE))*'By Speed'!$P165*Scenario_VMT_1*$N152","v":0},{"$f":"(VLOOKUP($B152,'By Population'!$G$2:$K$14,5,FALSE))*'By Speed'!$Q165*Scenario_VMT_1*$N152","v":0},{"$f":"(VLOOKUP($B152,'By Population'!$G$2:$K$14,5,FALSE))*'By Speed'!$R165*Scenario_VMT_1*$N152","v":0},{"$f":"(VLOOKUP($B152,'By Population'!$G$2:$K$14,5,FALSE))*'By Speed'!$S165*Scenario_VMT_1*$N152","v":0},{"$f":"(VLOOKUP($B152,'By Population'!$G$2:$K$14,5,FALSE))*'By Speed'!$T165*Scenario_VMT_1*$N152","v":0},{"$f":"(VLOOKUP($B152,'By Population'!$G$2:$K$14,5,FALSE))*'By Speed'!$U165*Scenario_VMT_1*$N152","v":0},0,{"$f":"(VLOOKUP($B152,'By Population'!$G$2:$K$14,5,FALSE))*'By Speed'!$M165*Scenario_VMT_2*$N152","v":0},{"$f":"(VLOOKUP($B152,'By Population'!$G$2:$K$14,5,FALSE))*'By Speed'!$N165*Scenario_VMT_2*$N152","v":0},{"$f":"(VLOOKUP($B152,'By Population'!$G$2:$K$14,5,FALSE))*'By Speed'!$O165*Scenario_VMT_2*$N152","v":0},{"$f":"(VLOOKUP($B152,'By Population'!$G$2:$K$14,5,FALSE))*'By Speed'!$P165*Scenario_VMT_2*$N152","v":0},{"$f":"(VLOOKUP($B152,'By Population'!$G$2:$K$14,5,FALSE))*'By Speed'!$Q165*Scenario_VMT_2*$N152","v":0},{"$f":"(VLOOKUP($B152,'By Population'!$G$2:$K$14,5,FALSE))*'By Speed'!$R165*Scenario_VMT_2*$N152","v":0},{"$f":"(VLOOKUP($B152,'By Population'!$G$2:$K$14,5,FALSE))*'By Speed'!$S165*Scenario_VMT_2*$N152","v":0},{"$f":"(VLOOKUP($B152,'By Population'!$G$2:$K$14,5,FALSE))*'By Speed'!$T165*Scenario_VMT_2*$N152","v":0},{"$f":"(VLOOKUP($B152,'By Population'!$G$2:$K$14,5,FALSE))*'By Speed'!$U165*Scenario_VMT_2*$N152","v":0},0,{"$f":"(VLOOKUP($B152,'By Population'!$G$2:$K$14,5,FALSE))*'By Speed'!$M165*Scenario_VMT_3*$N152","v":0},{"$f":"(VLOOKUP($B152,'By Population'!$G$2:$K$14,5,FALSE))*'By Speed'!$N165*Scenario_VMT_3*$N152","v":0},{"$f":"(VLOOKUP($B152,'By Population'!$G$2:$K$14,5,FALSE))*'By Speed'!$O165*Scenario_VMT_3*$N152","v":0},{"$f":"(VLOOKUP($B152,'By Population'!$G$2:$K$14,5,FALSE))*'By Speed'!$P165*Scenario_VMT_3*$N152","v":0},{"$f":"(VLOOKUP($B152,'By Population'!$G$2:$K$14,5,FALSE))*'By Speed'!$Q165*Scenario_VMT_3*$N152","v":0},{"$f":"(VLOOKUP($B152,'By Population'!$G$2:$K$14,5,FALSE))*'By Speed'!$R165*Scenario_VMT_3*$N152","v":0},{"$f":"(VLOOKUP($B152,'By Population'!$G$2:$K$14,5,FALSE))*'By Speed'!$S165*Scenario_VMT_3*$N152","v":0},{"$f":"(VLOOKUP($B152,'By Population'!$G$2:$K$14,5,FALSE))*'By Speed'!$T165*Scenario_VMT_3*$N152","v":0},{"$f":"(VLOOKUP($B152,'By Population'!$G$2:$K$14,5,FALSE))*'By Speed'!$U165*Scenario_VMT_3*$N152","v":0},0,{"$f":"(VLOOKUP($B152,'By Population'!$G$2:$K$14,5,FALSE))*'By Speed'!$M165*Scenario_VMT_4*$N152","v":0},{"$f":"(VLOOKUP($B152,'By Population'!$G$2:$K$14,5,FALSE))*'By Speed'!$N165*Scenario_VMT_4*$N152","v":0},{"$f":"(VLOOKUP($B152,'By Population'!$G$2:$K$14,5,FALSE))*'By Speed'!$O165*Scenario_VMT_4*$N152","v":0},{"$f":"(VLOOKUP($B152,'By Population'!$G$2:$K$14,5,FALSE))*'By Speed'!$P165*Scenario_VMT_4*$N152","v":0},{"$f":"(VLOOKUP($B152,'By Population'!$G$2:$K$14,5,FALSE))*'By Speed'!$Q165*Scenario_VMT_4*$N152","v":0},{"$f":"(VLOOKUP($B152,'By Population'!$G$2:$K$14,5,FALSE))*'By Speed'!$R165*Scenario_VMT_4*$N152","v":0},{"$f":"(VLOOKUP($B152,'By Population'!$G$2:$K$14,5,FALSE))*'By Speed'!$S165*Scenario_VMT_4*$N152","v":0},{"$f":"(VLOOKUP($B152,'By Population'!$G$2:$K$14,5,FALSE))*'By Speed'!$T165*Scenario_VMT_4*$N152","v":0},{"$f":"(VLOOKUP($B152,'By Population'!$G$2:$K$14,5,FALSE))*'By Speed'!$U165*Scenario_VMT_4*$N152","v":0},0,{"$f":"(VLOOKUP($B152,'By Population'!$G$2:$K$14,5,FALSE))*'By Speed'!$M165*Scenario_VMT_5*$N152","v":0},{"$f":"(VLOOKUP($B152,'By Population'!$G$2:$K$14,5,FALSE))*'By Speed'!$N165*Scenario_VMT_5*$N152","v":0},{"$f":"(VLOOKUP($B152,'By Population'!$G$2:$K$14,5,FALSE))*'By Speed'!$O165*Scenario_VMT_5*$N152","v":0},{"$f":"(VLOOKUP($B152,'By Population'!$G$2:$K$14,5,FALSE))*'By Speed'!$P165*Scenario_VMT_5*$N152","v":0},{"$f":"(VLOOKUP($B152,'By Population'!$G$2:$K$14,5,FALSE))*'By Speed'!$Q165*Scenario_VMT_5*$N152","v":0},{"$f":"(VLOOKUP($B152,'By Population'!$G$2:$K$14,5,FALSE))*'By Speed'!$R165*Scenario_VMT_5*$N152","v":0},{"$f":"(VLOOKUP($B152,'By Population'!$G$2:$K$14,5,FALSE))*'By Speed'!$S165*Scenario_VMT_5*$N152","v":0},{"$f":"(VLOOKUP($B152,'By Population'!$G$2:$K$14,5,FALSE))*'By Speed'!$T165*Scenario_VMT_5*$N152","v":0},{"$f":"(VLOOKUP($B152,'By Population'!$G$2:$K$14,5,FALSE))*'By Speed'!$U165*Scenario_VMT_5*$N152","v":0},0]
[151,"MCY_GAS",55,"MCY_GAS_55",{"$f":"(VLOOKUP($B153,'By Population'!$G$2:$K$14,5,FALSE))*'By Speed'!$M166*Scenario_VMT_EX*$N153","v":0},{"$f":"(VLOOKUP($B153,'By Population'!$G$2:$K$14,5,FALSE))*'By Speed'!$N166*Scenario_VMT_EX*$N153","v":0},{"$f":"(VLOOKUP($B153,'By Population'!$G$2:$K$14,5,FALSE))*'By Speed'!$O166*Scenario_VMT_EX*$N153","v":0},{"$f":"(VLOOKUP($B153,'By Population'!$G$2:$K$14,5,FALSE))*'By Speed'!$P166*Scenario_VMT_EX*$N153","v":0},{"$f":"(VLOOKUP($B153,'By Population'!$G$2:$K$14,5,FALSE))*'By Speed'!$Q166*Scenario_VMT_EX*$N153","v":0},{"$f":"(VLOOKUP($B153,'By Population'!$G$2:$K$14,5,FALSE))*'By Speed'!$R166*Scenario_VMT_EX*$N153","v":0},{"$f":"(VLOOKUP($B153,'By Population'!$G$2:$K$14,5,FALSE))*'By Speed'!$S166*Scenario_VMT_EX*$N153","v":0},{"$f":"(VLOOKUP($B153,'By Population'!$G$2:$K$14,5,FALSE))*'By Speed'!$T166*Scenario_VMT_EX*$N153","v":0},{"$f":"(VLOOKUP($B153,'By Population'!$G$2:$K$14,5,FALSE))*'By Speed'!$U166*Scenario_VMT_EX*$N153","v":0},0,{"$f":"(VLOOKUP($B153,'By Population'!$G$2:$K$14,5,FALSE))*'By Speed'!$M166*Scenario_VMT_1*$N153","v":0},{"$f":"(VLOOKUP($B153,'By Population'!$G$2:$K$14,5,FALSE))*'By Speed'!$N166*Scenario_VMT_1*$N153","v":0},{"$f":"(VLOOKUP($B153,'By Population'!$G$2:$K$14,5,FALSE))*'By Speed'!$O166*Scenario_VMT_1*$N153","v":0},{"$f":"(VLOOKUP($B153,'By Population'!$G$2:$K$14,5,FALSE))*'By Speed'!$P166*Scenario_VMT_1*$N153","v":0},{"$f":"(VLOOKUP($B153,'By Population'!$G$2:$K$14,5,FALSE))*'By Speed'!$Q166*Scenario_VMT_1*$N153","v":0},{"$f":"(VLOOKUP($B153,'By Population'!$G$2:$K$14,5,FALSE))*'By Speed'!$R166*Scenario_VMT_1*$N153","v":0},{"$f":"(VLOOKUP($B153,'By Population'!$G$2:$K$14,5,FALSE))*'By Speed'!$S166*Scenario_VMT_1*$N153","v":0},{"$f":"(VLOOKUP($B153,'By Population'!$G$2:$K$14,5,FALSE))*'By Speed'!$T166*Scenario_VMT_1*$N153","v":0},{"$f":"(VLOOKUP($B153,'By Population'!$G$2:$K$14,5,FALSE))*'By Speed'!$U166*Scenario_VMT_1*$N153","v":0},0,{"$f":"(VLOOKUP($B153,'By Population'!$G$2:$K$14,5,FALSE))*'By Speed'!$M166*Scenario_VMT_2*$N153","v":0},{"$f":"(VLOOKUP($B153,'By Population'!$G$2:$K$14,5,FALSE))*'By Speed'!$N166*Scenario_VMT_2*$N153","v":0},{"$f":"(VLOOKUP($B153,'By Population'!$G$2:$K$14,5,FALSE))*'By Speed'!$O166*Scenario_VMT_2*$N153","v":0},{"$f":"(VLOOKUP($B153,'By Population'!$G$2:$K$14,5,FALSE))*'By Speed'!$P166*Scenario_VMT_2*$N153","v":0},{"$f":"(VLOOKUP($B153,'By Population'!$G$2:$K$14,5,FALSE))*'By Speed'!$Q166*Scenario_VMT_2*$N153","v":0},{"$f":"(VLOOKUP($B153,'By Population'!$G$2:$K$14,5,FALSE))*'By Speed'!$R166*Scenario_VMT_2*$N153","v":0},{"$f":"(VLOOKUP($B153,'By Population'!$G$2:$K$14,5,FALSE))*'By Speed'!$S166*Scenario_VMT_2*$N153","v":0},{"$f":"(VLOOKUP($B153,'By Population'!$G$2:$K$14,5,FALSE))*'By Speed'!$T166*Scenario_VMT_2*$N153","v":0},{"$f":"(VLOOKUP($B153,'By Population'!$G$2:$K$14,5,FALSE))*'By Speed'!$U166*Scenario_VMT_2*$N153","v":0},0,{"$f":"(VLOOKUP($B153,'By Population'!$G$2:$K$14,5,FALSE))*'By Speed'!$M166*Scenario_VMT_3*$N153","v":0},{"$f":"(VLOOKUP($B153,'By Population'!$G$2:$K$14,5,FALSE))*'By Speed'!$N166*Scenario_VMT_3*$N153","v":0},{"$f":"(VLOOKUP($B153,'By Population'!$G$2:$K$14,5,FALSE))*'By Speed'!$O166*Scenario_VMT_3*$N153","v":0},{"$f":"(VLOOKUP($B153,'By Population'!$G$2:$K$14,5,FALSE))*'By Speed'!$P166*Scenario_VMT_3*$N153","v":0},{"$f":"(VLOOKUP($B153,'By Population'!$G$2:$K$14,5,FALSE))*'By Speed'!$Q166*Scenario_VMT_3*$N153","v":0},{"$f":"(VLOOKUP($B153,'By Population'!$G$2:$K$14,5,FALSE))*'By Speed'!$R166*Scenario_VMT_3*$N153","v":0},{"$f":"(VLOOKUP($B153,'By Population'!$G$2:$K$14,5,FALSE))*'By Speed'!$S166*Scenario_VMT_3*$N153","v":0},{"$f":"(VLOOKUP($B153,'By Population'!$G$2:$K$14,5,FALSE))*'By Speed'!$T166*Scenario_VMT_3*$N153","v":0},{"$f":"(VLOOKUP($B153,'By Population'!$G$2:$K$14,5,FALSE))*'By Speed'!$U166*Scenario_VMT_3*$N153","v":0},0,{"$f":"(VLOOKUP($B153,'By Population'!$G$2:$K$14,5,FALSE))*'By Speed'!$M166*Scenario_VMT_4*$N153","v":0},{"$f":"(VLOOKUP($B153,'By Population'!$G$2:$K$14,5,FALSE))*'By Speed'!$N166*Scenario_VMT_4*$N153","v":0},{"$f":"(VLOOKUP($B153,'By Population'!$G$2:$K$14,5,FALSE))*'By Speed'!$O166*Scenario_VMT_4*$N153","v":0},{"$f":"(VLOOKUP($B153,'By Population'!$G$2:$K$14,5,FALSE))*'By Speed'!$P166*Scenario_VMT_4*$N153","v":0},{"$f":"(VLOOKUP($B153,'By Population'!$G$2:$K$14,5,FALSE))*'By Speed'!$Q166*Scenario_VMT_4*$N153","v":0},{"$f":"(VLOOKUP($B153,'By Population'!$G$2:$K$14,5,FALSE))*'By Speed'!$R166*Scenario_VMT_4*$N153","v":0},{"$f":"(VLOOKUP($B153,'By Population'!$G$2:$K$14,5,FALSE))*'By Speed'!$S166*Scenario_VMT_4*$N153","v":0},{"$f":"(VLOOKUP($B153,'By Population'!$G$2:$K$14,5,FALSE))*'By Speed'!$T166*Scenario_VMT_4*$N153","v":0},{"$f":"(VLOOKUP($B153,'By Population'!$G$2:$K$14,5,FALSE))*'By Speed'!$U166*Scenario_VMT_4*$N153","v":0},0,{"$f":"(VLOOKUP($B153,'By Population'!$G$2:$K$14,5,FALSE))*'By Speed'!$M166*Scenario_VMT_5*$N153","v":0},{"$f":"(VLOOKUP($B153,'By Population'!$G$2:$K$14,5,FALSE))*'By Speed'!$N166*Scenario_VMT_5*$N153","v":0},{"$f":"(VLOOKUP($B153,'By Population'!$G$2:$K$14,5,FALSE))*'By Speed'!$O166*Scenario_VMT_5*$N153","v":0},{"$f":"(VLOOKUP($B153,'By Population'!$G$2:$K$14,5,FALSE))*'By Speed'!$P166*Scenario_VMT_5*$N153","v":0},{"$f":"(VLOOKUP($B153,'By Population'!$G$2:$K$14,5,FALSE))*'By Speed'!$Q166*Scenario_VMT_5*$N153","v":0},{"$f":"(VLOOKUP($B153,'By Population'!$G$2:$K$14,5,FALSE))*'By Speed'!$R166*Scenario_VMT_5*$N153","v":0},{"$f":"(VLOOKUP($B153,'By Population'!$G$2:$K$14,5,FALSE))*'By Speed'!$S166*Scenario_VMT_5*$N153","v":0},{"$f":"(VLOOKUP($B153,'By Population'!$G$2:$K$14,5,FALSE))*'By Speed'!$T166*Scenario_VMT_5*$N153","v":0},{"$f":"(VLOOKUP($B153,'By Population'!$G$2:$K$14,5,FALSE))*'By Speed'!$U166*Scenario_VMT_5*$N153","v":0},0]
[152,"MCY_GAS",60,"MCY_GAS_60",{"$f":"(VLOOKUP($B154,'By Population'!$G$2:$K$14,5,FALSE))*'By Speed'!$M167*Scenario_VMT_EX*$N154","v":0},{"$f":"(VLOOKUP($B154,'By Population'!$G$2:$K$14,5,FALSE))*'By Speed'!$N167*Scenario_VMT_EX*$N154","v":0},{"$f":"(VLOOKUP($B154,'By Population'!$G$2:$K$14,5,FALSE))*'By Speed'!$O167*Scenario_VMT_EX*$N154","v":0},{"$f":"(VLOOKUP($B154,'By Population'!$G$2:$K$14,5,FALSE))*'By Speed'!$P167*Scenario_VMT_EX*$N154","v":0},{"$f":"(VLOOKUP($B154,'By Population'!$G$2:$K$14,5,FALSE))*'By Speed'!$Q167*Scenario_VMT_EX*$N154","v":0},{"$f":"(VLOOKUP($B154,'By Population'!$G$2:$K$14,5,FALSE))*'By Speed'!$R167*Scenario_VMT_EX*$N154","v":0},{"$f":"(VLOOKUP($B154,'By Population'!$G$2:$K$14,5,FALSE))*'By Speed'!$S167*Scenario_VMT_EX*$N154","v":0},{"$f":"(VLOOKUP($B154,'By Population'!$G$2:$K$14,5,FALSE))*'By Speed'!$T167*Scenario_VMT_EX*$N154","v":0},{"$f":"(VLOOKUP($B154,'By Population'!$G$2:$K$14,5,FALSE))*'By Speed'!$U167*Scenario_VMT_EX*$N154","v":0},0,{"$f":"(VLOOKUP($B154,'By Population'!$G$2:$K$14,5,FALSE))*'By Speed'!$M167*Scenario_VMT_1*$N154","v":0},{"$f":"(VLOOKUP($B154,'By Population'!$G$2:$K$14,5,FALSE))*'By Speed'!$N167*Scenario_VMT_1*$N154","v":0},{"$f":"(VLOOKUP($B154,'By Population'!$G$2:$K$14,5,FALSE))*'By Speed'!$O167*Scenario_VMT_1*$N154","v":0},{"$f":"(VLOOKUP($B154,'By Population'!$G$2:$K$14,5,FALSE))*'By Speed'!$P167*Scenario_VMT_1*$N154","v":0},{"$f":"(VLOOKUP($B154,'By Population'!$G$2:$K$14,5,FALSE))*'By Speed'!$Q167*Scenario_VMT_1*$N154","v":0},{"$f":"(VLOOKUP($B154,'By Population'!$G$2:$K$14,5,FALSE))*'By Speed'!$R167*Scenario_VMT_1*$N154","v":0},{"$f":"(VLOOKUP($B154,'By Population'!$G$2:$K$14,5,FALSE))*'By Speed'!$S167*Scenario_VMT_1*$N154","v":0},{"$f":"(VLOOKUP($B154,'By Population'!$G$2:$K$14,5,FALSE))*'By Speed'!$T167*Scenario_VMT_1*$N154","v":0},{"$f":"(VLOOKUP($B154,'By Population'!$G$2:$K$14,5,FALSE))*'By Speed'!$U167*Scenario_VMT_1*$N154","v":0},0,{"$f":"(VLOOKUP($B154,'By Population'!$G$2:$K$14,5,FALSE))*'By Speed'!$M167*Scenario_VMT_2*$N154","v":0},{"$f":"(VLOOKUP($B154,'By Population'!$G$2:$K$14,5,FALSE))*'By Speed'!$N167*Scenario_VMT_2*$N154","v":0},{"$f":"(VLOOKUP($B154,'By Population'!$G$2:$K$14,5,FALSE))*'By Speed'!$O167*Scenario_VMT_2*$N154","v":0},{"$f":"(VLOOKUP($B154,'By Population'!$G$2:$K$14,5,FALSE))*'By Speed'!$P167*Scenario_VMT_2*$N154","v":0},{"$f":"(VLOOKUP($B154,'By Population'!$G$2:$K$14,5,FALSE))*'By Speed'!$Q167*Scenario_VMT_2*$N154","v":0},{"$f":"(VLOOKUP($B154,'By Population'!$G$2:$K$14,5,FALSE))*'By Speed'!$R167*Scenario_VMT_2*$N154","v":0},{"$f":"(VLOOKUP($B154,'By Population'!$G$2:$K$14,5,FALSE))*'By Speed'!$S167*Scenario_VMT_2*$N154","v":0},{"$f":"(VLOOKUP($B154,'By Population'!$G$2:$K$14,5,FALSE))*'By Speed'!$T167*Scenario_VMT_2*$N154","v":0},{"$f":"(VLOOKUP($B154,'By Population'!$G$2:$K$14,5,FALSE))*'By Speed'!$U167*Scenario_VMT_2*$N154","v":0},0,{"$f":"(VLOOKUP($B154,'By Population'!$G$2:$K$14,5,FALSE))*'By Speed'!$M167*Scenario_VMT_3*$N154","v":0},{"$f":"(VLOOKUP($B154,'By Population'!$G$2:$K$14,5,FALSE))*'By Speed'!$N167*Scenario_VMT_3*$N154","v":0},{"$f":"(VLOOKUP($B154,'By Population'!$G$2:$K$14,5,FALSE))*'By Speed'!$O167*Scenario_VMT_3*$N154","v":0},{"$f":"(VLOOKUP($B154,'By Population'!$G$2:$K$14,5,FALSE))*'By Speed'!$P167*Scenario_VMT_3*$N154","v":0},{"$f":"(VLOOKUP($B154,'By Population'!$G$2:$K$14,5,FALSE))*'By Speed'!$Q167*Scenario_VMT_3*$N154","v":0},{"$f":"(VLOOKUP($B154,'By Population'!$G$2:$K$14,5,FALSE))*'By Speed'!$R167*Scenario_VMT_3*$N154","v":0},{"$f":"(VLOOKUP($B154,'By Population'!$G$2:$K$14,5,FALSE))*'By Speed'!$S167*Scenario_VMT_3*$N154","v":0},{"$f":"(VLOOKUP($B154,'By Population'!$G$2:$K$14,5,FALSE))*'By Speed'!$T167*Scenario_VMT_3*$N154","v":0},{"$f":"(VLOOKUP($B154,'By Population'!$G$2:$K$14,5,FALSE))*'By Speed'!$U167*Scenario_VMT_3*$N154","v":0},0,{"$f":"(VLOOKUP($B154,'By Population'!$G$2:$K$14,5,FALSE))*'By Speed'!$M167*Scenario_VMT_4*$N154","v":0},{"$f":"(VLOOKUP($B154,'By Population'!$G$2:$K$14,5,FALSE))*'By Speed'!$N167*Scenario_VMT_4*$N154","v":0},{"$f":"(VLOOKUP($B154,'By Population'!$G$2:$K$14,5,FALSE))*'By Speed'!$O167*Scenario_VMT_4*$N154","v":0},{"$f":"(VLOOKUP($B154,'By Population'!$G$2:$K$14,5,FALSE))*'By Speed'!$P167*Scenario_VMT_4*$N154","v":0},{"$f":"(VLOOKUP($B154,'By Population'!$G$2:$K$14,5,FALSE))*'By Speed'!$Q167*Scenario_VMT_4*$N154","v":0},{"$f":"(VLOOKUP($B154,'By Population'!$G$2:$K$14,5,FALSE))*'By Speed'!$R167*Scenario_VMT_4*$N154","v":0},{"$f":"(VLOOKUP($B154,'By Population'!$G$2:$K$14,5,FALSE))*'By Speed'!$S167*Scenario_VMT_4*$N154","v":0},{"$f":"(VLOOKUP($B154,'By Population'!$G$2:$K$14,5,FALSE))*'By Speed'!$T167*Scenario_VMT_4*$N154","v":0},{"$f":"(VLOOKUP($B154,'By Population'!$G$2:$K$14,5,FALSE))*'By Speed'!$U167*Scenario_VMT_4*$N154","v":0},0,{"$f":"(VLOOKUP($B154,'By Population'!$G$2:$K$14,5,FALSE))*'By Speed'!$M167*Scenario_VMT_5*$N154","v":0},{"$f":"(VLOOKUP($B154,'By Population'!$G$2:$K$14,5,FALSE))*'By Speed'!$N167*Scenario_VMT_5*$N154","v":0},{"$f":"(VLOOKUP($B154,'By Population'!$G$2:$K$14,5,FALSE))*'By Speed'!$O167*Scenario_VMT_5*$N154","v":0},{"$f":"(VLOOKUP($B154,'By Population'!$G$2:$K$14,5,FALSE))*'By Speed'!$P167*Scenario_VMT_5*$N154","v":0},{"$f":"(VLOOKUP($B154,'By Population'!$G$2:$K$14,5,FALSE))*'By Speed'!$Q167*Scenario_VMT_5*$N154","v":0},{"$f":"(VLOOKUP($B154,'By Population'!$G$2:$K$14,5,FALSE))*'By Speed'!$R167*Scenario_VMT_5*$N154","v":0},{"$f":"(VLOOKUP($B154,'By Population'!$G$2:$K$14,5,FALSE))*'By Speed'!$S167*Scenario_VMT_5*$N154","v":0},{"$f":"(VLOOKUP($B154,'By Population'!$G$2:$K$14,5,FALSE))*'By Speed'!$T167*Scenario_VMT_5*$N154","v":0},{"$f":"(VLOOKUP($B154,'By Population'!$G$2:$K$14,5,FALSE))*'By Speed'!$U167*Scenario_VMT_5*$N154","v":0},0]
[153,"MCY_GAS",65,"MCY_GAS_65",{"$f":"(VLOOKUP($B155,'By Population'!$G$2:$K$14,5,FALSE))*'By Speed'!$M168*Scenario_VMT_EX*$N155","v":0},{"$f":"(VLOOKUP($B155,'By Population'!$G$2:$K$14,5,FALSE))*'By Speed'!$N168*Scenario_VMT_EX*$N155","v":0},{"$f":"(VLOOKUP($B155,'By Population'!$G$2:$K$14,5,FALSE))*'By Speed'!$O168*Scenario_VMT_EX*$N155","v":0},{"$f":"(VLOOKUP($B155,'By Population'!$G$2:$K$14,5,FALSE))*'By Speed'!$P168*Scenario_VMT_EX*$N155","v":0},{"$f":"(VLOOKUP($B155,'By Population'!$G$2:$K$14,5,FALSE))*'By Speed'!$Q168*Scenario_VMT_EX*$N155","v":0},{"$f":"(VLOOKUP($B155,'By Population'!$G$2:$K$14,5,FALSE))*'By Speed'!$R168*Scenario_VMT_EX*$N155","v":0},{"$f":"(VLOOKUP($B155,'By Population'!$G$2:$K$14,5,FALSE))*'By Speed'!$S168*Scenario_VMT_EX*$N155","v":0},{"$f":"(VLOOKUP($B155,'By Population'!$G$2:$K$14,5,FALSE))*'By Speed'!$T168*Scenario_VMT_EX*$N155","v":0},{"$f":"(VLOOKUP($B155,'By Population'!$G$2:$K$14,5,FALSE))*'By Speed'!$U168*Scenario_VMT_EX*$N155","v":0},0,{"$f":"(VLOOKUP($B155,'By Population'!$G$2:$K$14,5,FALSE))*'By Speed'!$M168*Scenario_VMT_1*$N155","v":0},{"$f":"(VLOOKUP($B155,'By Population'!$G$2:$K$14,5,FALSE))*'By Speed'!$N168*Scenario_VMT_1*$N155","v":0},{"$f":"(VLOOKUP($B155,'By Population'!$G$2:$K$14,5,FALSE))*'By Speed'!$O168*Scenario_VMT_1*$N155","v":0},{"$f":"(VLOOKUP($B155,'By Population'!$G$2:$K$14,5,FALSE))*'By Speed'!$P168*Scenario_VMT_1*$N155","v":0},{"$f":"(VLOOKUP($B155,'By Population'!$G$2:$K$14,5,FALSE))*'By Speed'!$Q168*Scenario_VMT_1*$N155","v":0},{"$f":"(VLOOKUP($B155,'By Population'!$G$2:$K$14,5,FALSE))*'By Speed'!$R168*Scenario_VMT_1*$N155","v":0},{"$f":"(VLOOKUP($B155,'By Population'!$G$2:$K$14,5,FALSE))*'By Speed'!$S168*Scenario_VMT_1*$N155","v":0},{"$f":"(VLOOKUP($B155,'By Population'!$G$2:$K$14,5,FALSE))*'By Speed'!$T168*Scenario_VMT_1*$N155","v":0},{"$f":"(VLOOKUP($B155,'By Population'!$G$2:$K$14,5,FALSE))*'By Speed'!$U168*Scenario_VMT_1*$N155","v":0},0,{"$f":"(VLOOKUP($B155,'By Population'!$G$2:$K$14,5,FALSE))*'By Speed'!$M168*Scenario_VMT_2*$N155","v":0},{"$f":"(VLOOKUP($B155,'By Population'!$G$2:$K$14,5,FALSE))*'By Speed'!$N168*Scenario_VMT_2*$N155","v":0},{"$f":"(VLOOKUP($B155,'By Population'!$G$2:$K$14,5,FALSE))*'By Speed'!$O168*Scenario_VMT_2*$N155","v":0},{"$f":"(VLOOKUP($B155,'By Population'!$G$2:$K$14,5,FALSE))*'By Speed'!$P168*Scenario_VMT_2*$N155","v":0},{"$f":"(VLOOKUP($B155,'By Population'!$G$2:$K$14,5,FALSE))*'By Speed'!$Q168*Scenario_VMT_2*$N155","v":0},{"$f":"(VLOOKUP($B155,'By Population'!$G$2:$K$14,5,FALSE))*'By Speed'!$R168*Scenario_VMT_2*$N155","v":0},{"$f":"(VLOOKUP($B155,'By Population'!$G$2:$K$14,5,FALSE))*'By Speed'!$S168*Scenario_VMT_2*$N155","v":0},{"$f":"(VLOOKUP($B155,'By Population'!$G$2:$K$14,5,FALSE))*'By Speed'!$T168*Scenario_VMT_2*$N155","v":0},{"$f":"(VLOOKUP($B155,'By Population'!$G$2:$K$14,5,FALSE))*'By Speed'!$U168*Scenario_VMT_2*$N155","v":0},0,{"$f":"(VLOOKUP($B155,'By Population'!$G$2:$K$14,5,FALSE))*'By Speed'!$M168*Scenario_VMT_3*$N155","v":0},{"$f":"(VLOOKUP($B155,'By Population'!$G$2:$K$14,5,FALSE))*'By Speed'!$N168*Scenario_VMT_3*$N155","v":0},{"$f":"(VLOOKUP($B155,'By Population'!$G$2:$K$14,5,FALSE))*'By Speed'!$O168*Scenario_VMT_3*$N155","v":0},{"$f":"(VLOOKUP($B155,'By Population'!$G$2:$K$14,5,FALSE))*'By Speed'!$P168*Scenario_VMT_3*$N155","v":0},{"$f":"(VLOOKUP($B155,'By Population'!$G$2:$K$14,5,FALSE))*'By Speed'!$Q168*Scenario_VMT_3*$N155","v":0},{"$f":"(VLOOKUP($B155,'By Population'!$G$2:$K$14,5,FALSE))*'By Speed'!$R168*Scenario_VMT_3*$N155","v":0},{"$f":"(VLOOKUP($B155,'By Population'!$G$2:$K$14,5,FALSE))*'By Speed'!$S168*Scenario_VMT_3*$N155","v":0},{"$f":"(VLOOKUP($B155,'By Population'!$G$2:$K$14,5,FALSE))*'By Speed'!$T168*Scenario_VMT_3*$N155","v":0},{"$f":"(VLOOKUP($B155,'By Population'!$G$2:$K$14,5,FALSE))*'By Speed'!$U168*Scenario_VMT_3*$N155","v":0},0,{"$f":"(VLOOKUP($B155,'By Population'!$G$2:$K$14,5,FALSE))*'By Speed'!$M168*Scenario_VMT_4*$N155","v":0},{"$f":"(VLOOKUP($B155,'By Population'!$G$2:$K$14,5,FALSE))*'By Speed'!$N168*Scenario_VMT_4*$N155","v":0},{"$f":"(VLOOKUP($B155,'By Population'!$G$2:$K$14,5,FALSE))*'By Speed'!$O168*Scenario_VMT_4*$N155","v":0},{"$f":"(VLOOKUP($B155,'By Population'!$G$2:$K$14,5,FALSE))*'By Speed'!$P168*Scenario_VMT_4*$N155","v":0},{"$f":"(VLOOKUP($B155,'By Population'!$G$2:$K$14,5,FALSE))*'By Speed'!$Q168*Scenario_VMT_4*$N155","v":0},{"$f":"(VLOOKUP($B155,'By Population'!$G$2:$K$14,5,FALSE))*'By Speed'!$R168*Scenario_VMT_4*$N155","v":0},{"$f":"(VLOOKUP($B155,'By Population'!$G$2:$K$14,5,FALSE))*'By Speed'!$S168*Scenario_VMT_4*$N155","v":0},{"$f":"(VLOOKUP($B155,'By Population'!$G$2:$K$14,5,FALSE))*'By Speed'!$T168*Scenario_VMT_4*$N155","v":0},{"$f":"(VLOOKUP($B155,'By Population'!$G$2:$K$14,5,FALSE))*'By Speed'!$U168*Scenario_VMT_4*$N155","v":0},0,{"$f":"(VLOOKUP($B155,'By Population'!$G$2:$K$14,5,FALSE))*'By Speed'!$M168*Scenario_VMT_5*$N155","v":0},{"$f":"(VLOOKUP($B155,'By Population'!$G$2:$K$14,5,FALSE))*'By Speed'!$N168*Scenario_VMT_5*$N155","v":0},{"$f":"(VLOOKUP($B155,'By Population'!$G$2:$K$14,5,FALSE))*'By Speed'!$O168*Scenario_VMT_5*$N155","v":0},{"$f":"(VLOOKUP($B155,'By Population'!$G$2:$K$14,5,FALSE))*'By Speed'!$P168*Scenario_VMT_5*$N155","v":0},{"$f":"(VLOOKUP($B155,'By Population'!$G$2:$K$14,5,FALSE))*'By Speed'!$Q168*Scenario_VMT_5*$N155","v":0},{"$f":"(VLOOKUP($B155,'By Population'!$G$2:$K$14,5,FALSE))*'By Speed'!$R168*Scenario_VMT_5*$N155","v":0},{"$f":"(VLOOKUP($B155,'By Population'!$G$2:$K$14,5,FALSE))*'By Speed'!$S168*Scenario_VMT_5*$N155","v":0},{"$f":"(VLOOKUP($B155,'By Population'!$G$2:$K$14,5,FALSE))*'By Speed'!$T168*Scenario_VMT_5*$N155","v":0},{"$f":"(VLOOKUP($B155,'By Population'!$G$2:$K$14,5,FALSE))*'By Speed'!$U168*Scenario_VMT_5*$N155","v":0},0]
[154,"MCY_GAS",70,"MCY_GAS_70",{"$f":"(VLOOKUP($B156,'By Population'!$G$2:$K$14,5,FALSE))*'By Speed'!$M169*Scenario_VMT_EX*$N156","v":0},{"$f":"(VLOOKUP($B156,'By Population'!$G$2:$K$14,5,FALSE))*'By Speed'!$N169*Scenario_VMT_EX*$N156","v":0},{"$f":"(VLOOKUP($B156,'By Population'!$G$2:$K$14,5,FALSE))*'By Speed'!$O169*Scenario_VMT_EX*$N156","v":0},{"$f":"(VLOOKUP($B156,'By Population'!$G$2:$K$14,5,FALSE))*'By Speed'!$P169*Scenario_VMT_EX*$N156","v":0},{"$f":"(VLOOKUP($B156,'By Population'!$G$2:$K$14,5,FALSE))*'By Speed'!$Q169*Scenario_VMT_EX*$N156","v":0},{"$f":"(VLOOKUP($B156,'By Population'!$G$2:$K$14,5,FALSE))*'By Speed'!$R169*Scenario_VMT_EX*$N156","v":0},{"$f":"(VLOOKUP($B156,'By Population'!$G$2:$K$14,5,FALSE))*'By Speed'!$S169*Scenario_VMT_EX*$N156","v":0},{"$f":"(VLOOKUP($B156,'By Population'!$G$2:$K$14,5,FALSE))*'By Speed'!$T169*Scenario_VMT_EX*$N156","v":0},{"$f":"(VLOOKUP($B156,'By Population'!$G$2:$K$14,5,FALSE))*'By Speed'!$U169*Scenario_VMT_EX*$N156","v":0},0,{"$f":"(VLOOKUP($B156,'By Population'!$G$2:$K$14,5,FALSE))*'By Speed'!$M169*Scenario_VMT_1*$N156","v":0},{"$f":"(VLOOKUP($B156,'By Population'!$G$2:$K$14,5,FALSE))*'By Speed'!$N169*Scenario_VMT_1*$N156","v":0},{"$f":"(VLOOKUP($B156,'By Population'!$G$2:$K$14,5,FALSE))*'By Speed'!$O169*Scenario_VMT_1*$N156","v":0},{"$f":"(VLOOKUP($B156,'By Population'!$G$2:$K$14,5,FALSE))*'By Speed'!$P169*Scenario_VMT_1*$N156","v":0},{"$f":"(VLOOKUP($B156,'By Population'!$G$2:$K$14,5,FALSE))*'By Speed'!$Q169*Scenario_VMT_1*$N156","v":0},{"$f":"(VLOOKUP($B156,'By Population'!$G$2:$K$14,5,FALSE))*'By Speed'!$R169*Scenario_VMT_1*$N156","v":0},{"$f":"(VLOOKUP($B156,'By Population'!$G$2:$K$14,5,FALSE))*'By Speed'!$S169*Scenario_VMT_1*$N156","v":0},{"$f":"(VLOOKUP($B156,'By Population'!$G$2:$K$14,5,FALSE))*'By Speed'!$T169*Scenario_VMT_1*$N156","v":0},{"$f":"(VLOOKUP($B156,'By Population'!$G$2:$K$14,5,FALSE))*'By Speed'!$U169*Scenario_VMT_1*$N156","v":0},0,{"$f":"(VLOOKUP($B156,'By Population'!$G$2:$K$14,5,FALSE))*'By Speed'!$M169*Scenario_VMT_2*$N156","v":0},{"$f":"(VLOOKUP($B156,'By Population'!$G$2:$K$14,5,FALSE))*'By Speed'!$N169*Scenario_VMT_2*$N156","v":0},{"$f":"(VLOOKUP($B156,'By Population'!$G$2:$K$14,5,FALSE))*'By Speed'!$O169*Scenario_VMT_2*$N156","v":0},{"$f":"(VLOOKUP($B156,'By Population'!$G$2:$K$14,5,FALSE))*'By Speed'!$P169*Scenario_VMT_2*$N156","v":0},{"$f":"(VLOOKUP($B156,'By Population'!$G$2:$K$14,5,FALSE))*'By Speed'!$Q169*Scenario_VMT_2*$N156","v":0},{"$f":"(VLOOKUP($B156,'By Population'!$G$2:$K$14,5,FALSE))*'By Speed'!$R169*Scenario_VMT_2*$N156","v":0},{"$f":"(VLOOKUP($B156,'By Population'!$G$2:$K$14,5,FALSE))*'By Speed'!$S169*Scenario_VMT_2*$N156","v":0},{"$f":"(VLOOKUP($B156,'By Population'!$G$2:$K$14,5,FALSE))*'By Speed'!$T169*Scenario_VMT_2*$N156","v":0},{"$f":"(VLOOKUP($B156,'By Population'!$G$2:$K$14,5,FALSE))*'By Speed'!$U169*Scenario_VMT_2*$N156","v":0},0,{"$f":"(VLOOKUP($B156,'By Population'!$G$2:$K$14,5,FALSE))*'By Speed'!$M169*Scenario_VMT_3*$N156","v":0},{"$f":"(VLOOKUP($B156,'By Population'!$G$2:$K$14,5,FALSE))*'By Speed'!$N169*Scenario_VMT_3*$N156","v":0},{"$f":"(VLOOKUP($B156,'By Population'!$G$2:$K$14,5,FALSE))*'By Speed'!$O169*Scenario_VMT_3*$N156","v":0},{"$f":"(VLOOKUP($B156,'By Population'!$G$2:$K$14,5,FALSE))*'By Speed'!$P169*Scenario_VMT_3*$N156","v":0},{"$f":"(VLOOKUP($B156,'By Population'!$G$2:$K$14,5,FALSE))*'By Speed'!$Q169*Scenario_VMT_3*$N156","v":0},{"$f":"(VLOOKUP($B156,'By Population'!$G$2:$K$14,5,FALSE))*'By Speed'!$R169*Scenario_VMT_3*$N156","v":0},{"$f":"(VLOOKUP($B156,'By Population'!$G$2:$K$14,5,FALSE))*'By Speed'!$S169*Scenario_VMT_3*$N156","v":0},{"$f":"(VLOOKUP($B156,'By Population'!$G$2:$K$14,5,FALSE))*'By Speed'!$T169*Scenario_VMT_3*$N156","v":0},{"$f":"(VLOOKUP($B156,'By Population'!$G$2:$K$14,5,FALSE))*'By Speed'!$U169*Scenario_VMT_3*$N156","v":0},0,{"$f":"(VLOOKUP($B156,'By Population'!$G$2:$K$14,5,FALSE))*'By Speed'!$M169*Scenario_VMT_4*$N156","v":0},{"$f":"(VLOOKUP($B156,'By Population'!$G$2:$K$14,5,FALSE))*'By Speed'!$N169*Scenario_VMT_4*$N156","v":0},{"$f":"(VLOOKUP($B156,'By Population'!$G$2:$K$14,5,FALSE))*'By Speed'!$O169*Scenario_VMT_4*$N156","v":0},{"$f":"(VLOOKUP($B156,'By Population'!$G$2:$K$14,5,FALSE))*'By Speed'!$P169*Scenario_VMT_4*$N156","v":0},{"$f":"(VLOOKUP($B156,'By Population'!$G$2:$K$14,5,FALSE))*'By Speed'!$Q169*Scenario_VMT_4*$N156","v":0},{"$f":"(VLOOKUP($B156,'By Population'!$G$2:$K$14,5,FALSE))*'By Speed'!$R169*Scenario_VMT_4*$N156","v":0},{"$f":"(VLOOKUP($B156,'By Population'!$G$2:$K$14,5,FALSE))*'By Speed'!$S169*Scenario_VMT_4*$N156","v":0},{"$f":"(VLOOKUP($B156,'By Population'!$G$2:$K$14,5,FALSE))*'By Speed'!$T169*Scenario_VMT_4*$N156","v":0},{"$f":"(VLOOKUP($B156,'By Population'!$G$2:$K$14,5,FALSE))*'By Speed'!$U169*Scenario_VMT_4*$N156","v":0},0,{"$f":"(VLOOKUP($B156,'By Population'!$G$2:$K$14,5,FALSE))*'By Speed'!$M169*Scenario_VMT_5*$N156","v":0},{"$f":"(VLOOKUP($B156,'By Population'!$G$2:$K$14,5,FALSE))*'By Speed'!$N169*Scenario_VMT_5*$N156","v":0},{"$f":"(VLOOKUP($B156,'By Population'!$G$2:$K$14,5,FALSE))*'By Speed'!$O169*Scenario_VMT_5*$N156","v":0},{"$f":"(VLOOKUP($B156,'By Population'!$G$2:$K$14,5,FALSE))*'By Speed'!$P169*Scenario_VMT_5*$N156","v":0},{"$f":"(VLOOKUP($B156,'By Population'!$G$2:$K$14,5,FALSE))*'By Speed'!$Q169*Scenario_VMT_5*$N156","v":0},{"$f":"(VLOOKUP($B156,'By Population'!$G$2:$K$14,5,FALSE))*'By Speed'!$R169*Scenario_VMT_5*$N156","v":0},{"$f":"(VLOOKUP($B156,'By Population'!$G$2:$K$14,5,FALSE))*'By Speed'!$S169*Scenario_VMT_5*$N156","v":0},{"$f":"(VLOOKUP($B156,'By Population'!$G$2:$K$14,5,FALSE))*'By Speed'!$T169*Scenario_VMT_5*$N156","v":0},{"$f":"(VLOOKUP($B156,'By Population'!$G$2:$K$14,5,FALSE))*'By Speed'!$U169*Scenario_VMT_5*$N156","v":0},0]
[158,"MDV_DSL",10,"MDV_DSL_10",{"$f":"(VLOOKUP($B157,'By Population'!$G$2:$K$14,5,FALSE))*'By Speed'!$M170*Scenario_VMT_EX*$N157","v":0},{"$f":"(VLOOKUP($B157,'By Population'!$G$2:$K$14,5,FALSE))*'By Speed'!$N170*Scenario_VMT_EX*$N157","v":0},{"$f":"(VLOOKUP($B157,'By Population'!$G$2:$K$14,5,FALSE))*'By Speed'!$O170*Scenario_VMT_EX*$N157","v":0},{"$f":"(VLOOKUP($B157,'By Population'!$G$2:$K$14,5,FALSE))*'By Speed'!$P170*Scenario_VMT_EX*$N157","v":0},{"$f":"(VLOOKUP($B157,'By Population'!$G$2:$K$14,5,FALSE))*'By Speed'!$Q170*Scenario_VMT_EX*$N157","v":0},{"$f":"(VLOOKUP($B157,'By Population'!$G$2:$K$14,5,FALSE))*'By Speed'!$R170*Scenario_VMT_EX*$N157","v":0},{"$f":"(VLOOKUP($B157,'By Population'!$G$2:$K$14,5,FALSE))*'By Speed'!$S170*Scenario_VMT_EX*$N157","v":0},{"$f":"(VLOOKUP($B157,'By Population'!$G$2:$K$14,5,FALSE))*'By Speed'!$T170*Scenario_VMT_EX*$N157","v":0},{"$f":"(VLOOKUP($B157,'By Population'!$G$2:$K$14,5,FALSE))*'By Speed'!$U170*Scenario_VMT_EX*$N157","v":0},0,{"$f":"(VLOOKUP($B157,'By Population'!$G$2:$K$14,5,FALSE))*'By Speed'!$M170*Scenario_VMT_1*$N157","v":0},{"$f":"(VLOOKUP($B157,'By Population'!$G$2:$K$14,5,FALSE))*'By Speed'!$N170*Scenario_VMT_1*$N157","v":0},{"$f":"(VLOOKUP($B157,'By Population'!$G$2:$K$14,5,FALSE))*'By Speed'!$O170*Scenario_VMT_1*$N157","v":0},{"$f":"(VLOOKUP($B157,'By Population'!$G$2:$K$14,5,FALSE))*'By Speed'!$P170*Scenario_VMT_1*$N157","v":0},{"$f":"(VLOOKUP($B157,'By Population'!$G$2:$K$14,5,FALSE))*'By Speed'!$Q170*Scenario_VMT_1*$N157","v":0},{"$f":"(VLOOKUP($B157,'By Population'!$G$2:$K$14,5,FALSE))*'By Speed'!$R170*Scenario_VMT_1*$N157","v":0},{"$f":"(VLOOKUP($B157,'By Population'!$G$2:$K$14,5,FALSE))*'By Speed'!$S170*Scenario_VMT_1*$N157","v":0},{"$f":"(VLOOKUP($B157,'By Population'!$G$2:$K$14,5,FALSE))*'By Speed'!$T170*Scenario_VMT_1*$N157","v":0},{"$f":"(VLOOKUP($B157,'By Population'!$G$2:$K$14,5,FALSE))*'By Speed'!$U170*Scenario_VMT_1*$N157","v":0},0,{"$f":"(VLOOKUP($B157,'By Population'!$G$2:$K$14,5,FALSE))*'By Speed'!$M170*Scenario_VMT_2*$N157","v":0},{"$f":"(VLOOKUP($B157,'By Population'!$G$2:$K$14,5,FALSE))*'By Speed'!$N170*Scenario_VMT_2*$N157","v":0},{"$f":"(VLOOKUP($B157,'By Population'!$G$2:$K$14,5,FALSE))*'By Speed'!$O170*Scenario_VMT_2*$N157","v":0},{"$f":"(VLOOKUP($B157,'By Population'!$G$2:$K$14,5,FALSE))*'By Speed'!$P170*Scenario_VMT_2*$N157","v":0},{"$f":"(VLOOKUP($B157,'By Population'!$G$2:$K$14,5,FALSE))*'By Speed'!$Q170*Scenario_VMT_2*$N157","v":0},{"$f":"(VLOOKUP($B157,'By Population'!$G$2:$K$14,5,FALSE))*'By Speed'!$R170*Scenario_VMT_2*$N157","v":0},{"$f":"(VLOOKUP($B157,'By Population'!$G$2:$K$14,5,FALSE))*'By Speed'!$S170*Scenario_VMT_2*$N157","v":0},{"$f":"(VLOOKUP($B157,'By Population'!$G$2:$K$14,5,FALSE))*'By Speed'!$T170*Scenario_VMT_2*$N157","v":0},{"$f":"(VLOOKUP($B157,'By Population'!$G$2:$K$14,5,FALSE))*'By Speed'!$U170*Scenario_VMT_2*$N157","v":0},0,{"$f":"(VLOOKUP($B157,'By Population'!$G$2:$K$14,5,FALSE))*'By Speed'!$M170*Scenario_VMT_3*$N157","v":0},{"$f":"(VLOOKUP($B157,'By Population'!$G$2:$K$14,5,FALSE))*'By Speed'!$N170*Scenario_VMT_3*$N157","v":0},{"$f":"(VLOOKUP($B157,'By Population'!$G$2:$K$14,5,FALSE))*'By Speed'!$O170*Scenario_VMT_3*$N157","v":0},{"$f":"(VLOOKUP($B157,'By Population'!$G$2:$K$14,5,FALSE))*'By Speed'!$P170*Scenario_VMT_3*$N157","v":0},{"$f":"(VLOOKUP($B157,'By Population'!$G$2:$K$14,5,FALSE))*'By Speed'!$Q170*Scenario_VMT_3*$N157","v":0},{"$f":"(VLOOKUP($B157,'By Population'!$G$2:$K$14,5,FALSE))*'By Speed'!$R170*Scenario_VMT_3*$N157","v":0},{"$f":"(VLOOKUP($B157,'By Population'!$G$2:$K$14,5,FALSE))*'By Speed'!$S170*Scenario_VMT_3*$N157","v":0},{"$f":"(VLOOKUP($B157,'By Population'!$G$2:$K$14,5,FALSE))*'By Speed'!$T170*Scenario_VMT_3*$N157","v":0},{"$f":"(VLOOKUP($B157,'By Population'!$G$2:$K$14,5,FALSE))*'By Speed'!$U170*Scenario_VMT_3*$N157","v":0},0,{"$f":"(VLOOKUP($B157,'By Population'!$G$2:$K$14,5,FALSE))*'By Speed'!$M170*Scenario_VMT_4*$N157","v":0},{"$f":"(VLOOKUP($B157,'By Population'!$G$2:$K$14,5,FALSE))*'By Speed'!$N170*Scenario_VMT_4*$N157","v":0},{"$f":"(VLOOKUP($B157,'By Population'!$G$2:$K$14,5,FALSE))*'By Speed'!$O170*Scenario_VMT_4*$N157","v":0},{"$f":"(VLOOKUP($B157,'By Population'!$G$2:$K$14,5,FALSE))*'By Speed'!$P170*Scenario_VMT_4*$N157","v":0},{"$f":"(VLOOKUP($B157,'By Population'!$G$2:$K$14,5,FALSE))*'By Speed'!$Q170*Scenario_VMT_4*$N157","v":0},{"$f":"(VLOOKUP($B157,'By Population'!$G$2:$K$14,5,FALSE))*'By Speed'!$R170*Scenario_VMT_4*$N157","v":0},{"$f":"(VLOOKUP($B157,'By Population'!$G$2:$K$14,5,FALSE))*'By Speed'!$S170*Scenario_VMT_4*$N157","v":0},{"$f":"(VLOOKUP($B157,'By Population'!$G$2:$K$14,5,FALSE))*'By Speed'!$T170*Scenario_VMT_4*$N157","v":0},{"$f":"(VLOOKUP($B157,'By Population'!$G$2:$K$14,5,FALSE))*'By Speed'!$U170*Scenario_VMT_4*$N157","v":0},0,{"$f":"(VLOOKUP($B157,'By Population'!$G$2:$K$14,5,FALSE))*'By Speed'!$M170*Scenario_VMT_5*$N157","v":0},{"$f":"(VLOOKUP($B157,'By Population'!$G$2:$K$14,5,FALSE))*'By Speed'!$N170*Scenario_VMT_5*$N157","v":0},{"$f":"(VLOOKUP($B157,'By Population'!$G$2:$K$14,5,FALSE))*'By Speed'!$O170*Scenario_VMT_5*$N157","v":0},{"$f":"(VLOOKUP($B157,'By Population'!$G$2:$K$14,5,FALSE))*'By Speed'!$P170*Scenario_VMT_5*$N157","v":0},{"$f":"(VLOOKUP($B157,'By Population'!$G$2:$K$14,5,FALSE))*'By Speed'!$Q170*Scenario_VMT_5*$N157","v":0},{"$f":"(VLOOKUP($B157,'By Population'!$G$2:$K$14,5,FALSE))*'By Speed'!$R170*Scenario_VMT_5*$N157","v":0},{"$f":"(VLOOKUP($B157,'By Population'!$G$2:$K$14,5,FALSE))*'By Speed'!$S170*Scenario_VMT_5*$N157","v":0},{"$f":"(VLOOKUP($B157,'By Population'!$G$2:$K$14,5,FALSE))*'By Speed'!$T170*Scenario_VMT_5*$N157","v":0},{"$f":"(VLOOKUP($B157,'By Population'!$G$2:$K$14,5,FALSE))*'By Speed'!$U170*Scenario_VMT_5*$N157","v":0},0]
[160,"MDV_DSL",15,"MDV_DSL_15",{"$f":"(VLOOKUP($B158,'By Population'!$G$2:$K$14,5,FALSE))*'By Speed'!$M171*Scenario_VMT_EX*$N158","v":0},{"$f":"(VLOOKUP($B158,'By Population'!$G$2:$K$14,5,FALSE))*'By Speed'!$N171*Scenario_VMT_EX*$N158","v":0},{"$f":"(VLOOKUP($B158,'By Population'!$G$2:$K$14,5,FALSE))*'By Speed'!$O171*Scenario_VMT_EX*$N158","v":0},{"$f":"(VLOOKUP($B158,'By Population'!$G$2:$K$14,5,FALSE))*'By Speed'!$P171*Scenario_VMT_EX*$N158","v":0},{"$f":"(VLOOKUP($B158,'By Population'!$G$2:$K$14,5,FALSE))*'By Speed'!$Q171*Scenario_VMT_EX*$N158","v":0},{"$f":"(VLOOKUP($B158,'By Population'!$G$2:$K$14,5,FALSE))*'By Speed'!$R171*Scenario_VMT_EX*$N158","v":0},{"$f":"(VLOOKUP($B158,'By Population'!$G$2:$K$14,5,FALSE))*'By Speed'!$S171*Scenario_VMT_EX*$N158","v":0},{"$f":"(VLOOKUP($B158,'By Population'!$G$2:$K$14,5,FALSE))*'By Speed'!$T171*Scenario_VMT_EX*$N158","v":0},{"$f":"(VLOOKUP($B158,'By Population'!$G$2:$K$14,5,FALSE))*'By Speed'!$U171*Scenario_VMT_EX*$N158","v":0},0,{"$f":"(VLOOKUP($B158,'By Population'!$G$2:$K$14,5,FALSE))*'By Speed'!$M171*Scenario_VMT_1*$N158","v":0},{"$f":"(VLOOKUP($B158,'By Population'!$G$2:$K$14,5,FALSE))*'By Speed'!$N171*Scenario_VMT_1*$N158","v":0},{"$f":"(VLOOKUP($B158,'By Population'!$G$2:$K$14,5,FALSE))*'By Speed'!$O171*Scenario_VMT_1*$N158","v":0},{"$f":"(VLOOKUP($B158,'By Population'!$G$2:$K$14,5,FALSE))*'By Speed'!$P171*Scenario_VMT_1*$N158","v":0},{"$f":"(VLOOKUP($B158,'By Population'!$G$2:$K$14,5,FALSE))*'By Speed'!$Q171*Scenario_VMT_1*$N158","v":0},{"$f":"(VLOOKUP($B158,'By Population'!$G$2:$K$14,5,FALSE))*'By Speed'!$R171*Scenario_VMT_1*$N158","v":0},{"$f":"(VLOOKUP($B158,'By Population'!$G$2:$K$14,5,FALSE))*'By Speed'!$S171*Scenario_VMT_1*$N158","v":0},{"$f":"(VLOOKUP($B158,'By Population'!$G$2:$K$14,5,FALSE))*'By Speed'!$T171*Scenario_VMT_1*$N158","v":0},{"$f":"(VLOOKUP($B158,'By Population'!$G$2:$K$14,5,FALSE))*'By Speed'!$U171*Scenario_VMT_1*$N158","v":0},0,{"$f":"(VLOOKUP($B158,'By Population'!$G$2:$K$14,5,FALSE))*'By Speed'!$M171*Scenario_VMT_2*$N158","v":0},{"$f":"(VLOOKUP($B158,'By Population'!$G$2:$K$14,5,FALSE))*'By Speed'!$N171*Scenario_VMT_2*$N158","v":0},{"$f":"(VLOOKUP($B158,'By Population'!$G$2:$K$14,5,FALSE))*'By Speed'!$O171*Scenario_VMT_2*$N158","v":0},{"$f":"(VLOOKUP($B158,'By Population'!$G$2:$K$14,5,FALSE))*'By Speed'!$P171*Scenario_VMT_2*$N158","v":0},{"$f":"(VLOOKUP($B158,'By Population'!$G$2:$K$14,5,FALSE))*'By Speed'!$Q171*Scenario_VMT_2*$N158","v":0},{"$f":"(VLOOKUP($B158,'By Population'!$G$2:$K$14,5,FALSE))*'By Speed'!$R171*Scenario_VMT_2*$N158","v":0},{"$f":"(VLOOKUP($B158,'By Population'!$G$2:$K$14,5,FALSE))*'By Speed'!$S171*Scenario_VMT_2*$N158","v":0},{"$f":"(VLOOKUP($B158,'By Population'!$G$2:$K$14,5,FALSE))*'By Speed'!$T171*Scenario_VMT_2*$N158","v":0},{"$f":"(VLOOKUP($B158,'By Population'!$G$2:$K$14,5,FALSE))*'By Speed'!$U171*Scenario_VMT_2*$N158","v":0},0,{"$f":"(VLOOKUP($B158,'By Population'!$G$2:$K$14,5,FALSE))*'By Speed'!$M171*Scenario_VMT_3*$N158","v":0},{"$f":"(VLOOKUP($B158,'By Population'!$G$2:$K$14,5,FALSE))*'By Speed'!$N171*Scenario_VMT_3*$N158","v":0},{"$f":"(VLOOKUP($B158,'By Population'!$G$2:$K$14,5,FALSE))*'By Speed'!$O171*Scenario_VMT_3*$N158","v":0},{"$f":"(VLOOKUP($B158,'By Population'!$G$2:$K$14,5,FALSE))*'By Speed'!$P171*Scenario_VMT_3*$N158","v":0},{"$f":"(VLOOKUP($B158,'By Population'!$G$2:$K$14,5,FALSE))*'By Speed'!$Q171*Scenario_VMT_3*$N158","v":0},{"$f":"(VLOOKUP($B158,'By Population'!$G$2:$K$14,5,FALSE))*'By Speed'!$R171*Scenario_VMT_3*$N158","v":0},{"$f":"(VLOOKUP($B158,'By Population'!$G$2:$K$14,5,FALSE))*'By Speed'!$S171*Scenario_VMT_3*$N158","v":0},{"$f":"(VLOOKUP($B158,'By Population'!$G$2:$K$14,5,FALSE))*'By Speed'!$T171*Scenario_VMT_3*$N158","v":0},{"$f":"(VLOOKUP($B158,'By Population'!$G$2:$K$14,5,FALSE))*'By Speed'!$U171*Scenario_VMT_3*$N158","v":0},0,{"$f":"(VLOOKUP($B158,'By Population'!$G$2:$K$14,5,FALSE))*'By Speed'!$M171*Scenario_VMT_4*$N158","v":0},{"$f":"(VLOOKUP($B158,'By Population'!$G$2:$K$14,5,FALSE))*'By Speed'!$N171*Scenario_VMT_4*$N158","v":0},{"$f":"(VLOOKUP($B158,'By Population'!$G$2:$K$14,5,FALSE))*'By Speed'!$O171*Scenario_VMT_4*$N158","v":0},{"$f":"(VLOOKUP($B158,'By Population'!$G$2:$K$14,5,FALSE))*'By Speed'!$P171*Scenario_VMT_4*$N158","v":0},{"$f":"(VLOOKUP($B158,'By Population'!$G$2:$K$14,5,FALSE))*'By Speed'!$Q171*Scenario_VMT_4*$N158","v":0},{"$f":"(VLOOKUP($B158,'By Population'!$G$2:$K$14,5,FALSE))*'By Speed'!$R171*Scenario_VMT_4*$N158","v":0},{"$f":"(VLOOKUP($B158,'By Population'!$G$2:$K$14,5,FALSE))*'By Speed'!$S171*Scenario_VMT_4*$N158","v":0},{"$f":"(VLOOKUP($B158,'By Population'!$G$2:$K$14,5,FALSE))*'By Speed'!$T171*Scenario_VMT_4*$N158","v":0},{"$f":"(VLOOKUP($B158,'By Population'!$G$2:$K$14,5,FALSE))*'By Speed'!$U171*Scenario_VMT_4*$N158","v":0},0,{"$f":"(VLOOKUP($B158,'By Population'!$G$2:$K$14,5,FALSE))*'By Speed'!$M171*Scenario_VMT_5*$N158","v":0},{"$f":"(VLOOKUP($B158,'By Population'!$G$2:$K$14,5,FALSE))*'By Speed'!$N171*Scenario_VMT_5*$N158","v":0},{"$f":"(VLOOKUP($B158,'By Population'!$G$2:$K$14,5,FALSE))*'By Speed'!$O171*Scenario_VMT_5*$N158","v":0},{"$f":"(VLOOKUP($B158,'By Population'!$G$2:$K$14,5,FALSE))*'By Speed'!$P171*Scenario_VMT_5*$N158","v":0},{"$f":"(VLOOKUP($B158,'By Population'!$G$2:$K$14,5,FALSE))*'By Speed'!$Q171*Scenario_VMT_5*$N158","v":0},{"$f":"(VLOOKUP($B158,'By Population'!$G$2:$K$14,5,FALSE))*'By Speed'!$R171*Scenario_VMT_5*$N158","v":0},{"$f":"(VLOOKUP($B158,'By Population'!$G$2:$K$14,5,FALSE))*'By Speed'!$S171*Scenario_VMT_5*$N158","v":0},{"$f":"(VLOOKUP($B158,'By Population'!$G$2:$K$14,5,FALSE))*'By Speed'!$T171*Scenario_VMT_5*$N158","v":0},{"$f":"(VLOOKUP($B158,'By Population'!$G$2:$K$14,5,FALSE))*'By Speed'!$U171*Scenario_VMT_5*$N158","v":0},0]
[162,"MDV_DSL",20,"MDV_DSL_20",{"$f":"(VLOOKUP($B159,'By Population'!$G$2:$K$14,5,FALSE))*'By Speed'!$M172*Scenario_VMT_EX*$N159","v":0},{"$f":"(VLOOKUP($B159,'By Population'!$G$2:$K$14,5,FALSE))*'By Speed'!$N172*Scenario_VMT_EX*$N159","v":0},{"$f":"(VLOOKUP($B159,'By Population'!$G$2:$K$14,5,FALSE))*'By Speed'!$O172*Scenario_VMT_EX*$N159","v":0},{"$f":"(VLOOKUP($B159,'By Population'!$G$2:$K$14,5,FALSE))*'By Speed'!$P172*Scenario_VMT_EX*$N159","v":0},{"$f":"(VLOOKUP($B159,'By Population'!$G$2:$K$14,5,FALSE))*'By Speed'!$Q172*Scenario_VMT_EX*$N159","v":0},{"$f":"(VLOOKUP($B159,'By Population'!$G$2:$K$14,5,FALSE))*'By Speed'!$R172*Scenario_VMT_EX*$N159","v":0},{"$f":"(VLOOKUP($B159,'By Population'!$G$2:$K$14,5,FALSE))*'By Speed'!$S172*Scenario_VMT_EX*$N159","v":0},{"$f":"(VLOOKUP($B159,'By Population'!$G$2:$K$14,5,FALSE))*'By Speed'!$T172*Scenario_VMT_EX*$N159","v":0},{"$f":"(VLOOKUP($B159,'By Population'!$G$2:$K$14,5,FALSE))*'By Speed'!$U172*Scenario_VMT_EX*$N159","v":0},0,{"$f":"(VLOOKUP($B159,'By Population'!$G$2:$K$14,5,FALSE))*'By Speed'!$M172*Scenario_VMT_1*$N159","v":0},{"$f":"(VLOOKUP($B159,'By Population'!$G$2:$K$14,5,FALSE))*'By Speed'!$N172*Scenario_VMT_1*$N159","v":0},{"$f":"(VLOOKUP($B159,'By Population'!$G$2:$K$14,5,FALSE))*'By Speed'!$O172*Scenario_VMT_1*$N159","v":0},{"$f":"(VLOOKUP($B159,'By Population'!$G$2:$K$14,5,FALSE))*'By Speed'!$P172*Scenario_VMT_1*$N159","v":0},{"$f":"(VLOOKUP($B159,'By Population'!$G$2:$K$14,5,FALSE))*'By Speed'!$Q172*Scenario_VMT_1*$N159","v":0},{"$f":"(VLOOKUP($B159,'By Population'!$G$2:$K$14,5,FALSE))*'By Speed'!$R172*Scenario_VMT_1*$N159","v":0},{"$f":"(VLOOKUP($B159,'By Population'!$G$2:$K$14,5,FALSE))*'By Speed'!$S172*Scenario_VMT_1*$N159","v":0},{"$f":"(VLOOKUP($B159,'By Population'!$G$2:$K$14,5,FALSE))*'By Speed'!$T172*Scenario_VMT_1*$N159","v":0},{"$f":"(VLOOKUP($B159,'By Population'!$G$2:$K$14,5,FALSE))*'By Speed'!$U172*Scenario_VMT_1*$N159","v":0},0,{"$f":"(VLOOKUP($B159,'By Population'!$G$2:$K$14,5,FALSE))*'By Speed'!$M172*Scenario_VMT_2*$N159","v":0},{"$f":"(VLOOKUP($B159,'By Population'!$G$2:$K$14,5,FALSE))*'By Speed'!$N172*Scenario_VMT_2*$N159","v":0},{"$f":"(VLOOKUP($B159,'By Population'!$G$2:$K$14,5,FALSE))*'By Speed'!$O172*Scenario_VMT_2*$N159","v":0},{"$f":"(VLOOKUP($B159,'By Population'!$G$2:$K$14,5,FALSE))*'By Speed'!$P172*Scenario_VMT_2*$N159","v":0},{"$f":"(VLOOKUP($B159,'By Population'!$G$2:$K$14,5,FALSE))*'By Speed'!$Q172*Scenario_VMT_2*$N159","v":0},{"$f":"(VLOOKUP($B159,'By Population'!$G$2:$K$14,5,FALSE))*'By Speed'!$R172*Scenario_VMT_2*$N159","v":0},{"$f":"(VLOOKUP($B159,'By Population'!$G$2:$K$14,5,FALSE))*'By Speed'!$S172*Scenario_VMT_2*$N159","v":0},{"$f":"(VLOOKUP($B159,'By Population'!$G$2:$K$14,5,FALSE))*'By Speed'!$T172*Scenario_VMT_2*$N159","v":0},{"$f":"(VLOOKUP($B159,'By Population'!$G$2:$K$14,5,FALSE))*'By Speed'!$U172*Scenario_VMT_2*$N159","v":0},0,{"$f":"(VLOOKUP($B159,'By Population'!$G$2:$K$14,5,FALSE))*'By Speed'!$M172*Scenario_VMT_3*$N159","v":0},{"$f":"(VLOOKUP($B159,'By Population'!$G$2:$K$14,5,FALSE))*'By Speed'!$N172*Scenario_VMT_3*$N159","v":0},{"$f":"(VLOOKUP($B159,'By Population'!$G$2:$K$14,5,FALSE))*'By Speed'!$O172*Scenario_VMT_3*$N159","v":0},{"$f":"(VLOOKUP($B159,'By Population'!$G$2:$K$14,5,FALSE))*'By Speed'!$P172*Scenario_VMT_3*$N159","v":0},{"$f":"(VLOOKUP($B159,'By Population'!$G$2:$K$14,5,FALSE))*'By Speed'!$Q172*Scenario_VMT_3*$N159","v":0},{"$f":"(VLOOKUP($B159,'By Population'!$G$2:$K$14,5,FALSE))*'By Speed'!$R172*Scenario_VMT_3*$N159","v":0},{"$f":"(VLOOKUP($B159,'By Population'!$G$2:$K$14,5,FALSE))*'By Speed'!$S172*Scenario_VMT_3*$N159","v":0},{"$f":"(VLOOKUP($B159,'By Population'!$G$2:$K$14,5,FALSE))*'By Speed'!$T172*Scenario_VMT_3*$N159","v":0},{"$f":"(VLOOKUP($B159,'By Population'!$G$2:$K$14,5,FALSE))*'By Speed'!$U172*Scenario_VMT_3*$N159","v":0},0,{"$f":"(VLOOKUP($B159,'By Population'!$G$2:$K$14,5,FALSE))*'By Speed'!$M172*Scenario_VMT_4*$N159","v":0},{"$f":"(VLOOKUP($B159,'By Population'!$G$2:$K$14,5,FALSE))*'By Speed'!$N172*Scenario_VMT_4*$N159","v":0},{"$f":"(VLOOKUP($B159,'By Population'!$G$2:$K$14,5,FALSE))*'By Speed'!$O172*Scenario_VMT_4*$N159","v":0},{"$f":"(VLOOKUP($B159,'By Population'!$G$2:$K$14,5,FALSE))*'By Speed'!$P172*Scenario_VMT_4*$N159","v":0},{"$f":"(VLOOKUP($B159,'By Population'!$G$2:$K$14,5,FALSE))*'By Speed'!$Q172*Scenario_VMT_4*$N159","v":0},{"$f":"(VLOOKUP($B159,'By Population'!$G$2:$K$14,5,FALSE))*'By Speed'!$R172*Scenario_VMT_4*$N159","v":0},{"$f":"(VLOOKUP($B159,'By Population'!$G$2:$K$14,5,FALSE))*'By Speed'!$S172*Scenario_VMT_4*$N159","v":0},{"$f":"(VLOOKUP($B159,'By Population'!$G$2:$K$14,5,FALSE))*'By Speed'!$T172*Scenario_VMT_4*$N159","v":0},{"$f":"(VLOOKUP($B159,'By Population'!$G$2:$K$14,5,FALSE))*'By Speed'!$U172*Scenario_VMT_4*$N159","v":0},0,{"$f":"(VLOOKUP($B159,'By Population'!$G$2:$K$14,5,FALSE))*'By Speed'!$M172*Scenario_VMT_5*$N159","v":0},{"$f":"(VLOOKUP($B159,'By Population'!$G$2:$K$14,5,FALSE))*'By Speed'!$N172*Scenario_VMT_5*$N159","v":0},{"$f":"(VLOOKUP($B159,'By Population'!$G$2:$K$14,5,FALSE))*'By Speed'!$O172*Scenario_VMT_5*$N159","v":0},{"$f":"(VLOOKUP($B159,'By Population'!$G$2:$K$14,5,FALSE))*'By Speed'!$P172*Scenario_VMT_5*$N159","v":0},{"$f":"(VLOOKUP($B159,'By Population'!$G$2:$K$14,5,FALSE))*'By Speed'!$Q172*Scenario_VMT_5*$N159","v":0},{"$f":"(VLOOKUP($B159,'By Population'!$G$2:$K$14,5,FALSE))*'By Speed'!$R172*Scenario_VMT_5*$N159","v":0},{"$f":"(VLOOKUP($B159,'By Population'!$G$2:$K$14,5,FALSE))*'By Speed'!$S172*Scenario_VMT_5*$N159","v":0},{"$f":"(VLOOKUP($B159,'By Population'!$G$2:$K$14,5,FALSE))*'By Speed'!$T172*Scenario_VMT_5*$N159","v":0},{"$f":"(VLOOKUP($B159,'By Population'!$G$2:$K$14,5,FALSE))*'By Speed'!$U172*Scenario_VMT_5*$N159","v":0},0]
[164,"MDV_DSL",25,"MDV_DSL_25",{"$f":"(VLOOKUP($B160,'By Population'!$G$2:$K$14,5,FALSE))*'By Speed'!$M173*Scenario_VMT_EX*$N160","v":0},{"$f":"(VLOOKUP($B160,'By Population'!$G$2:$K$14,5,FALSE))*'By Speed'!$N173*Scenario_VMT_EX*$N160","v":0},{"$f":"(VLOOKUP($B160,'By Population'!$G$2:$K$14,5,FALSE))*'By Speed'!$O173*Scenario_VMT_EX*$N160","v":0},{"$f":"(VLOOKUP($B160,'By Population'!$G$2:$K$14,5,FALSE))*'By Speed'!$P173*Scenario_VMT_EX*$N160","v":0},{"$f":"(VLOOKUP($B160,'By Population'!$G$2:$K$14,5,FALSE))*'By Speed'!$Q173*Scenario_VMT_EX*$N160","v":0},{"$f":"(VLOOKUP($B160,'By Population'!$G$2:$K$14,5,FALSE))*'By Speed'!$R173*Scenario_VMT_EX*$N160","v":0},{"$f":"(VLOOKUP($B160,'By Population'!$G$2:$K$14,5,FALSE))*'By Speed'!$S173*Scenario_VMT_EX*$N160","v":0},{"$f":"(VLOOKUP($B160,'By Population'!$G$2:$K$14,5,FALSE))*'By Speed'!$T173*Scenario_VMT_EX*$N160","v":0},{"$f":"(VLOOKUP($B160,'By Population'!$G$2:$K$14,5,FALSE))*'By Speed'!$U173*Scenario_VMT_EX*$N160","v":0},1,{"$f":"(VLOOKUP($B160,'By Population'!$G$2:$K$14,5,FALSE))*'By Speed'!$M173*Scenario_VMT_1*$N160","v":0},{"$f":"(VLOOKUP($B160,'By Population'!$G$2:$K$14,5,FALSE))*'By Speed'!$N173*Scenario_VMT_1*$N160","v":0},{"$f":"(VLOOKUP($B160,'By Population'!$G$2:$K$14,5,FALSE))*'By Speed'!$O173*Scenario_VMT_1*$N160","v":0},{"$f":"(VLOOKUP($B160,'By Population'!$G$2:$K$14,5,FALSE))*'By Speed'!$P173*Scenario_VMT_1*$N160","v":0},{"$f":"(VLOOKUP($B160,'By Population'!$G$2:$K$14,5,FALSE))*'By Speed'!$Q173*Scenario_VMT_1*$N160","v":0},{"$f":"(VLOOKUP($B160,'By Population'!$G$2:$K$14,5,FALSE))*'By Speed'!$R173*Scenario_VMT_1*$N160","v":0},{"$f":"(VLOOKUP($B160,'By Population'!$G$2:$K$14,5,FALSE))*'By Speed'!$S173*Scenario_VMT_1*$N160","v":0},{"$f":"(VLOOKUP($B160,'By Population'!$G$2:$K$14,5,FALSE))*'By Speed'!$T173*Scenario_VMT_1*$N160","v":0},{"$f":"(VLOOKUP($B160,'By Population'!$G$2:$K$14,5,FALSE))*'By Speed'!$U173*Scenario_VMT_1*$N160","v":0},0,{"$f":"(VLOOKUP($B160,'By Population'!$G$2:$K$14,5,FALSE))*'By Speed'!$M173*Scenario_VMT_2*$N160","v":0},{"$f":"(VLOOKUP($B160,'By Population'!$G$2:$K$14,5,FALSE))*'By Speed'!$N173*Scenario_VMT_2*$N160","v":0},{"$f":"(VLOOKUP($B160,'By Population'!$G$2:$K$14,5,FALSE))*'By Speed'!$O173*Scenario_VMT_2*$N160","v":0},{"$f":"(VLOOKUP($B160,'By Population'!$G$2:$K$14,5,FALSE))*'By Speed'!$P173*Scenario_VMT_2*$N160","v":0},{"$f":"(VLOOKUP($B160,'By Population'!$G$2:$K$14,5,FALSE))*'By Speed'!$Q173*Scenario_VMT_2*$N160","v":0},{"$f":"(VLOOKUP($B160,'By Population'!$G$2:$K$14,5,FALSE))*'By Speed'!$R173*Scenario_VMT_2*$N160","v":0},{"$f":"(VLOOKUP($B160,'By Population'!$G$2:$K$14,5,FALSE))*'By Speed'!$S173*Scenario_VMT_2*$N160","v":0},{"$f":"(VLOOKUP($B160,'By Population'!$G$2:$K$14,5,FALSE))*'By Speed'!$T173*Scenario_VMT_2*$N160","v":0},{"$f":"(VLOOKUP($B160,'By Population'!$G$2:$K$14,5,FALSE))*'By Speed'!$U173*Scenario_VMT_2*$N160","v":0},0,{"$f":"(VLOOKUP($B160,'By Population'!$G$2:$K$14,5,FALSE))*'By Speed'!$M173*Scenario_VMT_3*$N160","v":0},{"$f":"(VLOOKUP($B160,'By Population'!$G$2:$K$14,5,FALSE))*'By Speed'!$N173*Scenario_VMT_3*$N160","v":0},{"$f":"(VLOOKUP($B160,'By Population'!$G$2:$K$14,5,FALSE))*'By Speed'!$O173*Scenario_VMT_3*$N160","v":0},{"$f":"(VLOOKUP($B160,'By Population'!$G$2:$K$14,5,FALSE))*'By Speed'!$P173*Scenario_VMT_3*$N160","v":0},{"$f":"(VLOOKUP($B160,'By Population'!$G$2:$K$14,5,FALSE))*'By Speed'!$Q173*Scenario_VMT_3*$N160","v":0},{"$f":"(VLOOKUP($B160,'By Population'!$G$2:$K$14,5,FALSE))*'By Speed'!$R173*Scenario_VMT_3*$N160","v":0},{"$f":"(VLOOKUP($B160,'By Population'!$G$2:$K$14,5,FALSE))*'By Speed'!$S173*Scenario_VMT_3*$N160","v":0},{"$f":"(VLOOKUP($B160,'By Population'!$G$2:$K$14,5,FALSE))*'By Speed'!$T173*Scenario_VMT_3*$N160","v":0},{"$f":"(VLOOKUP($B160,'By Population'!$G$2:$K$14,5,FALSE))*'By Speed'!$U173*Scenario_VMT_3*$N160","v":0},0,{"$f":"(VLOOKUP($B160,'By Population'!$G$2:$K$14,5,FALSE))*'By Speed'!$M173*Scenario_VMT_4*$N160","v":0},{"$f":"(VLOOKUP($B160,'By Population'!$G$2:$K$14,5,FALSE))*'By Speed'!$N173*Scenario_VMT_4*$N160","v":0},{"$f":"(VLOOKUP($B160,'By Population'!$G$2:$K$14,5,FALSE))*'By Speed'!$O173*Scenario_VMT_4*$N160","v":0},{"$f":"(VLOOKUP($B160,'By Population'!$G$2:$K$14,5,FALSE))*'By Speed'!$P173*Scenario_VMT_4*$N160","v":0},{"$f":"(VLOOKUP($B160,'By Population'!$G$2:$K$14,5,FALSE))*'By Speed'!$Q173*Scenario_VMT_4*$N160","v":0},{"$f":"(VLOOKUP($B160,'By Population'!$G$2:$K$14,5,FALSE))*'By Speed'!$R173*Scenario_VMT_4*$N160","v":0},{"$f":"(VLOOKUP($B160,'By Population'!$G$2:$K$14,5,FALSE))*'By Speed'!$S173*Scenario_VMT_4*$N160","v":0},{"$f":"(VLOOKUP($B160,'By Population'!$G$2:$K$14,5,FALSE))*'By Speed'!$T173*Scenario_VMT_4*$N160","v":0},{"$f":"(VLOOKUP($B160,'By Population'!$G$2:$K$14,5,FALSE))*'By Speed'!$U173*Scenario_VMT_4*$N160","v":0},0,{"$f":"(VLOOKUP($B160,'By Population'!$G$2:$K$14,5,FALSE))*'By Speed'!$M173*Scenario_VMT_5*$N160","v":0},{"$f":"(VLOOKUP($B160,'By Population'!$G$2:$K$14,5,FALSE))*'By Speed'!$N173*Scenario_VMT_5*$N160","v":0},{"$f":"(VLOOKUP($B160,'By Population'!$G$2:$K$14,5,FALSE))*'By Speed'!$O173*Scenario_VMT_5*$N160","v":0},{"$f":"(VLOOKUP($B160,'By Population'!$G$2:$K$14,5,FALSE))*'By Speed'!$P173*Scenario_VMT_5*$N160","v":0},{"$f":"(VLOOKUP($B160,'By Population'!$G$2:$K$14,5,FALSE))*'By Speed'!$Q173*Scenario_VMT_5*$N160","v":0},{"$f":"(VLOOKUP($B160,'By Population'!$G$2:$K$14,5,FALSE))*'By Speed'!$R173*Scenario_VMT_5*$N160","v":0},{"$f":"(VLOOKUP($B160,'By Population'!$G$2:$K$14,5,FALSE))*'By Speed'!$S173*Scenario_VMT_5*$N160","v":0},{"$f":"(VLOOKUP($B160,'By Population'!$G$2:$K$14,5,FALSE))*'By Speed'!$T173*Scenario_VMT_5*$N160","v":0},{"$f":"(VLOOKUP($B160,'By Population'!$G$2:$K$14,5,FALSE))*'By Speed'!$U173*Scenario_VMT_5*$N160","v":0},0]
[166,"MDV_DSL",30,"MDV_DSL_30",{"$f":"(VLOOKUP($B161,'By Population'!$G$2:$K$14,5,FALSE))*'By Speed'!$M174*Scenario_VMT_EX*$N161","v":0},{"$f":"(VLOOKUP($B161,'By Population'!$G$2:$K$14,5,FALSE))*'By Speed'!$N174*Scenario_VMT_EX*$N161","v":0},{"$f":"(VLOOKUP($B161,'By Population'!$G$2:$K$14,5,FALSE))*'By Speed'!$O174*Scenario_VMT_EX*$N161","v":0},{"$f":"(VLOOKUP($B161,'By Population'!$G$2:$K$14,5,FALSE))*'By Speed'!$P174*Scenario_VMT_EX*$N161","v":0},{"$f":"(VLOOKUP($B161,'By Population'!$G$2:$K$14,5,FALSE))*'By Speed'!$Q174*Scenario_VMT_EX*$N161","v":0},{"$f":"(VLOOKUP($B161,'By Population'!$G$2:$K$14,5,FALSE))*'By Speed'!$R174*Scenario_VMT_EX*$N161","v":0},{"$f":"(VLOOKUP($B161,'By Population'!$G$2:$K$14,5,FALSE))*'By Speed'!$S174*Scenario_VMT_EX*$N161","v":0},{"$f":"(VLOOKUP($B161,'By Population'!$G$2:$K$14,5,FALSE))*'By Speed'!$T174*Scenario_VMT_EX*$N161","v":0},{"$f":"(VLOOKUP($B161,'By Population'!$G$2:$K$14,5,FALSE))*'By Speed'!$U174*Scenario_VMT_EX*$N161","v":0},0,{"$f":"(VLOOKUP($B161,'By Population'!$G$2:$K$14,5,FALSE))*'By Speed'!$M174*Scenario_VMT_1*$N161","v":0},{"$f":"(VLOOKUP($B161,'By Population'!$G$2:$K$14,5,FALSE))*'By Speed'!$N174*Scenario_VMT_1*$N161","v":0},{"$f":"(VLOOKUP($B161,'By Population'!$G$2:$K$14,5,FALSE))*'By Speed'!$O174*Scenario_VMT_1*$N161","v":0},{"$f":"(VLOOKUP($B161,'By Population'!$G$2:$K$14,5,FALSE))*'By Speed'!$P174*Scenario_VMT_1*$N161","v":0},{"$f":"(VLOOKUP($B161,'By Population'!$G$2:$K$14,5,FALSE))*'By Speed'!$Q174*Scenario_VMT_1*$N161","v":0},{"$f":"(VLOOKUP($B161,'By Population'!$G$2:$K$14,5,FALSE))*'By Speed'!$R174*Scenario_VMT_1*$N161","v":0},{"$f":"(VLOOKUP($B161,'By Population'!$G$2:$K$14,5,FALSE))*'By Speed'!$S174*Scenario_VMT_1*$N161","v":0},{"$f":"(VLOOKUP($B161,'By Population'!$G$2:$K$14,5,FALSE))*'By Speed'!$T174*Scenario_VMT_1*$N161","v":0},{"$f":"(VLOOKUP($B161,'By Population'!$G$2:$K$14,5,FALSE))*'By Speed'!$U174*Scenario_VMT_1*$N161","v":0},0,{"$f":"(VLOOKUP($B161,'By Population'!$G$2:$K$14,5,FALSE))*'By Speed'!$M174*Scenario_VMT_2*$N161","v":0},{"$f":"(VLOOKUP($B161,'By Population'!$G$2:$K$14,5,FALSE))*'By Speed'!$N174*Scenario_VMT_2*$N161","v":0},{"$f":"(VLOOKUP($B161,'By Population'!$G$2:$K$14,5,FALSE))*'By Speed'!$O174*Scenario_VMT_2*$N161","v":0},{"$f":"(VLOOKUP($B161,'By Population'!$G$2:$K$14,5,FALSE))*'By Speed'!$P174*Scenario_VMT_2*$N161","v":0},{"$f":"(VLOOKUP($B161,'By Population'!$G$2:$K$14,5,FALSE))*'By Speed'!$Q174*Scenario_VMT_2*$N161","v":0},{"$f":"(VLOOKUP($B161,'By Population'!$G$2:$K$14,5,FALSE))*'By Speed'!$R174*Scenario_VMT_2*$N161","v":0},{"$f":"(VLOOKUP($B161,'By Population'!$G$2:$K$14,5,FALSE))*'By Speed'!$S174*Scenario_VMT_2*$N161","v":0},{"$f":"(VLOOKUP($B161,'By Population'!$G$2:$K$14,5,FALSE))*'By Speed'!$T174*Scenario_VMT_2*$N161","v":0},{"$f":"(VLOOKUP($B161,'By Population'!$G$2:$K$14,5,FALSE))*'By Speed'!$U174*Scenario_VMT_2*$N161","v":0},0,{"$f":"(VLOOKUP($B161,'By Population'!$G$2:$K$14,5,FALSE))*'By Speed'!$M174*Scenario_VMT_3*$N161","v":0},{"$f":"(VLOOKUP($B161,'By Population'!$G$2:$K$14,5,FALSE))*'By Speed'!$N174*Scenario_VMT_3*$N161","v":0},{"$f":"(VLOOKUP($B161,'By Population'!$G$2:$K$14,5,FALSE))*'By Speed'!$O174*Scenario_VMT_3*$N161","v":0},{"$f":"(VLOOKUP($B161,'By Population'!$G$2:$K$14,5,FALSE))*'By Speed'!$P174*Scenario_VMT_3*$N161","v":0},{"$f":"(VLOOKUP($B161,'By Population'!$G$2:$K$14,5,FALSE))*'By Speed'!$Q174*Scenario_VMT_3*$N161","v":0},{"$f":"(VLOOKUP($B161,'By Population'!$G$2:$K$14,5,FALSE))*'By Speed'!$R174*Scenario_VMT_3*$N161","v":0},{"$f":"(VLOOKUP($B161,'By Population'!$G$2:$K$14,5,FALSE))*'By Speed'!$S174*Scenario_VMT_3*$N161","v":0},{"$f":"(VLOOKUP($B161,'By Population'!$G$2:$K$14,5,FALSE))*'By Speed'!$T174*Scenario_VMT_3*$N161","v":0},{"$f":"(VLOOKUP($B161,'By Population'!$G$2:$K$14,5,FALSE))*'By Speed'!$U174*Scenario_VMT_3*$N161","v":0},0,{"$f":"(VLOOKUP($B161,'By Population'!$G$2:$K$14,5,FALSE))*'By Speed'!$M174*Scenario_VMT_4*$N161","v":0},{"$f":"(VLOOKUP($B161,'By Population'!$G$2:$K$14,5,FALSE))*'By Speed'!$N174*Scenario_VMT_4*$N161","v":0},{"$f":"(VLOOKUP($B161,'By Population'!$G$2:$K$14,5,FALSE))*'By Speed'!$O174*Scenario_VMT_4*$N161","v":0},{"$f":"(VLOOKUP($B161,'By Population'!$G$2:$K$14,5,FALSE))*'By Speed'!$P174*Scenario_VMT_4*$N161","v":0},{"$f":"(VLOOKUP($B161,'By Population'!$G$2:$K$14,5,FALSE))*'By Speed'!$Q174*Scenario_VMT_4*$N161","v":0},{"$f":"(VLOOKUP($B161,'By Population'!$G$2:$K$14,5,FALSE))*'By Speed'!$R174*Scenario_VMT_4*$N161","v":0},{"$f":"(VLOOKUP($B161,'By Population'!$G$2:$K$14,5,FALSE))*'By Speed'!$S174*Scenario_VMT_4*$N161","v":0},{"$f":"(VLOOKUP($B161,'By Population'!$G$2:$K$14,5,FALSE))*'By Speed'!$T174*Scenario_VMT_4*$N161","v":0},{"$f":"(VLOOKUP($B161,'By Population'!$G$2:$K$14,5,FALSE))*'By Speed'!$U174*Scenario_VMT_4*$N161","v":0},0,{"$f":"(VLOOKUP($B161,'By Population'!$G$2:$K$14,5,FALSE))*'By Speed'!$M174*Scenario_VMT_5*$N161","v":0},{"$f":"(VLOOKUP($B161,'By Population'!$G$2:$K$14,5,FALSE))*'By Speed'!$N174*Scenario_VMT_5*$N161","v":0},{"$f":"(VLOOKUP($B161,'By Population'!$G$2:$K$14,5,FALSE))*'By Speed'!$O174*Scenario_VMT_5*$N161","v":0},{"$f":"(VLOOKUP($B161,'By Population'!$G$2:$K$14,5,FALSE))*'By Speed'!$P174*Scenario_VMT_5*$N161","v":0},{"$f":"(VLOOKUP($B161,'By Population'!$G$2:$K$14,5,FALSE))*'By Speed'!$Q174*Scenario_VMT_5*$N161","v":0},{"$f":"(VLOOKUP($B161,'By Population'!$G$2:$K$14,5,FALSE))*'By Speed'!$R174*Scenario_VMT_5*$N161","v":0},{"$f":"(VLOOKUP($B161,'By Population'!$G$2:$K$14,5,FALSE))*'By Speed'!$S174*Scenario_VMT_5*$N161","v":0},{"$f":"(VLOOKUP($B161,'By Population'!$G$2:$K$14,5,FALSE))*'By Speed'!$T174*Scenario_VMT_5*$N161","v":0},{"$f":"(VLOOKUP($B161,'By Population'!$G$2:$K$14,5,FALSE))*'By Speed'!$U174*Scenario_VMT_5*$N161","v":0},0]
[168,"MDV_DSL",35,"MDV_DSL_35",{"$f":"(VLOOKUP($B162,'By Population'!$G$2:$K$14,5,FALSE))*'By Speed'!$M175*Scenario_VMT_EX*$N162","v":0},{"$f":"(VLOOKUP($B162,'By Population'!$G$2:$K$14,5,FALSE))*'By Speed'!$N175*Scenario_VMT_EX*$N162","v":0},{"$f":"(VLOOKUP($B162,'By Population'!$G$2:$K$14,5,FALSE))*'By Speed'!$O175*Scenario_VMT_EX*$N162","v":0},{"$f":"(VLOOKUP($B162,'By Population'!$G$2:$K$14,5,FALSE))*'By Speed'!$P175*Scenario_VMT_EX*$N162","v":0},{"$f":"(VLOOKUP($B162,'By Population'!$G$2:$K$14,5,FALSE))*'By Speed'!$Q175*Scenario_VMT_EX*$N162","v":0},{"$f":"(VLOOKUP($B162,'By Population'!$G$2:$K$14,5,FALSE))*'By Speed'!$R175*Scenario_VMT_EX*$N162","v":0},{"$f":"(VLOOKUP($B162,'By Population'!$G$2:$K$14,5,FALSE))*'By Speed'!$S175*Scenario_VMT_EX*$N162","v":0},{"$f":"(VLOOKUP($B162,'By Population'!$G$2:$K$14,5,FALSE))*'By Speed'!$T175*Scenario_VMT_EX*$N162","v":0},{"$f":"(VLOOKUP($B162,'By Population'!$G$2:$K$14,5,FALSE))*'By Speed'!$U175*Scenario_VMT_EX*$N162","v":0},0,{"$f":"(VLOOKUP($B162,'By Population'!$G$2:$K$14,5,FALSE))*'By Speed'!$M175*Scenario_VMT_1*$N162","v":0},{"$f":"(VLOOKUP($B162,'By Population'!$G$2:$K$14,5,FALSE))*'By Speed'!$N175*Scenario_VMT_1*$N162","v":0},{"$f":"(VLOOKUP($B162,'By Population'!$G$2:$K$14,5,FALSE))*'By Speed'!$O175*Scenario_VMT_1*$N162","v":0},{"$f":"(VLOOKUP($B162,'By Population'!$G$2:$K$14,5,FALSE))*'By Speed'!$P175*Scenario_VMT_1*$N162","v":0},{"$f":"(VLOOKUP($B162,'By Population'!$G$2:$K$14,5,FALSE))*'By Speed'!$Q175*Scenario_VMT_1*$N162","v":0},{"$f":"(VLOOKUP($B162,'By Population'!$G$2:$K$14,5,FALSE))*'By Speed'!$R175*Scenario_VMT_1*$N162","v":0},{"$f":"(VLOOKUP($B162,'By Population'!$G$2:$K$14,5,FALSE))*'By Speed'!$S175*Scenario_VMT_1*$N162","v":0},{"$f":"(VLOOKUP($B162,'By Population'!$G$2:$K$14,5,FALSE))*'By Speed'!$T175*Scenario_VMT_1*$N162","v":0},{"$f":"(VLOOKUP($B162,'By Population'!$G$2:$K$14,5,FALSE))*'By Speed'!$U175*Scenario_VMT_1*$N162","v":0},0,{"$f":"(VLOOKUP($B162,'By Population'!$G$2:$K$14,5,FALSE))*'By Speed'!$M175*Scenario_VMT_2*$N162","v":0},{"$f":"(VLOOKUP($B162,'By Population'!$G$2:$K$14,5,FALSE))*'By Speed'!$N175*Scenario_VMT_2*$N162","v":0},{"$f":"(VLOOKUP($B162,'By Population'!$G$2:$K$14,5,FALSE))*'By Speed'!$O175*Scenario_VMT_2*$N162","v":0},{"$f":"(VLOOKUP($B162,'By Population'!$G$2:$K$14,5,FALSE))*'By Speed'!$P175*Scenario_VMT_2*$N162","v":0},{"$f":"(VLOOKUP($B162,'By Population'!$G$2:$K$14,5,FALSE))*'By Speed'!$Q175*Scenario_VMT_2*$N162","v":0},{"$f":"(VLOOKUP($B162,'By Population'!$G$2:$K$14,5,FALSE))*'By Speed'!$R175*Scenario_VMT_2*$N162","v":0},{"$f":"(VLOOKUP($B162,'By Population'!$G$2:$K$14,5,FALSE))*'By Speed'!$S175*Scenario_VMT_2*$N162","v":0},{"$f":"(VLOOKUP($B162,'By Population'!$G$2:$K$14,5,FALSE))*'By Speed'!$T175*Scenario_VMT_2*$N162","v":0},{"$f":"(VLOOKUP($B162,'By Population'!$G$2:$K$14,5,FALSE))*'By Speed'!$U175*Scenario_VMT_2*$N162","v":0},0,{"$f":"(VLOOKUP($B162,'By Population'!$G$2:$K$14,5,FALSE))*'By Speed'!$M175*Scenario_VMT_3*$N162","v":0},{"$f":"(VLOOKUP($B162,'By Population'!$G$2:$K$14,5,FALSE))*'By Speed'!$N175*Scenario_VMT_3*$N162","v":0},{"$f":"(VLOOKUP($B162,'By Population'!$G$2:$K$14,5,FALSE))*'By Speed'!$O175*Scenario_VMT_3*$N162","v":0},{"$f":"(VLOOKUP($B162,'By Population'!$G$2:$K$14,5,FALSE))*'By Speed'!$P175*Scenario_VMT_3*$N162","v":0},{"$f":"(VLOOKUP($B162,'By Population'!$G$2:$K$14,5,FALSE))*'By Speed'!$Q175*Scenario_VMT_3*$N162","v":0},{"$f":"(VLOOKUP($B162,'By Population'!$G$2:$K$14,5,FALSE))*'By Speed'!$R175*Scenario_VMT_3*$N162","v":0},{"$f":"(VLOOKUP($B162,'By Population'!$G$2:$K$14,5,FALSE))*'By Speed'!$S175*Scenario_VMT_3*$N162","v":0},{"$f":"(VLOOKUP($B162,'By Population'!$G$2:$K$14,5,FALSE))*'By Speed'!$T175*Scenario_VMT_3*$N162","v":0},{"$f":"(VLOOKUP($B162,'By Population'!$G$2:$K$14,5,FALSE))*'By Speed'!$U175*Scenario_VMT_3*$N162","v":0},0,{"$f":"(VLOOKUP($B162,'By Population'!$G$2:$K$14,5,FALSE))*'By Speed'!$M175*Scenario_VMT_4*$N162","v":0},{"$f":"(VLOOKUP($B162,'By Population'!$G$2:$K$14,5,FALSE))*'By Speed'!$N175*Scenario_VMT_4*$N162","v":0},{"$f":"(VLOOKUP($B162,'By Population'!$G$2:$K$14,5,FALSE))*'By Speed'!$O175*Scenario_VMT_4*$N162","v":0},{"$f":"(VLOOKUP($B162,'By Population'!$G$2:$K$14,5,FALSE))*'By Speed'!$P175*Scenario_VMT_4*$N162","v":0},{"$f":"(VLOOKUP($B162,'By Population'!$G$2:$K$14,5,FALSE))*'By Speed'!$Q175*Scenario_VMT_4*$N162","v":0},{"$f":"(VLOOKUP($B162,'By Population'!$G$2:$K$14,5,FALSE))*'By Speed'!$R175*Scenario_VMT_4*$N162","v":0},{"$f":"(VLOOKUP($B162,'By Population'!$G$2:$K$14,5,FALSE))*'By Speed'!$S175*Scenario_VMT_4*$N162","v":0},{"$f":"(VLOOKUP($B162,'By Population'!$G$2:$K$14,5,FALSE))*'By Speed'!$T175*Scenario_VMT_4*$N162","v":0},{"$f":"(VLOOKUP($B162,'By Population'!$G$2:$K$14,5,FALSE))*'By Speed'!$U175*Scenario_VMT_4*$N162","v":0},0,{"$f":"(VLOOKUP($B162,'By Population'!$G$2:$K$14,5,FALSE))*'By Speed'!$M175*Scenario_VMT_5*$N162","v":0},{"$f":"(VLOOKUP($B162,'By Population'!$G$2:$K$14,5,FALSE))*'By Speed'!$N175*Scenario_VMT_5*$N162","v":0},{"$f":"(VLOOKUP($B162,'By Population'!$G$2:$K$14,5,FALSE))*'By Speed'!$O175*Scenario_VMT_5*$N162","v":0},{"$f":"(VLOOKUP($B162,'By Population'!$G$2:$K$14,5,FALSE))*'By Speed'!$P175*Scenario_VMT_5*$N162","v":0},{"$f":"(VLOOKUP($B162,'By Population'!$G$2:$K$14,5,FALSE))*'By Speed'!$Q175*Scenario_VMT_5*$N162","v":0},{"$f":"(VLOOKUP($B162,'By Population'!$G$2:$K$14,5,FALSE))*'By Speed'!$R175*Scenario_VMT_5*$N162","v":0},{"$f":"(VLOOKUP($B162,'By Population'!$G$2:$K$14,5,FALSE))*'By Speed'!$S175*Scenario_VMT_5*$N162","v":0},{"$f":"(VLOOKUP($B162,'By Population'!$G$2:$K$14,5,FALSE))*'By Speed'!$T175*Scenario_VMT_5*$N162","v":0},{"$f":"(VLOOKUP($B162,'By Population'!$G$2:$K$14,5,FALSE))*'By Speed'!$U175*Scenario_VMT_5*$N162","v":0},0]
[170,"MDV_DSL",40,"MDV_DSL_40",{"$f":"(VLOOKUP($B163,'By Population'!$G$2:$K$14,5,FALSE))*'By Speed'!$M176*Scenario_VMT_EX*$N163","v":0},{"$f":"(VLOOKUP($B163,'By Population'!$G$2:$K$14,5,FALSE))*'By Speed'!$N176*Scenario_VMT_EX*$N163","v":0},{"$f":"(VLOOKUP($B163,'By Population'!$G$2:$K$14,5,FALSE))*'By Speed'!$O176*Scenario_VMT_EX*$N163","v":0},{"$f":"(VLOOKUP($B163,'By Population'!$G$2:$K$14,5,FALSE))*'By Speed'!$P176*Scenario_VMT_EX*$N163","v":0},{"$f":"(VLOOKUP($B163,'By Population'!$G$2:$K$14,5,FALSE))*'By Speed'!$Q176*Scenario_VMT_EX*$N163","v":0},{"$f":"(VLOOKUP($B163,'By Population'!$G$2:$K$14,5,FALSE))*'By Speed'!$R176*Scenario_VMT_EX*$N163","v":0},{"$f":"(VLOOKUP($B163,'By Population'!$G$2:$K$14,5,FALSE))*'By Speed'!$S176*Scenario_VMT_EX*$N163","v":0},{"$f":"(VLOOKUP($B163,'By Population'!$G$2:$K$14,5,FALSE))*'By Speed'!$T176*Scenario_VMT_EX*$N163","v":0},{"$f":"(VLOOKUP($B163,'By Population'!$G$2:$K$14,5,FALSE))*'By Speed'!$U176*Scenario_VMT_EX*$N163","v":0},0,{"$f":"(VLOOKUP($B163,'By Population'!$G$2:$K$14,5,FALSE))*'By Speed'!$M176*Scenario_VMT_1*$N163","v":0},{"$f":"(VLOOKUP($B163,'By Population'!$G$2:$K$14,5,FALSE))*'By Speed'!$N176*Scenario_VMT_1*$N163","v":0},{"$f":"(VLOOKUP($B163,'By Population'!$G$2:$K$14,5,FALSE))*'By Speed'!$O176*Scenario_VMT_1*$N163","v":0},{"$f":"(VLOOKUP($B163,'By Population'!$G$2:$K$14,5,FALSE))*'By Speed'!$P176*Scenario_VMT_1*$N163","v":0},{"$f":"(VLOOKUP($B163,'By Population'!$G$2:$K$14,5,FALSE))*'By Speed'!$Q176*Scenario_VMT_1*$N163","v":0},{"$f":"(VLOOKUP($B163,'By Population'!$G$2:$K$14,5,FALSE))*'By Speed'!$R176*Scenario_VMT_1*$N163","v":0},{"$f":"(VLOOKUP($B163,'By Population'!$G$2:$K$14,5,FALSE))*'By Speed'!$S176*Scenario_VMT_1*$N163","v":0},{"$f":"(VLOOKUP($B163,'By Population'!$G$2:$K$14,5,FALSE))*'By Speed'!$T176*Scenario_VMT_1*$N163","v":0},{"$f":"(VLOOKUP($B163,'By Population'!$G$2:$K$14,5,FALSE))*'By Speed'!$U176*Scenario_VMT_1*$N163","v":0},{"$f":"IF(M163=Scenario_Speed_1,1,0)","v":0},{"$f":"(VLOOKUP($B163,'By Population'!$G$2:$K$14,5,FALSE))*'By Speed'!$M176*Scenario_VMT_2*$N163","v":0},{"$f":"(VLOOKUP($B163,'By Population'!$G$2:$K$14,5,FALSE))*'By Speed'!$N176*Scenario_VMT_2*$N163","v":0},{"$f":"(VLOOKUP($B163,'By Population'!$G$2:$K$14,5,FALSE))*'By Speed'!$O176*Scenario_VMT_2*$N163","v":0},{"$f":"(VLOOKUP($B163,'By Population'!$G$2:$K$14,5,FALSE))*'By Speed'!$P176*Scenario_VMT_2*$N163","v":0},{"$f":"(VLOOKUP($B163,'By Population'!$G$2:$K$14,5,FALSE))*'By Speed'!$Q176*Scenario_VMT_2*$N163","v":0},{"$f":"(VLOOKUP($B163,'By Population'!$G$2:$K$14,5,FALSE))*'By Speed'!$R176*Scenario_VMT_2*$N163","v":0},{"$f":"(VLOOKUP($B163,'By Population'!$G$2:$K$14,5,FALSE))*'By Speed'!$S176*Scenario_VMT_2*$N163","v":0},{"$f":"(VLOOKUP($B163,'By Population'!$G$2:$K$14,5,FALSE))*'By Speed'!$T176*Scenario_VMT_2*$N163","v":0},{"$f":"(VLOOKUP($B163,'By Population'!$G$2:$K$14,5,FALSE))*'By Speed'!$U176*Scenario_VMT_2*$N163","v":0},{"$f":"IF(W163=Scenario_Speed_2,1,0)","v":0},{"$f":"(VLOOKUP($B163,'By Population'!$G$2:$K$14,5,FALSE))*'By Speed'!$M176*Scenario_VMT_3*$N163","v":0},{"$f":"(VLOOKUP($B163,'By Population'!$G$2:$K$14,5,FALSE))*'By Speed'!$N176*Scenario_VMT_3*$N163","v":0},{"$f":"(VLOOKUP($B163,'By Population'!$G$2:$K$14,5,FALSE))*'By Speed'!$O176*Scenario_VMT_3*$N163","v":0},{"$f":"(VLOOKUP($B163,'By Population'!$G$2:$K$14,5,FALSE))*'By Speed'!$P176*Scenario_VMT_3*$N163","v":0},{"$f":"(VLOOKUP($B163,'By Population'!$G$2:$K$14,5,FALSE))*'By Speed'!$Q176*Scenario_VMT_3*$N163","v":0},{"$f":"(VLOOKUP($B163,'By Population'!$G$2:$K$14,5,FALSE))*'By Speed'!$R176*Scenario_VMT_3*$N163","v":0},{"$f":"(VLOOKUP($B163,'By Population'!$G$2:$K$14,5,FALSE))*'By Speed'!$S176*Scenario_VMT_3*$N163","v":0},{"$f":"(VLOOKUP($B163,'By Population'!$G$2:$K$14,5,FALSE))*'By Speed'!$T176*Scenario_VMT_3*$N163","v":0},{"$f":"(VLOOKUP($B163,'By Population'!$G$2:$K$14,5,FALSE))*'By Speed'!$U176*Scenario_VMT_3*$N163","v":0},{"$f":"IF(AG163=Scenario_Speed_3,1,0)","v":0},{"$f":"(VLOOKUP($B163,'By Population'!$G$2:$K$14,5,FALSE))*'By Speed'!$M176*Scenario_VMT_4*$N163","v":0},{"$f":"(VLOOKUP($B163,'By Population'!$G$2:$K$14,5,FALSE))*'By Speed'!$N176*Scenario_VMT_4*$N163","v":0},{"$f":"(VLOOKUP($B163,'By Population'!$G$2:$K$14,5,FALSE))*'By Speed'!$O176*Scenario_VMT_4*$N163","v":0},{"$f":"(VLOOKUP($B163,'By Population'!$G$2:$K$14,5,FALSE))*'By Speed'!$P176*Scenario_VMT_4*$N163","v":0},{"$f":"(VLOOKUP($B163,'By Population'!$G$2:$K$14,5,FALSE))*'By Speed'!$Q176*Scenario_VMT_4*$N163","v":0},{"$f":"(VLOOKUP($B163,'By Population'!$G$2:$K$14,5,FALSE))*'By Speed'!$R176*Scenario_VMT_4*$N163","v":0},{"$f":"(VLOOKUP($B163,'By Population'!$G$2:$K$14,5,FALSE))*'By Speed'!$S176*Scenario_VMT_4*$N163","v":0},{"$f":"(VLOOKUP($B163,'By Population'!$G$2:$K$14,5,FALSE))*'By Speed'!$T176*Scenario_VMT_4*$N163","v":0},{"$f":"(VLOOKUP($B163,'By Population'!$G$2:$K$14,5,FALSE))*'By Speed'!$U176*Scenario_VMT_4*$N163","v":0},{"$f":"IF(AQ163=Scenario_Speed_4,1,0)","v":0},{"$f":"(VLOOKUP($B163,'By Population'!$G$2:$K$14,5,FALSE))*'By Speed'!$M176*Scenario_VMT_5*$N163","v":0},{"$f":"(VLOOKUP($B163,'By Population'!$G$2:$K$14,5,FALSE))*'By Speed'!$N176*Scenario_VMT_5*$N163","v":0},{"$f":"(VLOOKUP($B163,'By Population'!$G$2:$K$14,5,FALSE))*'By Speed'!$O176*Scenario_VMT_5*$N163","v":0},{"$f":"(VLOOKUP($B163,'By Population'!$G$2:$K$14,5,FALSE))*'By Speed'!$P176*Scenario_VMT_5*$N163","v":0},{"$f":"(VLOOKUP($B163,'By Population'!$G$2:$K$14,5,FALSE))*'By Speed'!$Q176*Scenario_VMT_5*$N163","v":0},{"$f":"(VLOOKUP($B163,'By Population'!$G$2:$K$14,5,FALSE))*'By Speed'!$R176*Scenario_VMT_5*$N163","v":0},{"$f":"(VLOOKUP($B163,'By Population'!$G$2:$K$14,5,FALSE))*'By Speed'!$S176*Scenario_VMT_5*$N163","v":0},{"$f":"(VLOOKUP($B163,'By Population'!$G$2:$K$14,5,FALSE))*'By Speed'!$T176*Scenario_VMT_5*$N163","v":0},{"$f":"(VLOOKUP($B163,'By Population'!$G$2:$K$14,5,FALSE))*'By Speed'!$U176*Scenario_VMT_5*$N163","v":0},{"$f":"IF(BA163=Scenario_Speed_5,1,0)","v":0}]
[172,"MDV_DSL",45,"MDV_DSL_45",{"$f":"(VLOOKUP($B164,'By Population'!$G$2:$K$14,5,FALSE))*'By Speed'!$M177*Scenario_VMT_EX*$N164","v":0},{"$f":"(VLOOKUP($B164,'By Population'!$G$2:$K$14,5,FALSE))*'By Speed'!$N177*Scenario_VMT_EX*$N164","v":0},{"$f":"(VLOOKUP($B164,'By Population'!$G$2:$K$14,5,FALSE))*'By Speed'!$O177*Scenario_VMT_EX*$N164","v":0},{"$f":"(VLOOKUP($B164,'By Population'!$G$2:$K$14,5,FALSE))*'By Speed'!$P177*Scenario_VMT_EX*$N164","v":0},{"$f":"(VLOOKUP($B164,'By Population'!$G$2:$K$14,5,FALSE))*'By Speed'!$Q177*Scenario_VMT_EX*$N164","v":0},{"$f":"(VLOOKUP($B164,'By Population'!$G$2:$K$14,5,FALSE))*'By Speed'!$R177*Scenario_VMT_EX*$N164","v":0},{"$f":"(VLOOKUP($B164,'By Population'!$G$2:$K$14,5,FALSE))*'By Speed'!$S177*Scenario_VMT_EX*$N164","v":0},{"$f":"(VLOOKUP($B164,'By Population'!$G$2:$K$14,5,FALSE))*'By Speed'!$T177*Scenario_VMT_EX*$N164","v":0},{"$f":"(VLOOKUP($B164,'By Population'!$G$2:$K$14,5,FALSE))*'By Speed'!$U177*Scenario_VMT_EX*$N164","v":0},0,{"$f":"(VLOOKUP($B164,'By Population'!$G$2:$K$14,5,FALSE))*'By Speed'!$M177*Scenario_VMT_1*$N164","v":0},{"$f":"(VLOOKUP($B164,'By Population'!$G$2:$K$14,5,FALSE))*'By Speed'!$N177*Scenario_VMT_1*$N164","v":0},{"$f":"(VLOOKUP($B164,'By Population'!$G$2:$K$14,5,FALSE))*'By Speed'!$O177*Scenario_VMT_1*$N164","v":0},{"$f":"(VLOOKUP($B164,'By Population'!$G$2:$K$14,5,FALSE))*'By Speed'!$P177*Scenario_VMT_1*$N164","v":0},{"$f":"(VLOOKUP($B164,'By Population'!$G$2:$K$14,5,FALSE))*'By Speed'!$Q177*Scenario_VMT_1*$N164","v":0},{"$f":"(VLOOKUP($B164,'By Population'!$G$2:$K$14,5,FALSE))*'By Speed'!$R177*Scenario_VMT_1*$N164","v":0},{"$f":"(VLOOKUP($B164,'By Population'!$G$2:$K$14,5,FALSE))*'By Speed'!$S177*Scenario_VMT_1*$N164","v":0},{"$f":"(VLOOKUP($B164,'By Population'!$G$2:$K$14,5,FALSE))*'By Speed'!$T177*Scenario_VMT_1*$N164","v":0},{"$f":"(VLOOKUP($B164,'By Population'!$G$2:$K$14,5,FALSE))*'By Speed'!$U177*Scenario_VMT_1*$N164","v":0},0,{"$f":"(VLOOKUP($B164,'By Population'!$G$2:$K$14,5,FALSE))*'By Speed'!$M177*Scenario_VMT_2*$N164","v":0},{"$f":"(VLOOKUP($B164,'By Population'!$G$2:$K$14,5,FALSE))*'By Speed'!$N177*Scenario_VMT_2*$N164","v":0},{"$f":"(VLOOKUP($B164,'By Population'!$G$2:$K$14,5,FALSE))*'By Speed'!$O177*Scenario_VMT_2*$N164","v":0},{"$f":"(VLOOKUP($B164,'By Population'!$G$2:$K$14,5,FALSE))*'By Speed'!$P177*Scenario_VMT_2*$N164","v":0},{"$f":"(VLOOKUP($B164,'By Population'!$G$2:$K$14,5,FALSE))*'By Speed'!$Q177*Scenario_VMT_2*$N164","v":0},{"$f":"(VLOOKUP($B164,'By Population'!$G$2:$K$14,5,FALSE))*'By Speed'!$R177*Scenario_VMT_2*$N164","v":0},{"$f":"(VLOOKUP($B164,'By Population'!$G$2:$K$14,5,FALSE))*'By Speed'!$S177*Scenario_VMT_2*$N164","v":0},{"$f":"(VLOOKUP($B164,'By Population'!$G$2:$K$14,5,FALSE))*'By Speed'!$T177*Scenario_VMT_2*$N164","v":0},{"$f":"(VLOOKUP($B164,'By Population'!$G$2:$K$14,5,FALSE))*'By Speed'!$U177*Scenario_VMT_2*$N164","v":0},0,{"$f":"(VLOOKUP($B164,'By Population'!$G$2:$K$14,5,FALSE))*'By Speed'!$M177*Scenario_VMT_3*$N164","v":0},{"$f":"(VLOOKUP($B164,'By Population'!$G$2:$K$14,5,FALSE))*'By Speed'!$N177*Scenario_VMT_3*$N164","v":0},{"$f":"(VLOOKUP($B164,'By Population'!$G$2:$K$14,5,FALSE))*'By Speed'!$O177*Scenario_VMT_3*$N164","v":0},{"$f":"(VLOOKUP($B164,'By Population'!$G$2:$K$14,5,FALSE))*'By Speed'!$P177*Scenario_VMT_3*$N164","v":0},{"$f":"(VLOOKUP($B164,'By Population'!$G$2:$K$14,5,FALSE))*'By Speed'!$Q177*Scenario_VMT_3*$N164","v":0},{"$f":"(VLOOKUP($B164,'By Population'!$G$2:$K$14,5,FALSE))*'By Speed'!$R177*Scenario_VMT_3*$N164","v":0},{"$f":"(VLOOKUP($B164,'By Population'!$G$2:$K$14,5,FALSE))*'By Speed'!$S177*Scenario_VMT_3*$N164","v":0},{"$f":"(VLOOKUP($B164,'By Population'!$G$2:$K$14,5,FALSE))*'By Speed'!$T177*Scenario_VMT_3*$N164","v":0},{"$f":"(VLOOKUP($B164,'By Population'!$G$2:$K$14,5,FALSE))*'By Speed'!$U177*Scenario_VMT_3*$N164","v":0},0,{"$f":"(VLOOKUP($B164,'By Population'!$G$2:$K$14,5,FALSE))*'By Speed'!$M177*Scenario_VMT_4*$N164","v":0},{"$f":"(VLOOKUP($B164,'By Population'!$G$2:$K$14,5,FALSE))*'By Speed'!$N177*Scenario_VMT_4*$N164","v":0},{"$f":"(VLOOKUP($B164,'By Population'!$G$2:$K$14,5,FALSE))*'By Speed'!$O177*Scenario_VMT_4*$N164","v":0},{"$f":"(VLOOKUP($B164,'By Population'!$G$2:$K$14,5,FALSE))*'By Speed'!$P177*Scenario_VMT_4*$N164","v":0},{"$f":"(VLOOKUP($B164,'By Population'!$G$2:$K$14,5,FALSE))*'By Speed'!$Q177*Scenario_VMT_4*$N164","v":0},{"$f":"(VLOOKUP($B164,'By Population'!$G$2:$K$14,5,FALSE))*'By Speed'!$R177*Scenario_VMT_4*$N164","v":0},{"$f":"(VLOOKUP($B164,'By Population'!$G$2:$K$14,5,FALSE))*'By Speed'!$S177*Scenario_VMT_4*$N164","v":0},{"$f":"(VLOOKUP($B164,'By Population'!$G$2:$K$14,5,FALSE))*'By Speed'!$T177*Scenario_VMT_4*$N164","v":0},{"$f":"(VLOOKUP($B164,'By Population'!$G$2:$K$14,5,FALSE))*'By Speed'!$U177*Scenario_VMT_4*$N164","v":0},0,{"$f":"(VLOOKUP($B164,'By Population'!$G$2:$K$14,5,FALSE))*'By Speed'!$M177*Scenario_VMT_5*$N164","v":0},{"$f":"(VLOOKUP($B164,'By Population'!$G$2:$K$14,5,FALSE))*'By Speed'!$N177*Scenario_VMT_5*$N164","v":0},{"$f":"(VLOOKUP($B164,'By Population'!$G$2:$K$14,5,FALSE))*'By Speed'!$O177*Scenario_VMT_5*$N164","v":0},{"$f":"(VLOOKUP($B164,'By Population'!$G$2:$K$14,5,FALSE))*'By Speed'!$P177*Scenario_VMT_5*$N164","v":0},{"$f":"(VLOOKUP($B164,'By Population'!$G$2:$K$14,5,FALSE))*'By Speed'!$Q177*Scenario_VMT_5*$N164","v":0},{"$f":"(VLOOKUP($B164,'By Population'!$G$2:$K$14,5,FALSE))*'By Speed'!$R177*Scenario_VMT_5*$N164","v":0},{"$f":"(VLOOKUP($B164,'By Population'!$G$2:$K$14,5,FALSE))*'By Speed'!$S177*Scenario_VMT_5*$N164","v":0},{"$f":"(VLOOKUP($B164,'By Population'!$G$2:$K$14,5,FALSE))*'By Speed'!$T177*Scenario_VMT_5*$N164","v":0},{"$f":"(VLOOKUP($B164,'By Population'!$G$2:$K$14,5,FALSE))*'By Speed'!$U177*Scenario_VMT_5*$N164","v":0},0]
[156,"MDV_DSL",5,"MDV_DSL_5",{"$f":"(VLOOKUP($B165,'By Population'!$G$2:$K$14,5,FALSE))*'By Speed'!$M178*Scenario_VMT_EX*$N165","v":0},{"$f":"(VLOOKUP($B165,'By Population'!$G$2:$K$14,5,FALSE))*'By Speed'!$N178*Scenario_VMT_EX*$N165","v":0},{"$f":"(VLOOKUP($B165,'By Population'!$G$2:$K$14,5,FALSE))*'By Speed'!$O178*Scenario_VMT_EX*$N165","v":0},{"$f":"(VLOOKUP($B165,'By Population'!$G$2:$K$14,5,FALSE))*'By Speed'!$P178*Scenario_VMT_EX*$N165","v":0},{"$f":"(VLOOKUP($B165,'By Population'!$G$2:$K$14,5,FALSE))*'By Speed'!$Q178*Scenario_VMT_EX*$N165","v":0},{"$f":"(VLOOKUP($B165,'By Population'!$G$2:$K$14,5,FALSE))*'By Speed'!$R178*Scenario_VMT_EX*$N165","v":0},{"$f":"(VLOOKUP($B165,'By Population'!$G$2:$K$14,5,FALSE))*'By Speed'!$S178*Scenario_VMT_EX*$N165","v":0},{"$f":"(VLOOKUP($B165,'By Population'!$G$2:$K$14,5,FALSE))*'By Speed'!$T178*Scenario_VMT_EX*$N165","v":0},{"$f":"(VLOOKUP($B165,'By Population'!$G$2:$K$14,5,FALSE))*'By Speed'!$U178*Scenario_VMT_EX*$N165","v":0},0,{"$f":"(VLOOKUP($B165,'By Population'!$G$2:$K$14,5,FALSE))*'By Speed'!$M178*Scenario_VMT_1*$N165","v":0},{"$f":"(VLOOKUP($B165,'By Population'!$G$2:$K$14,5,FALSE))*'By Speed'!$N178*Scenario_VMT_1*$N165","v":0},{"$f":"(VLOOKUP($B165,'By Population'!$G$2:$K$14,5,FALSE))*'By Speed'!$O178*Scenario_VMT_1*$N165","v":0},{"$f":"(VLOOKUP($B165,'By Population'!$G$2:$K$14,5,FALSE))*'By Speed'!$P178*Scenario_VMT_1*$N165","v":0},{"$f":"(VLOOKUP($B165,'By Population'!$G$2:$K$14,5,FALSE))*'By Speed'!$Q178*Scenario_VMT_1*$N165","v":0},{"$f":"(VLOOKUP($B165,'By Population'!$G$2:$K$14,5,FALSE))*'By Speed'!$R178*Scenario_VMT_1*$N165","v":0},{"$f":"(VLOOKUP($B165,'By Population'!$G$2:$K$14,5,FALSE))*'By Speed'!$S178*Scenario_VMT_1*$N165","v":0},{"$f":"(VLOOKUP($B165,'By Population'!$G$2:$K$14,5,FALSE))*'By Speed'!$T178*Scenario_VMT_1*$N165","v":0},{"$f":"(VLOOKUP($B165,'By Population'!$G$2:$K$14,5,FALSE))*'By Speed'!$U178*Scenario_VMT_1*$N165","v":0},0,{"$f":"(VLOOKUP($B165,'By Population'!$G$2:$K$14,5,FALSE))*'By Speed'!$M178*Scenario_VMT_2*$N165","v":0},{"$f":"(VLOOKUP($B165,'By Population'!$G$2:$K$14,5,FALSE))*'By Speed'!$N178*Scenario_VMT_2*$N165","v":0},{"$f":"(VLOOKUP($B165,'By Population'!$G$2:$K$14,5,FALSE))*'By Speed'!$O178*Scenario_VMT_2*$N165","v":0},{"$f":"(VLOOKUP($B165,'By Population'!$G$2:$K$14,5,FALSE))*'By Speed'!$P178*Scenario_VMT_2*$N165","v":0},{"$f":"(VLOOKUP($B165,'By Population'!$G$2:$K$14,5,FALSE))*'By Speed'!$Q178*Scenario_VMT_2*$N165","v":0},{"$f":"(VLOOKUP($B165,'By Population'!$G$2:$K$14,5,FALSE))*'By Speed'!$R178*Scenario_VMT_2*$N165","v":0},{"$f":"(VLOOKUP($B165,'By Population'!$G$2:$K$14,5,FALSE))*'By Speed'!$S178*Scenario_VMT_2*$N165","v":0},{"$f":"(VLOOKUP($B165,'By Population'!$G$2:$K$14,5,FALSE))*'By Speed'!$T178*Scenario_VMT_2*$N165","v":0},{"$f":"(VLOOKUP($B165,'By Population'!$G$2:$K$14,5,FALSE))*'By Speed'!$U178*Scenario_VMT_2*$N165","v":0},0,{"$f":"(VLOOKUP($B165,'By Population'!$G$2:$K$14,5,FALSE))*'By Speed'!$M178*Scenario_VMT_3*$N165","v":0},{"$f":"(VLOOKUP($B165,'By Population'!$G$2:$K$14,5,FALSE))*'By Speed'!$N178*Scenario_VMT_3*$N165","v":0},{"$f":"(VLOOKUP($B165,'By Population'!$G$2:$K$14,5,FALSE))*'By Speed'!$O178*Scenario_VMT_3*$N165","v":0},{"$f":"(VLOOKUP($B165,'By Population'!$G$2:$K$14,5,FALSE))*'By Speed'!$P178*Scenario_VMT_3*$N165","v":0},{"$f":"(VLOOKUP($B165,'By Population'!$G$2:$K$14,5,FALSE))*'By Speed'!$Q178*Scenario_VMT_3*$N165","v":0},{"$f":"(VLOOKUP($B165,'By Population'!$G$2:$K$14,5,FALSE))*'By Speed'!$R178*Scenario_VMT_3*$N165","v":0},{"$f":"(VLOOKUP($B165,'By Population'!$G$2:$K$14,5,FALSE))*'By Speed'!$S178*Scenario_VMT_3*$N165","v":0},{"$f":"(VLOOKUP($B165,'By Population'!$G$2:$K$14,5,FALSE))*'By Speed'!$T178*Scenario_VMT_3*$N165","v":0},{"$f":"(VLOOKUP($B165,'By Population'!$G$2:$K$14,5,FALSE))*'By Speed'!$U178*Scenario_VMT_3*$N165","v":0},0,{"$f":"(VLOOKUP($B165,'By Population'!$G$2:$K$14,5,FALSE))*'By Speed'!$M178*Scenario_VMT_4*$N165","v":0},{"$f":"(VLOOKUP($B165,'By Population'!$G$2:$K$14,5,FALSE))*'By Speed'!$N178*Scenario_VMT_4*$N165","v":0},{"$f":"(VLOOKUP($B165,'By Population'!$G$2:$K$14,5,FALSE))*'By Speed'!$O178*Scenario_VMT_4*$N165","v":0},{"$f":"(VLOOKUP($B165,'By Population'!$G$2:$K$14,5,FALSE))*'By Speed'!$P178*Scenario_VMT_4*$N165","v":0},{"$f":"(VLOOKUP($B165,'By Population'!$G$2:$K$14,5,FALSE))*'By Speed'!$Q178*Scenario_VMT_4*$N165","v":0},{"$f":"(VLOOKUP($B165,'By Population'!$G$2:$K$14,5,FALSE))*'By Speed'!$R178*Scenario_VMT_4*$N165","v":0},{"$f":"(VLOOKUP($B165,'By Population'!$G$2:$K$14,5,FALSE))*'By Speed'!$S178*Scenario_VMT_4*$N165","v":0},{"$f":"(VLOOKUP($B165,'By Population'!$G$2:$K$14,5,FALSE))*'By Speed'!$T178*Scenario_VMT_4*$N165","v":0},{"$f":"(VLOOKUP($B165,'By Population'!$G$2:$K$14,5,FALSE))*'By Speed'!$U178*Scenario_VMT_4*$N165","v":0},0,{"$f":"(VLOOKUP($B165,'By Population'!$G$2:$K$14,5,FALSE))*'By Speed'!$M178*Scenario_VMT_5*$N165","v":0},{"$f":"(VLOOKUP($B165,'By Population'!$G$2:$K$14,5,FALSE))*'By Speed'!$N178*Scenario_VMT_5*$N165","v":0},{"$f":"(VLOOKUP($B165,'By Population'!$G$2:$K$14,5,FALSE))*'By Speed'!$O178*Scenario_VMT_5*$N165","v":0},{"$f":"(VLOOKUP($B165,'By Population'!$G$2:$K$14,5,FALSE))*'By Speed'!$P178*Scenario_VMT_5*$N165","v":0},{"$f":"(VLOOKUP($B165,'By Population'!$G$2:$K$14,5,FALSE))*'By Speed'!$Q178*Scenario_VMT_5*$N165","v":0},{"$f":"(VLOOKUP($B165,'By Population'!$G$2:$K$14,5,FALSE))*'By Speed'!$R178*Scenario_VMT_5*$N165","v":0},{"$f":"(VLOOKUP($B165,'By Population'!$G$2:$K$14,5,FALSE))*'By Speed'!$S178*Scenario_VMT_5*$N165","v":0},{"$f":"(VLOOKUP($B165,'By Population'!$G$2:$K$14,5,FALSE))*'By Speed'!$T178*Scenario_VMT_5*$N165","v":0},{"$f":"(VLOOKUP($B165,'By Population'!$G$2:$K$14,5,FALSE))*'By Speed'!$U178*Scenario_VMT_5*$N165","v":0},0]
[174,"MDV_DSL",50,"MDV_DSL_50",{"$f":"(VLOOKUP($B166,'By Population'!$G$2:$K$14,5,FALSE))*'By Speed'!$M179*Scenario_VMT_EX*$N166","v":0},{"$f":"(VLOOKUP($B166,'By Population'!$G$2:$K$14,5,FALSE))*'By Speed'!$N179*Scenario_VMT_EX*$N166","v":0},{"$f":"(VLOOKUP($B166,'By Population'!$G$2:$K$14,5,FALSE))*'By Speed'!$O179*Scenario_VMT_EX*$N166","v":0},{"$f":"(VLOOKUP($B166,'By Population'!$G$2:$K$14,5,FALSE))*'By Speed'!$P179*Scenario_VMT_EX*$N166","v":0},{"$f":"(VLOOKUP($B166,'By Population'!$G$2:$K$14,5,FALSE))*'By Speed'!$Q179*Scenario_VMT_EX*$N166","v":0},{"$f":"(VLOOKUP($B166,'By Population'!$G$2:$K$14,5,FALSE))*'By Speed'!$R179*Scenario_VMT_EX*$N166","v":0},{"$f":"(VLOOKUP($B166,'By Population'!$G$2:$K$14,5,FALSE))*'By Speed'!$S179*Scenario_VMT_EX*$N166","v":0},{"$f":"(VLOOKUP($B166,'By Population'!$G$2:$K$14,5,FALSE))*'By Speed'!$T179*Scenario_VMT_EX*$N166","v":0},{"$f":"(VLOOKUP($B166,'By Population'!$G$2:$K$14,5,FALSE))*'By Speed'!$U179*Scenario_VMT_EX*$N166","v":0},0,{"$f":"(VLOOKUP($B166,'By Population'!$G$2:$K$14,5,FALSE))*'By Speed'!$M179*Scenario_VMT_1*$N166","v":0},{"$f":"(VLOOKUP($B166,'By Population'!$G$2:$K$14,5,FALSE))*'By Speed'!$N179*Scenario_VMT_1*$N166","v":0},{"$f":"(VLOOKUP($B166,'By Population'!$G$2:$K$14,5,FALSE))*'By Speed'!$O179*Scenario_VMT_1*$N166","v":0},{"$f":"(VLOOKUP($B166,'By Population'!$G$2:$K$14,5,FALSE))*'By Speed'!$P179*Scenario_VMT_1*$N166","v":0},{"$f":"(VLOOKUP($B166,'By Population'!$G$2:$K$14,5,FALSE))*'By Speed'!$Q179*Scenario_VMT_1*$N166","v":0},{"$f":"(VLOOKUP($B166,'By Population'!$G$2:$K$14,5,FALSE))*'By Speed'!$R179*Scenario_VMT_1*$N166","v":0},{"$f":"(VLOOKUP($B166,'By Population'!$G$2:$K$14,5,FALSE))*'By Speed'!$S179*Scenario_VMT_1*$N166","v":0},{"$f":"(VLOOKUP($B166,'By Population'!$G$2:$K$14,5,FALSE))*'By Speed'!$T179*Scenario_VMT_1*$N166","v":0},{"$f":"(VLOOKUP($B166,'By Population'!$G$2:$K$14,5,FALSE))*'By Speed'!$U179*Scenario_VMT_1*$N166","v":0},0,{"$f":"(VLOOKUP($B166,'By Population'!$G$2:$K$14,5,FALSE))*'By Speed'!$M179*Scenario_VMT_2*$N166","v":0},{"$f":"(VLOOKUP($B166,'By Population'!$G$2:$K$14,5,FALSE))*'By Speed'!$N179*Scenario_VMT_2*$N166","v":0},{"$f":"(VLOOKUP($B166,'By Population'!$G$2:$K$14,5,FALSE))*'By Speed'!$O179*Scenario_VMT_2*$N166","v":0},{"$f":"(VLOOKUP($B166,'By Population'!$G$2:$K$14,5,FALSE))*'By Speed'!$P179*Scenario_VMT_2*$N166","v":0},{"$f":"(VLOOKUP($B166,'By Population'!$G$2:$K$14,5,FALSE))*'By Speed'!$Q179*Scenario_VMT_2*$N166","v":0},{"$f":"(VLOOKUP($B166,'By Population'!$G$2:$K$14,5,FALSE))*'By Speed'!$R179*Scenario_VMT_2*$N166","v":0},{"$f":"(VLOOKUP($B166,'By Population'!$G$2:$K$14,5,FALSE))*'By Speed'!$S179*Scenario_VMT_2*$N166","v":0},{"$f":"(VLOOKUP($B166,'By Population'!$G$2:$K$14,5,FALSE))*'By Speed'!$T179*Scenario_VMT_2*$N166","v":0},{"$f":"(VLOOKUP($B166,'By Population'!$G$2:$K$14,5,FALSE))*'By Speed'!$U179*Scenario_VMT_2*$N166","v":0},0,{"$f":"(VLOOKUP($B166,'By Population'!$G$2:$K$14,5,FALSE))*'By Speed'!$M179*Scenario_VMT_3*$N166","v":0},{"$f":"(VLOOKUP($B166,'By Population'!$G$2:$K$14,5,FALSE))*'By Speed'!$N179*Scenario_VMT_3*$N166","v":0},{"$f":"(VLOOKUP($B166,'By Population'!$G$2:$K$14,5,FALSE))*'By Speed'!$O179*Scenario_VMT_3*$N166","v":0},{"$f":"(VLOOKUP($B166,'By Population'!$G$2:$K$14,5,FALSE))*'By Speed'!$P179*Scenario_VMT_3*$N166","v":0},{"$f":"(VLOOKUP($B166,'By Population'!$G$2:$K$14,5,FALSE))*'By Speed'!$Q179*Scenario_VMT_3*$N166","v":0},{"$f":"(VLOOKUP($B166,'By Population'!$G$2:$K$14,5,FALSE))*'By Speed'!$R179*Scenario_VMT_3*$N166","v":0},{"$f":"(VLOOKUP($B166,'By Population'!$G$2:$K$14,5,FALSE))*'By Speed'!$S179*Scenario_VMT_3*$N166","v":0},{"$f":"(VLOOKUP($B166,'By Population'!$G$2:$K$14,5,FALSE))*'By Speed'!$T179*Scenario_VMT_3*$N166","v":0},{"$f":"(VLOOKUP($B166,'By Population'!$G$2:$K$14,5,FALSE))*'By Speed'!$U179*Scenario_VMT_3*$N166","v":0},0,{"$f":"(VLOOKUP($B166,'By Population'!$G$2:$K$14,5,FALSE))*'By Speed'!$M179*Scenario_VMT_4*$N166","v":0},{"$f":"(VLOOKUP($B166,'By Population'!$G$2:$K$14,5,FALSE))*'By Speed'!$N179*Scenario_VMT_4*$N166","v":0},{"$f":"(VLOOKUP($B166,'By Population'!$G$2:$K$14,5,FALSE))*'By Speed'!$O179*Scenario_VMT_4*$N166","v":0},{"$f":"(VLOOKUP($B166,'By Population'!$G$2:$K$14,5,FALSE))*'By Speed'!$P179*Scenario_VMT_4*$N166","v":0},{"$f":"(VLOOKUP($B166,'By Population'!$G$2:$K$14,5,FALSE))*'By Speed'!$Q179*Scenario_VMT_4*$N166","v":0},{"$f":"(VLOOKUP($B166,'By Population'!$G$2:$K$14,5,FALSE))*'By Speed'!$R179*Scenario_VMT_4*$N166","v":0},{"$f":"(VLOOKUP($B166,'By Population'!$G$2:$K$14,5,FALSE))*'By Speed'!$S179*Scenario_VMT_4*$N166","v":0},{"$f":"(VLOOKUP($B166,'By Population'!$G$2:$K$14,5,FALSE))*'By Speed'!$T179*Scenario_VMT_4*$N166","v":0},{"$f":"(VLOOKUP($B166,'By Population'!$G$2:$K$14,5,FALSE))*'By Speed'!$U179*Scenario_VMT_4*$N166","v":0},0,{"$f":"(VLOOKUP($B166,'By Population'!$G$2:$K$14,5,FALSE))*'By Speed'!$M179*Scenario_VMT_5*$N166","v":0},{"$f":"(VLOOKUP($B166,'By Population'!$G$2:$K$14,5,FALSE))*'By Speed'!$N179*Scenario_VMT_5*$N166","v":0},{"$f":"(VLOOKUP($B166,'By Population'!$G$2:$K$14,5,FALSE))*'By Speed'!$O179*Scenario_VMT_5*$N166","v":0},{"$f":"(VLOOKUP($B166,'By Population'!$G$2:$K$14,5,FALSE))*'By Speed'!$P179*Scenario_VMT_5*$N166","v":0},{"$f":"(VLOOKUP($B166,'By Population'!$G$2:$K$14,5,FALSE))*'By Speed'!$Q179*Scenario_VMT_5*$N166","v":0},{"$f":"(VLOOKUP($B166,'By Population'!$G$2:$K$14,5,FALSE))*'By Speed'!$R179*Scenario_VMT_5*$N166","v":0},{"$f":"(VLOOKUP($B166,'By Population'!$G$2:$K$14,5,FALSE))*'By Speed'!$S179*Scenario_VMT_5*$N166","v":0},{"$f":"(VLOOKUP($B166,'By Population'!$G$2:$K$14,5,FALSE))*'By Speed'!$T179*Scenario_VMT_5*$N166","v":0},{"$f":"(VLOOKUP($B166,'By Population'!$G$2:$K$14,5,FALSE))*'By Speed'!$U179*Scenario_VMT_5*$N166","v":0},0]
[176,"MDV_DSL",55,"MDV_DSL_55",{"$f":"(VLOOKUP($B167,'By Population'!$G$2:$K$14,5,FALSE))*'By Speed'!$M180*Scenario_VMT_EX*$N167","v":0},{"$f":"(VLOOKUP($B167,'By Population'!$G$2:$K$14,5,FALSE))*'By Speed'!$N180*Scenario_VMT_EX*$N167","v":0},{"$f":"(VLOOKUP($B167,'By Population'!$G$2:$K$14,5,FALSE))*'By Speed'!$O180*Scenario_VMT_EX*$N167","v":0},{"$f":"(VLOOKUP($B167,'By Population'!$G$2:$K$14,5,FALSE))*'By Speed'!$P180*Scenario_VMT_EX*$N167","v":0},{"$f":"(VLOOKUP($B167,'By Population'!$G$2:$K$14,5,FALSE))*'By Speed'!$Q180*Scenario_VMT_EX*$N167","v":0},{"$f":"(VLOOKUP($B167,'By Population'!$G$2:$K$14,5,FALSE))*'By Speed'!$R180*Scenario_VMT_EX*$N167","v":0},{"$f":"(VLOOKUP($B167,'By Population'!$G$2:$K$14,5,FALSE))*'By Speed'!$S180*Scenario_VMT_EX*$N167","v":0},{"$f":"(VLOOKUP($B167,'By Population'!$G$2:$K$14,5,FALSE))*'By Speed'!$T180*Scenario_VMT_EX*$N167","v":0},{"$f":"(VLOOKUP($B167,'By Population'!$G$2:$K$14,5,FALSE))*'By Speed'!$U180*Scenario_VMT_EX*$N167","v":0},0,{"$f":"(VLOOKUP($B167,'By Population'!$G$2:$K$14,5,FALSE))*'By Speed'!$M180*Scenario_VMT_1*$N167","v":0},{"$f":"(VLOOKUP($B167,'By Population'!$G$2:$K$14,5,FALSE))*'By Speed'!$N180*Scenario_VMT_1*$N167","v":0},{"$f":"(VLOOKUP($B167,'By Population'!$G$2:$K$14,5,FALSE))*'By Speed'!$O180*Scenario_VMT_1*$N167","v":0},{"$f":"(VLOOKUP($B167,'By Population'!$G$2:$K$14,5,FALSE))*'By Speed'!$P180*Scenario_VMT_1*$N167","v":0},{"$f":"(VLOOKUP($B167,'By Population'!$G$2:$K$14,5,FALSE))*'By Speed'!$Q180*Scenario_VMT_1*$N167","v":0},{"$f":"(VLOOKUP($B167,'By Population'!$G$2:$K$14,5,FALSE))*'By Speed'!$R180*Scenario_VMT_1*$N167","v":0},{"$f":"(VLOOKUP($B167,'By Population'!$G$2:$K$14,5,FALSE))*'By Speed'!$S180*Scenario_VMT_1*$N167","v":0},{"$f":"(VLOOKUP($B167,'By Population'!$G$2:$K$14,5,FALSE))*'By Speed'!$T180*Scenario_VMT_1*$N167","v":0},{"$f":"(VLOOKUP($B167,'By Population'!$G$2:$K$14,5,FALSE))*'By Speed'!$U180*Scenario_VMT_1*$N167","v":0},0,{"$f":"(VLOOKUP($B167,'By Population'!$G$2:$K$14,5,FALSE))*'By Speed'!$M180*Scenario_VMT_2*$N167","v":0},{"$f":"(VLOOKUP($B167,'By Population'!$G$2:$K$14,5,FALSE))*'By Speed'!$N180*Scenario_VMT_2*$N167","v":0},{"$f":"(VLOOKUP($B167,'By Population'!$G$2:$K$14,5,FALSE))*'By Speed'!$O180*Scenario_VMT_2*$N167","v":0},{"$f":"(VLOOKUP($B167,'By Population'!$G$2:$K$14,5,FALSE))*'By Speed'!$P180*Scenario_VMT_2*$N167","v":0},{"$f":"(VLOOKUP($B167,'By Population'!$G$2:$K$14,5,FALSE))*'By Speed'!$Q180*Scenario_VMT_2*$N167","v":0},{"$f":"(VLOOKUP($B167,'By Population'!$G$2:$K$14,5,FALSE))*'By Speed'!$R180*Scenario_VMT_2*$N167","v":0},{"$f":"(VLOOKUP($B167,'By Population'!$G$2:$K$14,5,FALSE))*'By Speed'!$S180*Scenario_VMT_2*$N167","v":0},{"$f":"(VLOOKUP($B167,'By Population'!$G$2:$K$14,5,FALSE))*'By Speed'!$T180*Scenario_VMT_2*$N167","v":0},{"$f":"(VLOOKUP($B167,'By Population'!$G$2:$K$14,5,FALSE))*'By Speed'!$U180*Scenario_VMT_2*$N167","v":0},0,{"$f":"(VLOOKUP($B167,'By Population'!$G$2:$K$14,5,FALSE))*'By Speed'!$M180*Scenario_VMT_3*$N167","v":0},{"$f":"(VLOOKUP($B167,'By Population'!$G$2:$K$14,5,FALSE))*'By Speed'!$N180*Scenario_VMT_3*$N167","v":0},{"$f":"(VLOOKUP($B167,'By Population'!$G$2:$K$14,5,FALSE))*'By Speed'!$O180*Scenario_VMT_3*$N167","v":0},{"$f":"(VLOOKUP($B167,'By Population'!$G$2:$K$14,5,FALSE))*'By Speed'!$P180*Scenario_VMT_3*$N167","v":0},{"$f":"(VLOOKUP($B167,'By Population'!$G$2:$K$14,5,FALSE))*'By Speed'!$Q180*Scenario_VMT_3*$N167","v":0},{"$f":"(VLOOKUP($B167,'By Population'!$G$2:$K$14,5,FALSE))*'By Speed'!$R180*Scenario_VMT_3*$N167","v":0},{"$f":"(VLOOKUP($B167,'By Population'!$G$2:$K$14,5,FALSE))*'By Speed'!$S180*Scenario_VMT_3*$N167","v":0},{"$f":"(VLOOKUP($B167,'By Population'!$G$2:$K$14,5,FALSE))*'By Speed'!$T180*Scenario_VMT_3*$N167","v":0},{"$f":"(VLOOKUP($B167,'By Population'!$G$2:$K$14,5,FALSE))*'By Speed'!$U180*Scenario_VMT_3*$N167","v":0},0,{"$f":"(VLOOKUP($B167,'By Population'!$G$2:$K$14,5,FALSE))*'By Speed'!$M180*Scenario_VMT_4*$N167","v":0},{"$f":"(VLOOKUP($B167,'By Population'!$G$2:$K$14,5,FALSE))*'By Speed'!$N180*Scenario_VMT_4*$N167","v":0},{"$f":"(VLOOKUP($B167,'By Population'!$G$2:$K$14,5,FALSE))*'By Speed'!$O180*Scenario_VMT_4*$N167","v":0},{"$f":"(VLOOKUP($B167,'By Population'!$G$2:$K$14,5,FALSE))*'By Speed'!$P180*Scenario_VMT_4*$N167","v":0},{"$f":"(VLOOKUP($B167,'By Population'!$G$2:$K$14,5,FALSE))*'By Speed'!$Q180*Scenario_VMT_4*$N167","v":0},{"$f":"(VLOOKUP($B167,'By Population'!$G$2:$K$14,5,FALSE))*'By Speed'!$R180*Scenario_VMT_4*$N167","v":0},{"$f":"(VLOOKUP($B167,'By Population'!$G$2:$K$14,5,FALSE))*'By Speed'!$S180*Scenario_VMT_4*$N167","v":0},{"$f":"(VLOOKUP($B167,'By Population'!$G$2:$K$14,5,FALSE))*'By Speed'!$T180*Scenario_VMT_4*$N167","v":0},{"$f":"(VLOOKUP($B167,'By Population'!$G$2:$K$14,5,FALSE))*'By Speed'!$U180*Scenario_VMT_4*$N167","v":0},0,{"$f":"(VLOOKUP($B167,'By Population'!$G$2:$K$14,5,FALSE))*'By Speed'!$M180*Scenario_VMT_5*$N167","v":0},{"$f":"(VLOOKUP($B167,'By Population'!$G$2:$K$14,5,FALSE))*'By Speed'!$N180*Scenario_VMT_5*$N167","v":0},{"$f":"(VLOOKUP($B167,'By Population'!$G$2:$K$14,5,FALSE))*'By Speed'!$O180*Scenario_VMT_5*$N167","v":0},{"$f":"(VLOOKUP($B167,'By Population'!$G$2:$K$14,5,FALSE))*'By Speed'!$P180*Scenario_VMT_5*$N167","v":0},{"$f":"(VLOOKUP($B167,'By Population'!$G$2:$K$14,5,FALSE))*'By Speed'!$Q180*Scenario_VMT_5*$N167","v":0},{"$f":"(VLOOKUP($B167,'By Population'!$G$2:$K$14,5,FALSE))*'By Speed'!$R180*Scenario_VMT_5*$N167","v":0},{"$f":"(VLOOKUP($B167,'By Population'!$G$2:$K$14,5,FALSE))*'By Speed'!$S180*Scenario_VMT_5*$N167","v":0},{"$f":"(VLOOKUP($B167,'By Population'!$G$2:$K$14,5,FALSE))*'By Speed'!$T180*Scenario_VMT_5*$N167","v":0},{"$f":"(VLOOKUP($B167,'By Population'!$G$2:$K$14,5,FALSE))*'By Speed'!$U180*Scenario_VMT_5*$N167","v":0},0]
[178,"MDV_DSL",60,"MDV_DSL_60",{"$f":"(VLOOKUP($B168,'By Population'!$G$2:$K$14,5,FALSE))*'By Speed'!$M181*Scenario_VMT_EX*$N168","v":0},{"$f":"(VLOOKUP($B168,'By Population'!$G$2:$K$14,5,FALSE))*'By Speed'!$N181*Scenario_VMT_EX*$N168","v":0},{"$f":"(VLOOKUP($B168,'By Population'!$G$2:$K$14,5,FALSE))*'By Speed'!$O181*Scenario_VMT_EX*$N168","v":0},{"$f":"(VLOOKUP($B168,'By Population'!$G$2:$K$14,5,FALSE))*'By Speed'!$P181*Scenario_VMT_EX*$N168","v":0},{"$f":"(VLOOKUP($B168,'By Population'!$G$2:$K$14,5,FALSE))*'By Speed'!$Q181*Scenario_VMT_EX*$N168","v":0},{"$f":"(VLOOKUP($B168,'By Population'!$G$2:$K$14,5,FALSE))*'By Speed'!$R181*Scenario_VMT_EX*$N168","v":0},{"$f":"(VLOOKUP($B168,'By Population'!$G$2:$K$14,5,FALSE))*'By Speed'!$S181*Scenario_VMT_EX*$N168","v":0},{"$f":"(VLOOKUP($B168,'By Population'!$G$2:$K$14,5,FALSE))*'By Speed'!$T181*Scenario_VMT_EX*$N168","v":0},{"$f":"(VLOOKUP($B168,'By Population'!$G$2:$K$14,5,FALSE))*'By Speed'!$U181*Scenario_VMT_EX*$N168","v":0},0,{"$f":"(VLOOKUP($B168,'By Population'!$G$2:$K$14,5,FALSE))*'By Speed'!$M181*Scenario_VMT_1*$N168","v":0},{"$f":"(VLOOKUP($B168,'By Population'!$G$2:$K$14,5,FALSE))*'By Speed'!$N181*Scenario_VMT_1*$N168","v":0},{"$f":"(VLOOKUP($B168,'By Population'!$G$2:$K$14,5,FALSE))*'By Speed'!$O181*Scenario_VMT_1*$N168","v":0},{"$f":"(VLOOKUP($B168,'By Population'!$G$2:$K$14,5,FALSE))*'By Speed'!$P181*Scenario_VMT_1*$N168","v":0},{"$f":"(VLOOKUP($B168,'By Population'!$G$2:$K$14,5,FALSE))*'By Speed'!$Q181*Scenario_VMT_1*$N168","v":0},{"$f":"(VLOOKUP($B168,'By Population'!$G$2:$K$14,5,FALSE))*'By Speed'!$R181*Scenario_VMT_1*$N168","v":0},{"$f":"(VLOOKUP($B168,'By Population'!$G$2:$K$14,5,FALSE))*'By Speed'!$S181*Scenario_VMT_1*$N168","v":0},{"$f":"(VLOOKUP($B168,'By Population'!$G$2:$K$14,5,FALSE))*'By Speed'!$T181*Scenario_VMT_1*$N168","v":0},{"$f":"(VLOOKUP($B168,'By Population'!$G$2:$K$14,5,FALSE))*'By Speed'!$U181*Scenario_VMT_1*$N168","v":0},0,{"$f":"(VLOOKUP($B168,'By Population'!$G$2:$K$14,5,FALSE))*'By Speed'!$M181*Scenario_VMT_2*$N168","v":0},{"$f":"(VLOOKUP($B168,'By Population'!$G$2:$K$14,5,FALSE))*'By Speed'!$N181*Scenario_VMT_2*$N168","v":0},{"$f":"(VLOOKUP($B168,'By Population'!$G$2:$K$14,5,FALSE))*'By Speed'!$O181*Scenario_VMT_2*$N168","v":0},{"$f":"(VLOOKUP($B168,'By Population'!$G$2:$K$14,5,FALSE))*'By Speed'!$P181*Scenario_VMT_2*$N168","v":0},{"$f":"(VLOOKUP($B168,'By Population'!$G$2:$K$14,5,FALSE))*'By Speed'!$Q181*Scenario_VMT_2*$N168","v":0},{"$f":"(VLOOKUP($B168,'By Population'!$G$2:$K$14,5,FALSE))*'By Speed'!$R181*Scenario_VMT_2*$N168","v":0},{"$f":"(VLOOKUP($B168,'By Population'!$G$2:$K$14,5,FALSE))*'By Speed'!$S181*Scenario_VMT_2*$N168","v":0},{"$f":"(VLOOKUP($B168,'By Population'!$G$2:$K$14,5,FALSE))*'By Speed'!$T181*Scenario_VMT_2*$N168","v":0},{"$f":"(VLOOKUP($B168,'By Population'!$G$2:$K$14,5,FALSE))*'By Speed'!$U181*Scenario_VMT_2*$N168","v":0},0,{"$f":"(VLOOKUP($B168,'By Population'!$G$2:$K$14,5,FALSE))*'By Speed'!$M181*Scenario_VMT_3*$N168","v":0},{"$f":"(VLOOKUP($B168,'By Population'!$G$2:$K$14,5,FALSE))*'By Speed'!$N181*Scenario_VMT_3*$N168","v":0},{"$f":"(VLOOKUP($B168,'By Population'!$G$2:$K$14,5,FALSE))*'By Speed'!$O181*Scenario_VMT_3*$N168","v":0},{"$f":"(VLOOKUP($B168,'By Population'!$G$2:$K$14,5,FALSE))*'By Speed'!$P181*Scenario_VMT_3*$N168","v":0},{"$f":"(VLOOKUP($B168,'By Population'!$G$2:$K$14,5,FALSE))*'By Speed'!$Q181*Scenario_VMT_3*$N168","v":0},{"$f":"(VLOOKUP($B168,'By Population'!$G$2:$K$14,5,FALSE))*'By Speed'!$R181*Scenario_VMT_3*$N168","v":0},{"$f":"(VLOOKUP($B168,'By Population'!$G$2:$K$14,5,FALSE))*'By Speed'!$S181*Scenario_VMT_3*$N168","v":0},{"$f":"(VLOOKUP($B168,'By Population'!$G$2:$K$14,5,FALSE))*'By Speed'!$T181*Scenario_VMT_3*$N168","v":0},{"$f":"(VLOOKUP($B168,'By Population'!$G$2:$K$14,5,FALSE))*'By Speed'!$U181*Scenario_VMT_3*$N168","v":0},0,{"$f":"(VLOOKUP($B168,'By Population'!$G$2:$K$14,5,FALSE))*'By Speed'!$M181*Scenario_VMT_4*$N168","v":0},{"$f":"(VLOOKUP($B168,'By Population'!$G$2:$K$14,5,FALSE))*'By Speed'!$N181*Scenario_VMT_4*$N168","v":0},{"$f":"(VLOOKUP($B168,'By Population'!$G$2:$K$14,5,FALSE))*'By Speed'!$O181*Scenario_VMT_4*$N168","v":0},{"$f":"(VLOOKUP($B168,'By Population'!$G$2:$K$14,5,FALSE))*'By Speed'!$P181*Scenario_VMT_4*$N168","v":0},{"$f":"(VLOOKUP($B168,'By Population'!$G$2:$K$14,5,FALSE))*'By Speed'!$Q181*Scenario_VMT_4*$N168","v":0},{"$f":"(VLOOKUP($B168,'By Population'!$G$2:$K$14,5,FALSE))*'By Speed'!$R181*Scenario_VMT_4*$N168","v":0},{"$f":"(VLOOKUP($B168,'By Population'!$G$2:$K$14,5,FALSE))*'By Speed'!$S181*Scenario_VMT_4*$N168","v":0},{"$f":"(VLOOKUP($B168,'By Population'!$G$2:$K$14,5,FALSE))*'By Speed'!$T181*Scenario_VMT_4*$N168","v":0},{"$f":"(VLOOKUP($B168,'By Population'!$G$2:$K$14,5,FALSE))*'By Speed'!$U181*Scenario_VMT_4*$N168","v":0},0,{"$f":"(VLOOKUP($B168,'By Population'!$G$2:$K$14,5,FALSE))*'By Speed'!$M181*Scenario_VMT_5*$N168","v":0},{"$f":"(VLOOKUP($B168,'By Population'!$G$2:$K$14,5,FALSE))*'By Speed'!$N181*Scenario_VMT_5*$N168","v":0},{"$f":"(VLOOKUP($B168,'By Population'!$G$2:$K$14,5,FALSE))*'By Speed'!$O181*Scenario_VMT_5*$N168","v":0},{"$f":"(VLOOKUP($B168,'By Population'!$G$2:$K$14,5,FALSE))*'By Speed'!$P181*Scenario_VMT_5*$N168","v":0},{"$f":"(VLOOKUP($B168,'By Population'!$G$2:$K$14,5,FALSE))*'By Speed'!$Q181*Scenario_VMT_5*$N168","v":0},{"$f":"(VLOOKUP($B168,'By Population'!$G$2:$K$14,5,FALSE))*'By Speed'!$R181*Scenario_VMT_5*$N168","v":0},{"$f":"(VLOOKUP($B168,'By Population'!$G$2:$K$14,5,FALSE))*'By Speed'!$S181*Scenario_VMT_5*$N168","v":0},{"$f":"(VLOOKUP($B168,'By Population'!$G$2:$K$14,5,FALSE))*'By Speed'!$T181*Scenario_VMT_5*$N168","v":0},{"$f":"(VLOOKUP($B168,'By Population'!$G$2:$K$14,5,FALSE))*'By Speed'!$U181*Scenario_VMT_5*$N168","v":0},0]
[180,"MDV_DSL",65,"MDV_DSL_65",{"$f":"(VLOOKUP($B169,'By Population'!$G$2:$K$14,5,FALSE))*'By Speed'!$M182*Scenario_VMT_EX*$N169","v":0},{"$f":"(VLOOKUP($B169,'By Population'!$G$2:$K$14,5,FALSE))*'By Speed'!$N182*Scenario_VMT_EX*$N169","v":0},{"$f":"(VLOOKUP($B169,'By Population'!$G$2:$K$14,5,FALSE))*'By Speed'!$O182*Scenario_VMT_EX*$N169","v":0},{"$f":"(VLOOKUP($B169,'By Population'!$G$2:$K$14,5,FALSE))*'By Speed'!$P182*Scenario_VMT_EX*$N169","v":0},{"$f":"(VLOOKUP($B169,'By Population'!$G$2:$K$14,5,FALSE))*'By Speed'!$Q182*Scenario_VMT_EX*$N169","v":0},{"$f":"(VLOOKUP($B169,'By Population'!$G$2:$K$14,5,FALSE))*'By Speed'!$R182*Scenario_VMT_EX*$N169","v":0},{"$f":"(VLOOKUP($B169,'By Population'!$G$2:$K$14,5,FALSE))*'By Speed'!$S182*Scenario_VMT_EX*$N169","v":0},{"$f":"(VLOOKUP($B169,'By Population'!$G$2:$K$14,5,FALSE))*'By Speed'!$T182*Scenario_VMT_EX*$N169","v":0},{"$f":"(VLOOKUP($B169,'By Population'!$G$2:$K$14,5,FALSE))*'By Speed'!$U182*Scenario_VMT_EX*$N169","v":0},0,{"$f":"(VLOOKUP($B169,'By Population'!$G$2:$K$14,5,FALSE))*'By Speed'!$M182*Scenario_VMT_1*$N169","v":0},{"$f":"(VLOOKUP($B169,'By Population'!$G$2:$K$14,5,FALSE))*'By Speed'!$N182*Scenario_VMT_1*$N169","v":0},{"$f":"(VLOOKUP($B169,'By Population'!$G$2:$K$14,5,FALSE))*'By Speed'!$O182*Scenario_VMT_1*$N169","v":0},{"$f":"(VLOOKUP($B169,'By Population'!$G$2:$K$14,5,FALSE))*'By Speed'!$P182*Scenario_VMT_1*$N169","v":0},{"$f":"(VLOOKUP($B169,'By Population'!$G$2:$K$14,5,FALSE))*'By Speed'!$Q182*Scenario_VMT_1*$N169","v":0},{"$f":"(VLOOKUP($B169,'By Population'!$G$2:$K$14,5,FALSE))*'By Speed'!$R182*Scenario_VMT_1*$N169","v":0},{"$f":"(VLOOKUP($B169,'By Population'!$G$2:$K$14,5,FALSE))*'By Speed'!$S182*Scenario_VMT_1*$N169","v":0},{"$f":"(VLOOKUP($B169,'By Population'!$G$2:$K$14,5,FALSE))*'By Speed'!$T182*Scenario_VMT_1*$N169","v":0},{"$f":"(VLOOKUP($B169,'By Population'!$G$2:$K$14,5,FALSE))*'By Speed'!$U182*Scenario_VMT_1*$N169","v":0},0,{"$f":"(VLOOKUP($B169,'By Population'!$G$2:$K$14,5,FALSE))*'By Speed'!$M182*Scenario_VMT_2*$N169","v":0},{"$f":"(VLOOKUP($B169,'By Population'!$G$2:$K$14,5,FALSE))*'By Speed'!$N182*Scenario_VMT_2*$N169","v":0},{"$f":"(VLOOKUP($B169,'By Population'!$G$2:$K$14,5,FALSE))*'By Speed'!$O182*Scenario_VMT_2*$N169","v":0},{"$f":"(VLOOKUP($B169,'By Population'!$G$2:$K$14,5,FALSE))*'By Speed'!$P182*Scenario_VMT_2*$N169","v":0},{"$f":"(VLOOKUP($B169,'By Population'!$G$2:$K$14,5,FALSE))*'By Speed'!$Q182*Scenario_VMT_2*$N169","v":0},{"$f":"(VLOOKUP($B169,'By Population'!$G$2:$K$14,5,FALSE))*'By Speed'!$R182*Scenario_VMT_2*$N169","v":0},{"$f":"(VLOOKUP($B169,'By Population'!$G$2:$K$14,5,FALSE))*'By Speed'!$S182*Scenario_VMT_2*$N169","v":0},{"$f":"(VLOOKUP($B169,'By Population'!$G$2:$K$14,5,FALSE))*'By Speed'!$T182*Scenario_VMT_2*$N169","v":0},{"$f":"(VLOOKUP($B169,'By Population'!$G$2:$K$14,5,FALSE))*'By Speed'!$U182*Scenario_VMT_2*$N169","v":0},0,{"$f":"(VLOOKUP($B169,'By Population'!$G$2:$K$14,5,FALSE))*'By Speed'!$M182*Scenario_VMT_3*$N169","v":0},{"$f":"(VLOOKUP($B169,'By Population'!$G$2:$K$14,5,FALSE))*'By Speed'!$N182*Scenario_VMT_3*$N169","v":0},{"$f":"(VLOOKUP($B169,'By Population'!$G$2:$K$14,5,FALSE))*'By Speed'!$O182*Scenario_VMT_3*$N169","v":0},{"$f":"(VLOOKUP($B169,'By Population'!$G$2:$K$14,5,FALSE))*'By Speed'!$P182*Scenario_VMT_3*$N169","v":0},{"$f":"(VLOOKUP($B169,'By Population'!$G$2:$K$14,5,FALSE))*'By Speed'!$Q182*Scenario_VMT_3*$N169","v":0},{"$f":"(VLOOKUP($B169,'By Population'!$G$2:$K$14,5,FALSE))*'By Speed'!$R182*Scenario_VMT_3*$N169","v":0},{"$f":"(VLOOKUP($B169,'By Population'!$G$2:$K$14,5,FALSE))*'By Speed'!$S182*Scenario_VMT_3*$N169","v":0},{"$f":"(VLOOKUP($B169,'By Population'!$G$2:$K$14,5,FALSE))*'By Speed'!$T182*Scenario_VMT_3*$N169","v":0},{"$f":"(VLOOKUP($B169,'By Population'!$G$2:$K$14,5,FALSE))*'By Speed'!$U182*Scenario_VMT_3*$N169","v":0},0,{"$f":"(VLOOKUP($B169,'By Population'!$G$2:$K$14,5,FALSE))*'By Speed'!$M182*Scenario_VMT_4*$N169","v":0},{"$f":"(VLOOKUP($B169,'By Population'!$G$2:$K$14,5,FALSE))*'By Speed'!$N182*Scenario_VMT_4*$N169","v":0},{"$f":"(VLOOKUP($B169,'By Population'!$G$2:$K$14,5,FALSE))*'By Speed'!$O182*Scenario_VMT_4*$N169","v":0},{"$f":"(VLOOKUP($B169,'By Population'!$G$2:$K$14,5,FALSE))*'By Speed'!$P182*Scenario_VMT_4*$N169","v":0},{"$f":"(VLOOKUP($B169,'By Population'!$G$2:$K$14,5,FALSE))*'By Speed'!$Q182*Scenario_VMT_4*$N169","v":0},{"$f":"(VLOOKUP($B169,'By Population'!$G$2:$K$14,5,FALSE))*'By Speed'!$R182*Scenario_VMT_4*$N169","v":0},{"$f":"(VLOOKUP($B169,'By Population'!$G$2:$K$14,5,FALSE))*'By Speed'!$S182*Scenario_VMT_4*$N169","v":0},{"$f":"(VLOOKUP($B169,'By Population'!$G$2:$K$14,5,FALSE))*'By Speed'!$T182*Scenario_VMT_4*$N169","v":0},{"$f":"(VLOOKUP($B169,'By Population'!$G$2:$K$14,5,FALSE))*'By Speed'!$U182*Scenario_VMT_4*$N169","v":0},0,{"$f":"(VLOOKUP($B169,'By Population'!$G$2:$K$14,5,FALSE))*'By Speed'!$M182*Scenario_VMT_5*$N169","v":0},{"$f":"(VLOOKUP($B169,'By Population'!$G$2:$K$14,5,FALSE))*'By Speed'!$N182*Scenario_VMT_5*$N169","v":0},{"$f":"(VLOOKUP($B169,'By Population'!$G$2:$K$14,5,FALSE))*'By Speed'!$O182*Scenario_VMT_5*$N169","v":0},{"$f":"(VLOOKUP($B169,'By Population'!$G$2:$K$14,5,FALSE))*'By Speed'!$P182*Scenario_VMT_5*$N169","v":0},{"$f":"(VLOOKUP($B169,'By Population'!$G$2:$K$14,5,FALSE))*'By Speed'!$Q182*Scenario_VMT_5*$N169","v":0},{"$f":"(VLOOKUP($B169,'By Population'!$G$2:$K$14,5,FALSE))*'By Speed'!$R182*Scenario_VMT_5*$N169","v":0},{"$f":"(VLOOKUP($B169,'By Population'!$G$2:$K$14,5,FALSE))*'By Speed'!$S182*Scenario_VMT_5*$N169","v":0},{"$f":"(VLOOKUP($B169,'By Population'!$G$2:$K$14,5,FALSE))*'By Speed'!$T182*Scenario_VMT_5*$N169","v":0},{"$f":"(VLOOKUP($B169,'By Population'!$G$2:$K$14,5,FALSE))*'By Speed'!$U182*Scenario_VMT_5*$N169","v":0},0]
[182,"MDV_DSL",70,"MDV_DSL_70",{"$f":"(VLOOKUP($B170,'By Population'!$G$2:$K$14,5,FALSE))*'By Speed'!$M183*Scenario_VMT_EX*$N170","v":0},{"$f":"(VLOOKUP($B170,'By Population'!$G$2:$K$14,5,FALSE))*'By Speed'!$N183*Scenario_VMT_EX*$N170","v":0},{"$f":"(VLOOKUP($B170,'By Population'!$G$2:$K$14,5,FALSE))*'By Speed'!$O183*Scenario_VMT_EX*$N170","v":0},{"$f":"(VLOOKUP($B170,'By Population'!$G$2:$K$14,5,FALSE))*'By Speed'!$P183*Scenario_VMT_EX*$N170","v":0},{"$f":"(VLOOKUP($B170,'By Population'!$G$2:$K$14,5,FALSE))*'By Speed'!$Q183*Scenario_VMT_EX*$N170","v":0},{"$f":"(VLOOKUP($B170,'By Population'!$G$2:$K$14,5,FALSE))*'By Speed'!$R183*Scenario_VMT_EX*$N170","v":0},{"$f":"(VLOOKUP($B170,'By Population'!$G$2:$K$14,5,FALSE))*'By Speed'!$S183*Scenario_VMT_EX*$N170","v":0},{"$f":"(VLOOKUP($B170,'By Population'!$G$2:$K$14,5,FALSE))*'By Speed'!$T183*Scenario_VMT_EX*$N170","v":0},{"$f":"(VLOOKUP($B170,'By Population'!$G$2:$K$14,5,FALSE))*'By Speed'!$U183*Scenario_VMT_EX*$N170","v":0},0,{"$f":"(VLOOKUP($B170,'By Population'!$G$2:$K$14,5,FALSE))*'By Speed'!$M183*Scenario_VMT_1*$N170","v":0},{"$f":"(VLOOKUP($B170,'By Population'!$G$2:$K$14,5,FALSE))*'By Speed'!$N183*Scenario_VMT_1*$N170","v":0},{"$f":"(VLOOKUP($B170,'By Population'!$G$2:$K$14,5,FALSE))*'By Speed'!$O183*Scenario_VMT_1*$N170","v":0},{"$f":"(VLOOKUP($B170,'By Population'!$G$2:$K$14,5,FALSE))*'By Speed'!$P183*Scenario_VMT_1*$N170","v":0},{"$f":"(VLOOKUP($B170,'By Population'!$G$2:$K$14,5,FALSE))*'By Speed'!$Q183*Scenario_VMT_1*$N170","v":0},{"$f":"(VLOOKUP($B170,'By Population'!$G$2:$K$14,5,FALSE))*'By Speed'!$R183*Scenario_VMT_1*$N170","v":0},{"$f":"(VLOOKUP($B170,'By Population'!$G$2:$K$14,5,FALSE))*'By Speed'!$S183*Scenario_VMT_1*$N170","v":0},{"$f":"(VLOOKUP($B170,'By Population'!$G$2:$K$14,5,FALSE))*'By Speed'!$T183*Scenario_VMT_1*$N170","v":0},{"$f":"(VLOOKUP($B170,'By Population'!$G$2:$K$14,5,FALSE))*'By Speed'!$U183*Scenario_VMT_1*$N170","v":0},0,{"$f":"(VLOOKUP($B170,'By Population'!$G$2:$K$14,5,FALSE))*'By Speed'!$M183*Scenario_VMT_2*$N170","v":0},{"$f":"(VLOOKUP($B170,'By Population'!$G$2:$K$14,5,FALSE))*'By Speed'!$N183*Scenario_VMT_2*$N170","v":0},{"$f":"(VLOOKUP($B170,'By Population'!$G$2:$K$14,5,FALSE))*'By Speed'!$O183*Scenario_VMT_2*$N170","v":0},{"$f":"(VLOOKUP($B170,'By Population'!$G$2:$K$14,5,FALSE))*'By Speed'!$P183*Scenario_VMT_2*$N170","v":0},{"$f":"(VLOOKUP($B170,'By Population'!$G$2:$K$14,5,FALSE))*'By Speed'!$Q183*Scenario_VMT_2*$N170","v":0},{"$f":"(VLOOKUP($B170,'By Population'!$G$2:$K$14,5,FALSE))*'By Speed'!$R183*Scenario_VMT_2*$N170","v":0},{"$f":"(VLOOKUP($B170,'By Population'!$G$2:$K$14,5,FALSE))*'By Speed'!$S183*Scenario_VMT_2*$N170","v":0},{"$f":"(VLOOKUP($B170,'By Population'!$G$2:$K$14,5,FALSE))*'By Speed'!$T183*Scenario_VMT_2*$N170","v":0},{"$f":"(VLOOKUP($B170,'By Population'!$G$2:$K$14,5,FALSE))*'By Speed'!$U183*Scenario_VMT_2*$N170","v":0},0,{"$f":"(VLOOKUP($B170,'By Population'!$G$2:$K$14,5,FALSE))*'By Speed'!$M183*Scenario_VMT_3*$N170","v":0},{"$f":"(VLOOKUP($B170,'By Population'!$G$2:$K$14,5,FALSE))*'By Speed'!$N183*Scenario_VMT_3*$N170","v":0},{"$f":"(VLOOKUP($B170,'By Population'!$G$2:$K$14,5,FALSE))*'By Speed'!$O183*Scenario_VMT_3*$N170","v":0},{"$f":"(VLOOKUP($B170,'By Population'!$G$2:$K$14,5,FALSE))*'By Speed'!$P183*Scenario_VMT_3*$N170","v":0},{"$f":"(VLOOKUP($B170,'By Population'!$G$2:$K$14,5,FALSE))*'By Speed'!$Q183*Scenario_VMT_3*$N170","v":0},{"$f":"(VLOOKUP($B170,'By Population'!$G$2:$K$14,5,FALSE))*'By Speed'!$R183*Scenario_VMT_3*$N170","v":0},{"$f":"(VLOOKUP($B170,'By Population'!$G$2:$K$14,5,FALSE))*'By Speed'!$S183*Scenario_VMT_3*$N170","v":0},{"$f":"(VLOOKUP($B170,'By Population'!$G$2:$K$14,5,FALSE))*'By Speed'!$T183*Scenario_VMT_3*$N170","v":0},{"$f":"(VLOOKUP($B170,'By Population'!$G$2:$K$14,5,FALSE))*'By Speed'!$U183*Scenario_VMT_3*$N170","v":0},0,{"$f":"(VLOOKUP($B170,'By Population'!$G$2:$K$14,5,FALSE))*'By Speed'!$M183*Scenario_VMT_4*$N170","v":0},{"$f":"(VLOOKUP($B170,'By Population'!$G$2:$K$14,5,FALSE))*'By Speed'!$N183*Scenario_VMT_4*$N170","v":0},{"$f":"(VLOOKUP($B170,'By Population'!$G$2:$K$14,5,FALSE))*'By Speed'!$O183*Scenario_VMT_4*$N170","v":0},{"$f":"(VLOOKUP($B170,'By Population'!$G$2:$K$14,5,FALSE))*'By Speed'!$P183*Scenario_VMT_4*$N170","v":0},{"$f":"(VLOOKUP($B170,'By Population'!$G$2:$K$14,5,FALSE))*'By Speed'!$Q183*Scenario_VMT_4*$N170","v":0},{"$f":"(VLOOKUP($B170,'By Population'!$G$2:$K$14,5,FALSE))*'By Speed'!$R183*Scenario_VMT_4*$N170","v":0},{"$f":"(VLOOKUP($B170,'By Population'!$G$2:$K$14,5,FALSE))*'By Speed'!$S183*Scenario_VMT_4*$N170","v":0},{"$f":"(VLOOKUP($B170,'By Population'!$G$2:$K$14,5,FALSE))*'By Speed'!$T183*Scenario_VMT_4*$N170","v":0},{"$f":"(VLOOKUP($B170,'By Population'!$G$2:$K$14,5,FALSE))*'By Speed'!$U183*Scenario_VMT_4*$N170","v":0},0,{"$f":"(VLOOKUP($B170,'By Population'!$G$2:$K$14,5,FALSE))*'By Speed'!$M183*Scenario_VMT_5*$N170","v":0},{"$f":"(VLOOKUP($B170,'By Population'!$G$2:$K$14,5,FALSE))*'By Speed'!$N183*Scenario_VMT_5*$N170","v":0},{"$f":"(VLOOKUP($B170,'By Population'!$G$2:$K$14,5,FALSE))*'By Speed'!$O183*Scenario_VMT_5*$N170","v":0},{"$f":"(VLOOKUP($B170,'By Population'!$G$2:$K$14,5,FALSE))*'By Speed'!$P183*Scenario_VMT_5*$N170","v":0},{"$f":"(VLOOKUP($B170,'By Population'!$G$2:$K$14,5,FALSE))*'By Speed'!$Q183*Scenario_VMT_5*$N170","v":0},{"$f":"(VLOOKUP($B170,'By Population'!$G$2:$K$14,5,FALSE))*'By Speed'!$R183*Scenario_VMT_5*$N170","v":0},{"$f":"(VLOOKUP($B170,'By Population'!$G$2:$K$14,5,FALSE))*'By Speed'!$S183*Scenario_VMT_5*$N170","v":0},{"$f":"(VLOOKUP($B170,'By Population'!$G$2:$K$14,5,FALSE))*'By Speed'!$T183*Scenario_VMT_5*$N170","v":0},{"$f":"(VLOOKUP($B170,'By Population'!$G$2:$K$14,5,FALSE))*'By Speed'!$U183*Scenario_VMT_5*$N170","v":0},0]
[157,"MDV_GAS",10,"MDV_GAS_10",{"$f":"(VLOOKUP($B171,'By Population'!$G$2:$K$14,5,FALSE))*'By Speed'!$M184*Scenario_VMT_EX*$N171","v":0},{"$f":"(VLOOKUP($B171,'By Population'!$G$2:$K$14,5,FALSE))*'By Speed'!$N184*Scenario_VMT_EX*$N171","v":0},{"$f":"(VLOOKUP($B171,'By Population'!$G$2:$K$14,5,FALSE))*'By Speed'!$O184*Scenario_VMT_EX*$N171","v":0},{"$f":"(VLOOKUP($B171,'By Population'!$G$2:$K$14,5,FALSE))*'By Speed'!$P184*Scenario_VMT_EX*$N171","v":0},{"$f":"(VLOOKUP($B171,'By Population'!$G$2:$K$14,5,FALSE))*'By Speed'!$Q184*Scenario_VMT_EX*$N171","v":0},{"$f":"(VLOOKUP($B171,'By Population'!$G$2:$K$14,5,FALSE))*'By Speed'!$R184*Scenario_VMT_EX*$N171","v":0},{"$f":"(VLOOKUP($B171,'By Population'!$G$2:$K$14,5,FALSE))*'By Speed'!$S184*Scenario_VMT_EX*$N171","v":0},{"$f":"(VLOOKUP($B171,'By Population'!$G$2:$K$14,5,FALSE))*'By Speed'!$T184*Scenario_VMT_EX*$N171","v":0},{"$f":"(VLOOKUP($B171,'By Population'!$G$2:$K$14,5,FALSE))*'By Speed'!$U184*Scenario_VMT_EX*$N171","v":0},0,{"$f":"(VLOOKUP($B171,'By Population'!$G$2:$K$14,5,FALSE))*'By Speed'!$M184*Scenario_VMT_1*$N171","v":0},{"$f":"(VLOOKUP($B171,'By Population'!$G$2:$K$14,5,FALSE))*'By Speed'!$N184*Scenario_VMT_1*$N171","v":0},{"$f":"(VLOOKUP($B171,'By Population'!$G$2:$K$14,5,FALSE))*'By Speed'!$O184*Scenario_VMT_1*$N171","v":0},{"$f":"(VLOOKUP($B171,'By Population'!$G$2:$K$14,5,FALSE))*'By Speed'!$P184*Scenario_VMT_1*$N171","v":0},{"$f":"(VLOOKUP($B171,'By Population'!$G$2:$K$14,5,FALSE))*'By Speed'!$Q184*Scenario_VMT_1*$N171","v":0},{"$f":"(VLOOKUP($B171,'By Population'!$G$2:$K$14,5,FALSE))*'By Speed'!$R184*Scenario_VMT_1*$N171","v":0},{"$f":"(VLOOKUP($B171,'By Population'!$G$2:$K$14,5,FALSE))*'By Speed'!$S184*Scenario_VMT_1*$N171","v":0},{"$f":"(VLOOKUP($B171,'By Population'!$G$2:$K$14,5,FALSE))*'By Speed'!$T184*Scenario_VMT_1*$N171","v":0},{"$f":"(VLOOKUP($B171,'By Population'!$G$2:$K$14,5,FALSE))*'By Speed'!$U184*Scenario_VMT_1*$N171","v":0},0,{"$f":"(VLOOKUP($B171,'By Population'!$G$2:$K$14,5,FALSE))*'By Speed'!$M184*Scenario_VMT_2*$N171","v":0},{"$f":"(VLOOKUP($B171,'By Population'!$G$2:$K$14,5,FALSE))*'By Speed'!$N184*Scenario_VMT_2*$N171","v":0},{"$f":"(VLOOKUP($B171,'By Population'!$G$2:$K$14,5,FALSE))*'By Speed'!$O184*Scenario_VMT_2*$N171","v":0},{"$f":"(VLOOKUP($B171,'By Population'!$G$2:$K$14,5,FALSE))*'By Speed'!$P184*Scenario_VMT_2*$N171","v":0},{"$f":"(VLOOKUP($B171,'By Population'!$G$2:$K$14,5,FALSE))*'By Speed'!$Q184*Scenario_VMT_2*$N171","v":0},{"$f":"(VLOOKUP($B171,'By Population'!$G$2:$K$14,5,FALSE))*'By Speed'!$R184*Scenario_VMT_2*$N171","v":0},{"$f":"(VLOOKUP($B171,'By Population'!$G$2:$K$14,5,FALSE))*'By Speed'!$S184*Scenario_VMT_2*$N171","v":0},{"$f":"(VLOOKUP($B171,'By Population'!$G$2:$K$14,5,FALSE))*'By Speed'!$T184*Scenario_VMT_2*$N171","v":0},{"$f":"(VLOOKUP($B171,'By Population'!$G$2:$K$14,5,FALSE))*'By Speed'!$U184*Scenario_VMT_2*$N171","v":0},0,{"$f":"(VLOOKUP($B171,'By Population'!$G$2:$K$14,5,FALSE))*'By Speed'!$M184*Scenario_VMT_3*$N171","v":0},{"$f":"(VLOOKUP($B171,'By Population'!$G$2:$K$14,5,FALSE))*'By Speed'!$N184*Scenario_VMT_3*$N171","v":0},{"$f":"(VLOOKUP($B171,'By Population'!$G$2:$K$14,5,FALSE))*'By Speed'!$O184*Scenario_VMT_3*$N171","v":0},{"$f":"(VLOOKUP($B171,'By Population'!$G$2:$K$14,5,FALSE))*'By Speed'!$P184*Scenario_VMT_3*$N171","v":0},{"$f":"(VLOOKUP($B171,'By Population'!$G$2:$K$14,5,FALSE))*'By Speed'!$Q184*Scenario_VMT_3*$N171","v":0},{"$f":"(VLOOKUP($B171,'By Population'!$G$2:$K$14,5,FALSE))*'By Speed'!$R184*Scenario_VMT_3*$N171","v":0},{"$f":"(VLOOKUP($B171,'By Population'!$G$2:$K$14,5,FALSE))*'By Speed'!$S184*Scenario_VMT_3*$N171","v":0},{"$f":"(VLOOKUP($B171,'By Population'!$G$2:$K$14,5,FALSE))*'By Speed'!$T184*Scenario_VMT_3*$N171","v":0},{"$f":"(VLOOKUP($B171,'By Population'!$G$2:$K$14,5,FALSE))*'By Speed'!$U184*Scenario_VMT_3*$N171","v":0},0,{"$f":"(VLOOKUP($B171,'By Population'!$G$2:$K$14,5,FALSE))*'By Speed'!$M184*Scenario_VMT_4*$N171","v":0},{"$f":"(VLOOKUP($B171,'By Population'!$G$2:$K$14,5,FALSE))*'By Speed'!$N184*Scenario_VMT_4*$N171","v":0},{"$f":"(VLOOKUP($B171,'By Population'!$G$2:$K$14,5,FALSE))*'By Speed'!$O184*Scenario_VMT_4*$N171","v":0},{"$f":"(VLOOKUP($B171,'By Population'!$G$2:$K$14,5,FALSE))*'By Speed'!$P184*Scenario_VMT_4*$N171","v":0},{"$f":"(VLOOKUP($B171,'By Population'!$G$2:$K$14,5,FALSE))*'By Speed'!$Q184*Scenario_VMT_4*$N171","v":0},{"$f":"(VLOOKUP($B171,'By Population'!$G$2:$K$14,5,FALSE))*'By Speed'!$R184*Scenario_VMT_4*$N171","v":0},{"$f":"(VLOOKUP($B171,'By Population'!$G$2:$K$14,5,FALSE))*'By Speed'!$S184*Scenario_VMT_4*$N171","v":0},{"$f":"(VLOOKUP($B171,'By Population'!$G$2:$K$14,5,FALSE))*'By Speed'!$T184*Scenario_VMT_4*$N171","v":0},{"$f":"(VLOOKUP($B171,'By Population'!$G$2:$K$14,5,FALSE))*'By Speed'!$U184*Scenario_VMT_4*$N171","v":0},0,{"$f":"(VLOOKUP($B171,'By Population'!$G$2:$K$14,5,FALSE))*'By Speed'!$M184*Scenario_VMT_5*$N171","v":0},{"$f":"(VLOOKUP($B171,'By Population'!$G$2:$K$14,5,FALSE))*'By Speed'!$N184*Scenario_VMT_5*$N171","v":0},{"$f":"(VLOOKUP($B171,'By Population'!$G$2:$K$14,5,FALSE))*'By Speed'!$O184*Scenario_VMT_5*$N171","v":0},{"$f":"(VLOOKUP($B171,'By Population'!$G$2:$K$14,5,FALSE))*'By Speed'!$P184*Scenario_VMT_5*$N171","v":0},{"$f":"(VLOOKUP($B171,'By Population'!$G$2:$K$14,5,FALSE))*'By Speed'!$Q184*Scenario_VMT_5*$N171","v":0},{"$f":"(VLOOKUP($B171,'By Population'!$G$2:$K$14,5,FALSE))*'By Speed'!$R184*Scenario_VMT_5*$N171","v":0},{"$f":"(VLOOKUP($B171,'By Population'!$G$2:$K$14,5,FALSE))*'By Speed'!$S184*Scenario_VMT_5*$N171","v":0},{"$f":"(VLOOKUP($B171,'By Population'!$G$2:$K$14,5,FALSE))*'By Speed'!$T184*Scenario_VMT_5*$N171","v":0},{"$f":"(VLOOKUP($B171,'By Population'!$G$2:$K$14,5,FALSE))*'By Speed'!$U184*Scenario_VMT_5*$N171","v":0},0]
[159,"MDV_GAS",15,"MDV_GAS_15",{"$f":"(VLOOKUP($B172,'By Population'!$G$2:$K$14,5,FALSE))*'By Speed'!$M185*Scenario_VMT_EX*$N172","v":0},{"$f":"(VLOOKUP($B172,'By Population'!$G$2:$K$14,5,FALSE))*'By Speed'!$N185*Scenario_VMT_EX*$N172","v":0},{"$f":"(VLOOKUP($B172,'By Population'!$G$2:$K$14,5,FALSE))*'By Speed'!$O185*Scenario_VMT_EX*$N172","v":0},{"$f":"(VLOOKUP($B172,'By Population'!$G$2:$K$14,5,FALSE))*'By Speed'!$P185*Scenario_VMT_EX*$N172","v":0},{"$f":"(VLOOKUP($B172,'By Population'!$G$2:$K$14,5,FALSE))*'By Speed'!$Q185*Scenario_VMT_EX*$N172","v":0},{"$f":"(VLOOKUP($B172,'By Population'!$G$2:$K$14,5,FALSE))*'By Speed'!$R185*Scenario_VMT_EX*$N172","v":0},{"$f":"(VLOOKUP($B172,'By Population'!$G$2:$K$14,5,FALSE))*'By Speed'!$S185*Scenario_VMT_EX*$N172","v":0},{"$f":"(VLOOKUP($B172,'By Population'!$G$2:$K$14,5,FALSE))*'By Speed'!$T185*Scenario_VMT_EX*$N172","v":0},{"$f":"(VLOOKUP($B172,'By Population'!$G$2:$K$14,5,FALSE))*'By Speed'!$U185*Scenario_VMT_EX*$N172","v":0},0,{"$f":"(VLOOKUP($B172,'By Population'!$G$2:$K$14,5,FALSE))*'By Speed'!$M185*Scenario_VMT_1*$N172","v":0},{"$f":"(VLOOKUP($B172,'By Population'!$G$2:$K$14,5,FALSE))*'By Speed'!$N185*Scenario_VMT_1*$N172","v":0},{"$f":"(VLOOKUP($B172,'By Population'!$G$2:$K$14,5,FALSE))*'By Speed'!$O185*Scenario_VMT_1*$N172","v":0},{"$f":"(VLOOKUP($B172,'By Population'!$G$2:$K$14,5,FALSE))*'By Speed'!$P185*Scenario_VMT_1*$N172","v":0},{"$f":"(VLOOKUP($B172,'By Population'!$G$2:$K$14,5,FALSE))*'By Speed'!$Q185*Scenario_VMT_1*$N172","v":0},{"$f":"(VLOOKUP($B172,'By Population'!$G$2:$K$14,5,FALSE))*'By Speed'!$R185*Scenario_VMT_1*$N172","v":0},{"$f":"(VLOOKUP($B172,'By Population'!$G$2:$K$14,5,FALSE))*'By Speed'!$S185*Scenario_VMT_1*$N172","v":0},{"$f":"(VLOOKUP($B172,'By Population'!$G$2:$K$14,5,FALSE))*'By Speed'!$T185*Scenario_VMT_1*$N172","v":0},{"$f":"(VLOOKUP($B172,'By Population'!$G$2:$K$14,5,FALSE))*'By Speed'!$U185*Scenario_VMT_1*$N172","v":0},0,{"$f":"(VLOOKUP($B172,'By Population'!$G$2:$K$14,5,FALSE))*'By Speed'!$M185*Scenario_VMT_2*$N172","v":0},{"$f":"(VLOOKUP($B172,'By Population'!$G$2:$K$14,5,FALSE))*'By Speed'!$N185*Scenario_VMT_2*$N172","v":0},{"$f":"(VLOOKUP($B172,'By Population'!$G$2:$K$14,5,FALSE))*'By Speed'!$O185*Scenario_VMT_2*$N172","v":0},{"$f":"(VLOOKUP($B172,'By Population'!$G$2:$K$14,5,FALSE))*'By Speed'!$P185*Scenario_VMT_2*$N172","v":0},{"$f":"(VLOOKUP($B172,'By Population'!$G$2:$K$14,5,FALSE))*'By Speed'!$Q185*Scenario_VMT_2*$N172","v":0},{"$f":"(VLOOKUP($B172,'By Population'!$G$2:$K$14,5,FALSE))*'By Speed'!$R185*Scenario_VMT_2*$N172","v":0},{"$f":"(VLOOKUP($B172,'By Population'!$G$2:$K$14,5,FALSE))*'By Speed'!$S185*Scenario_VMT_2*$N172","v":0},{"$f":"(VLOOKUP($B172,'By Population'!$G$2:$K$14,5,FALSE))*'By Speed'!$T185*Scenario_VMT_2*$N172","v":0},{"$f":"(VLOOKUP($B172,'By Population'!$G$2:$K$14,5,FALSE))*'By Speed'!$U185*Scenario_VMT_2*$N172","v":0},0,{"$f":"(VLOOKUP($B172,'By Population'!$G$2:$K$14,5,FALSE))*'By Speed'!$M185*Scenario_VMT_3*$N172","v":0},{"$f":"(VLOOKUP($B172,'By Population'!$G$2:$K$14,5,FALSE))*'By Speed'!$N185*Scenario_VMT_3*$N172","v":0},{"$f":"(VLOOKUP($B172,'By Population'!$G$2:$K$14,5,FALSE))*'By Speed'!$O185*Scenario_VMT_3*$N172","v":0},{"$f":"(VLOOKUP($B172,'By Population'!$G$2:$K$14,5,FALSE))*'By Speed'!$P185*Scenario_VMT_3*$N172","v":0},{"$f":"(VLOOKUP($B172,'By Population'!$G$2:$K$14,5,FALSE))*'By Speed'!$Q185*Scenario_VMT_3*$N172","v":0},{"$f":"(VLOOKUP($B172,'By Population'!$G$2:$K$14,5,FALSE))*'By Speed'!$R185*Scenario_VMT_3*$N172","v":0},{"$f":"(VLOOKUP($B172,'By Population'!$G$2:$K$14,5,FALSE))*'By Speed'!$S185*Scenario_VMT_3*$N172","v":0},{"$f":"(VLOOKUP($B172,'By Population'!$G$2:$K$14,5,FALSE))*'By Speed'!$T185*Scenario_VMT_3*$N172","v":0},{"$f":"(VLOOKUP($B172,'By Population'!$G$2:$K$14,5,FALSE))*'By Speed'!$U185*Scenario_VMT_3*$N172","v":0},0,{"$f":"(VLOOKUP($B172,'By Population'!$G$2:$K$14,5,FALSE))*'By Speed'!$M185*Scenario_VMT_4*$N172","v":0},{"$f":"(VLOOKUP($B172,'By Population'!$G$2:$K$14,5,FALSE))*'By Speed'!$N185*Scenario_VMT_4*$N172","v":0},{"$f":"(VLOOKUP($B172,'By Population'!$G$2:$K$14,5,FALSE))*'By Speed'!$O185*Scenario_VMT_4*$N172","v":0},{"$f":"(VLOOKUP($B172,'By Population'!$G$2:$K$14,5,FALSE))*'By Speed'!$P185*Scenario_VMT_4*$N172","v":0},{"$f":"(VLOOKUP($B172,'By Population'!$G$2:$K$14,5,FALSE))*'By Speed'!$Q185*Scenario_VMT_4*$N172","v":0},{"$f":"(VLOOKUP($B172,'By Population'!$G$2:$K$14,5,FALSE))*'By Speed'!$R185*Scenario_VMT_4*$N172","v":0},{"$f":"(VLOOKUP($B172,'By Population'!$G$2:$K$14,5,FALSE))*'By Speed'!$S185*Scenario_VMT_4*$N172","v":0},{"$f":"(VLOOKUP($B172,'By Population'!$G$2:$K$14,5,FALSE))*'By Speed'!$T185*Scenario_VMT_4*$N172","v":0},{"$f":"(VLOOKUP($B172,'By Population'!$G$2:$K$14,5,FALSE))*'By Speed'!$U185*Scenario_VMT_4*$N172","v":0},0,{"$f":"(VLOOKUP($B172,'By Population'!$G$2:$K$14,5,FALSE))*'By Speed'!$M185*Scenario_VMT_5*$N172","v":0},{"$f":"(VLOOKUP($B172,'By Population'!$G$2:$K$14,5,FALSE))*'By Speed'!$N185*Scenario_VMT_5*$N172","v":0},{"$f":"(VLOOKUP($B172,'By Population'!$G$2:$K$14,5,FALSE))*'By Speed'!$O185*Scenario_VMT_5*$N172","v":0},{"$f":"(VLOOKUP($B172,'By Population'!$G$2:$K$14,5,FALSE))*'By Speed'!$P185*Scenario_VMT_5*$N172","v":0},{"$f":"(VLOOKUP($B172,'By Population'!$G$2:$K$14,5,FALSE))*'By Speed'!$Q185*Scenario_VMT_5*$N172","v":0},{"$f":"(VLOOKUP($B172,'By Population'!$G$2:$K$14,5,FALSE))*'By Speed'!$R185*Scenario_VMT_5*$N172","v":0},{"$f":"(VLOOKUP($B172,'By Population'!$G$2:$K$14,5,FALSE))*'By Speed'!$S185*Scenario_VMT_5*$N172","v":0},{"$f":"(VLOOKUP($B172,'By Population'!$G$2:$K$14,5,FALSE))*'By Speed'!$T185*Scenario_VMT_5*$N172","v":0},{"$f":"(VLOOKUP($B172,'By Population'!$G$2:$K$14,5,FALSE))*'By Speed'!$U185*Scenario_VMT_5*$N172","v":0},0]
[161,"MDV_GAS",20,"MDV_GAS_20",{"$f":"(VLOOKUP($B173,'By Population'!$G$2:$K$14,5,FALSE))*'By Speed'!$M186*Scenario_VMT_EX*$N173","v":0},{"$f":"(VLOOKUP($B173,'By Population'!$G$2:$K$14,5,FALSE))*'By Speed'!$N186*Scenario_VMT_EX*$N173","v":0},{"$f":"(VLOOKUP($B173,'By Population'!$G$2:$K$14,5,FALSE))*'By Speed'!$O186*Scenario_VMT_EX*$N173","v":0},{"$f":"(VLOOKUP($B173,'By Population'!$G$2:$K$14,5,FALSE))*'By Speed'!$P186*Scenario_VMT_EX*$N173","v":0},{"$f":"(VLOOKUP($B173,'By Population'!$G$2:$K$14,5,FALSE))*'By Speed'!$Q186*Scenario_VMT_EX*$N173","v":0},{"$f":"(VLOOKUP($B173,'By Population'!$G$2:$K$14,5,FALSE))*'By Speed'!$R186*Scenario_VMT_EX*$N173","v":0},{"$f":"(VLOOKUP($B173,'By Population'!$G$2:$K$14,5,FALSE))*'By Speed'!$S186*Scenario_VMT_EX*$N173","v":0},{"$f":"(VLOOKUP($B173,'By Population'!$G$2:$K$14,5,FALSE))*'By Speed'!$T186*Scenario_VMT_EX*$N173","v":0},{"$f":"(VLOOKUP($B173,'By Population'!$G$2:$K$14,5,FALSE))*'By Speed'!$U186*Scenario_VMT_EX*$N173","v":0},0,{"$f":"(VLOOKUP($B173,'By Population'!$G$2:$K$14,5,FALSE))*'By Speed'!$M186*Scenario_VMT_1*$N173","v":0},{"$f":"(VLOOKUP($B173,'By Population'!$G$2:$K$14,5,FALSE))*'By Speed'!$N186*Scenario_VMT_1*$N173","v":0},{"$f":"(VLOOKUP($B173,'By Population'!$G$2:$K$14,5,FALSE))*'By Speed'!$O186*Scenario_VMT_1*$N173","v":0},{"$f":"(VLOOKUP($B173,'By Population'!$G$2:$K$14,5,FALSE))*'By Speed'!$P186*Scenario_VMT_1*$N173","v":0},{"$f":"(VLOOKUP($B173,'By Population'!$G$2:$K$14,5,FALSE))*'By Speed'!$Q186*Scenario_VMT_1*$N173","v":0},{"$f":"(VLOOKUP($B173,'By Population'!$G$2:$K$14,5,FALSE))*'By Speed'!$R186*Scenario_VMT_1*$N173","v":0},{"$f":"(VLOOKUP($B173,'By Population'!$G$2:$K$14,5,FALSE))*'By Speed'!$S186*Scenario_VMT_1*$N173","v":0},{"$f":"(VLOOKUP($B173,'By Population'!$G$2:$K$14,5,FALSE))*'By Speed'!$T186*Scenario_VMT_1*$N173","v":0},{"$f":"(VLOOKUP($B173,'By Population'!$G$2:$K$14,5,FALSE))*'By Speed'!$U186*Scenario_VMT_1*$N173","v":0},0,{"$f":"(VLOOKUP($B173,'By Population'!$G$2:$K$14,5,FALSE))*'By Speed'!$M186*Scenario_VMT_2*$N173","v":0},{"$f":"(VLOOKUP($B173,'By Population'!$G$2:$K$14,5,FALSE))*'By Speed'!$N186*Scenario_VMT_2*$N173","v":0},{"$f":"(VLOOKUP($B173,'By Population'!$G$2:$K$14,5,FALSE))*'By Speed'!$O186*Scenario_VMT_2*$N173","v":0},{"$f":"(VLOOKUP($B173,'By Population'!$G$2:$K$14,5,FALSE))*'By Speed'!$P186*Scenario_VMT_2*$N173","v":0},{"$f":"(VLOOKUP($B173,'By Population'!$G$2:$K$14,5,FALSE))*'By Speed'!$Q186*Scenario_VMT_2*$N173","v":0},{"$f":"(VLOOKUP($B173,'By Population'!$G$2:$K$14,5,FALSE))*'By Speed'!$R186*Scenario_VMT_2*$N173","v":0},{"$f":"(VLOOKUP($B173,'By Population'!$G$2:$K$14,5,FALSE))*'By Speed'!$S186*Scenario_VMT_2*$N173","v":0},{"$f":"(VLOOKUP($B173,'By Population'!$G$2:$K$14,5,FALSE))*'By Speed'!$T186*Scenario_VMT_2*$N173","v":0},{"$f":"(VLOOKUP($B173,'By Population'!$G$2:$K$14,5,FALSE))*'By Speed'!$U186*Scenario_VMT_2*$N173","v":0},0,{"$f":"(VLOOKUP($B173,'By Population'!$G$2:$K$14,5,FALSE))*'By Speed'!$M186*Scenario_VMT_3*$N173","v":0},{"$f":"(VLOOKUP($B173,'By Population'!$G$2:$K$14,5,FALSE))*'By Speed'!$N186*Scenario_VMT_3*$N173","v":0},{"$f":"(VLOOKUP($B173,'By Population'!$G$2:$K$14,5,FALSE))*'By Speed'!$O186*Scenario_VMT_3*$N173","v":0},{"$f":"(VLOOKUP($B173,'By Population'!$G$2:$K$14,5,FALSE))*'By Speed'!$P186*Scenario_VMT_3*$N173","v":0},{"$f":"(VLOOKUP($B173,'By Population'!$G$2:$K$14,5,FALSE))*'By Speed'!$Q186*Scenario_VMT_3*$N173","v":0},{"$f":"(VLOOKUP($B173,'By Population'!$G$2:$K$14,5,FALSE))*'By Speed'!$R186*Scenario_VMT_3*$N173","v":0},{"$f":"(VLOOKUP($B173,'By Population'!$G$2:$K$14,5,FALSE))*'By Speed'!$S186*Scenario_VMT_3*$N173","v":0},{"$f":"(VLOOKUP($B173,'By Population'!$G$2:$K$14,5,FALSE))*'By Speed'!$T186*Scenario_VMT_3*$N173","v":0},{"$f":"(VLOOKUP($B173,'By Population'!$G$2:$K$14,5,FALSE))*'By Speed'!$U186*Scenario_VMT_3*$N173","v":0},0,{"$f":"(VLOOKUP($B173,'By Population'!$G$2:$K$14,5,FALSE))*'By Speed'!$M186*Scenario_VMT_4*$N173","v":0},{"$f":"(VLOOKUP($B173,'By Population'!$G$2:$K$14,5,FALSE))*'By Speed'!$N186*Scenario_VMT_4*$N173","v":0},{"$f":"(VLOOKUP($B173,'By Population'!$G$2:$K$14,5,FALSE))*'By Speed'!$O186*Scenario_VMT_4*$N173","v":0},{"$f":"(VLOOKUP($B173,'By Population'!$G$2:$K$14,5,FALSE))*'By Speed'!$P186*Scenario_VMT_4*$N173","v":0},{"$f":"(VLOOKUP($B173,'By Population'!$G$2:$K$14,5,FALSE))*'By Speed'!$Q186*Scenario_VMT_4*$N173","v":0},{"$f":"(VLOOKUP($B173,'By Population'!$G$2:$K$14,5,FALSE))*'By Speed'!$R186*Scenario_VMT_4*$N173","v":0},{"$f":"(VLOOKUP($B173,'By Population'!$G$2:$K$14,5,FALSE))*'By Speed'!$S186*Scenario_VMT_4*$N173","v":0},{"$f":"(VLOOKUP($B173,'By Population'!$G$2:$K$14,5,FALSE))*'By Speed'!$T186*Scenario_VMT_4*$N173","v":0},{"$f":"(VLOOKUP($B173,'By Population'!$G$2:$K$14,5,FALSE))*'By Speed'!$U186*Scenario_VMT_4*$N173","v":0},0,{"$f":"(VLOOKUP($B173,'By Population'!$G$2:$K$14,5,FALSE))*'By Speed'!$M186*Scenario_VMT_5*$N173","v":0},{"$f":"(VLOOKUP($B173,'By Population'!$G$2:$K$14,5,FALSE))*'By Speed'!$N186*Scenario_VMT_5*$N173","v":0},{"$f":"(VLOOKUP($B173,'By Population'!$G$2:$K$14,5,FALSE))*'By Speed'!$O186*Scenario_VMT_5*$N173","v":0},{"$f":"(VLOOKUP($B173,'By Population'!$G$2:$K$14,5,FALSE))*'By Speed'!$P186*Scenario_VMT_5*$N173","v":0},{"$f":"(VLOOKUP($B173,'By Population'!$G$2:$K$14,5,FALSE))*'By Speed'!$Q186*Scenario_VMT_5*$N173","v":0},{"$f":"(VLOOKUP($B173,'By Population'!$G$2:$K$14,5,FALSE))*'By Speed'!$R186*Scenario_VMT_5*$N173","v":0},{"$f":"(VLOOKUP($B173,'By Population'!$G$2:$K$14,5,FALSE))*'By Speed'!$S186*Scenario_VMT_5*$N173","v":0},{"$f":"(VLOOKUP($B173,'By Population'!$G$2:$K$14,5,FALSE))*'By Speed'!$T186*Scenario_VMT_5*$N173","v":0},{"$f":"(VLOOKUP($B173,'By Population'!$G$2:$K$14,5,FALSE))*'By Speed'!$U186*Scenario_VMT_5*$N173","v":0},0]
[163,"MDV_GAS",25,"MDV_GAS_25",{"$f":"(VLOOKUP($B174,'By Population'!$G$2:$K$14,5,FALSE))*'By Speed'!$M187*Scenario_VMT_EX*$N174","v":0},{"$f":"(VLOOKUP($B174,'By Population'!$G$2:$K$14,5,FALSE))*'By Speed'!$N187*Scenario_VMT_EX*$N174","v":0},{"$f":"(VLOOKUP($B174,'By Population'!$G$2:$K$14,5,FALSE))*'By Speed'!$O187*Scenario_VMT_EX*$N174","v":0},{"$f":"(VLOOKUP($B174,'By Population'!$G$2:$K$14,5,FALSE))*'By Speed'!$P187*Scenario_VMT_EX*$N174","v":0},{"$f":"(VLOOKUP($B174,'By Population'!$G$2:$K$14,5,FALSE))*'By Speed'!$Q187*Scenario_VMT_EX*$N174","v":0},{"$f":"(VLOOKUP($B174,'By Population'!$G$2:$K$14,5,FALSE))*'By Speed'!$R187*Scenario_VMT_EX*$N174","v":0},{"$f":"(VLOOKUP($B174,'By Population'!$G$2:$K$14,5,FALSE))*'By Speed'!$S187*Scenario_VMT_EX*$N174","v":0},{"$f":"(VLOOKUP($B174,'By Population'!$G$2:$K$14,5,FALSE))*'By Speed'!$T187*Scenario_VMT_EX*$N174","v":0},{"$f":"(VLOOKUP($B174,'By Population'!$G$2:$K$14,5,FALSE))*'By Speed'!$U187*Scenario_VMT_EX*$N174","v":0},1,{"$f":"(VLOOKUP($B174,'By Population'!$G$2:$K$14,5,FALSE))*'By Speed'!$M187*Scenario_VMT_1*$N174","v":0},{"$f":"(VLOOKUP($B174,'By Population'!$G$2:$K$14,5,FALSE))*'By Speed'!$N187*Scenario_VMT_1*$N174","v":0},{"$f":"(VLOOKUP($B174,'By Population'!$G$2:$K$14,5,FALSE))*'By Speed'!$O187*Scenario_VMT_1*$N174","v":0},{"$f":"(VLOOKUP($B174,'By Population'!$G$2:$K$14,5,FALSE))*'By Speed'!$P187*Scenario_VMT_1*$N174","v":0},{"$f":"(VLOOKUP($B174,'By Population'!$G$2:$K$14,5,FALSE))*'By Speed'!$Q187*Scenario_VMT_1*$N174","v":0},{"$f":"(VLOOKUP($B174,'By Population'!$G$2:$K$14,5,FALSE))*'By Speed'!$R187*Scenario_VMT_1*$N174","v":0},{"$f":"(VLOOKUP($B174,'By Population'!$G$2:$K$14,5,FALSE))*'By Speed'!$S187*Scenario_VMT_1*$N174","v":0},{"$f":"(VLOOKUP($B174,'By Population'!$G$2:$K$14,5,FALSE))*'By Speed'!$T187*Scenario_VMT_1*$N174","v":0},{"$f":"(VLOOKUP($B174,'By Population'!$G$2:$K$14,5,FALSE))*'By Speed'!$U187*Scenario_VMT_1*$N174","v":0},0,{"$f":"(VLOOKUP($B174,'By Population'!$G$2:$K$14,5,FALSE))*'By Speed'!$M187*Scenario_VMT_2*$N174","v":0},{"$f":"(VLOOKUP($B174,'By Population'!$G$2:$K$14,5,FALSE))*'By Speed'!$N187*Scenario_VMT_2*$N174","v":0},{"$f":"(VLOOKUP($B174,'By Population'!$G$2:$K$14,5,FALSE))*'By Speed'!$O187*Scenario_VMT_2*$N174","v":0},{"$f":"(VLOOKUP($B174,'By Population'!$G$2:$K$14,5,FALSE))*'By Speed'!$P187*Scenario_VMT_2*$N174","v":0},{"$f":"(VLOOKUP($B174,'By Population'!$G$2:$K$14,5,FALSE))*'By Speed'!$Q187*Scenario_VMT_2*$N174","v":0},{"$f":"(VLOOKUP($B174,'By Population'!$G$2:$K$14,5,FALSE))*'By Speed'!$R187*Scenario_VMT_2*$N174","v":0},{"$f":"(VLOOKUP($B174,'By Population'!$G$2:$K$14,5,FALSE))*'By Speed'!$S187*Scenario_VMT_2*$N174","v":0},{"$f":"(VLOOKUP($B174,'By Population'!$G$2:$K$14,5,FALSE))*'By Speed'!$T187*Scenario_VMT_2*$N174","v":0},{"$f":"(VLOOKUP($B174,'By Population'!$G$2:$K$14,5,FALSE))*'By Speed'!$U187*Scenario_VMT_2*$N174","v":0},0,{"$f":"(VLOOKUP($B174,'By Population'!$G$2:$K$14,5,FALSE))*'By Speed'!$M187*Scenario_VMT_3*$N174","v":0},{"$f":"(VLOOKUP($B174,'By Population'!$G$2:$K$14,5,FALSE))*'By Speed'!$N187*Scenario_VMT_3*$N174","v":0},{"$f":"(VLOOKUP($B174,'By Population'!$G$2:$K$14,5,FALSE))*'By Speed'!$O187*Scenario_VMT_3*$N174","v":0},{"$f":"(VLOOKUP($B174,'By Population'!$G$2:$K$14,5,FALSE))*'By Speed'!$P187*Scenario_VMT_3*$N174","v":0},{"$f":"(VLOOKUP($B174,'By Population'!$G$2:$K$14,5,FALSE))*'By Speed'!$Q187*Scenario_VMT_3*$N174","v":0},{"$f":"(VLOOKUP($B174,'By Population'!$G$2:$K$14,5,FALSE))*'By Speed'!$R187*Scenario_VMT_3*$N174","v":0},{"$f":"(VLOOKUP($B174,'By Population'!$G$2:$K$14,5,FALSE))*'By Speed'!$S187*Scenario_VMT_3*$N174","v":0},{"$f":"(VLOOKUP($B174,'By Population'!$G$2:$K$14,5,FALSE))*'By Speed'!$T187*Scenario_VMT_3*$N174","v":0},{"$f":"(VLOOKUP($B174,'By Population'!$G$2:$K$14,5,FALSE))*'By Speed'!$U187*Scenario_VMT_3*$N174","v":0},0,{"$f":"(VLOOKUP($B174,'By Population'!$G$2:$K$14,5,FALSE))*'By Speed'!$M187*Scenario_VMT_4*$N174","v":0},{"$f":"(VLOOKUP($B174,'By Population'!$G$2:$K$14,5,FALSE))*'By Speed'!$N187*Scenario_VMT_4*$N174","v":0},{"$f":"(VLOOKUP($B174,'By Population'!$G$2:$K$14,5,FALSE))*'By Speed'!$O187*Scenario_VMT_4*$N174","v":0},{"$f":"(VLOOKUP($B174,'By Population'!$G$2:$K$14,5,FALSE))*'By Speed'!$P187*Scenario_VMT_4*$N174","v":0},{"$f":"(VLOOKUP($B174,'By Population'!$G$2:$K$14,5,FALSE))*'By Speed'!$Q187*Scenario_VMT_4*$N174","v":0},{"$f":"(VLOOKUP($B174,'By Population'!$G$2:$K$14,5,FALSE))*'By Speed'!$R187*Scenario_VMT_4*$N174","v":0},{"$f":"(VLOOKUP($B174,'By Population'!$G$2:$K$14,5,FALSE))*'By Speed'!$S187*Scenario_VMT_4*$N174","v":0},{"$f":"(VLOOKUP($B174,'By Population'!$G$2:$K$14,5,FALSE))*'By Speed'!$T187*Scenario_VMT_4*$N174","v":0},{"$f":"(VLOOKUP($B174,'By Population'!$G$2:$K$14,5,FALSE))*'By Speed'!$U187*Scenario_VMT_4*$N174","v":0},0,{"$f":"(VLOOKUP($B174,'By Population'!$G$2:$K$14,5,FALSE))*'By Speed'!$M187*Scenario_VMT_5*$N174","v":0},{"$f":"(VLOOKUP($B174,'By Population'!$G$2:$K$14,5,FALSE))*'By Speed'!$N187*Scenario_VMT_5*$N174","v":0},{"$f":"(VLOOKUP($B174,'By Population'!$G$2:$K$14,5,FALSE))*'By Speed'!$O187*Scenario_VMT_5*$N174","v":0},{"$f":"(VLOOKUP($B174,'By Population'!$G$2:$K$14,5,FALSE))*'By Speed'!$P187*Scenario_VMT_5*$N174","v":0},{"$f":"(VLOOKUP($B174,'By Population'!$G$2:$K$14,5,FALSE))*'By Speed'!$Q187*Scenario_VMT_5*$N174","v":0},{"$f":"(VLOOKUP($B174,'By Population'!$G$2:$K$14,5,FALSE))*'By Speed'!$R187*Scenario_VMT_5*$N174","v":0},{"$f":"(VLOOKUP($B174,'By Population'!$G$2:$K$14,5,FALSE))*'By Speed'!$S187*Scenario_VMT_5*$N174","v":0},{"$f":"(VLOOKUP($B174,'By Population'!$G$2:$K$14,5,FALSE))*'By Speed'!$T187*Scenario_VMT_5*$N174","v":0},{"$f":"(VLOOKUP($B174,'By Population'!$G$2:$K$14,5,FALSE))*'By Speed'!$U187*Scenario_VMT_5*$N174","v":0},0]
[165,"MDV_GAS",30,"MDV_GAS_30",{"$f":"(VLOOKUP($B175,'By Population'!$G$2:$K$14,5,FALSE))*'By Speed'!$M188*Scenario_VMT_EX*$N175","v":0},{"$f":"(VLOOKUP($B175,'By Population'!$G$2:$K$14,5,FALSE))*'By Speed'!$N188*Scenario_VMT_EX*$N175","v":0},{"$f":"(VLOOKUP($B175,'By Population'!$G$2:$K$14,5,FALSE))*'By Speed'!$O188*Scenario_VMT_EX*$N175","v":0},{"$f":"(VLOOKUP($B175,'By Population'!$G$2:$K$14,5,FALSE))*'By Speed'!$P188*Scenario_VMT_EX*$N175","v":0},{"$f":"(VLOOKUP($B175,'By Population'!$G$2:$K$14,5,FALSE))*'By Speed'!$Q188*Scenario_VMT_EX*$N175","v":0},{"$f":"(VLOOKUP($B175,'By Population'!$G$2:$K$14,5,FALSE))*'By Speed'!$R188*Scenario_VMT_EX*$N175","v":0},{"$f":"(VLOOKUP($B175,'By Population'!$G$2:$K$14,5,FALSE))*'By Speed'!$S188*Scenario_VMT_EX*$N175","v":0},{"$f":"(VLOOKUP($B175,'By Population'!$G$2:$K$14,5,FALSE))*'By Speed'!$T188*Scenario_VMT_EX*$N175","v":0},{"$f":"(VLOOKUP($B175,'By Population'!$G$2:$K$14,5,FALSE))*'By Speed'!$U188*Scenario_VMT_EX*$N175","v":0},0,{"$f":"(VLOOKUP($B175,'By Population'!$G$2:$K$14,5,FALSE))*'By Speed'!$M188*Scenario_VMT_1*$N175","v":0},{"$f":"(VLOOKUP($B175,'By Population'!$G$2:$K$14,5,FALSE))*'By Speed'!$N188*Scenario_VMT_1*$N175","v":0},{"$f":"(VLOOKUP($B175,'By Population'!$G$2:$K$14,5,FALSE))*'By Speed'!$O188*Scenario_VMT_1*$N175","v":0},{"$f":"(VLOOKUP($B175,'By Population'!$G$2:$K$14,5,FALSE))*'By Speed'!$P188*Scenario_VMT_1*$N175","v":0},{"$f":"(VLOOKUP($B175,'By Population'!$G$2:$K$14,5,FALSE))*'By Speed'!$Q188*Scenario_VMT_1*$N175","v":0},{"$f":"(VLOOKUP($B175,'By Population'!$G$2:$K$14,5,FALSE))*'By Speed'!$R188*Scenario_VMT_1*$N175","v":0},{"$f":"(VLOOKUP($B175,'By Population'!$G$2:$K$14,5,FALSE))*'By Speed'!$S188*Scenario_VMT_1*$N175","v":0},{"$f":"(VLOOKUP($B175,'By Population'!$G$2:$K$14,5,FALSE))*'By Speed'!$T188*Scenario_VMT_1*$N175","v":0},{"$f":"(VLOOKUP($B175,'By Population'!$G$2:$K$14,5,FALSE))*'By Speed'!$U188*Scenario_VMT_1*$N175","v":0},0,{"$f":"(VLOOKUP($B175,'By Population'!$G$2:$K$14,5,FALSE))*'By Speed'!$M188*Scenario_VMT_2*$N175","v":0},{"$f":"(VLOOKUP($B175,'By Population'!$G$2:$K$14,5,FALSE))*'By Speed'!$N188*Scenario_VMT_2*$N175","v":0},{"$f":"(VLOOKUP($B175,'By Population'!$G$2:$K$14,5,FALSE))*'By Speed'!$O188*Scenario_VMT_2*$N175","v":0},{"$f":"(VLOOKUP($B175,'By Population'!$G$2:$K$14,5,FALSE))*'By Speed'!$P188*Scenario_VMT_2*$N175","v":0},{"$f":"(VLOOKUP($B175,'By Population'!$G$2:$K$14,5,FALSE))*'By Speed'!$Q188*Scenario_VMT_2*$N175","v":0},{"$f":"(VLOOKUP($B175,'By Population'!$G$2:$K$14,5,FALSE))*'By Speed'!$R188*Scenario_VMT_2*$N175","v":0},{"$f":"(VLOOKUP($B175,'By Population'!$G$2:$K$14,5,FALSE))*'By Speed'!$S188*Scenario_VMT_2*$N175","v":0},{"$f":"(VLOOKUP($B175,'By Population'!$G$2:$K$14,5,FALSE))*'By Speed'!$T188*Scenario_VMT_2*$N175","v":0},{"$f":"(VLOOKUP($B175,'By Population'!$G$2:$K$14,5,FALSE))*'By Speed'!$U188*Scenario_VMT_2*$N175","v":0},0,{"$f":"(VLOOKUP($B175,'By Population'!$G$2:$K$14,5,FALSE))*'By Speed'!$M188*Scenario_VMT_3*$N175","v":0},{"$f":"(VLOOKUP($B175,'By Population'!$G$2:$K$14,5,FALSE))*'By Speed'!$N188*Scenario_VMT_3*$N175","v":0},{"$f":"(VLOOKUP($B175,'By Population'!$G$2:$K$14,5,FALSE))*'By Speed'!$O188*Scenario_VMT_3*$N175","v":0},{"$f":"(VLOOKUP($B175,'By Population'!$G$2:$K$14,5,FALSE))*'By Speed'!$P188*Scenario_VMT_3*$N175","v":0},{"$f":"(VLOOKUP($B175,'By Population'!$G$2:$K$14,5,FALSE))*'By Speed'!$Q188*Scenario_VMT_3*$N175","v":0},{"$f":"(VLOOKUP($B175,'By Population'!$G$2:$K$14,5,FALSE))*'By Speed'!$R188*Scenario_VMT_3*$N175","v":0},{"$f":"(VLOOKUP($B175,'By Population'!$G$2:$K$14,5,FALSE))*'By Speed'!$S188*Scenario_VMT_3*$N175","v":0},{"$f":"(VLOOKUP($B175,'By Population'!$G$2:$K$14,5,FALSE))*'By Speed'!$T188*Scenario_VMT_3*$N175","v":0},{"$f":"(VLOOKUP($B175,'By Population'!$G$2:$K$14,5,FALSE))*'By Speed'!$U188*Scenario_VMT_3*$N175","v":0},0,{"$f":"(VLOOKUP($B175,'By Population'!$G$2:$K$14,5,FALSE))*'By Speed'!$M188*Scenario_VMT_4*$N175","v":0},{"$f":"(VLOOKUP($B175,'By Population'!$G$2:$K$14,5,FALSE))*'By Speed'!$N188*Scenario_VMT_4*$N175","v":0},{"$f":"(VLOOKUP($B175,'By Population'!$G$2:$K$14,5,FALSE))*'By Speed'!$O188*Scenario_VMT_4*$N175","v":0},{"$f":"(VLOOKUP($B175,'By Population'!$G$2:$K$14,5,FALSE))*'By Speed'!$P188*Scenario_VMT_4*$N175","v":0},{"$f":"(VLOOKUP($B175,'By Population'!$G$2:$K$14,5,FALSE))*'By Speed'!$Q188*Scenario_VMT_4*$N175","v":0},{"$f":"(VLOOKUP($B175,'By Population'!$G$2:$K$14,5,FALSE))*'By Speed'!$R188*Scenario_VMT_4*$N175","v":0},{"$f":"(VLOOKUP($B175,'By Population'!$G$2:$K$14,5,FALSE))*'By Speed'!$S188*Scenario_VMT_4*$N175","v":0},{"$f":"(VLOOKUP($B175,'By Population'!$G$2:$K$14,5,FALSE))*'By Speed'!$T188*Scenario_VMT_4*$N175","v":0},{"$f":"(VLOOKUP($B175,'By Population'!$G$2:$K$14,5,FALSE))*'By Speed'!$U188*Scenario_VMT_4*$N175","v":0},0,{"$f":"(VLOOKUP($B175,'By Population'!$G$2:$K$14,5,FALSE))*'By Speed'!$M188*Scenario_VMT_5*$N175","v":0},{"$f":"(VLOOKUP($B175,'By Population'!$G$2:$K$14,5,FALSE))*'By Speed'!$N188*Scenario_VMT_5*$N175","v":0},{"$f":"(VLOOKUP($B175,'By Population'!$G$2:$K$14,5,FALSE))*'By Speed'!$O188*Scenario_VMT_5*$N175","v":0},{"$f":"(VLOOKUP($B175,'By Population'!$G$2:$K$14,5,FALSE))*'By Speed'!$P188*Scenario_VMT_5*$N175","v":0},{"$f":"(VLOOKUP($B175,'By Population'!$G$2:$K$14,5,FALSE))*'By Speed'!$Q188*Scenario_VMT_5*$N175","v":0},{"$f":"(VLOOKUP($B175,'By Population'!$G$2:$K$14,5,FALSE))*'By Speed'!$R188*Scenario_VMT_5*$N175","v":0},{"$f":"(VLOOKUP($B175,'By Population'!$G$2:$K$14,5,FALSE))*'By Speed'!$S188*Scenario_VMT_5*$N175","v":0},{"$f":"(VLOOKUP($B175,'By Population'!$G$2:$K$14,5,FALSE))*'By Speed'!$T188*Scenario_VMT_5*$N175","v":0},{"$f":"(VLOOKUP($B175,'By Population'!$G$2:$K$14,5,FALSE))*'By Speed'!$U188*Scenario_VMT_5*$N175","v":0},0]
[167,"MDV_GAS",35,"MDV_GAS_35",{"$f":"(VLOOKUP($B176,'By Population'!$G$2:$K$14,5,FALSE))*'By Speed'!$M189*Scenario_VMT_EX*$N176","v":0},{"$f":"(VLOOKUP($B176,'By Population'!$G$2:$K$14,5,FALSE))*'By Speed'!$N189*Scenario_VMT_EX*$N176","v":0},{"$f":"(VLOOKUP($B176,'By Population'!$G$2:$K$14,5,FALSE))*'By Speed'!$O189*Scenario_VMT_EX*$N176","v":0},{"$f":"(VLOOKUP($B176,'By Population'!$G$2:$K$14,5,FALSE))*'By Speed'!$P189*Scenario_VMT_EX*$N176","v":0},{"$f":"(VLOOKUP($B176,'By Population'!$G$2:$K$14,5,FALSE))*'By Speed'!$Q189*Scenario_VMT_EX*$N176","v":0},{"$f":"(VLOOKUP($B176,'By Population'!$G$2:$K$14,5,FALSE))*'By Speed'!$R189*Scenario_VMT_EX*$N176","v":0},{"$f":"(VLOOKUP($B176,'By Population'!$G$2:$K$14,5,FALSE))*'By Speed'!$S189*Scenario_VMT_EX*$N176","v":0},{"$f":"(VLOOKUP($B176,'By Population'!$G$2:$K$14,5,FALSE))*'By Speed'!$T189*Scenario_VMT_EX*$N176","v":0},{"$f":"(VLOOKUP($B176,'By Population'!$G$2:$K$14,5,FALSE))*'By Speed'!$U189*Scenario_VMT_EX*$N176","v":0},0,{"$f":"(VLOOKUP($B176,'By Population'!$G$2:$K$14,5,FALSE))*'By Speed'!$M189*Scenario_VMT_1*$N176","v":0},{"$f":"(VLOOKUP($B176,'By Population'!$G$2:$K$14,5,FALSE))*'By Speed'!$N189*Scenario_VMT_1*$N176","v":0},{"$f":"(VLOOKUP($B176,'By Population'!$G$2:$K$14,5,FALSE))*'By Speed'!$O189*Scenario_VMT_1*$N176","v":0},{"$f":"(VLOOKUP($B176,'By Population'!$G$2:$K$14,5,FALSE))*'By Speed'!$P189*Scenario_VMT_1*$N176","v":0},{"$f":"(VLOOKUP($B176,'By Population'!$G$2:$K$14,5,FALSE))*'By Speed'!$Q189*Scenario_VMT_1*$N176","v":0},{"$f":"(VLOOKUP($B176,'By Population'!$G$2:$K$14,5,FALSE))*'By Speed'!$R189*Scenario_VMT_1*$N176","v":0},{"$f":"(VLOOKUP($B176,'By Population'!$G$2:$K$14,5,FALSE))*'By Speed'!$S189*Scenario_VMT_1*$N176","v":0},{"$f":"(VLOOKUP($B176,'By Population'!$G$2:$K$14,5,FALSE))*'By Speed'!$T189*Scenario_VMT_1*$N176","v":0},{"$f":"(VLOOKUP($B176,'By Population'!$G$2:$K$14,5,FALSE))*'By Speed'!$U189*Scenario_VMT_1*$N176","v":0},0,{"$f":"(VLOOKUP($B176,'By Population'!$G$2:$K$14,5,FALSE))*'By Speed'!$M189*Scenario_VMT_2*$N176","v":0},{"$f":"(VLOOKUP($B176,'By Population'!$G$2:$K$14,5,FALSE))*'By Speed'!$N189*Scenario_VMT_2*$N176","v":0},{"$f":"(VLOOKUP($B176,'By Population'!$G$2:$K$14,5,FALSE))*'By Speed'!$O189*Scenario_VMT_2*$N176","v":0},{"$f":"(VLOOKUP($B176,'By Population'!$G$2:$K$14,5,FALSE))*'By Speed'!$P189*Scenario_VMT_2*$N176","v":0},{"$f":"(VLOOKUP($B176,'By Population'!$G$2:$K$14,5,FALSE))*'By Speed'!$Q189*Scenario_VMT_2*$N176","v":0},{"$f":"(VLOOKUP($B176,'By Population'!$G$2:$K$14,5,FALSE))*'By Speed'!$R189*Scenario_VMT_2*$N176","v":0},{"$f":"(VLOOKUP($B176,'By Population'!$G$2:$K$14,5,FALSE))*'By Speed'!$S189*Scenario_VMT_2*$N176","v":0},{"$f":"(VLOOKUP($B176,'By Population'!$G$2:$K$14,5,FALSE))*'By Speed'!$T189*Scenario_VMT_2*$N176","v":0},{"$f":"(VLOOKUP($B176,'By Population'!$G$2:$K$14,5,FALSE))*'By Speed'!$U189*Scenario_VMT_2*$N176","v":0},0,{"$f":"(VLOOKUP($B176,'By Population'!$G$2:$K$14,5,FALSE))*'By Speed'!$M189*Scenario_VMT_3*$N176","v":0},{"$f":"(VLOOKUP($B176,'By Population'!$G$2:$K$14,5,FALSE))*'By Speed'!$N189*Scenario_VMT_3*$N176","v":0},{"$f":"(VLOOKUP($B176,'By Population'!$G$2:$K$14,5,FALSE))*'By Speed'!$O189*Scenario_VMT_3*$N176","v":0},{"$f":"(VLOOKUP($B176,'By Population'!$G$2:$K$14,5,FALSE))*'By Speed'!$P189*Scenario_VMT_3*$N176","v":0},{"$f":"(VLOOKUP($B176,'By Population'!$G$2:$K$14,5,FALSE))*'By Speed'!$Q189*Scenario_VMT_3*$N176","v":0},{"$f":"(VLOOKUP($B176,'By Population'!$G$2:$K$14,5,FALSE))*'By Speed'!$R189*Scenario_VMT_3*$N176","v":0},{"$f":"(VLOOKUP($B176,'By Population'!$G$2:$K$14,5,FALSE))*'By Speed'!$S189*Scenario_VMT_3*$N176","v":0},{"$f":"(VLOOKUP($B176,'By Population'!$G$2:$K$14,5,FALSE))*'By Speed'!$T189*Scenario_VMT_3*$N176","v":0},{"$f":"(VLOOKUP($B176,'By Population'!$G$2:$K$14,5,FALSE))*'By Speed'!$U189*Scenario_VMT_3*$N176","v":0},0,{"$f":"(VLOOKUP($B176,'By Population'!$G$2:$K$14,5,FALSE))*'By Speed'!$M189*Scenario_VMT_4*$N176","v":0},{"$f":"(VLOOKUP($B176,'By Population'!$G$2:$K$14,5,FALSE))*'By Speed'!$N189*Scenario_VMT_4*$N176","v":0},{"$f":"(VLOOKUP($B176,'By Population'!$G$2:$K$14,5,FALSE))*'By Speed'!$O189*Scenario_VMT_4*$N176","v":0},{"$f":"(VLOOKUP($B176,'By Population'!$G$2:$K$14,5,FALSE))*'By Speed'!$P189*Scenario_VMT_4*$N176","v":0},{"$f":"(VLOOKUP($B176,'By Population'!$G$2:$K$14,5,FALSE))*'By Speed'!$Q189*Scenario_VMT_4*$N176","v":0},{"$f":"(VLOOKUP($B176,'By Population'!$G$2:$K$14,5,FALSE))*'By Speed'!$R189*Scenario_VMT_4*$N176","v":0},{"$f":"(VLOOKUP($B176,'By Population'!$G$2:$K$14,5,FALSE))*'By Speed'!$S189*Scenario_VMT_4*$N176","v":0},{"$f":"(VLOOKUP($B176,'By Population'!$G$2:$K$14,5,FALSE))*'By Speed'!$T189*Scenario_VMT_4*$N176","v":0},{"$f":"(VLOOKUP($B176,'By Population'!$G$2:$K$14,5,FALSE))*'By Speed'!$U189*Scenario_VMT_4*$N176","v":0},0,{"$f":"(VLOOKUP($B176,'By Population'!$G$2:$K$14,5,FALSE))*'By Speed'!$M189*Scenario_VMT_5*$N176","v":0},{"$f":"(VLOOKUP($B176,'By Population'!$G$2:$K$14,5,FALSE))*'By Speed'!$N189*Scenario_VMT_5*$N176","v":0},{"$f":"(VLOOKUP($B176,'By Population'!$G$2:$K$14,5,FALSE))*'By Speed'!$O189*Scenario_VMT_5*$N176","v":0},{"$f":"(VLOOKUP($B176,'By Population'!$G$2:$K$14,5,FALSE))*'By Speed'!$P189*Scenario_VMT_5*$N176","v":0},{"$f":"(VLOOKUP($B176,'By Population'!$G$2:$K$14,5,FALSE))*'By Speed'!$Q189*Scenario_VMT_5*$N176","v":0},{"$f":"(VLOOKUP($B176,'By Population'!$G$2:$K$14,5,FALSE))*'By Speed'!$R189*Scenario_VMT_5*$N176","v":0},{"$f":"(VLOOKUP($B176,'By Population'!$G$2:$K$14,5,FALSE))*'By Speed'!$S189*Scenario_VMT_5*$N176","v":0},{"$f":"(VLOOKUP($B176,'By Population'!$G$2:$K$14,5,FALSE))*'By Speed'!$T189*Scenario_VMT_5*$N176","v":0},{"$f":"(VLOOKUP($B176,'By Population'!$G$2:$K$14,5,FALSE))*'By Speed'!$U189*Scenario_VMT_5*$N176","v":0},0]
[169,"MDV_GAS",40,"MDV_GAS_40",{"$f":"(VLOOKUP($B177,'By Population'!$G$2:$K$14,5,FALSE))*'By Speed'!$M190*Scenario_VMT_EX*$N177","v":0},{"$f":"(VLOOKUP($B177,'By Population'!$G$2:$K$14,5,FALSE))*'By Speed'!$N190*Scenario_VMT_EX*$N177","v":0},{"$f":"(VLOOKUP($B177,'By Population'!$G$2:$K$14,5,FALSE))*'By Speed'!$O190*Scenario_VMT_EX*$N177","v":0},{"$f":"(VLOOKUP($B177,'By Population'!$G$2:$K$14,5,FALSE))*'By Speed'!$P190*Scenario_VMT_EX*$N177","v":0},{"$f":"(VLOOKUP($B177,'By Population'!$G$2:$K$14,5,FALSE))*'By Speed'!$Q190*Scenario_VMT_EX*$N177","v":0},{"$f":"(VLOOKUP($B177,'By Population'!$G$2:$K$14,5,FALSE))*'By Speed'!$R190*Scenario_VMT_EX*$N177","v":0},{"$f":"(VLOOKUP($B177,'By Population'!$G$2:$K$14,5,FALSE))*'By Speed'!$S190*Scenario_VMT_EX*$N177","v":0},{"$f":"(VLOOKUP($B177,'By Population'!$G$2:$K$14,5,FALSE))*'By Speed'!$T190*Scenario_VMT_EX*$N177","v":0},{"$f":"(VLOOKUP($B177,'By Population'!$G$2:$K$14,5,FALSE))*'By Speed'!$U190*Scenario_VMT_EX*$N177","v":0},0,{"$f":"(VLOOKUP($B177,'By Population'!$G$2:$K$14,5,FALSE))*'By Speed'!$M190*Scenario_VMT_1*$N177","v":0},{"$f":"(VLOOKUP($B177,'By Population'!$G$2:$K$14,5,FALSE))*'By Speed'!$N190*Scenario_VMT_1*$N177","v":0},{"$f":"(VLOOKUP($B177,'By Population'!$G$2:$K$14,5,FALSE))*'By Speed'!$O190*Scenario_VMT_1*$N177","v":0},{"$f":"(VLOOKUP($B177,'By Population'!$G$2:$K$14,5,FALSE))*'By Speed'!$P190*Scenario_VMT_1*$N177","v":0},{"$f":"(VLOOKUP($B177,'By Population'!$G$2:$K$14,5,FALSE))*'By Speed'!$Q190*Scenario_VMT_1*$N177","v":0},{"$f":"(VLOOKUP($B177,'By Population'!$G$2:$K$14,5,FALSE))*'By Speed'!$R190*Scenario_VMT_1*$N177","v":0},{"$f":"(VLOOKUP($B177,'By Population'!$G$2:$K$14,5,FALSE))*'By Speed'!$S190*Scenario_VMT_1*$N177","v":0},{"$f":"(VLOOKUP($B177,'By Population'!$G$2:$K$14,5,FALSE))*'By Speed'!$T190*Scenario_VMT_1*$N177","v":0},{"$f":"(VLOOKUP($B177,'By Population'!$G$2:$K$14,5,FALSE))*'By Speed'!$U190*Scenario_VMT_1*$N177","v":0},0,{"$f":"(VLOOKUP($B177,'By Population'!$G$2:$K$14,5,FALSE))*'By Speed'!$M190*Scenario_VMT_2*$N177","v":0},{"$f":"(VLOOKUP($B177,'By Population'!$G$2:$K$14,5,FALSE))*'By Speed'!$N190*Scenario_VMT_2*$N177","v":0},{"$f":"(VLOOKUP($B177,'By Population'!$G$2:$K$14,5,FALSE))*'By Speed'!$O190*Scenario_VMT_2*$N177","v":0},{"$f":"(VLOOKUP($B177,'By Population'!$G$2:$K$14,5,FALSE))*'By Speed'!$P190*Scenario_VMT_2*$N177","v":0},{"$f":"(VLOOKUP($B177,'By Population'!$G$2:$K$14,5,FALSE))*'By Speed'!$Q190*Scenario_VMT_2*$N177","v":0},{"$f":"(VLOOKUP($B177,'By Population'!$G$2:$K$14,5,FALSE))*'By Speed'!$R190*Scenario_VMT_2*$N177","v":0},{"$f":"(VLOOKUP($B177,'By Population'!$G$2:$K$14,5,FALSE))*'By Speed'!$S190*Scenario_VMT_2*$N177","v":0},{"$f":"(VLOOKUP($B177,'By Population'!$G$2:$K$14,5,FALSE))*'By Speed'!$T190*Scenario_VMT_2*$N177","v":0},{"$f":"(VLOOKUP($B177,'By Population'!$G$2:$K$14,5,FALSE))*'By Speed'!$U190*Scenario_VMT_2*$N177","v":0},0,{"$f":"(VLOOKUP($B177,'By Population'!$G$2:$K$14,5,FALSE))*'By Speed'!$M190*Scenario_VMT_3*$N177","v":0},{"$f":"(VLOOKUP($B177,'By Population'!$G$2:$K$14,5,FALSE))*'By Speed'!$N190*Scenario_VMT_3*$N177","v":0},{"$f":"(VLOOKUP($B177,'By Population'!$G$2:$K$14,5,FALSE))*'By Speed'!$O190*Scenario_VMT_3*$N177","v":0},{"$f":"(VLOOKUP($B177,'By Population'!$G$2:$K$14,5,FALSE))*'By Speed'!$P190*Scenario_VMT_3*$N177","v":0},{"$f":"(VLOOKUP($B177,'By Population'!$G$2:$K$14,5,FALSE))*'By Speed'!$Q190*Scenario_VMT_3*$N177","v":0},{"$f":"(VLOOKUP($B177,'By Population'!$G$2:$K$14,5,FALSE))*'By Speed'!$R190*Scenario_VMT_3*$N177","v":0},{"$f":"(VLOOKUP($B177,'By Population'!$G$2:$K$14,5,FALSE))*'By Speed'!$S190*Scenario_VMT_3*$N177","v":0},{"$f":"(VLOOKUP($B177,'By Population'!$G$2:$K$14,5,FALSE))*'By Speed'!$T190*Scenario_VMT_3*$N177","v":0},{"$f":"(VLOOKUP($B177,'By Population'!$G$2:$K$14,5,FALSE))*'By Speed'!$U190*Scenario_VMT_3*$N177","v":0},0,{"$f":"(VLOOKUP($B177,'By Population'!$G$2:$K$14,5,FALSE))*'By Speed'!$M190*Scenario_VMT_4*$N177","v":0},{"$f":"(VLOOKUP($B177,'By Population'!$G$2:$K$14,5,FALSE))*'By Speed'!$N190*Scenario_VMT_4*$N177","v":0},{"$f":"(VLOOKUP($B177,'By Population'!$G$2:$K$14,5,FALSE))*'By Speed'!$O190*Scenario_VMT_4*$N177","v":0},{"$f":"(VLOOKUP($B177,'By Population'!$G$2:$K$14,5,FALSE))*'By Speed'!$P190*Scenario_VMT_4*$N177","v":0},{"$f":"(VLOOKUP($B177,'By Population'!$G$2:$K$14,5,FALSE))*'By Speed'!$Q190*Scenario_VMT_4*$N177","v":0},{"$f":"(VLOOKUP($B177,'By Population'!$G$2:$K$14,5,FALSE))*'By Speed'!$R190*Scenario_VMT_4*$N177","v":0},{"$f":"(VLOOKUP($B177,'By Population'!$G$2:$K$14,5,FALSE))*'By Speed'!$S190*Scenario_VMT_4*$N177","v":0},{"$f":"(VLOOKUP($B177,'By Population'!$G$2:$K$14,5,FALSE))*'By Speed'!$T190*Scenario_VMT_4*$N177","v":0},{"$f":"(VLOOKUP($B177,'By Population'!$G$2:$K$14,5,FALSE))*'By Speed'!$U190*Scenario_VMT_4*$N177","v":0},0,{"$f":"(VLOOKUP($B177,'By Population'!$G$2:$K$14,5,FALSE))*'By Speed'!$M190*Scenario_VMT_5*$N177","v":0},{"$f":"(VLOOKUP($B177,'By Population'!$G$2:$K$14,5,FALSE))*'By Speed'!$N190*Scenario_VMT_5*$N177","v":0},{"$f":"(VLOOKUP($B177,'By Population'!$G$2:$K$14,5,FALSE))*'By Speed'!$O190*Scenario_VMT_5*$N177","v":0},{"$f":"(VLOOKUP($B177,'By Population'!$G$2:$K$14,5,FALSE))*'By Speed'!$P190*Scenario_VMT_5*$N177","v":0},{"$f":"(VLOOKUP($B177,'By Population'!$G$2:$K$14,5,FALSE))*'By Speed'!$Q190*Scenario_VMT_5*$N177","v":0},{"$f":"(VLOOKUP($B177,'By Population'!$G$2:$K$14,5,FALSE))*'By Speed'!$R190*Scenario_VMT_5*$N177","v":0},{"$f":"(VLOOKUP($B177,'By Population'!$G$2:$K$14,5,FALSE))*'By Speed'!$S190*Scenario_VMT_5*$N177","v":0},{"$f":"(VLOOKUP($B177,'By Population'!$G$2:$K$14,5,FALSE))*'By Speed'!$T190*Scenario_VMT_5*$N177","v":0},{"$f":"(VLOOKUP($B177,'By Population'!$G$2:$K$14,5,FALSE))*'By Speed'!$U190*Scenario_VMT_5*$N177","v":0},0]
[171,"MDV_GAS",45,"MDV_GAS_45",{"$f":"(VLOOKUP($B178,'By Population'!$G$2:$K$14,5,FALSE))*'By Speed'!$M191*Scenario_VMT_EX*$N178","v":0},{"$f":"(VLOOKUP($B178,'By Population'!$G$2:$K$14,5,FALSE))*'By Speed'!$N191*Scenario_VMT_EX*$N178","v":0},{"$f":"(VLOOKUP($B178,'By Population'!$G$2:$K$14,5,FALSE))*'By Speed'!$O191*Scenario_VMT_EX*$N178","v":0},{"$f":"(VLOOKUP($B178,'By Population'!$G$2:$K$14,5,FALSE))*'By Speed'!$P191*Scenario_VMT_EX*$N178","v":0},{"$f":"(VLOOKUP($B178,'By Population'!$G$2:$K$14,5,FALSE))*'By Speed'!$Q191*Scenario_VMT_EX*$N178","v":0},{"$f":"(VLOOKUP($B178,'By Population'!$G$2:$K$14,5,FALSE))*'By Speed'!$R191*Scenario_VMT_EX*$N178","v":0},{"$f":"(VLOOKUP($B178,'By Population'!$G$2:$K$14,5,FALSE))*'By Speed'!$S191*Scenario_VMT_EX*$N178","v":0},{"$f":"(VLOOKUP($B178,'By Population'!$G$2:$K$14,5,FALSE))*'By Speed'!$T191*Scenario_VMT_EX*$N178","v":0},{"$f":"(VLOOKUP($B178,'By Population'!$G$2:$K$14,5,FALSE))*'By Speed'!$U191*Scenario_VMT_EX*$N178","v":0},0,{"$f":"(VLOOKUP($B178,'By Population'!$G$2:$K$14,5,FALSE))*'By Speed'!$M191*Scenario_VMT_1*$N178","v":0},{"$f":"(VLOOKUP($B178,'By Population'!$G$2:$K$14,5,FALSE))*'By Speed'!$N191*Scenario_VMT_1*$N178","v":0},{"$f":"(VLOOKUP($B178,'By Population'!$G$2:$K$14,5,FALSE))*'By Speed'!$O191*Scenario_VMT_1*$N178","v":0},{"$f":"(VLOOKUP($B178,'By Population'!$G$2:$K$14,5,FALSE))*'By Speed'!$P191*Scenario_VMT_1*$N178","v":0},{"$f":"(VLOOKUP($B178,'By Population'!$G$2:$K$14,5,FALSE))*'By Speed'!$Q191*Scenario_VMT_1*$N178","v":0},{"$f":"(VLOOKUP($B178,'By Population'!$G$2:$K$14,5,FALSE))*'By Speed'!$R191*Scenario_VMT_1*$N178","v":0},{"$f":"(VLOOKUP($B178,'By Population'!$G$2:$K$14,5,FALSE))*'By Speed'!$S191*Scenario_VMT_1*$N178","v":0},{"$f":"(VLOOKUP($B178,'By Population'!$G$2:$K$14,5,FALSE))*'By Speed'!$T191*Scenario_VMT_1*$N178","v":0},{"$f":"(VLOOKUP($B178,'By Population'!$G$2:$K$14,5,FALSE))*'By Speed'!$U191*Scenario_VMT_1*$N178","v":0},0,{"$f":"(VLOOKUP($B178,'By Population'!$G$2:$K$14,5,FALSE))*'By Speed'!$M191*Scenario_VMT_2*$N178","v":0},{"$f":"(VLOOKUP($B178,'By Population'!$G$2:$K$14,5,FALSE))*'By Speed'!$N191*Scenario_VMT_2*$N178","v":0},{"$f":"(VLOOKUP($B178,'By Population'!$G$2:$K$14,5,FALSE))*'By Speed'!$O191*Scenario_VMT_2*$N178","v":0},{"$f":"(VLOOKUP($B178,'By Population'!$G$2:$K$14,5,FALSE))*'By Speed'!$P191*Scenario_VMT_2*$N178","v":0},{"$f":"(VLOOKUP($B178,'By Population'!$G$2:$K$14,5,FALSE))*'By Speed'!$Q191*Scenario_VMT_2*$N178","v":0},{"$f":"(VLOOKUP($B178,'By Population'!$G$2:$K$14,5,FALSE))*'By Speed'!$R191*Scenario_VMT_2*$N178","v":0},{"$f":"(VLOOKUP($B178,'By Population'!$G$2:$K$14,5,FALSE))*'By Speed'!$S191*Scenario_VMT_2*$N178","v":0},{"$f":"(VLOOKUP($B178,'By Population'!$G$2:$K$14,5,FALSE))*'By Speed'!$T191*Scenario_VMT_2*$N178","v":0},{"$f":"(VLOOKUP($B178,'By Population'!$G$2:$K$14,5,FALSE))*'By Speed'!$U191*Scenario_VMT_2*$N178","v":0},0,{"$f":"(VLOOKUP($B178,'By Population'!$G$2:$K$14,5,FALSE))*'By Speed'!$M191*Scenario_VMT_3*$N178","v":0},{"$f":"(VLOOKUP($B178,'By Population'!$G$2:$K$14,5,FALSE))*'By Speed'!$N191*Scenario_VMT_3*$N178","v":0},{"$f":"(VLOOKUP($B178,'By Population'!$G$2:$K$14,5,FALSE))*'By Speed'!$O191*Scenario_VMT_3*$N178","v":0},{"$f":"(VLOOKUP($B178,'By Population'!$G$2:$K$14,5,FALSE))*'By Speed'!$P191*Scenario_VMT_3*$N178","v":0},{"$f":"(VLOOKUP($B178,'By Population'!$G$2:$K$14,5,FALSE))*'By Speed'!$Q191*Scenario_VMT_3*$N178","v":0},{"$f":"(VLOOKUP($B178,'By Population'!$G$2:$K$14,5,FALSE))*'By Speed'!$R191*Scenario_VMT_3*$N178","v":0},{"$f":"(VLOOKUP($B178,'By Population'!$G$2:$K$14,5,FALSE))*'By Speed'!$S191*Scenario_VMT_3*$N178","v":0},{"$f":"(VLOOKUP($B178,'By Population'!$G$2:$K$14,5,FALSE))*'By Speed'!$T191*Scenario_VMT_3*$N178","v":0},{"$f":"(VLOOKUP($B178,'By Population'!$G$2:$K$14,5,FALSE))*'By Speed'!$U191*Scenario_VMT_3*$N178","v":0},0,{"$f":"(VLOOKUP($B178,'By Population'!$G$2:$K$14,5,FALSE))*'By Speed'!$M191*Scenario_VMT_4*$N178","v":0},{"$f":"(VLOOKUP($B178,'By Population'!$G$2:$K$14,5,FALSE))*'By Speed'!$N191*Scenario_VMT_4*$N178","v":0},{"$f":"(VLOOKUP($B178,'By Population'!$G$2:$K$14,5,FALSE))*'By Speed'!$O191*Scenario_VMT_4*$N178","v":0},{"$f":"(VLOOKUP($B178,'By Population'!$G$2:$K$14,5,FALSE))*'By Speed'!$P191*Scenario_VMT_4*$N178","v":0},{"$f":"(VLOOKUP($B178,'By Population'!$G$2:$K$14,5,FALSE))*'By Speed'!$Q191*Scenario_VMT_4*$N178","v":0},{"$f":"(VLOOKUP($B178,'By Population'!$G$2:$K$14,5,FALSE))*'By Speed'!$R191*Scenario_VMT_4*$N178","v":0},{"$f":"(VLOOKUP($B178,'By Population'!$G$2:$K$14,5,FALSE))*'By Speed'!$S191*Scenario_VMT_4*$N178","v":0},{"$f":"(VLOOKUP($B178,'By Population'!$G$2:$K$14,5,FALSE))*'By Speed'!$T191*Scenario_VMT_4*$N178","v":0},{"$f":"(VLOOKUP($B178,'By Population'!$G$2:$K$14,5,FALSE))*'By Speed'!$U191*Scenario_VMT_4*$N178","v":0},0,{"$f":"(VLOOKUP($B178,'By Population'!$G$2:$K$14,5,FALSE))*'By Speed'!$M191*Scenario_VMT_5*$N178","v":0},{"$f":"(VLOOKUP($B178,'By Population'!$G$2:$K$14,5,FALSE))*'By Speed'!$N191*Scenario_VMT_5*$N178","v":0},{"$f":"(VLOOKUP($B178,'By Population'!$G$2:$K$14,5,FALSE))*'By Speed'!$O191*Scenario_VMT_5*$N178","v":0},{"$f":"(VLOOKUP($B178,'By Population'!$G$2:$K$14,5,FALSE))*'By Speed'!$P191*Scenario_VMT_5*$N178","v":0},{"$f":"(VLOOKUP($B178,'By Population'!$G$2:$K$14,5,FALSE))*'By Speed'!$Q191*Scenario_VMT_5*$N178","v":0},{"$f":"(VLOOKUP($B178,'By Population'!$G$2:$K$14,5,FALSE))*'By Speed'!$R191*Scenario_VMT_5*$N178","v":0},{"$f":"(VLOOKUP($B178,'By Population'!$G$2:$K$14,5,FALSE))*'By Speed'!$S191*Scenario_VMT_5*$N178","v":0},{"$f":"(VLOOKUP($B178,'By Population'!$G$2:$K$14,5,FALSE))*'By Speed'!$T191*Scenario_VMT_5*$N178","v":0},{"$f":"(VLOOKUP($B178,'By Population'!$G$2:$K$14,5,FALSE))*'By Speed'!$U191*Scenario_VMT_5*$N178","v":0},0]
[155,"MDV_GAS",5,"MDV_GAS_5",{"$f":"(VLOOKUP($B179,'By Population'!$G$2:$K$14,5,FALSE))*'By Speed'!$M192*Scenario_VMT_EX*$N179","v":0},{"$f":"(VLOOKUP($B179,'By Population'!$G$2:$K$14,5,FALSE))*'By Speed'!$N192*Scenario_VMT_EX*$N179","v":0},{"$f":"(VLOOKUP($B179,'By Population'!$G$2:$K$14,5,FALSE))*'By Speed'!$O192*Scenario_VMT_EX*$N179","v":0},{"$f":"(VLOOKUP($B179,'By Population'!$G$2:$K$14,5,FALSE))*'By Speed'!$P192*Scenario_VMT_EX*$N179","v":0},{"$f":"(VLOOKUP($B179,'By Population'!$G$2:$K$14,5,FALSE))*'By Speed'!$Q192*Scenario_VMT_EX*$N179","v":0},{"$f":"(VLOOKUP($B179,'By Population'!$G$2:$K$14,5,FALSE))*'By Speed'!$R192*Scenario_VMT_EX*$N179","v":0},{"$f":"(VLOOKUP($B179,'By Population'!$G$2:$K$14,5,FALSE))*'By Speed'!$S192*Scenario_VMT_EX*$N179","v":0},{"$f":"(VLOOKUP($B179,'By Population'!$G$2:$K$14,5,FALSE))*'By Speed'!$T192*Scenario_VMT_EX*$N179","v":0},{"$f":"(VLOOKUP($B179,'By Population'!$G$2:$K$14,5,FALSE))*'By Speed'!$U192*Scenario_VMT_EX*$N179","v":0},0,{"$f":"(VLOOKUP($B179,'By Population'!$G$2:$K$14,5,FALSE))*'By Speed'!$M192*Scenario_VMT_1*$N179","v":0},{"$f":"(VLOOKUP($B179,'By Population'!$G$2:$K$14,5,FALSE))*'By Speed'!$N192*Scenario_VMT_1*$N179","v":0},{"$f":"(VLOOKUP($B179,'By Population'!$G$2:$K$14,5,FALSE))*'By Speed'!$O192*Scenario_VMT_1*$N179","v":0},{"$f":"(VLOOKUP($B179,'By Population'!$G$2:$K$14,5,FALSE))*'By Speed'!$P192*Scenario_VMT_1*$N179","v":0},{"$f":"(VLOOKUP($B179,'By Population'!$G$2:$K$14,5,FALSE))*'By Speed'!$Q192*Scenario_VMT_1*$N179","v":0},{"$f":"(VLOOKUP($B179,'By Population'!$G$2:$K$14,5,FALSE))*'By Speed'!$R192*Scenario_VMT_1*$N179","v":0},{"$f":"(VLOOKUP($B179,'By Population'!$G$2:$K$14,5,FALSE))*'By Speed'!$S192*Scenario_VMT_1*$N179","v":0},{"$f":"(VLOOKUP($B179,'By Population'!$G$2:$K$14,5,FALSE))*'By Speed'!$T192*Scenario_VMT_1*$N179","v":0},{"$f":"(VLOOKUP($B179,'By Population'!$G$2:$K$14,5,FALSE))*'By Speed'!$U192*Scenario_VMT_1*$N179","v":0},0,{"$f":"(VLOOKUP($B179,'By Population'!$G$2:$K$14,5,FALSE))*'By Speed'!$M192*Scenario_VMT_2*$N179","v":0},{"$f":"(VLOOKUP($B179,'By Population'!$G$2:$K$14,5,FALSE))*'By Speed'!$N192*Scenario_VMT_2*$N179","v":0},{"$f":"(VLOOKUP($B179,'By Population'!$G$2:$K$14,5,FALSE))*'By Speed'!$O192*Scenario_VMT_2*$N179","v":0},{"$f":"(VLOOKUP($B179,'By Population'!$G$2:$K$14,5,FALSE))*'By Speed'!$P192*Scenario_VMT_2*$N179","v":0},{"$f":"(VLOOKUP($B179,'By Population'!$G$2:$K$14,5,FALSE))*'By Speed'!$Q192*Scenario_VMT_2*$N179","v":0},{"$f":"(VLOOKUP($B179,'By Population'!$G$2:$K$14,5,FALSE))*'By Speed'!$R192*Scenario_VMT_2*$N179","v":0},{"$f":"(VLOOKUP($B179,'By Population'!$G$2:$K$14,5,FALSE))*'By Speed'!$S192*Scenario_VMT_2*$N179","v":0},{"$f":"(VLOOKUP($B179,'By Population'!$G$2:$K$14,5,FALSE))*'By Speed'!$T192*Scenario_VMT_2*$N179","v":0},{"$f":"(VLOOKUP($B179,'By Population'!$G$2:$K$14,5,FALSE))*'By Speed'!$U192*Scenario_VMT_2*$N179","v":0},0,{"$f":"(VLOOKUP($B179,'By Population'!$G$2:$K$14,5,FALSE))*'By Speed'!$M192*Scenario_VMT_3*$N179","v":0},{"$f":"(VLOOKUP($B179,'By Population'!$G$2:$K$14,5,FALSE))*'By Speed'!$N192*Scenario_VMT_3*$N179","v":0},{"$f":"(VLOOKUP($B179,'By Population'!$G$2:$K$14,5,FALSE))*'By Speed'!$O192*Scenario_VMT_3*$N179","v":0},{"$f":"(VLOOKUP($B179,'By Population'!$G$2:$K$14,5,FALSE))*'By Speed'!$P192*Scenario_VMT_3*$N179","v":0},{"$f":"(VLOOKUP($B179,'By Population'!$G$2:$K$14,5,FALSE))*'By Speed'!$Q192*Scenario_VMT_3*$N179","v":0},{"$f":"(VLOOKUP($B179,'By Population'!$G$2:$K$14,5,FALSE))*'By Speed'!$R192*Scenario_VMT_3*$N179","v":0},{"$f":"(VLOOKUP($B179,'By Population'!$G$2:$K$14,5,FALSE))*'By Speed'!$S192*Scenario_VMT_3*$N179","v":0},{"$f":"(VLOOKUP($B179,'By Population'!$G$2:$K$14,5,FALSE))*'By Speed'!$T192*Scenario_VMT_3*$N179","v":0},{"$f":"(VLOOKUP($B179,'By Population'!$G$2:$K$14,5,FALSE))*'By Speed'!$U192*Scenario_VMT_3*$N179","v":0},0,{"$f":"(VLOOKUP($B179,'By Population'!$G$2:$K$14,5,FALSE))*'By Speed'!$M192*Scenario_VMT_4*$N179","v":0},{"$f":"(VLOOKUP($B179,'By Population'!$G$2:$K$14,5,FALSE))*'By Speed'!$N192*Scenario_VMT_4*$N179","v":0},{"$f":"(VLOOKUP($B179,'By Population'!$G$2:$K$14,5,FALSE))*'By Speed'!$O192*Scenario_VMT_4*$N179","v":0},{"$f":"(VLOOKUP($B179,'By Population'!$G$2:$K$14,5,FALSE))*'By Speed'!$P192*Scenario_VMT_4*$N179","v":0},{"$f":"(VLOOKUP($B179,'By Population'!$G$2:$K$14,5,FALSE))*'By Speed'!$Q192*Scenario_VMT_4*$N179","v":0},{"$f":"(VLOOKUP($B179,'By Population'!$G$2:$K$14,5,FALSE))*'By Speed'!$R192*Scenario_VMT_4*$N179","v":0},{"$f":"(VLOOKUP($B179,'By Population'!$G$2:$K$14,5,FALSE))*'By Speed'!$S192*Scenario_VMT_4*$N179","v":0},{"$f":"(VLOOKUP($B179,'By Population'!$G$2:$K$14,5,FALSE))*'By Speed'!$T192*Scenario_VMT_4*$N179","v":0},{"$f":"(VLOOKUP($B179,'By Population'!$G$2:$K$14,5,FALSE))*'By Speed'!$U192*Scenario_VMT_4*$N179","v":0},0,{"$f":"(VLOOKUP($B179,'By Population'!$G$2:$K$14,5,FALSE))*'By Speed'!$M192*Scenario_VMT_5*$N179","v":0},{"$f":"(VLOOKUP($B179,'By Population'!$G$2:$K$14,5,FALSE))*'By Speed'!$N192*Scenario_VMT_5*$N179","v":0},{"$f":"(VLOOKUP($B179,'By Population'!$G$2:$K$14,5,FALSE))*'By Speed'!$O192*Scenario_VMT_5*$N179","v":0},{"$f":"(VLOOKUP($B179,'By Population'!$G$2:$K$14,5,FALSE))*'By Speed'!$P192*Scenario_VMT_5*$N179","v":0},{"$f":"(VLOOKUP($B179,'By Population'!$G$2:$K$14,5,FALSE))*'By Speed'!$Q192*Scenario_VMT_5*$N179","v":0},{"$f":"(VLOOKUP($B179,'By Population'!$G$2:$K$14,5,FALSE))*'By Speed'!$R192*Scenario_VMT_5*$N179","v":0},{"$f":"(VLOOKUP($B179,'By Population'!$G$2:$K$14,5,FALSE))*'By Speed'!$S192*Scenario_VMT_5*$N179","v":0},{"$f":"(VLOOKUP($B179,'By Population'!$G$2:$K$14,5,FALSE))*'By Speed'!$T192*Scenario_VMT_5*$N179","v":0},{"$f":"(VLOOKUP($B179,'By Population'!$G$2:$K$14,5,FALSE))*'By Speed'!$U192*Scenario_VMT_5*$N179","v":0},0]
[173,"MDV_GAS",50,"MDV_GAS_50",{"$f":"(VLOOKUP($B180,'By Population'!$G$2:$K$14,5,FALSE))*'By Speed'!$M193*Scenario_VMT_EX*$N180","v":0},{"$f":"(VLOOKUP($B180,'By Population'!$G$2:$K$14,5,FALSE))*'By Speed'!$N193*Scenario_VMT_EX*$N180","v":0},{"$f":"(VLOOKUP($B180,'By Population'!$G$2:$K$14,5,FALSE))*'By Speed'!$O193*Scenario_VMT_EX*$N180","v":0},{"$f":"(VLOOKUP($B180,'By Population'!$G$2:$K$14,5,FALSE))*'By Speed'!$P193*Scenario_VMT_EX*$N180","v":0},{"$f":"(VLOOKUP($B180,'By Population'!$G$2:$K$14,5,FALSE))*'By Speed'!$Q193*Scenario_VMT_EX*$N180","v":0},{"$f":"(VLOOKUP($B180,'By Population'!$G$2:$K$14,5,FALSE))*'By Speed'!$R193*Scenario_VMT_EX*$N180","v":0},{"$f":"(VLOOKUP($B180,'By Population'!$G$2:$K$14,5,FALSE))*'By Speed'!$S193*Scenario_VMT_EX*$N180","v":0},{"$f":"(VLOOKUP($B180,'By Population'!$G$2:$K$14,5,FALSE))*'By Speed'!$T193*Scenario_VMT_EX*$N180","v":0},{"$f":"(VLOOKUP($B180,'By Population'!$G$2:$K$14,5,FALSE))*'By Speed'!$U193*Scenario_VMT_EX*$N180","v":0},0,{"$f":"(VLOOKUP($B180,'By Population'!$G$2:$K$14,5,FALSE))*'By Speed'!$M193*Scenario_VMT_1*$N180","v":0},{"$f":"(VLOOKUP($B180,'By Population'!$G$2:$K$14,5,FALSE))*'By Speed'!$N193*Scenario_VMT_1*$N180","v":0},{"$f":"(VLOOKUP($B180,'By Population'!$G$2:$K$14,5,FALSE))*'By Speed'!$O193*Scenario_VMT_1*$N180","v":0},{"$f":"(VLOOKUP($B180,'By Population'!$G$2:$K$14,5,FALSE))*'By Speed'!$P193*Scenario_VMT_1*$N180","v":0},{"$f":"(VLOOKUP($B180,'By Population'!$G$2:$K$14,5,FALSE))*'By Speed'!$Q193*Scenario_VMT_1*$N180","v":0},{"$f":"(VLOOKUP($B180,'By Population'!$G$2:$K$14,5,FALSE))*'By Speed'!$R193*Scenario_VMT_1*$N180","v":0},{"$f":"(VLOOKUP($B180,'By Population'!$G$2:$K$14,5,FALSE))*'By Speed'!$S193*Scenario_VMT_1*$N180","v":0},{"$f":"(VLOOKUP($B180,'By Population'!$G$2:$K$14,5,FALSE))*'By Speed'!$T193*Scenario_VMT_1*$N180","v":0},{"$f":"(VLOOKUP($B180,'By Population'!$G$2:$K$14,5,FALSE))*'By Speed'!$U193*Scenario_VMT_1*$N180","v":0},0,{"$f":"(VLOOKUP($B180,'By Population'!$G$2:$K$14,5,FALSE))*'By Speed'!$M193*Scenario_VMT_2*$N180","v":0},{"$f":"(VLOOKUP($B180,'By Population'!$G$2:$K$14,5,FALSE))*'By Speed'!$N193*Scenario_VMT_2*$N180","v":0},{"$f":"(VLOOKUP($B180,'By Population'!$G$2:$K$14,5,FALSE))*'By Speed'!$O193*Scenario_VMT_2*$N180","v":0},{"$f":"(VLOOKUP($B180,'By Population'!$G$2:$K$14,5,FALSE))*'By Speed'!$P193*Scenario_VMT_2*$N180","v":0},{"$f":"(VLOOKUP($B180,'By Population'!$G$2:$K$14,5,FALSE))*'By Speed'!$Q193*Scenario_VMT_2*$N180","v":0},{"$f":"(VLOOKUP($B180,'By Population'!$G$2:$K$14,5,FALSE))*'By Speed'!$R193*Scenario_VMT_2*$N180","v":0},{"$f":"(VLOOKUP($B180,'By Population'!$G$2:$K$14,5,FALSE))*'By Speed'!$S193*Scenario_VMT_2*$N180","v":0},{"$f":"(VLOOKUP($B180,'By Population'!$G$2:$K$14,5,FALSE))*'By Speed'!$T193*Scenario_VMT_2*$N180","v":0},{"$f":"(VLOOKUP($B180,'By Population'!$G$2:$K$14,5,FALSE))*'By Speed'!$U193*Scenario_VMT_2*$N180","v":0},0,{"$f":"(VLOOKUP($B180,'By Population'!$G$2:$K$14,5,FALSE))*'By Speed'!$M193*Scenario_VMT_3*$N180","v":0},{"$f":"(VLOOKUP($B180,'By Population'!$G$2:$K$14,5,FALSE))*'By Speed'!$N193*Scenario_VMT_3*$N180","v":0},{"$f":"(VLOOKUP($B180,'By Population'!$G$2:$K$14,5,FALSE))*'By Speed'!$O193*Scenario_VMT_3*$N180","v":0},{"$f":"(VLOOKUP($B180,'By Population'!$G$2:$K$14,5,FALSE))*'By Speed'!$P193*Scenario_VMT_3*$N180","v":0},{"$f":"(VLOOKUP($B180,'By Population'!$G$2:$K$14,5,FALSE))*'By Speed'!$Q193*Scenario_VMT_3*$N180","v":0},{"$f":"(VLOOKUP($B180,'By Population'!$G$2:$K$14,5,FALSE))*'By Speed'!$R193*Scenario_VMT_3*$N180","v":0},{"$f":"(VLOOKUP($B180,'By Population'!$G$2:$K$14,5,FALSE))*'By Speed'!$S193*Scenario_VMT_3*$N180","v":0},{"$f":"(VLOOKUP($B180,'By Population'!$G$2:$K$14,5,FALSE))*'By Speed'!$T193*Scenario_VMT_3*$N180","v":0},{"$f":"(VLOOKUP($B180,'By Population'!$G$2:$K$14,5,FALSE))*'By Speed'!$U193*Scenario_VMT_3*$N180","v":0},0,{"$f":"(VLOOKUP($B180,'By Population'!$G$2:$K$14,5,FALSE))*'By Speed'!$M193*Scenario_VMT_4*$N180","v":0},{"$f":"(VLOOKUP($B180,'By Population'!$G$2:$K$14,5,FALSE))*'By Speed'!$N193*Scenario_VMT_4*$N180","v":0},{"$f":"(VLOOKUP($B180,'By Population'!$G$2:$K$14,5,FALSE))*'By Speed'!$O193*Scenario_VMT_4*$N180","v":0},{"$f":"(VLOOKUP($B180,'By Population'!$G$2:$K$14,5,FALSE))*'By Speed'!$P193*Scenario_VMT_4*$N180","v":0},{"$f":"(VLOOKUP($B180,'By Population'!$G$2:$K$14,5,FALSE))*'By Speed'!$Q193*Scenario_VMT_4*$N180","v":0},{"$f":"(VLOOKUP($B180,'By Population'!$G$2:$K$14,5,FALSE))*'By Speed'!$R193*Scenario_VMT_4*$N180","v":0},{"$f":"(VLOOKUP($B180,'By Population'!$G$2:$K$14,5,FALSE))*'By Speed'!$S193*Scenario_VMT_4*$N180","v":0},{"$f":"(VLOOKUP($B180,'By Population'!$G$2:$K$14,5,FALSE))*'By Speed'!$T193*Scenario_VMT_4*$N180","v":0},{"$f":"(VLOOKUP($B180,'By Population'!$G$2:$K$14,5,FALSE))*'By Speed'!$U193*Scenario_VMT_4*$N180","v":0},0,{"$f":"(VLOOKUP($B180,'By Population'!$G$2:$K$14,5,FALSE))*'By Speed'!$M193*Scenario_VMT_5*$N180","v":0},{"$f":"(VLOOKUP($B180,'By Population'!$G$2:$K$14,5,FALSE))*'By Speed'!$N193*Scenario_VMT_5*$N180","v":0},{"$f":"(VLOOKUP($B180,'By Population'!$G$2:$K$14,5,FALSE))*'By Speed'!$O193*Scenario_VMT_5*$N180","v":0},{"$f":"(VLOOKUP($B180,'By Population'!$G$2:$K$14,5,FALSE))*'By Speed'!$P193*Scenario_VMT_5*$N180","v":0},{"$f":"(VLOOKUP($B180,'By Population'!$G$2:$K$14,5,FALSE))*'By Speed'!$Q193*Scenario_VMT_5*$N180","v":0},{"$f":"(VLOOKUP($B180,'By Population'!$G$2:$K$14,5,FALSE))*'By Speed'!$R193*Scenario_VMT_5*$N180","v":0},{"$f":"(VLOOKUP($B180,'By Population'!$G$2:$K$14,5,FALSE))*'By Speed'!$S193*Scenario_VMT_5*$N180","v":0},{"$f":"(VLOOKUP($B180,'By Population'!$G$2:$K$14,5,FALSE))*'By Speed'!$T193*Scenario_VMT_5*$N180","v":0},{"$f":"(VLOOKUP($B180,'By Population'!$G$2:$K$14,5,FALSE))*'By Speed'!$U193*Scenario_VMT_5*$N180","v":0},0]
[175,"MDV_GAS",55,"MDV_GAS_55",{"$f":"(VLOOKUP($B181,'By Population'!$G$2:$K$14,5,FALSE))*'By Speed'!$M194*Scenario_VMT_EX*$N181","v":0},{"$f":"(VLOOKUP($B181,'By Population'!$G$2:$K$14,5,FALSE))*'By Speed'!$N194*Scenario_VMT_EX*$N181","v":0},{"$f":"(VLOOKUP($B181,'By Population'!$G$2:$K$14,5,FALSE))*'By Speed'!$O194*Scenario_VMT_EX*$N181","v":0},{"$f":"(VLOOKUP($B181,'By Population'!$G$2:$K$14,5,FALSE))*'By Speed'!$P194*Scenario_VMT_EX*$N181","v":0},{"$f":"(VLOOKUP($B181,'By Population'!$G$2:$K$14,5,FALSE))*'By Speed'!$Q194*Scenario_VMT_EX*$N181","v":0},{"$f":"(VLOOKUP($B181,'By Population'!$G$2:$K$14,5,FALSE))*'By Speed'!$R194*Scenario_VMT_EX*$N181","v":0},{"$f":"(VLOOKUP($B181,'By Population'!$G$2:$K$14,5,FALSE))*'By Speed'!$S194*Scenario_VMT_EX*$N181","v":0},{"$f":"(VLOOKUP($B181,'By Population'!$G$2:$K$14,5,FALSE))*'By Speed'!$T194*Scenario_VMT_EX*$N181","v":0},{"$f":"(VLOOKUP($B181,'By Population'!$G$2:$K$14,5,FALSE))*'By Speed'!$U194*Scenario_VMT_EX*$N181","v":0},0,{"$f":"(VLOOKUP($B181,'By Population'!$G$2:$K$14,5,FALSE))*'By Speed'!$M194*Scenario_VMT_1*$N181","v":0},{"$f":"(VLOOKUP($B181,'By Population'!$G$2:$K$14,5,FALSE))*'By Speed'!$N194*Scenario_VMT_1*$N181","v":0},{"$f":"(VLOOKUP($B181,'By Population'!$G$2:$K$14,5,FALSE))*'By Speed'!$O194*Scenario_VMT_1*$N181","v":0},{"$f":"(VLOOKUP($B181,'By Population'!$G$2:$K$14,5,FALSE))*'By Speed'!$P194*Scenario_VMT_1*$N181","v":0},{"$f":"(VLOOKUP($B181,'By Population'!$G$2:$K$14,5,FALSE))*'By Speed'!$Q194*Scenario_VMT_1*$N181","v":0},{"$f":"(VLOOKUP($B181,'By Population'!$G$2:$K$14,5,FALSE))*'By Speed'!$R194*Scenario_VMT_1*$N181","v":0},{"$f":"(VLOOKUP($B181,'By Population'!$G$2:$K$14,5,FALSE))*'By Speed'!$S194*Scenario_VMT_1*$N181","v":0},{"$f":"(VLOOKUP($B181,'By Population'!$G$2:$K$14,5,FALSE))*'By Speed'!$T194*Scenario_VMT_1*$N181","v":0},{"$f":"(VLOOKUP($B181,'By Population'!$G$2:$K$14,5,FALSE))*'By Speed'!$U194*Scenario_VMT_1*$N181","v":0},0,{"$f":"(VLOOKUP($B181,'By Population'!$G$2:$K$14,5,FALSE))*'By Speed'!$M194*Scenario_VMT_2*$N181","v":0},{"$f":"(VLOOKUP($B181,'By Population'!$G$2:$K$14,5,FALSE))*'By Speed'!$N194*Scenario_VMT_2*$N181","v":0},{"$f":"(VLOOKUP($B181,'By Population'!$G$2:$K$14,5,FALSE))*'By Speed'!$O194*Scenario_VMT_2*$N181","v":0},{"$f":"(VLOOKUP($B181,'By Population'!$G$2:$K$14,5,FALSE))*'By Speed'!$P194*Scenario_VMT_2*$N181","v":0},{"$f":"(VLOOKUP($B181,'By Population'!$G$2:$K$14,5,FALSE))*'By Speed'!$Q194*Scenario_VMT_2*$N181","v":0},{"$f":"(VLOOKUP($B181,'By Population'!$G$2:$K$14,5,FALSE))*'By Speed'!$R194*Scenario_VMT_2*$N181","v":0},{"$f":"(VLOOKUP($B181,'By Population'!$G$2:$K$14,5,FALSE))*'By Speed'!$S194*Scenario_VMT_2*$N181","v":0},{"$f":"(VLOOKUP($B181,'By Population'!$G$2:$K$14,5,FALSE))*'By Speed'!$T194*Scenario_VMT_2*$N181","v":0},{"$f":"(VLOOKUP($B181,'By Population'!$G$2:$K$14,5,FALSE))*'By Speed'!$U194*Scenario_VMT_2*$N181","v":0},0,{"$f":"(VLOOKUP($B181,'By Population'!$G$2:$K$14,5,FALSE))*'By Speed'!$M194*Scenario_VMT_3*$N181","v":0},{"$f":"(VLOOKUP($B181,'By Population'!$G$2:$K$14,5,FALSE))*'By Speed'!$N194*Scenario_VMT_3*$N181","v":0},{"$f":"(VLOOKUP($B181,'By Population'!$G$2:$K$14,5,FALSE))*'By Speed'!$O194*Scenario_VMT_3*$N181","v":0},{"$f":"(VLOOKUP($B181,'By Population'!$G$2:$K$14,5,FALSE))*'By Speed'!$P194*Scenario_VMT_3*$N181","v":0},{"$f":"(VLOOKUP($B181,'By Population'!$G$2:$K$14,5,FALSE))*'By Speed'!$Q194*Scenario_VMT_3*$N181","v":0},{"$f":"(VLOOKUP($B181,'By Population'!$G$2:$K$14,5,FALSE))*'By Speed'!$R194*Scenario_VMT_3*$N181","v":0},{"$f":"(VLOOKUP($B181,'By Population'!$G$2:$K$14,5,FALSE))*'By Speed'!$S194*Scenario_VMT_3*$N181","v":0},{"$f":"(VLOOKUP($B181,'By Population'!$G$2:$K$14,5,FALSE))*'By Speed'!$T194*Scenario_VMT_3*$N181","v":0},{"$f":"(VLOOKUP($B181,'By Population'!$G$2:$K$14,5,FALSE))*'By Speed'!$U194*Scenario_VMT_3*$N181","v":0},0,{"$f":"(VLOOKUP($B181,'By Population'!$G$2:$K$14,5,FALSE))*'By Speed'!$M194*Scenario_VMT_4*$N181","v":0},{"$f":"(VLOOKUP($B181,'By Population'!$G$2:$K$14,5,FALSE))*'By Speed'!$N194*Scenario_VMT_4*$N181","v":0},{"$f":"(VLOOKUP($B181,'By Population'!$G$2:$K$14,5,FALSE))*'By Speed'!$O194*Scenario_VMT_4*$N181","v":0},{"$f":"(VLOOKUP($B181,'By Population'!$G$2:$K$14,5,FALSE))*'By Speed'!$P194*Scenario_VMT_4*$N181","v":0},{"$f":"(VLOOKUP($B181,'By Population'!$G$2:$K$14,5,FALSE))*'By Speed'!$Q194*Scenario_VMT_4*$N181","v":0},{"$f":"(VLOOKUP($B181,'By Population'!$G$2:$K$14,5,FALSE))*'By Speed'!$R194*Scenario_VMT_4*$N181","v":0},{"$f":"(VLOOKUP($B181,'By Population'!$G$2:$K$14,5,FALSE))*'By Speed'!$S194*Scenario_VMT_4*$N181","v":0},{"$f":"(VLOOKUP($B181,'By Population'!$G$2:$K$14,5,FALSE))*'By Speed'!$T194*Scenario_VMT_4*$N181","v":0},{"$f":"(VLOOKUP($B181,'By Population'!$G$2:$K$14,5,FALSE))*'By Speed'!$U194*Scenario_VMT_4*$N181","v":0},0,{"$f":"(VLOOKUP($B181,'By Population'!$G$2:$K$14,5,FALSE))*'By Speed'!$M194*Scenario_VMT_5*$N181","v":0},{"$f":"(VLOOKUP($B181,'By Population'!$G$2:$K$14,5,FALSE))*'By Speed'!$N194*Scenario_VMT_5*$N181","v":0},{"$f":"(VLOOKUP($B181,'By Population'!$G$2:$K$14,5,FALSE))*'By Speed'!$O194*Scenario_VMT_5*$N181","v":0},{"$f":"(VLOOKUP($B181,'By Population'!$G$2:$K$14,5,FALSE))*'By Speed'!$P194*Scenario_VMT_5*$N181","v":0},{"$f":"(VLOOKUP($B181,'By Population'!$G$2:$K$14,5,FALSE))*'By Speed'!$Q194*Scenario_VMT_5*$N181","v":0},{"$f":"(VLOOKUP($B181,'By Population'!$G$2:$K$14,5,FALSE))*'By Speed'!$R194*Scenario_VMT_5*$N181","v":0},{"$f":"(VLOOKUP($B181,'By Population'!$G$2:$K$14,5,FALSE))*'By Speed'!$S194*Scenario_VMT_5*$N181","v":0},{"$f":"(VLOOKUP($B181,'By Population'!$G$2:$K$14,5,FALSE))*'By Speed'!$T194*Scenario_VMT_5*$N181","v":0},{"$f":"(VLOOKUP($B181,'By Population'!$G$2:$K$14,5,FALSE))*'By Speed'!$U194*Scenario_VMT_5*$N181","v":0},0]
[177,"MDV_GAS",60,"MDV_GAS_60",{"$f":"(VLOOKUP($B182,'By Population'!$G$2:$K$14,5,FALSE))*'By Speed'!$M195*Scenario_VMT_EX*$N182","v":0},{"$f":"(VLOOKUP($B182,'By Population'!$G$2:$K$14,5,FALSE))*'By Speed'!$N195*Scenario_VMT_EX*$N182","v":0},{"$f":"(VLOOKUP($B182,'By Population'!$G$2:$K$14,5,FALSE))*'By Speed'!$O195*Scenario_VMT_EX*$N182","v":0},{"$f":"(VLOOKUP($B182,'By Population'!$G$2:$K$14,5,FALSE))*'By Speed'!$P195*Scenario_VMT_EX*$N182","v":0},{"$f":"(VLOOKUP($B182,'By Population'!$G$2:$K$14,5,FALSE))*'By Speed'!$Q195*Scenario_VMT_EX*$N182","v":0},{"$f":"(VLOOKUP($B182,'By Population'!$G$2:$K$14,5,FALSE))*'By Speed'!$R195*Scenario_VMT_EX*$N182","v":0},{"$f":"(VLOOKUP($B182,'By Population'!$G$2:$K$14,5,FALSE))*'By Speed'!$S195*Scenario_VMT_EX*$N182","v":0},{"$f":"(VLOOKUP($B182,'By Population'!$G$2:$K$14,5,FALSE))*'By Speed'!$T195*Scenario_VMT_EX*$N182","v":0},{"$f":"(VLOOKUP($B182,'By Population'!$G$2:$K$14,5,FALSE))*'By Speed'!$U195*Scenario_VMT_EX*$N182","v":0},0,{"$f":"(VLOOKUP($B182,'By Population'!$G$2:$K$14,5,FALSE))*'By Speed'!$M195*Scenario_VMT_1*$N182","v":0},{"$f":"(VLOOKUP($B182,'By Population'!$G$2:$K$14,5,FALSE))*'By Speed'!$N195*Scenario_VMT_1*$N182","v":0},{"$f":"(VLOOKUP($B182,'By Population'!$G$2:$K$14,5,FALSE))*'By Speed'!$O195*Scenario_VMT_1*$N182","v":0},{"$f":"(VLOOKUP($B182,'By Population'!$G$2:$K$14,5,FALSE))*'By Speed'!$P195*Scenario_VMT_1*$N182","v":0},{"$f":"(VLOOKUP($B182,'By Population'!$G$2:$K$14,5,FALSE))*'By Speed'!$Q195*Scenario_VMT_1*$N182","v":0},{"$f":"(VLOOKUP($B182,'By Population'!$G$2:$K$14,5,FALSE))*'By Speed'!$R195*Scenario_VMT_1*$N182","v":0},{"$f":"(VLOOKUP($B182,'By Population'!$G$2:$K$14,5,FALSE))*'By Speed'!$S195*Scenario_VMT_1*$N182","v":0},{"$f":"(VLOOKUP($B182,'By Population'!$G$2:$K$14,5,FALSE))*'By Speed'!$T195*Scenario_VMT_1*$N182","v":0},{"$f":"(VLOOKUP($B182,'By Population'!$G$2:$K$14,5,FALSE))*'By Speed'!$U195*Scenario_VMT_1*$N182","v":0},0,{"$f":"(VLOOKUP($B182,'By Population'!$G$2:$K$14,5,FALSE))*'By Speed'!$M195*Scenario_VMT_2*$N182","v":0},{"$f":"(VLOOKUP($B182,'By Population'!$G$2:$K$14,5,FALSE))*'By Speed'!$N195*Scenario_VMT_2*$N182","v":0},{"$f":"(VLOOKUP($B182,'By Population'!$G$2:$K$14,5,FALSE))*'By Speed'!$O195*Scenario_VMT_2*$N182","v":0},{"$f":"(VLOOKUP($B182,'By Population'!$G$2:$K$14,5,FALSE))*'By Speed'!$P195*Scenario_VMT_2*$N182","v":0},{"$f":"(VLOOKUP($B182,'By Population'!$G$2:$K$14,5,FALSE))*'By Speed'!$Q195*Scenario_VMT_2*$N182","v":0},{"$f":"(VLOOKUP($B182,'By Population'!$G$2:$K$14,5,FALSE))*'By Speed'!$R195*Scenario_VMT_2*$N182","v":0},{"$f":"(VLOOKUP($B182,'By Population'!$G$2:$K$14,5,FALSE))*'By Speed'!$S195*Scenario_VMT_2*$N182","v":0},{"$f":"(VLOOKUP($B182,'By Population'!$G$2:$K$14,5,FALSE))*'By Speed'!$T195*Scenario_VMT_2*$N182","v":0},{"$f":"(VLOOKUP($B182,'By Population'!$G$2:$K$14,5,FALSE))*'By Speed'!$U195*Scenario_VMT_2*$N182","v":0},0,{"$f":"(VLOOKUP($B182,'By Population'!$G$2:$K$14,5,FALSE))*'By Speed'!$M195*Scenario_VMT_3*$N182","v":0},{"$f":"(VLOOKUP($B182,'By Population'!$G$2:$K$14,5,FALSE))*'By Speed'!$N195*Scenario_VMT_3*$N182","v":0},{"$f":"(VLOOKUP($B182,'By Population'!$G$2:$K$14,5,FALSE))*'By Speed'!$O195*Scenario_VMT_3*$N182","v":0},{"$f":"(VLOOKUP($B182,'By Population'!$G$2:$K$14,5,FALSE))*'By Speed'!$P195*Scenario_VMT_3*$N182","v":0},{"$f":"(VLOOKUP($B182,'By Population'!$G$2:$K$14,5,FALSE))*'By Speed'!$Q195*Scenario_VMT_3*$N182","v":0},{"$f":"(VLOOKUP($B182,'By Population'!$G$2:$K$14,5,FALSE))*'By Speed'!$R195*Scenario_VMT_3*$N182","v":0},{"$f":"(VLOOKUP($B182,'By Population'!$G$2:$K$14,5,FALSE))*'By Speed'!$S195*Scenario_VMT_3*$N182","v":0},{"$f":"(VLOOKUP($B182,'By Population'!$G$2:$K$14,5,FALSE))*'By Speed'!$T195*Scenario_VMT_3*$N182","v":0},{"$f":"(VLOOKUP($B182,'By Population'!$G$2:$K$14,5,FALSE))*'By Speed'!$U195*Scenario_VMT_3*$N182","v":0},0,{"$f":"(VLOOKUP($B182,'By Population'!$G$2:$K$14,5,FALSE))*'By Speed'!$M195*Scenario_VMT_4*$N182","v":0},{"$f":"(VLOOKUP($B182,'By Population'!$G$2:$K$14,5,FALSE))*'By Speed'!$N195*Scenario_VMT_4*$N182","v":0},{"$f":"(VLOOKUP($B182,'By Population'!$G$2:$K$14,5,FALSE))*'By Speed'!$O195*Scenario_VMT_4*$N182","v":0},{"$f":"(VLOOKUP($B182,'By Population'!$G$2:$K$14,5,FALSE))*'By Speed'!$P195*Scenario_VMT_4*$N182","v":0},{"$f":"(VLOOKUP($B182,'By Population'!$G$2:$K$14,5,FALSE))*'By Speed'!$Q195*Scenario_VMT_4*$N182","v":0},{"$f":"(VLOOKUP($B182,'By Population'!$G$2:$K$14,5,FALSE))*'By Speed'!$R195*Scenario_VMT_4*$N182","v":0},{"$f":"(VLOOKUP($B182,'By Population'!$G$2:$K$14,5,FALSE))*'By Speed'!$S195*Scenario_VMT_4*$N182","v":0},{"$f":"(VLOOKUP($B182,'By Population'!$G$2:$K$14,5,FALSE))*'By Speed'!$T195*Scenario_VMT_4*$N182","v":0},{"$f":"(VLOOKUP($B182,'By Population'!$G$2:$K$14,5,FALSE))*'By Speed'!$U195*Scenario_VMT_4*$N182","v":0},0,{"$f":"(VLOOKUP($B182,'By Population'!$G$2:$K$14,5,FALSE))*'By Speed'!$M195*Scenario_VMT_5*$N182","v":0},{"$f":"(VLOOKUP($B182,'By Population'!$G$2:$K$14,5,FALSE))*'By Speed'!$N195*Scenario_VMT_5*$N182","v":0},{"$f":"(VLOOKUP($B182,'By Population'!$G$2:$K$14,5,FALSE))*'By Speed'!$O195*Scenario_VMT_5*$N182","v":0},{"$f":"(VLOOKUP($B182,'By Population'!$G$2:$K$14,5,FALSE))*'By Speed'!$P195*Scenario_VMT_5*$N182","v":0},{"$f":"(VLOOKUP($B182,'By Population'!$G$2:$K$14,5,FALSE))*'By Speed'!$Q195*Scenario_VMT_5*$N182","v":0},{"$f":"(VLOOKUP($B182,'By Population'!$G$2:$K$14,5,FALSE))*'By Speed'!$R195*Scenario_VMT_5*$N182","v":0},{"$f":"(VLOOKUP($B182,'By Population'!$G$2:$K$14,5,FALSE))*'By Speed'!$S195*Scenario_VMT_5*$N182","v":0},{"$f":"(VLOOKUP($B182,'By Population'!$G$2:$K$14,5,FALSE))*'By Speed'!$T195*Scenario_VMT_5*$N182","v":0},{"$f":"(VLOOKUP($B182,'By Population'!$G$2:$K$14,5,FALSE))*'By Speed'!$U195*Scenario_VMT_5*$N182","v":0},0]
[179,"MDV_GAS",65,"MDV_GAS_65",{"$f":"(VLOOKUP($B183,'By Population'!$G$2:$K$14,5,FALSE))*'By Speed'!$M196*Scenario_VMT_EX*$N183","v":0},{"$f":"(VLOOKUP($B183,'By Population'!$G$2:$K$14,5,FALSE))*'By Speed'!$N196*Scenario_VMT_EX*$N183","v":0},{"$f":"(VLOOKUP($B183,'By Population'!$G$2:$K$14,5,FALSE))*'By Speed'!$O196*Scenario_VMT_EX*$N183","v":0},{"$f":"(VLOOKUP($B183,'By Population'!$G$2:$K$14,5,FALSE))*'By Speed'!$P196*Scenario_VMT_EX*$N183","v":0},{"$f":"(VLOOKUP($B183,'By Population'!$G$2:$K$14,5,FALSE))*'By Speed'!$Q196*Scenario_VMT_EX*$N183","v":0},{"$f":"(VLOOKUP($B183,'By Population'!$G$2:$K$14,5,FALSE))*'By Speed'!$R196*Scenario_VMT_EX*$N183","v":0},{"$f":"(VLOOKUP($B183,'By Population'!$G$2:$K$14,5,FALSE))*'By Speed'!$S196*Scenario_VMT_EX*$N183","v":0},{"$f":"(VLOOKUP($B183,'By Population'!$G$2:$K$14,5,FALSE))*'By Speed'!$T196*Scenario_VMT_EX*$N183","v":0},{"$f":"(VLOOKUP($B183,'By Population'!$G$2:$K$14,5,FALSE))*'By Speed'!$U196*Scenario_VMT_EX*$N183","v":0},0,{"$f":"(VLOOKUP($B183,'By Population'!$G$2:$K$14,5,FALSE))*'By Speed'!$M196*Scenario_VMT_1*$N183","v":0},{"$f":"(VLOOKUP($B183,'By Population'!$G$2:$K$14,5,FALSE))*'By Speed'!$N196*Scenario_VMT_1*$N183","v":0},{"$f":"(VLOOKUP($B183,'By Population'!$G$2:$K$14,5,FALSE))*'By Speed'!$O196*Scenario_VMT_1*$N183","v":0},{"$f":"(VLOOKUP($B183,'By Population'!$G$2:$K$14,5,FALSE))*'By Speed'!$P196*Scenario_VMT_1*$N183","v":0},{"$f":"(VLOOKUP($B183,'By Population'!$G$2:$K$14,5,FALSE))*'By Speed'!$Q196*Scenario_VMT_1*$N183","v":0},{"$f":"(VLOOKUP($B183,'By Population'!$G$2:$K$14,5,FALSE))*'By Speed'!$R196*Scenario_VMT_1*$N183","v":0},{"$f":"(VLOOKUP($B183,'By Population'!$G$2:$K$14,5,FALSE))*'By Speed'!$S196*Scenario_VMT_1*$N183","v":0},{"$f":"(VLOOKUP($B183,'By Population'!$G$2:$K$14,5,FALSE))*'By Speed'!$T196*Scenario_VMT_1*$N183","v":0},{"$f":"(VLOOKUP($B183,'By Population'!$G$2:$K$14,5,FALSE))*'By Speed'!$U196*Scenario_VMT_1*$N183","v":0},0,{"$f":"(VLOOKUP($B183,'By Population'!$G$2:$K$14,5,FALSE))*'By Speed'!$M196*Scenario_VMT_2*$N183","v":0},{"$f":"(VLOOKUP($B183,'By Population'!$G$2:$K$14,5,FALSE))*'By Speed'!$N196*Scenario_VMT_2*$N183","v":0},{"$f":"(VLOOKUP($B183,'By Population'!$G$2:$K$14,5,FALSE))*'By Speed'!$O196*Scenario_VMT_2*$N183","v":0},{"$f":"(VLOOKUP($B183,'By Population'!$G$2:$K$14,5,FALSE))*'By Speed'!$P196*Scenario_VMT_2*$N183","v":0},{"$f":"(VLOOKUP($B183,'By Population'!$G$2:$K$14,5,FALSE))*'By Speed'!$Q196*Scenario_VMT_2*$N183","v":0},{"$f":"(VLOOKUP($B183,'By Population'!$G$2:$K$14,5,FALSE))*'By Speed'!$R196*Scenario_VMT_2*$N183","v":0},{"$f":"(VLOOKUP($B183,'By Population'!$G$2:$K$14,5,FALSE))*'By Speed'!$S196*Scenario_VMT_2*$N183","v":0},{"$f":"(VLOOKUP($B183,'By Population'!$G$2:$K$14,5,FALSE))*'By Speed'!$T196*Scenario_VMT_2*$N183","v":0},{"$f":"(VLOOKUP($B183,'By Population'!$G$2:$K$14,5,FALSE))*'By Speed'!$U196*Scenario_VMT_2*$N183","v":0},0,{"$f":"(VLOOKUP($B183,'By Population'!$G$2:$K$14,5,FALSE))*'By Speed'!$M196*Scenario_VMT_3*$N183","v":0},{"$f":"(VLOOKUP($B183,'By Population'!$G$2:$K$14,5,FALSE))*'By Speed'!$N196*Scenario_VMT_3*$N183","v":0},{"$f":"(VLOOKUP($B183,'By Population'!$G$2:$K$14,5,FALSE))*'By Speed'!$O196*Scenario_VMT_3*$N183","v":0},{"$f":"(VLOOKUP($B183,'By Population'!$G$2:$K$14,5,FALSE))*'By Speed'!$P196*Scenario_VMT_3*$N183","v":0},{"$f":"(VLOOKUP($B183,'By Population'!$G$2:$K$14,5,FALSE))*'By Speed'!$Q196*Scenario_VMT_3*$N183","v":0},{"$f":"(VLOOKUP($B183,'By Population'!$G$2:$K$14,5,FALSE))*'By Speed'!$R196*Scenario_VMT_3*$N183","v":0},{"$f":"(VLOOKUP($B183,'By Population'!$G$2:$K$14,5,FALSE))*'By Speed'!$S196*Scenario_VMT_3*$N183","v":0},{"$f":"(VLOOKUP($B183,'By Population'!$G$2:$K$14,5,FALSE))*'By Speed'!$T196*Scenario_VMT_3*$N183","v":0},{"$f":"(VLOOKUP($B183,'By Population'!$G$2:$K$14,5,FALSE))*'By Speed'!$U196*Scenario_VMT_3*$N183","v":0},0,{"$f":"(VLOOKUP($B183,'By Population'!$G$2:$K$14,5,FALSE))*'By Speed'!$M196*Scenario_VMT_4*$N183","v":0},{"$f":"(VLOOKUP($B183,'By Population'!$G$2:$K$14,5,FALSE))*'By Speed'!$N196*Scenario_VMT_4*$N183","v":0},{"$f":"(VLOOKUP($B183,'By Population'!$G$2:$K$14,5,FALSE))*'By Speed'!$O196*Scenario_VMT_4*$N183","v":0},{"$f":"(VLOOKUP($B183,'By Population'!$G$2:$K$14,5,FALSE))*'By Speed'!$P196*Scenario_VMT_4*$N183","v":0},{"$f":"(VLOOKUP($B183,'By Population'!$G$2:$K$14,5,FALSE))*'By Speed'!$Q196*Scenario_VMT_4*$N183","v":0},{"$f":"(VLOOKUP($B183,'By Population'!$G$2:$K$14,5,FALSE))*'By Speed'!$R196*Scenario_VMT_4*$N183","v":0},{"$f":"(VLOOKUP($B183,'By Population'!$G$2:$K$14,5,FALSE))*'By Speed'!$S196*Scenario_VMT_4*$N183","v":0},{"$f":"(VLOOKUP($B183,'By Population'!$G$2:$K$14,5,FALSE))*'By Speed'!$T196*Scenario_VMT_4*$N183","v":0},{"$f":"(VLOOKUP($B183,'By Population'!$G$2:$K$14,5,FALSE))*'By Speed'!$U196*Scenario_VMT_4*$N183","v":0},0,{"$f":"(VLOOKUP($B183,'By Population'!$G$2:$K$14,5,FALSE))*'By Speed'!$M196*Scenario_VMT_5*$N183","v":0},{"$f":"(VLOOKUP($B183,'By Population'!$G$2:$K$14,5,FALSE))*'By Speed'!$N196*Scenario_VMT_5*$N183","v":0},{"$f":"(VLOOKUP($B183,'By Population'!$G$2:$K$14,5,FALSE))*'By Speed'!$O196*Scenario_VMT_5*$N183","v":0},{"$f":"(VLOOKUP($B183,'By Population'!$G$2:$K$14,5,FALSE))*'By Speed'!$P196*Scenario_VMT_5*$N183","v":0},{"$f":"(VLOOKUP($B183,'By Population'!$G$2:$K$14,5,FALSE))*'By Speed'!$Q196*Scenario_VMT_5*$N183","v":0},{"$f":"(VLOOKUP($B183,'By Population'!$G$2:$K$14,5,FALSE))*'By Speed'!$R196*Scenario_VMT_5*$N183","v":0},{"$f":"(VLOOKUP($B183,'By Population'!$G$2:$K$14,5,FALSE))*'By Speed'!$S196*Scenario_VMT_5*$N183","v":0},{"$f":"(VLOOKUP($B183,'By Population'!$G$2:$K$14,5,FALSE))*'By Speed'!$T196*Scenario_VMT_5*$N183","v":0},{"$f":"(VLOOKUP($B183,'By Population'!$G$2:$K$14,5,FALSE))*'By Speed'!$U196*Scenario_VMT_5*$N183","v":0},0]
[181,"MDV_GAS",70,"MDV_GAS_70",{"$f":"(VLOOKUP($B184,'By Population'!$G$2:$K$14,5,FALSE))*'By Speed'!$M197*Scenario_VMT_EX*$N184","v":0},{"$f":"(VLOOKUP($B184,'By Population'!$G$2:$K$14,5,FALSE))*'By Speed'!$N197*Scenario_VMT_EX*$N184","v":0},{"$f":"(VLOOKUP($B184,'By Population'!$G$2:$K$14,5,FALSE))*'By Speed'!$O197*Scenario_VMT_EX*$N184","v":0},{"$f":"(VLOOKUP($B184,'By Population'!$G$2:$K$14,5,FALSE))*'By Speed'!$P197*Scenario_VMT_EX*$N184","v":0},{"$f":"(VLOOKUP($B184,'By Population'!$G$2:$K$14,5,FALSE))*'By Speed'!$Q197*Scenario_VMT_EX*$N184","v":0},{"$f":"(VLOOKUP($B184,'By Population'!$G$2:$K$14,5,FALSE))*'By Speed'!$R197*Scenario_VMT_EX*$N184","v":0},{"$f":"(VLOOKUP($B184,'By Population'!$G$2:$K$14,5,FALSE))*'By Speed'!$S197*Scenario_VMT_EX*$N184","v":0},{"$f":"(VLOOKUP($B184,'By Population'!$G$2:$K$14,5,FALSE))*'By Speed'!$T197*Scenario_VMT_EX*$N184","v":0},{"$f":"(VLOOKUP($B184,'By Population'!$G$2:$K$14,5,FALSE))*'By Speed'!$U197*Scenario_VMT_EX*$N184","v":0},0,{"$f":"(VLOOKUP($B184,'By Population'!$G$2:$K$14,5,FALSE))*'By Speed'!$M197*Scenario_VMT_1*$N184","v":0},{"$f":"(VLOOKUP($B184,'By Population'!$G$2:$K$14,5,FALSE))*'By Speed'!$N197*Scenario_VMT_1*$N184","v":0},{"$f":"(VLOOKUP($B184,'By Population'!$G$2:$K$14,5,FALSE))*'By Speed'!$O197*Scenario_VMT_1*$N184","v":0},{"$f":"(VLOOKUP($B184,'By Population'!$G$2:$K$14,5,FALSE))*'By Speed'!$P197*Scenario_VMT_1*$N184","v":0},{"$f":"(VLOOKUP($B184,'By Population'!$G$2:$K$14,5,FALSE))*'By Speed'!$Q197*Scenario_VMT_1*$N184","v":0},{"$f":"(VLOOKUP($B184,'By Population'!$G$2:$K$14,5,FALSE))*'By Speed'!$R197*Scenario_VMT_1*$N184","v":0},{"$f":"(VLOOKUP($B184,'By Population'!$G$2:$K$14,5,FALSE))*'By Speed'!$S197*Scenario_VMT_1*$N184","v":0},{"$f":"(VLOOKUP($B184,'By Population'!$G$2:$K$14,5,FALSE))*'By Speed'!$T197*Scenario_VMT_1*$N184","v":0},{"$f":"(VLOOKUP($B184,'By Population'!$G$2:$K$14,5,FALSE))*'By Speed'!$U197*Scenario_VMT_1*$N184","v":0},0,{"$f":"(VLOOKUP($B184,'By Population'!$G$2:$K$14,5,FALSE))*'By Speed'!$M197*Scenario_VMT_2*$N184","v":0},{"$f":"(VLOOKUP($B184,'By Population'!$G$2:$K$14,5,FALSE))*'By Speed'!$N197*Scenario_VMT_2*$N184","v":0},{"$f":"(VLOOKUP($B184,'By Population'!$G$2:$K$14,5,FALSE))*'By Speed'!$O197*Scenario_VMT_2*$N184","v":0},{"$f":"(VLOOKUP($B184,'By Population'!$G$2:$K$14,5,FALSE))*'By Speed'!$P197*Scenario_VMT_2*$N184","v":0},{"$f":"(VLOOKUP($B184,'By Population'!$G$2:$K$14,5,FALSE))*'By Speed'!$Q197*Scenario_VMT_2*$N184","v":0},{"$f":"(VLOOKUP($B184,'By Population'!$G$2:$K$14,5,FALSE))*'By Speed'!$R197*Scenario_VMT_2*$N184","v":0},{"$f":"(VLOOKUP($B184,'By Population'!$G$2:$K$14,5,FALSE))*'By Speed'!$S197*Scenario_VMT_2*$N184","v":0},{"$f":"(VLOOKUP($B184,'By Population'!$G$2:$K$14,5,FALSE))*'By Speed'!$T197*Scenario_VMT_2*$N184","v":0},{"$f":"(VLOOKUP($B184,'By Population'!$G$2:$K$14,5,FALSE))*'By Speed'!$U197*Scenario_VMT_2*$N184","v":0},0,{"$f":"(VLOOKUP($B184,'By Population'!$G$2:$K$14,5,FALSE))*'By Speed'!$M197*Scenario_VMT_3*$N184","v":0},{"$f":"(VLOOKUP($B184,'By Population'!$G$2:$K$14,5,FALSE))*'By Speed'!$N197*Scenario_VMT_3*$N184","v":0},{"$f":"(VLOOKUP($B184,'By Population'!$G$2:$K$14,5,FALSE))*'By Speed'!$O197*Scenario_VMT_3*$N184","v":0},{"$f":"(VLOOKUP($B184,'By Population'!$G$2:$K$14,5,FALSE))*'By Speed'!$P197*Scenario_VMT_3*$N184","v":0},{"$f":"(VLOOKUP($B184,'By Population'!$G$2:$K$14,5,FALSE))*'By Speed'!$Q197*Scenario_VMT_3*$N184","v":0},{"$f":"(VLOOKUP($B184,'By Population'!$G$2:$K$14,5,FALSE))*'By Speed'!$R197*Scenario_VMT_3*$N184","v":0},{"$f":"(VLOOKUP($B184,'By Population'!$G$2:$K$14,5,FALSE))*'By Speed'!$S197*Scenario_VMT_3*$N184","v":0},{"$f":"(VLOOKUP($B184,'By Population'!$G$2:$K$14,5,FALSE))*'By Speed'!$T197*Scenario_VMT_3*$N184","v":0},{"$f":"(VLOOKUP($B184,'By Population'!$G$2:$K$14,5,FALSE))*'By Speed'!$U197*Scenario_VMT_3*$N184","v":0},0,{"$f":"(VLOOKUP($B184,'By Population'!$G$2:$K$14,5,FALSE))*'By Speed'!$M197*Scenario_VMT_4*$N184","v":0},{"$f":"(VLOOKUP($B184,'By Population'!$G$2:$K$14,5,FALSE))*'By Speed'!$N197*Scenario_VMT_4*$N184","v":0},{"$f":"(VLOOKUP($B184,'By Population'!$G$2:$K$14,5,FALSE))*'By Speed'!$O197*Scenario_VMT_4*$N184","v":0},{"$f":"(VLOOKUP($B184,'By Population'!$G$2:$K$14,5,FALSE))*'By Speed'!$P197*Scenario_VMT_4*$N184","v":0},{"$f":"(VLOOKUP($B184,'By Population'!$G$2:$K$14,5,FALSE))*'By Speed'!$Q197*Scenario_VMT_4*$N184","v":0},{"$f":"(VLOOKUP($B184,'By Population'!$G$2:$K$14,5,FALSE))*'By Speed'!$R197*Scenario_VMT_4*$N184","v":0},{"$f":"(VLOOKUP($B184,'By Population'!$G$2:$K$14,5,FALSE))*'By Speed'!$S197*Scenario_VMT_4*$N184","v":0},{"$f":"(VLOOKUP($B184,'By Population'!$G$2:$K$14,5,FALSE))*'By Speed'!$T197*Scenario_VMT_4*$N184","v":0},{"$f":"(VLOOKUP($B184,'By Population'!$G$2:$K$14,5,FALSE))*'By Speed'!$U197*Scenario_VMT_4*$N184","v":0},0,{"$f":"(VLOOKUP($B184,'By Population'!$G$2:$K$14,5,FALSE))*'By Speed'!$M197*Scenario_VMT_5*$N184","v":0},{"$f":"(VLOOKUP($B184,'By Population'!$G$2:$K$14,5,FALSE))*'By Speed'!$N197*Scenario_VMT_5*$N184","v":0},{"$f":"(VLOOKUP($B184,'By Population'!$G$2:$K$14,5,FALSE))*'By Speed'!$O197*Scenario_VMT_5*$N184","v":0},{"$f":"(VLOOKUP($B184,'By Population'!$G$2:$K$14,5,FALSE))*'By Speed'!$P197*Scenario_VMT_5*$N184","v":0},{"$f":"(VLOOKUP($B184,'By Population'!$G$2:$K$14,5,FALSE))*'By Speed'!$Q197*Scenario_VMT_5*$N184","v":0},{"$f":"(VLOOKUP($B184,'By Population'!$G$2:$K$14,5,FALSE))*'By Speed'!$R197*Scenario_VMT_5*$N184","v":0},{"$f":"(VLOOKUP($B184,'By Population'!$G$2:$K$14,5,FALSE))*'By Speed'!$S197*Scenario_VMT_5*$N184","v":0},{"$f":"(VLOOKUP($B184,'By Population'!$G$2:$K$14,5,FALSE))*'By Speed'!$T197*Scenario_VMT_5*$N184","v":0},{"$f":"(VLOOKUP($B184,'By Population'!$G$2:$K$14,5,FALSE))*'By Speed'!$U197*Scenario_VMT_5*$N184","v":0},0]
[null,null,null,null,{"$f":"SUM(E3:E184)","v":0},0,0,0,0,0,0,0,0,null,{"$f":"SUM(O3:O184)","v":0},0,0,0,0,0,0,0,0,null,{"$f":"SUM(Y3:Y184)","v":0},0,0,0,0,0,0,0,0,null,{"$f":"SUM(AI3:AI184)","v":0},0,0,0,0,0,0,0,0,null,{"$f":"SUM(AS3:AS184)","v":0},0,0,0,0,0,0,0,0,null,{"$f":"SUM(BC3:BC184)","v":0},0,0,0,0,0,0,0,0]

{"sheet":"StartStop Emissions","index":7,"n_rows":26,"n_cols":74,"rows_kept":26,"cut":false,"hidden":false,"merged":[[0,64,0,73],[0,14,0,23],[0,24,0,33],[0,34,0,43],[0,44,0,53],[0,54,0,63]]}
[null,null,null,null,null,null,null,null,null,null,null,null,null,null,"Existing",null,null,null,null,null,null,null,null,null,"Scenario 1",null,null,null,null,null,null,null,null,null,"Scenario 2",null,null,null,null,null,null,null,null,null,"Scenario 3",null,null,null,null,null,null,null,null,null,"Scenario 4",null,null,null,null,null,null,null,null,null,"Scenario 5"]
["SortOrder","Area","CalYr","Season","Veh","Fuel","VehK","MdlYr","Speed","VehClass_Speed","Pop","Fraction of Pop","VMT","Trips","ROG_STREX","ROG_HTSK","TOG_STREX","TOG_HTSK","CO_STREX","NOX_STREX","CO2_STREX","PM10_STREX","PM2_5_STREX","SOX_STREX","ROG_STREX","ROG_HTSK","TOG_STREX","TOG_HTSK","CO_STREX","NOX_STREX","CO2_STREX","PM10_STREX","PM2_5_STREX","SOX_STREX","ROG_STREX","ROG_HTSK","TOG_STREX","TOG_HTSK","CO_STREX","NOX_STREX","CO2_STREX","PM10_STREX","PM2_5_STREX","SOX_STREX","ROG_STREX","ROG_HTSK","TOG_STREX","TOG_HTSK","CO_STREX","NOX_STREX","CO2_STREX","PM10_STREX","PM2_5_STREX","SOX_STREX","ROG_STREX","ROG_HTSK","TOG_STREX","TOG_HTSK","CO_STREX","NOX_STREX","CO2_STREX","PM10_STREX","PM2_5_STREX","SOX_STREX","ROG_STREX","ROG_HTSK","TOG_STREX","TOG_HTSK","CO_STREX","NOX_STREX","CO2_STREX","PM10_STREX","PM2_5_STREX","SOX_STREX"]
[1,"Statewide Totals",2012,"Annual","LDA","GAS","LDA_GAS","AllMYr","AllSpeeds",null,13300000,{"$f":"K3/$K$17","v":0.52553686598901728},null,83400000,{"$f":"(VLOOKUP($G3,'By Population'!$G$2:$K$14,5,FALSE))*'By Population'!$BA2*Scenario_VT_EX","v":0},{"$f":"(VLOOKUP($G3,'By Population'!$G$2:$K$14,5,FALSE))*'By Population'!$BB2*Scenario_VT_EX","v":0},{"$f":"(VLOOKUP($G3,'By Population'!$G$2:$K$14,5,FALSE))*'By Population'!$BC2*Scenario_VT_EX","v":0},{"$f":"(VLOOKUP($G3,'By Population'!$G$2:$K$14,5,FALSE))*'By Population'!$BD2*Scenario_VT_EX","v":0},{"$f":"(VLOOKUP($G3,'By Population'!$G$2:$K$14,5,FALSE))*'By Population'!$BE2*Scenario_VT_EX","v":0},{"$f":"(VLOOKUP($G3,'By Population'!$G$2:$K$14,5,FALSE))*'By Population'!$BF2*Scenario_VT_EX","v":0},{"$f":"(VLOOKUP($G3,'By Population'!$G$2:$K$14,5,FALSE))*'By Population'!$BG2*Scenario_VT_EX","v":0},{"$f":"(VLOOKUP($G3,'By Population'!$G$2:$K$14,5,FALSE))*'By Population'!$BH2*Scenario_VT_EX","v":0},{"$f":"(VLOOKUP($G3,'By Population'!$G$2:$K$14,5,FALSE))*'By Population'!$BI2*Scenario_VT_EX","v":0},{"$f":"(VLOOKUP($G3,'By Population'!$G$2:$K$14,5,FALSE))*'By Population'!$BJ2*Scenario_VT_EX","v":0},{"$f":"(VLOOKUP($G3,'By Population'!$G$2:$K$14,5,FALSE))*'By Population'!$BA2*Scenario_VT_1","v":0},{"$f":"(VLOOKUP($G3,'By Population'!$G$2:$K$14,5,FALSE))*'By Population'!$BB2*Scenario_VT_1","v":0},{"$f":"(VLOOKUP($G3,'By Population'!$G$2:$K$14,5,FALSE))*'By Population'!$BC2*Scenario_VT_1","v":0},{"$f":"(VLOOKUP($G3,'By Population'!$G$2:$K$14,5,FALSE))*'By Population'!$BD2*Scenario_VT_1","v":0},{"$f":"(VLOOKUP($G3,'By Population'!$G$2:$K$14,5,FALSE))*'By Population'!$BE2*Scenario_VT_1","v":0},{"$f":"(VLOOKUP($G3,'By Population'!$G$2:$K$14,5,FALSE))*'By Population'!$BF2*Scenario_VT_1","v":0},{"$f":"(VLOOKUP($G3,'By Population'!$G$2:$K$14,5,FALSE))*'By Population'!$BG2*Scenario_VT_1","v":0},{"$f":"(VLOOKUP($G3,'By Population'!$G$2:$K$14,5,FALSE))*'By Population'!$BH2*Scenario_VT_1","v":0},{"$f":"(VLOOKUP($G3,'By Population'!$G$2:$K$14,5,FALSE))*'By Population'!$BI2*Scenario_VT_1","v":0},{"$f":"(VLOOKUP($G3,'By Population'!$G$2:$K$14,5,FALSE))*'By Population'!$BJ2*Scenario_VT_1","v":0},{"$f":"(VLOOKUP($G3,'By Population'!$G$2:$K$14,5,FALSE))*'By Population'!$BA2*Scenario_VT_2","v":0},{"$f":"(VLOOKUP($G3,'By Population'!$G$2:$K$14,5,FALSE))*'By Population'!$BB2*Scenario_VT_2","v":0},{"$f":"(VLOOKUP($G3,'By Population'!$G$2:$K$14,5,FALSE))*'By Population'!$BC2*Scenario_VT_2","v":0},{"$f":"(VLOOKUP($G3,'By Population'!$G$2:$K$14,5,FALSE))*'By Population'!$BD2*Scenario_VT_2","v":0},{"$f":"(VLOOKUP($G3,'By Population'!$G$2:$K$14,5,FALSE))*'By Population'!$BE2*Scenario_VT_2","v":0},{"$f":"(VLOOKUP($G3,'By Population'!$G$2:$K$14,5,FALSE))*'By Population'!$BF2*Scenario_VT_2","v":0},{"$f":"(VLOOKUP($G3,'By Population'!$G$2:$K$14,5,FALSE))*'By Population'!$BG2*Scenario_VT_2","v":0},{"$f":"(VLOOKUP($G3,'By Population'!$G$2:$K$14,5,FALSE))*'By Population'!$BH2*Scenario_VT_2","v":0},{"$f":"(VLOOKUP($G3,'By Population'!$G$2:$K$14,5,FALSE))*'By Population'!$BI2*Scenario_VT_2","v":0},{"$f":"(VLOOKUP($G3,'By Population'!$G$2:$K$14,5,FALSE))*'By Population'!$BJ2*Scenario_VT_2","v":0},{"$f":"(VLOOKUP($G3,'By Population'!$G$2:$K$14,5,FALSE))*'By Population'!$BA2*Scenario_VT_3","v":0},{"$f":"(VLOOKUP($G3,'By Population'!$G$2:$K$14,5,FALSE))*'By Population'!$BB2*Scenario_VT_3","v":0},{"$f":"(VLOOKUP($G3,'By Population'!$G$2:$K$14,5,FALSE))*'By Population'!$BC2*Scenario_VT_3","v":0},{"$f":"(VLOOKUP($G3,'By Population'!$G$2:$K$14,5,FALSE))*'By Population'!$BD2*Scenario_VT_3","v":0},{"$f":"(VLOOKUP($G3,'By Population'!$G$2:$K$14,5,FALSE))*'By Population'!$BE2*Scenario_VT_3","v":0},{"$f":"(VLOOKUP($G3,'By Population'!$G$2:$K$14,5,FALSE))*'By Population'!$BF2*Scenario_VT_3","v":0},{"$f":"(VLOOKUP($G3,'By Population'!$G$2:$K$14,5,FALSE))*'By Population'!$BG2*Scenario_VT_3","v":0},{"$f":"(VLOOKUP($G3,'By Population'!$G$2:$K$14,5,FALSE))*'By Population'!$BH2*Scenario_VT_3","v":0},{"$f":"(VLOOKUP($G3,'By Population'!$G$2:$K$14,5,FALSE))*'By Population'!$BI2*Scenario_VT_3","v":0},{"$f":"(VLOOKUP($G3,'By Population'!$G$2:$K$14,5,FALSE))*'By Population'!$BJ2*Scenario_VT_3","v":0},{"$f":"(VLOOKUP($G3,'By Population'!$G$2:$K$14,5,FALSE))*'By Population'!$BA2*Scenario_VT_4","v":0},{"$f":"(VLOOKUP($G3,'By Population'!$G$2:$K$14,5,FALSE))*'By Population'!$BB2*Scenario_VT_4","v":0},{"$f":"(VLOOKUP($G3,'By Population'!$G$2:$K$14,5,FALSE))*'By Population'!$BC2*Scenario_VT_4","v":0},{"$f":"(VLOOKUP($G3,'By Population'!$G$2:$K$14,5,FALSE))*'By Population'!$BD2*Scenario_VT_4","v":0},{"$f":"(VLOOKUP($G3,'By Population'!$G$2:$K$14,5,FALSE))*'By Population'!$BE2*Scenario_VT_4","v":0},{"$f":"(VLOOKUP($G3,'By Population'!$G$2:$K$14,5,FALSE))*'By Population'!$BF2*Scenario_VT_4","v":0},{"$f":"(VLOOKUP($G3,'By Population'!$G$2:$K$14,5,FALSE))*'By Population'!$BG2*Scenario_VT_4","v":0},{"$f":"(VLOOKUP($G3,'By Population'!$G$2:$K$14,5,FALSE))*'By Population'!$BH2*Scenario_VT_4","v":0},{"$f":"(VLOOKUP($G3,'By Population'!$G$2:$K$14,5,FALSE))*'By Population'!$BI2*Scenario_VT_4","v":0},{"$f":"(VLOOKUP($G3,'By Population'!$G$2:$K$14,5,FALSE))*'By Population'!$BJ2*Scenario_VT_4","v":0},{"$f":"(VLOOKUP($G3,'By Population'!$G$2:$K$14,5,FALSE))*'By Population'!$BA2*Scenario_VT_5","v":0},{"$f":"(VLOOKUP($G3,'By Population'!$G$2:$K$14,5,FALSE))*'By Population'!$BB2*Scenario_VT_5","v":0},{"$f":"(VLOOKUP($G3,'By Population'!$G$2:$K$14,5,FALSE))*'By Population'!$BC2*Scenario_VT_5","v":0},{"$f":"(VLOOKUP($G3,'By Population'!$G$2:$K$14,5,FALSE))*'By Population'!$BD2*Scenario_VT_5","v":0},{"$f":"(VLOOKUP($G3,'By Population'!$G$2:$K$14,5,FALSE))*'By Population'!$BE2*Scenario_VT_5","v":0},{"$f":"(VLOOKUP($G3,'By Population'!$G$2:$K$14,5,FALSE))*'By Population'!$BF2*Scenario_VT_5","v":0},{"$f":"(VLOOKUP($G3,'By Population'!$G$2:$K$14,5,FALSE))*'By Population'!$BG2*Scenario_VT_5","v":0},{"$f":"(VLOOKUP($G3,'By Population'!$G$2:$K$14,5,FALSE))*'By Population'!$BH2*Scenario_VT_5","v":0},{"$f":"(VLOOKUP($G3,'By Population'!$G$2:$K$14,5,FALSE))*'By Population'!$BI2*Scenario_VT_5","v":0},{"$f":"(VLOOKUP($G3,'By Population'!$G$2:$K$14,5,FALSE))*'By Population'!$BJ2*Scenario_VT_5","v":0}]
[2,"Statewide Totals",2012,"Annual","LDA","DSL","LDA_DSL","AllMYr","AllSpeeds",null,55697.907039999998,2.200849887815731E-3,null,321452.0012,{"$f":"(VLOOKUP($G4,'By Population'!$G$2:$K$14,5,FALSE))*'By Population'!$BA3*Scenario_VT_EX","v":0},{"$f":"(VLOOKUP($G4,'By Population'!$G$2:$K$14,5,FALSE))*'By Population'!$BB3*Scenario_VT_EX","v":0},{"$f":"(VLOOKUP($G4,'By Population'!$G$2:$K$14,5,FALSE))*'By Population'!$BC3*Scenario_VT_EX","v":0},{"$f":"(VLOOKUP($G4,'By Population'!$G$2:$K$14,5,FALSE))*'By Population'!$BD3*Scenario_VT_EX","v":0},{"$f":"(VLOOKUP($G4,'By Population'!$G$2:$K$14,5,FALSE))*'By Population'!$BE3*Scenario_VT_EX","v":0},{"$f":"(VLOOKUP($G4,'By Population'!$G$2:$K$14,5,FALSE))*'By Population'!$BF3*Scenario_VT_EX","v":0},{"$f":"(VLOOKUP($G4,'By Population'!$G$2:$K$14,5,FALSE))*'By Population'!$BG3*Scenario_VT_EX","v":0},{"$f":"(VLOOKUP($G4,'By Population'!$G$2:$K$14,5,FALSE))*'By Population'!$BH3*Scenario_VT_EX","v":0},{"$f":"(VLOOKUP($G4,'By Population'!$G$2:$K$14,5,FALSE))*'By Population'!$BI3*Scenario_VT_EX","v":0},{"$f":"(VLOOKUP($G4,'By Population'!$G$2:$K$14,5,FALSE))*'By Population'!$BJ3*Scenario_VT_EX","v":0},{"$f":"(VLOOKUP($G4,'By Population'!$G$2:$K$14,5,FALSE))*'By Population'!$BA3*Scenario_VT_1","v":0},{"$f":"(VLOOKUP($G4,'By Population'!$G$2:$K$14,5,FALSE))*'By Population'!$BB3*Scenario_VT_1","v":0},{"$f":"(VLOOKUP($G4,'By Population'!$G$2:$K$14,5,FALSE))*'By Population'!$BC3*Scenario_VT_1","v":0},{"$f":"(VLOOKUP($G4,'By Population'!$G$2:$K$14,5,FALSE))*'By Population'!$BD3*Scenario_VT_1","v":0},{"$f":"(VLOOKUP($G4,'By Population'!$G$2:$K$14,5,FALSE))*'By Population'!$BE3*Scenario_VT_1","v":0},{"$f":"(VLOOKUP($G4,'By Population'!$G$2:$K$14,5,FALSE))*'By Population'!$BF3*Scenario_VT_1","v":0},{"$f":"(VLOOKUP($G4,'By Population'!$G$2:$K$14,5,FALSE))*'By Population'!$BG3*Scenario_VT_1","v":0},{"$f":"(VLOOKUP($G4,'By Population'!$G$2:$K$14,5,FALSE))*'By Population'!$BH3*Scenario_VT_1","v":0},{"$f":"(VLOOKUP($G4,'By Population'!$G$2:$K$14,5,FALSE))*'By Population'!$BI3*Scenario_VT_1","v":0},{"$f":"(VLOOKUP($G4,'By Population'!$G$2:$K$14,5,FALSE))*'By Population'!$BJ3*Scenario_VT_1","v":0},{"$f":"(VLOOKUP($G4,'By Population'!$G$2:$K$14,5,FALSE))*'By Population'!$BA3*Scenario_VT_2","v":0},{"$f":"(VLOOKUP($G4,'By Population'!$G$2:$K$14,5,FALSE))*'By Population'!$BB3*Scenario_VT_2","v":0},{"$f":"(VLOOKUP($G4,'By Population'!$G$2:$K$14,5,FALSE))*'By Population'!$BC3*Scenario_VT_2","v":0},{"$f":"(VLOOKUP($G4,'By Population'!$G$2:$K$14,5,FALSE))*'By Population'!$BD3*Scenario_VT_2","v":0},{"$f":"(VLOOKUP($G4,'By Population'!$G$2:$K$14,5,FALSE))*'By Population'!$BE3*Scenario_VT_2","v":0},{"$f":"(VLOOKUP($G4,'By Population'!$G$2:$K$14,5,FALSE))*'By Population'!$BF3*Scenario_VT_2","v":0},{"$f":"(VLOOKUP($G4,'By Population'!$G$2:$K$14,5,FALSE))*'By Population'!$BG3*Scenario_VT_2","v":0},{"$f":"(VLOOKUP($G4,'By Population'!$G$2:$K$14,5,FALSE))*'By Population'!$BH3*Scenario_VT_2","v":0},{"$f":"(VLOOKUP($G4,'By Population'!$G$2:$K$14,5,FALSE))*'By Population'!$BI3*Scenario_VT_2","v":0},{"$f":"(VLOOKUP($G4,'By Population'!$G$2:$K$14,5,FALSE))*'By Population'!$BJ3*Scenario_VT_2","v":0},{"$f":"(VLOOKUP($G4,'By Population'!$G$2:$K$14,5,FALSE))*'By Population'!$BA3*Scenario_VT_3","v":0},{"$f":"(VLOOKUP($G4,'By Population'!$G$2:$K$14,5,FALSE))*'By Population'!$BB3*Scenario_VT_3","v":0},{"$f":"(VLOOKUP($G4,'By Population'!$G$2:$K$14,5,FALSE))*'By Population'!$BC3*Scenario_VT_3","v":0},{"$f":"(VLOOKUP($G4,'By Population'!$G$2:$K$14,5,FALSE))*'By Population'!$BD3*Scenario_VT_3","v":0},{"$f":"(VLOOKUP($G4,'By Population'!$G$2:$K$14,5,FALSE))*'By Population'!$BE3*Scenario_VT_3","v":0},{"$f":"(VLOOKUP($G4,'By Population'!$G$2:$K$14,5,FALSE))*'By Population'!$BF3*Scenario_VT_3","v":0},{"$f":"(VLOOKUP($G4,'By Population'!$G$2:$K$14,5,FALSE))*'By Population'!$BG3*Scenario_VT_3","v":0},{"$f":"(VLOOKUP($G4,'By Population'!$G$2:$K$14,5,FALSE))*'By Population'!$BH3*Scenario_VT_3","v":0},{"$f":"(VLOOKUP($G4,'By Population'!$G$2:$K$14,5,FALSE))*'By Population'!$BI3*Scenario_VT_3","v":0},{"$f":"(VLOOKUP($G4,'By Population'!$G$2:$K$14,5,FALSE))*'By Population'!$BJ3*Scenario_VT_3","v":0},{"$f":"(VLOOKUP($G4,'By Population'!$G$2:$K$14,5,FALSE))*'By Population'!$BA3*Scenario_VT_4","v":0},{"$f":"(VLOOKUP($G4,'By Population'!$G$2:$K$14,5,FALSE))*'By Population'!$BB3*Scenario_VT_4","v":0},{"$f":"(VLOOKUP($G4,'By Population'!$G$2:$K$14,5,FALSE))*'By Population'!$BC3*Scenario_VT_4","v":0},{"$f":"(VLOOKUP($G4,'By Population'!$G$2:$K$14,5,FALSE))*'By Population'!$BD3*Scenario_VT_4","v":0},{"$f":"(VLOOKUP($G4,'By Population'!$G$2:$K$14,5,FALSE))*'By Population'!$BE3*Scenario_VT_4","v":0},{"$f":"(VLOOKUP($G4,'By Population'!$G$2:$K$14,5,FALSE))*'By Population'!$BF3*Scenario_VT_4","v":0},{"$f":"(VLOOKUP($G4,'By Population'!$G$2:$K$14,5,FALSE))*'By Population'!$BG3*Scenario_VT_4","v":0},{"$f":"(VLOOKUP($G4,'By Population'!$G$2:$K$14,5,FALSE))*'By Population'!$BH3*Scenario_VT_4","v":0},{"$f":"(VLOOKUP($G4,'By Population'!$G$2:$K$14,5,FALSE))*'By Population'!$BI3*Scenario_VT_4","v":0},{"$f":"(VLOOKUP($G4,'By Population'!$G$2:$K$14,5,FALSE))*'By Population'!$BJ3*Scenario_VT_4","v":0},{"$f":"(VLOOKUP($G4,'By Population'!$G$2:$K$14,5,FALSE))*'By Population'!$BA3*Scenario_VT_5","v":0},{"$f":"(VLOOKUP($G4,'By Population'!$G$2:$K$14,5,FALSE))*'By Population'!$BB3*Scenario_VT_5","v":0},{"$f":"(VLOOKUP($G4,'By Population'!$G$2:$K$14,5,FALSE))*'By Population'!$BC3*Scenario_VT_5","v":0},{"$f":"(VLOOKUP($G4,'By Population'!$G$2:$K$14,5,FALSE))*'By Population'!$BD3*Scenario_VT_5","v":0},{"$f":"(VLOOKUP($G4,'By Population'!$G$2:$K$14,5,FALSE))*'By Population'!$BE3*Scenario_VT_5","v":0},{"$f":"(VLOOKUP($G4,'By Population'!$G$2:$K$14,5,FALSE))*'By Population'!$BF3*Scenario_VT_5","v":0},{"$f":"(VLOOKUP($G4,'By Population'!$G$2:$K$14,5,FALSE))*'By Population'!$BG3*Scenario_VT_5","v":0},{"$f":"(VLOOKUP($G4,'By Population'!$G$2:$K$14,5,FALSE))*'By Population'!$BH3*Scenario_VT_5","v":0},{"$f":"(VLOOKUP($G4,'By Population'!$G$2:$K$14,5,FALSE))*'By Population'!$BI3*Scenario_VT_5","v":0},{"$f":"(VLOOKUP($G4,'By Population'!$G$2:$K$14,5,FALSE))*'By Population'!$BJ3*Scenario_VT_5","v":0}]
[3,"Statewide Totals",2012,"Annual","LDT1","GAS","LDT1_GAS","AllMYr","AllSpeeds",null,1714508.8689999999,6.7747189302604108E-2,null,10400000,{"$f":"(VLOOKUP($G5,'By Population'!$G$2:$K$14,5,FALSE))*'By Population'!$BA4*Scenario_VT_EX","v":0},{"$f":"(VLOOKUP($G5,'By Population'!$G$2:$K$14,5,FALSE))*'By Population'!$BB4*Scenario_VT_EX","v":0},{"$f":"(VLOOKUP($G5,'By Population'!$G$2:$K$14,5,FALSE))*'By Population'!$BC4*Scenario_VT_EX","v":0},{"$f":"(VLOOKUP($G5,'By Population'!$G$2:$K$14,5,FALSE))*'By Population'!$BD4*Scenario_VT_EX","v":0},{"$f":"(VLOOKUP($G5,'By Population'!$G$2:$K$14,5,FALSE))*'By Population'!$BE4*Scenario_VT_EX","v":0},{"$f":"(VLOOKUP($G5,'By Population'!$G$2:$K$14,5,FALSE))*'By Population'!$BF4*Scenario_VT_EX","v":0},{"$f":"(VLOOKUP($G5,'By Population'!$G$2:$K$14,5,FALSE))*'By Population'!$BG4*Scenario_VT_EX","v":0},{"$f":"(VLOOKUP($G5,'By Population'!$G$2:$K$14,5,FALSE))*'By Population'!$BH4*Scenario_VT_EX","v":0},{"$f":"(VLOOKUP($G5,'By Population'!$G$2:$K$14,5,FALSE))*'By Population'!$BI4*Scenario_VT_EX","v":0},{"$f":"(VLOOKUP($G5,'By Population'!$G$2:$K$14,5,FALSE))*'By Population'!$BJ4*Scenario_VT_EX","v":0},{"$f":"(VLOOKUP($G5,'By Population'!$G$2:$K$14,5,FALSE))*'By Population'!$BA4*Scenario_VT_1","v":0},{"$f":"(VLOOKUP($G5,'By Population'!$G$2:$K$14,5,FALSE))*'By Population'!$BB4*Scenario_VT_1","v":0},{"$f":"(VLOOKUP($G5,'By Population'!$G$2:$K$14,5,FALSE))*'By Population'!$BC4*Scenario_VT_1","v":0},{"$f":"(VLOOKUP($G5,'By Population'!$G$2:$K$14,5,FALSE))*'By Population'!$BD4*Scenario_VT_1","v":0},{"$f":"(VLOOKUP($G5,'By Population'!$G$2:$K$14,5,FALSE))*'By Population'!$BE4*Scenario_VT_1","v":0},{"$f":"(VLOOKUP($G5,'By Population'!$G$2:$K$14,5,FALSE))*'By Population'!$BF4*Scenario_VT_1","v":0},{"$f":"(VLOOKUP($G5,'By Population'!$G$2:$K$14,5,FALSE))*'By Population'!$BG4*Scenario_VT_1","v":0},{"$f":"(VLOOKUP($G5,'By Population'!$G$2:$K$14,5,FALSE))*'By Population'!$BH4*Scenario_VT_1","v":0},{"$f":"(VLOOKUP($G5,'By Population'!$G$2:$K$14,5,FALSE))*'By Population'!$BI4*Scenario_VT_1","v":0},{"$f":"(VLOOKUP($G5,'By Population'!$G$2:$K$14,5,FALSE))*'By Population'!$BJ4*Scenario_VT_1","v":0},{"$f":"(VLOOKUP($G5,'By Population'!$G$2:$K$14,5,FALSE))*'By Population'!$BA4*Scenario_VT_2","v":0},{"$f":"(VLOOKUP($G5,'By Population'!$G$2:$K$14,5,FALSE))*'By Population'!$BB4*Scenario_VT_2","v":0},{"$f":"(VLOOKUP($G5,'By Population'!$G$2:$K$14,5,FALSE))*'By Population'!$BC4*Scenario_VT_2","v":0},{"$f":"(VLOOKUP($G5,'By Population'!$G$2:$K$14,5,FALSE))*'By Population'!$BD4*Scenario_VT_2","v":0},{"$f":"(VLOOKUP($G5,'By Population'!$G$2:$K$14,5,FALSE))*'By Population'!$BE4*Scenario_VT_2","v":0},{"$f":"(VLOOKUP($G5,'By Population'!$G$2:$K$14,5,FALSE))*'By Population'!$BF4*Scenario_VT_2","v":0},{"$f":"(VLOOKUP($G5,'By Population'!$G$2:$K$14,5,FALSE))*'By Population'!$BG4*Scenario_VT_2","v":0},{"$f":"(VLOOKUP($G5,'By Population'!$G$2:$K$14,5,FALSE))*'By Population'!$BH4*Scenario_VT_2","v":0},{"$f":"(VLOOKUP($G5,'By Population'!$G$2:$K$14,5,FALSE))*'By Population'!$BI4*Scenario_VT_2","v":0},{"$f":"(VLOOKUP($G5,'By Population'!$G$2:$K$14,5,FALSE))*'By Population'!$BJ4*Scenario_VT_2","v":0},{"$f":"(VLOOKUP($G5,'By Population'!$G$2:$K$14,5,FALSE))*'By Population'!$BA4*Scenario_VT_3","v":0},{"$f":"(VLOOKUP($G5,'By Population'!$G$2:$K$14,5,FALSE))*'By Population'!$BB4*Scenario_VT_3","v":0},{"$f":"(VLOOKUP($G5,'By Population'!$G$2:$K$14,5,FALSE))*'By Population'!$BC4*Scenario_VT_3","v":0},{"$f":"(VLOOKUP($G5,'By Population'!$G$2:$K$14,5,FALSE))*'By Population'!$BD4*Scenario_VT_3","v":0},{"$f":"(VLOOKUP($G5,'By Population'!$G$2:$K$14,5,FALSE))*'By Population'!$BE4*Scenario_VT_3","v":0},{"$f":"(VLOOKUP($G5,'By Population'!$G$2:$K$14,5,FALSE))*'By Population'!$BF4*Scenario_VT_3","v":0},{"$f":"(VLOOKUP($G5,'By Population'!$G$2:$K$14,5,FALSE))*'By Population'!$BG4*Scenario_VT_3","v":0},{"$f":"(VLOOKUP($G5,'By Population'!$G$2:$K$14,5,FALSE))*'By Population'!$BH4*Scenario_VT_3","v":0},{"$f":"(VLOOKUP($G5,'By Population'!$G$2:$K$14,5,FALSE))*'By Population'!$BI4*Scenario_VT_3","v":0},{"$f":"(VLOOKUP($G5,'By Population'!$G$2:$K$14,5,FALSE))*'By Population'!$BJ4*Scenario_VT_3","v":0},{"$f":"(VLOOKUP($G5,'By Population'!$G$2:$K$14,5,FALSE))*'By Population'!$BA4*Scenario_VT_4","v":0},{"$f":"(VLOOKUP($G5,'By Population'!$G$2:$K$14,5,FALSE))*'By Population'!$BB4*Scenario_VT_4","v":0},{"$f":"(VLOOKUP($G5,'By Population'!$G$2:$K$14,5,FALSE))*'By Population'!$BC4*Scenario_VT_4","v":0},{"$f":"(VLOOKUP($G5,'By Population'!$G$2:$K$14,5,FALSE))*'By Population'!$BD4*Scenario_VT_4","v":0},{"$f":"(VLOOKUP($G5,'By Population'!$G$2:$K$14,5,FALSE))*'By Population'!$BE4*Scenario_VT_4","v":0},{"$f":"(VLOOKUP($G5,'By Population'!$G$2:$K$14,5,FALSE))*'By Population'!$BF4*Scenario_VT_4","v":0},{"$f":"(VLOOKUP($G5,'By Population'!$G$2:$K$14,5,FALSE))*'By Population'!$BG4*Scenario_VT_4","v":0},{"$f":"(VLOOKUP($G5,'By Population'!$G$2:$K$14,5,FALSE))*'By Population'!$BH4*Scenario_VT_4","v":0},{"$f":"(VLOOKUP($G5,'By Population'!$G$2:$K$14,5,FALSE))*'By Population'!$BI4*Scenario_VT_4","v":0},{"$f":"(VLOOKUP($G5,'By Population'!$G$2:$K$14,5,FALSE))*'By Population'!$BJ4*Scenario_VT_4","v":0},{"$f":"(VLOOKUP($G5,'By Population'!$G$2:$K$14,5,FALSE))*'By Population'!$BA4*Scenario_VT_5","v":0},{"$f":"(VLOOKUP($G5,'By Population'!$G$2:$K$14,5,FALSE))*'By Population'!$BB4*Scenario_VT_5","v":0},{"$f":"(VLOOKUP($G5,'By Population'!$G$2:$K$14,5,FALSE))*'By Population'!$BC4*Scenario_VT_5","v":0},{"$f":"(VLOOKUP($G5,'By Population'!$G$2:$K$14,5,FALSE))*'By Population'!$BD4*Scenario_VT_5","v":0},{"$f":"(VLOOKUP($G5,'By Population'!$G$2:$K$14,5,FALSE))*'By Population'!$BE4*Scenario_VT_5","v":0},{"$f":"(VLOOKUP($G5,'By Population'!$G$2:$K$14,5,FALSE))*'By Population'!$BF4*Scenario_VT_5","v":0},{"$f":"(VLOOKUP($G5,'By Population'!$G$2:$K$14,5,FALSE))*'By Population'!$BG4*Scenario_VT_5","v":0},{"$f":"(VLOOKUP($G5,'By Population'!$G$2:$K$14,5,FALSE))*'By Population'!$BH4*Scenario_VT_5","v":0},{"$f":"(VLOOKUP($G5,'By Population'!$G$2:$K$14,5,FALSE))*'By Population'!$BI4*Scenario_VT_5","v":0},{"$f":"(VLOOKUP($G5,'By Population'!$G$2:$K$14,5,FALSE))*'By Population'!$BJ4*Scenario_VT_5","v":0}]
[4,"Statewide Totals",2012,"Annual","LDT1","DSL","LDT1_DSL","AllMYr","AllSpeeds",null,2365.7800579999998,9.348155167673951E-5,null,12392.11332,{"$f":"(VLOOKUP($G6,'By Population'!$G$2:$K$14,5,FALSE))*'By Population'!$BA5*Scenario_VT_EX","v":0},{"$f":"(VLOOKUP($G6,'By Population'!$G$2:$K$14,5,FALSE))*'By Population'!$BB5*Scenario_VT_EX","v":0},{"$f":"(VLOOKUP($G6,'By Population'!$G$2:$K$14,5,FALSE))*'By Population'!$BC5*Scenario_VT_EX","v":0},{"$f":"(VLOOKUP($G6,'By Population'!$G$2:$K$14,5,FALSE))*'By Population'!$BD5*Scenario_VT_EX","v":0},{"$f":"(VLOOKUP($G6,'By Population'!$G$2:$K$14,5,FALSE))*'By Population'!$BE5*Scenario_VT_EX","v":0},{"$f":"(VLOOKUP($G6,'By Population'!$G$2:$K$14,5,FALSE))*'By Population'!$BF5*Scenario_VT_EX","v":0},{"$f":"(VLOOKUP($G6,'By Population'!$G$2:$K$14,5,FALSE))*'By Population'!$BG5*Scenario_VT_EX","v":0},{"$f":"(VLOOKUP($G6,'By Population'!$G$2:$K$14,5,FALSE))*'By Population'!$BH5*Scenario_VT_EX","v":0},{"$f":"(VLOOKUP($G6,'By Population'!$G$2:$K$14,5,FALSE))*'By Population'!$BI5*Scenario_VT_EX","v":0},{"$f":"(VLOOKUP($G6,'By Population'!$G$2:$K$14,5,FALSE))*'By Population'!$BJ5*Scenario_VT_EX","v":0},{"$f":"(VLOOKUP($G6,'By Population'!$G$2:$K$14,5,FALSE))*'By Population'!$BA5*Scenario_VT_1","v":0},{"$f":"(VLOOKUP($G6,'By Population'!$G$2:$K$14,5,FALSE))*'By Population'!$BB5*Scenario_VT_1","v":0},{"$f":"(VLOOKUP($G6,'By Population'!$G$2:$K$14,5,FALSE))*'By Population'!$BC5*Scenario_VT_1","v":0},{"$f":"(VLOOKUP($G6,'By Population'!$G$2:$K$14,5,FALSE))*'By Population'!$BD5*Scenario_VT_1","v":0},{"$f":"(VLOOKUP($G6,'By Population'!$G$2:$K$14,5,FALSE))*'By Population'!$BE5*Scenario_VT_1","v":0},{"$f":"(VLOOKUP($G6,'By Population'!$G$2:$K$14,5,FALSE))*'By Population'!$BF5*Scenario_VT_1","v":0},{"$f":"(VLOOKUP($G6,'By Population'!$G$2:$K$14,5,FALSE))*'By Population'!$BG5*Scenario_VT_1","v":0},{"$f":"(VLOOKUP($G6,'By Population'!$G$2:$K$14,5,FALSE))*'By Population'!$BH5*Scenario_VT_1","v":0},{"$f":"(VLOOKUP($G6,'By Population'!$G$2:$K$14,5,FALSE))*'By Population'!$BI5*Scenario_VT_1","v":0},{"$f":"(VLOOKUP($G6,'By Population'!$G$2:$K$14,5,FALSE))*'By Population'!$BJ5*Scenario_VT_1","v":0},{"$f":"(VLOOKUP($G6,'By Population'!$G$2:$K$14,5,FALSE))*'By Population'!$BA5*Scenario_VT_2","v":0},{"$f":"(VLOOKUP($G6,'By Population'!$G$2:$K$14,5,FALSE))*'By Population'!$BB5*Scenario_VT_2","v":0},{"$f":"(VLOOKUP($G6,'By Population'!$G$2:$K$14,5,FALSE))*'By Population'!$BC5*Scenario_VT_2","v":0},{"$f":"(VLOOKUP($G6,'By Population'!$G$2:$K$14,5,FALSE))*'By Population'!$BD5*Scenario_VT_2","v":0},{"$f":"(VLOOKUP($G6,'By Population'!$G$2:$K$14,5,FALSE))*'By Population'!$BE5*Scenario_VT_2","v":0},{"$f":"(VLOOKUP($G6,'By Population'!$G$2:$K$14,5,FALSE))*'By Population'!$BF5*Scenario_VT_2","v":0},{"$f":"(VLOOKUP($G6,'By Population'!$G$2:$K$14,5,FALSE))*'By Population'!$BG5*Scenario_VT_2","v":0},{"$f":"(VLOOKUP($G6,'By Population'!$G$2:$K$14,5,FALSE))*'By Population'!$BH5*Scenario_VT_2","v":0},{"$f":"(VLOOKUP($G6,'By Population'!$G$2:$K$14,5,FALSE))*'By Population'!$BI5*Scenario_VT_2","v":0},{"$f":"(VLOOKUP($G6,'By Population'!$G$2:$K$14,5,FALSE))*'By Population'!$BJ5*Scenario_VT_2","v":0},{"$f":"(VLOOKUP($G6,'By Population'!$G$2:$K$14,5,FALSE))*'By Population'!$BA5*Scenario_VT_3","v":0},{"$f":"(VLOOKUP($G6,'By Population'!$G$2:$K$14,5,FALSE))*'By Population'!$BB5*Scenario_VT_3","v":0},{"$f":"(VLOOKUP($G6,'By Population'!$G$2:$K$14,5,FALSE))*'By Population'!$BC5*Scenario_VT_3","v":0},{"$f":"(VLOOKUP($G6,'By Population'!$G$2:$K$14,5,FALSE))*'By Population'!$BD5*Scenario_VT_3","v":0},{"$f":"(VLOOKUP($G6,'By Population'!$G$2:$K$14,5,FALSE))*'By Population'!$BE5*Scenario_VT_3","v":0},{"$f":"(VLOOKUP($G6,'By Population'!$G$2:$K$14,5,FALSE))*'By Population'!$BF5*Scenario_VT_3","v":0},{"$f":"(VLOOKUP($G6,'By Population'!$G$2:$K$14,5,FALSE))*'By Population'!$BG5*Scenario_VT_3","v":0},{"$f":"(VLOOKUP($G6,'By Population'!$G$2:$K$14,5,FALSE))*'By Population'!$BH5*Scenario_VT_3","v":0},{"$f":"(VLOOKUP($G6,'By Population'!$G$2:$K$14,5,FALSE))*'By Population'!$BI5*Scenario_VT_3","v":0},{"$f":"(VLOOKUP($G6,'By Population'!$G$2:$K$14,5,FALSE))*'By Population'!$BJ5*Scenario_VT_3","v":0},{"$f":"(VLOOKUP($G6,'By Population'!$G$2:$K$14,5,FALSE))*'By Population'!$BA5*Scenario_VT_4","v":0},{"$f":"(VLOOKUP($G6,'By Population'!$G$2:$K$14,5,FALSE))*'By Population'!$BB5*Scenario_VT_4","v":0},{"$f":"(VLOOKUP($G6,'By Population'!$G$2:$K$14,5,FALSE))*'By Population'!$BC5*Scenario_VT_4","v":0},{"$f":"(VLOOKUP($G6,'By Population'!$G$2:$K$14,5,FALSE))*'By Population'!$BD5*Scenario_VT_4","v":0},{"$f":"(VLOOKUP($G6,'By Population'!$G$2:$K$14,5,FALSE))*'By Population'!$BE5*Scenario_VT_4","v":0},{"$f":"(VLOOKUP($G6,'By Population'!$G$2:$K$14,5,FALSE))*'By Population'!$BF5*Scenario_VT_4","v":0},{"$f":"(VLOOKUP($G6,'By Population'!$G$2:$K$14,5,FALSE))*'By Population'!$BG5*Scenario_VT_4","v":0},{"$f":"(VLOOKUP($G6,'By Population'!$G$2:$K$14,5,FALSE))*'By Population'!$BH5*Scenario_VT_4","v":0},{"$f":"(VLOOKUP($G6,'By Population'!$G$2:$K$14,5,FALSE))*'By Population'!$BI5*Scenario_VT_4","v":0},{"$f":"(VLOOKUP($G6,'By Population'!$G$2:$K$14,5,FALSE))*'By Population'!$BJ5*Scenario_VT_4","v":0},{"$f":"(VLOOKUP($G6,'By Population'!$G$2:$K$14,5,FALSE))*'By Population'!$BA5*Scenario_VT_5","v":0},{"$f":"(VLOOKUP($G6,'By Population'!$G$2:$K$14,5,FALSE))*'By Population'!$BB5*Scenario_VT_5","v":0},{"$f":"(VLOOKUP($G6,'By Population'!$G$2:$K$14,5,FALSE))*'By Population'!$BC5*Scenario_VT_5","v":0},{"$f":"(VLOOKUP($G6,'By Population'!$G$2:$K$14,5,FALSE))*'By Population'!$BD5*Scenario_VT_5","v":0},{"$f":"(VLOOKUP($G6,'By Population'!$G$2:$K$14,5,FALSE))*'By Population'!$BE5*Scenario_VT_5","v":0},{"$f":"(VLOOKUP($G6,'By Population'!$G$2:$K$14,5,FALSE))*'By Population'!$BF5*Scenario_VT_5","v":0},{"$f":"(VLOOKUP($G6,'By Population'!$G$2:$K$14,5,FALSE))*'By Population'!$BG5*Scenario_VT_5","v":0},{"$f":"(VLOOKUP($G6,'By Population'!$G$2:$K$14,5,FALSE))*'By Population'!$BH5*Scenario_VT_5","v":0},{"$f":"(VLOOKUP($G6,'By Population'!$G$2:$K$14,5,FALSE))*'By Population'!$BI5*Scenario_VT_5","v":0},{"$f":"(VLOOKUP($G6,'By Population'!$G$2:$K$14,5,FALSE))*'By Population'!$BJ5*Scenario_VT_5","v":0}]
[5,"Statewide Totals",2012,"Annual","LDT2","GAS","LDT2_GAS","AllMYr","AllSpeeds",null,4549078.6749999998,0.17975252255616325,null,28600000,{"$f":"(VLOOKUP($G7,'By Population'!$G$2:$K$14,5,FALSE))*'By Population'!$BA6*Scenario_VT_EX","v":0},{"$f":"(VLOOKUP($G7,'By Population'!$G$2:$K$14,5,FALSE))*'By Population'!$BB6*Scenario_VT_EX","v":0},{"$f":"(VLOOKUP($G7,'By Population'!$G$2:$K$14,5,FALSE))*'By Population'!$BC6*Scenario_VT_EX","v":0},{"$f":"(VLOOKUP($G7,'By Population'!$G$2:$K$14,5,FALSE))*'By Population'!$BD6*Scenario_VT_EX","v":0},{"$f":"(VLOOKUP($G7,'By Population'!$G$2:$K$14,5,FALSE))*'By Population'!$BE6*Scenario_VT_EX","v":0},{"$f":"(VLOOKUP($G7,'By Population'!$G$2:$K$14,5,FALSE))*'By Population'!$BF6*Scenario_VT_EX","v":0},{"$f":"(VLOOKUP($G7,'By Population'!$G$2:$K$14,5,FALSE))*'By Population'!$BG6*Scenario_VT_EX","v":0},{"$f":"(VLOOKUP($G7,'By Population'!$G$2:$K$14,5,FALSE))*'By Population'!$BH6*Scenario_VT_EX","v":0},{"$f":"(VLOOKUP($G7,'By Population'!$G$2:$K$14,5,FALSE))*'By Population'!$BI6*Scenario_VT_EX","v":0},{"$f":"(VLOOKUP($G7,'By Population'!$G$2:$K$14,5,FALSE))*'By Population'!$BJ6*Scenario_VT_EX","v":0},{"$f":"(VLOOKUP($G7,'By Population'!$G$2:$K$14,5,FALSE))*'By Population'!$BA6*Scenario_VT_1","v":0},{"$f":"(VLOOKUP($G7,'By Population'!$G$2:$K$14,5,FALSE))*'By Population'!$BB6*Scenario_VT_1","v":0},{"$f":"(VLOOKUP($G7,'By Population'!$G$2:$K$14,5,FALSE))*'By Population'!$BC6*Scenario_VT_1","v":0},{"$f":"(VLOOKUP($G7,'By Population'!$G$2:$K$14,5,FALSE))*'By Population'!$BD6*Scenario_VT_1","v":0},{"$f":"(VLOOKUP($G7,'By Population'!$G$2:$K$14,5,FALSE))*'By Population'!$BE6*Scenario_VT_1","v":0},{"$f":"(VLOOKUP($G7,'By Population'!$G$2:$K$14,5,FALSE))*'By Population'!$BF6*Scenario_VT_1","v":0},{"$f":"(VLOOKUP($G7,'By Population'!$G$2:$K$14,5,FALSE))*'By Population'!$BG6*Scenario_VT_1","v":0},{"$f":"(VLOOKUP($G7,'By Population'!$G$2:$K$14,5,FALSE))*'By Population'!$BH6*Scenario_VT_1","v":0},{"$f":"(VLOOKUP($G7,'By Population'!$G$2:$K$14,5,FALSE))*'By Population'!$BI6*Scenario_VT_1","v":0},{"$f":"(VLOOKUP($G7,'By Population'!$G$2:$K$14,5,FALSE))*'By Population'!$BJ6*Scenario_VT_1","v":0},{"$f":"(VLOOKUP($G7,'By Population'!$G$2:$K$14,5,FALSE))*'By Population'!$BA6*Scenario_VT_2","v":0},{"$f":"(VLOOKUP($G7,'By Population'!$G$2:$K$14,5,FALSE))*'By Population'!$BB6*Scenario_VT_2","v":0},{"$f":"(VLOOKUP($G7,'By Population'!$G$2:$K$14,5,FALSE))*'By Population'!$BC6*Scenario_VT_2","v":0},{"$f":"(VLOOKUP($G7,'By Population'!$G$2:$K$14,5,FALSE))*'By Population'!$BD6*Scenario_VT_2","v":0},{"$f":"(VLOOKUP($G7,'By Population'!$G$2:$K$14,5,FALSE))*'By Population'!$BE6*Scenario_VT_2","v":0},{"$f":"(VLOOKUP($G7,'By Population'!$G$2:$K$14,5,FALSE))*'By Population'!$BF6*Scenario_VT_2","v":0},{"$f":"(VLOOKUP($G7,'By Population'!$G$2:$K$14,5,FALSE))*'By Population'!$BG6*Scenario_VT_2","v":0},{"$f":"(VLOOKUP($G7,'By Population'!$G$2:$K$14,5,FALSE))*'By Population'!$BH6*Scenario_VT_2","v":0},{"$f":"(VLOOKUP($G7,'By Population'!$G$2:$K$14,5,FALSE))*'By Population'!$BI6*Scenario_VT_2","v":0},{"$f":"(VLOOKUP($G7,'By Population'!$G$2:$K$14,5,FALSE))*'By Population'!$BJ6*Scenario_VT_2","v":0},{"$f":"(VLOOKUP($G7,'By Population'!$G$2:$K$14,5,FALSE))*'By Population'!$BA6*Scenario_VT_3","v":0},{"$f":"(VLOOKUP($G7,'By Population'!$G$2:$K$14,5,FALSE))*'By Population'!$BB6*Scenario_VT_3","v":0},{"$f":"(VLOOKUP($G7,'By Population'!$G$2:$K$14,5,FALSE))*'By Population'!$BC6*Scenario_VT_3","v":0},{"$f":"(VLOOKUP($G7,'By Population'!$G$2:$K$14,5,FALSE))*'By Population'!$BD6*Scenario_VT_3","v":0},{"$f":"(VLOOKUP($G7,'By Population'!$G$2:$K$14,5,FALSE))*'By Population'!$BE6*Scenario_VT_3","v":0},{"$f":"(VLOOKUP($G7,'By Population'!$G$2:$K$14,5,FALSE))*'By Population'!$BF6*Scenario_VT_3","v":0},{"$f":"(VLOOKUP($G7,'By Population'!$G$2:$K$14,5,FALSE))*'By Population'!$BG6*Scenario_VT_3","v":0},{"$f":"(VLOOKUP($G7,'By Population'!$G$2:$K$14,5,FALSE))*'By Population'!$BH6*Scenario_VT_3","v":0},{"$f":"(VLOOKUP($G7,'By Population'!$G$2:$K$14,5,FALSE))*'By Population'!$BI6*Scenario_VT_3","v":0},{"$f":"(VLOOKUP($G7,'By Population'!$G$2:$K$14,5,FALSE))*'By Population'!$BJ6*Scenario_VT_3","v":0},{"$f":"(VLOOKUP($G7,'By Population'!$G$2:$K$14,5,FALSE))*'By Population'!$BA6*Scenario_VT_4","v":0},{"$f":"(VLOOKUP($G7,'By Population'!$G$2:$K$14,5,FALSE))*'By Population'!$BB6*Scenario_VT_4","v":0},{"$f":"(VLOOKUP($G7,'By Population'!$G$2:$K$14,5,FALSE))*'By Population'!$BC6*Scenario_VT_4","v":0},{"$f":"(VLOOKUP($G7,'By Population'!$G$2:$K$14,5,FALSE))*'By Population'!$BD6*Scenario_VT_4","v":0},{"$f":"(VLOOKUP($G7,'By Population'!$G$2:$K$14,5,FALSE))*'By Population'!$BE6*Scenario_VT_4","v":0},{"$f":"(VLOOKUP($G7,'By Population'!$G$2:$K$14,5,FALSE))*'By Population'!$BF6*Scenario_VT_4","v":0},{"$f":"(VLOOKUP($G7,'By Population'!$G$2:$K$14,5,FALSE))*'By Population'!$BG6*Scenario_VT_4","v":0},{"$f":"(VLOOKUP($G7,'By Population'!$G$2:$K$14,5,FALSE))*'By Population'!$BH6*Scenario_VT_4","v":0},{"$f":"(VLOOKUP($G7,'By Population'!$G$2:$K$14,5,FALSE))*'By Population'!$BI6*Scenario_VT_4","v":0},{"$f":"(VLOOKUP($G7,'By Population'!$G$2:$K$14,5,FALSE))*'By Population'!$BJ6*Scenario_VT_4","v":0},{"$f":"(VLOOKUP($G7,'By Population'!$G$2:$K$14,5,FALSE))*'By Population'!$BA6*Scenario_VT_5","v":0},{"$f":"(VLOOKUP($G7,'By Population'!$G$2:$K$14,5,FALSE))*'By Population'!$BB6*Scenario_VT_5","v":0},{"$f":"(VLOOKUP($G7,'By Population'!$G$2:$K$14,5,FALSE))*'By Population'!$BC6*Scenario_VT_5","v":0},{"$f":"(VLOOKUP($G7,'By Population'!$G$2:$K$14,5,FALSE))*'By Population'!$BD6*Scenario_VT_5","v":0},{"$f":"(VLOOKUP($G7,'By Population'!$G$2:$K$14,5,FALSE))*'By Population'!$BE6*Scenario_VT_5","v":0},{"$f":"(VLOOKUP($G7,'By Population'!$G$2:$K$14,5,FALSE))*'By Population'!$BF6*Scenario_VT_5","v":0},{"$f":"(VLOOKUP($G7,'By Population'!$G$2:$K$14,5,FALSE))*'By Population'!$BG6*Scenario_VT_5","v":0},{"$f":"(VLOOKUP($G7,'By Population'!$G$2:$K$14,5,FALSE))*'By Population'!$BH6*Scenario_VT_5","v":0},{"$f":"(VLOOKUP($G7,'By Population'!$G$2:$K$14,5,FALSE))*'By Population'!$BI6*Scenario_VT_5","v":0},{"$f":"(VLOOKUP($G7,'By Population'!$G$2:$K$14,5,FALSE))*'By Population'!$BJ6*Scenario_VT_5","v":0}]
[6,"Statewide Totals",2012,"Annual","LDT2","DSL","LDT2_DSL","AllMYr","AllSpeeds",null,2106.1331420000001,8.3221850436261799E-5,null,11507.48976,{"$f":"(VLOOKUP($G8,'By Population'!$G$2:$K$14,5,FALSE))*'By Population'!$BA7*Scenario_VT_EX","v":0},{"$f":"(VLOOKUP($G8,'By Population'!$G$2:$K$14,5,FALSE))*'By Population'!$BB7*Scenario_VT_EX","v":0},{"$f":"(VLOOKUP($G8,'By Population'!$G$2:$K$14,5,FALSE))*'By Population'!$BC7*Scenario_VT_EX","v":0},{"$f":"(VLOOKUP($G8,'By Population'!$G$2:$K$14,5,FALSE))*'By Population'!$BD7*Scenario_VT_EX","v":0},{"$f":"(VLOOKUP($G8,'By Population'!$G$2:$K$14,5,FALSE))*'By Population'!$BE7*Scenario_VT_EX","v":0},{"$f":"(VLOOKUP($G8,'By Population'!$G$2:$K$14,5,FALSE))*'By Population'!$BF7*Scenario_VT_EX","v":0},{"$f":"(VLOOKUP($G8,'By Population'!$G$2:$K$14,5,FALSE))*'By Population'!$BG7*Scenario_VT_EX","v":0},{"$f":"(VLOOKUP($G8,'By Population'!$G$2:$K$14,5,FALSE))*'By Population'!$BH7*Scenario_VT_EX","v":0},{"$f":"(VLOOKUP($G8,'By Population'!$G$2:$K$14,5,FALSE))*'By Population'!$BI7*Scenario_VT_EX","v":0},{"$f":"(VLOOKUP($G8,'By Population'!$G$2:$K$14,5,FALSE))*'By Population'!$BJ7*Scenario_VT_EX","v":0},{"$f":"(VLOOKUP($G8,'By Population'!$G$2:$K$14,5,FALSE))*'By Population'!$BA7*Scenario_VT_1","v":0},{"$f":"(VLOOKUP($G8,'By Population'!$G$2:$K$14,5,FALSE))*'By Population'!$BB7*Scenario_VT_1","v":0},{"$f":"(VLOOKUP($G8,'By Population'!$G$2:$K$14,5,FALSE))*'By Population'!$BC7*Scenario_VT_1","v":0},{"$f":"(VLOOKUP($G8,'By Population'!$G$2:$K$14,5,FALSE))*'By Population'!$BD7*Scenario_VT_1","v":0},{"$f":"(VLOOKUP($G8,'By Population'!$G$2:$K$14,5,FALSE))*'By Population'!$BE7*Scenario_VT_1","v":0},{"$f":"(VLOOKUP($G8,'By Population'!$G$2:$K$14,5,FALSE))*'By Population'!$BF7*Scenario_VT_1","v":0},{"$f":"(VLOOKUP($G8,'By Population'!$G$2:$K$14,5,FALSE))*'By Population'!$BG7*Scenario_VT_1","v":0},{"$f":"(VLOOKUP($G8,'By Population'!$G$2:$K$14,5,FALSE))*'By Population'!$BH7*Scenario_VT_1","v":0},{"$f":"(VLOOKUP($G8,'By Population'!$G$2:$K$14,5,FALSE))*'By Population'!$BI7*Scenario_VT_1","v":0},{"$f":"(VLOOKUP($G8,'By Population'!$G$2:$K$14,5,FALSE))*'By Population'!$BJ7*Scenario_VT_1","v":0},{"$f":"(VLOOKUP($G8,'By Population'!$G$2:$K$14,5,FALSE))*'By Population'!$BA7*Scenario_VT_2","v":0},{"$f":"(VLOOKUP($G8,'By Population'!$G$2:$K$14,5,FALSE))*'By Population'!$BB7*Scenario_VT_2","v":0},{"$f":"(VLOOKUP($G8,'By Population'!$G$2:$K$14,5,FALSE))*'By Population'!$BC7*Scenario_VT_2","v":0},{"$f":"(VLOOKUP($G8,'By Population'!$G$2:$K$14,5,FALSE))*'By Population'!$BD7*Scenario_VT_2","v":0},{"$f":"(VLOOKUP($G8,'By Population'!$G$2:$K$14,5,FALSE))*'By Population'!$BE7*Scenario_VT_2","v":0},{"$f":"(VLOOKUP($G8,'By Population'!$G$2:$K$14,5,FALSE))*'By Population'!$BF7*Scenario_VT_2","v":0},{"$f":"(VLOOKUP($G8,'By Population'!$G$2:$K$14,5,FALSE))*'By Population'!$BG7*Scenario_VT_2","v":0},{"$f":"(VLOOKUP($G8,'By Population'!$G$2:$K$14,5,FALSE))*'By Population'!$BH7*Scenario_VT_2","v":0},{"$f":"(VLOOKUP($G8,'By Population'!$G$2:$K$14,5,FALSE))*'By Population'!$BI7*Scenario_VT_2","v":0},{"$f":"(VLOOKUP($G8,'By Population'!$G$2:$K$14,5,FALSE))*'By Population'!$BJ7*Scenario_VT_2","v":0},{"$f":"(VLOOKUP($G8,'By Population'!$G$2:$K$14,5,FALSE))*'By Population'!$BA7*Scenario_VT_3","v":0},{"$f":"(VLOOKUP($G8,'By Population'!$G$2:$K$14,5,FALSE))*'By Population'!$BB7*Scenario_VT_3","v":0},{"$f":"(VLOOKUP($G8,'By Population'!$G$2:$K$14,5,FALSE))*'By Population'!$BC7*Scenario_VT_3","v":0},{"$f":"(VLOOKUP($G8,'By Population'!$G$2:$K$14,5,FALSE))*'By Population'!$BD7*Scenario_VT_3","v":0},{"$f":"(VLOOKUP($G8,'By Population'!$G$2:$K$14,5,FALSE))*'By Population'!$BE7*Scenario_VT_3","v":0},{"$f":"(VLOOKUP($G8,'By Population'!$G$2:$K$14,5,FALSE))*'By Population'!$BF7*Scenario_VT_3","v":0},{"$f":"(VLOOKUP($G8,'By Population'!$G$2:$K$14,5,FALSE))*'By Population'!$BG7*Scenario_VT_3","v":0},{"$f":"(VLOOKUP($G8,'By Population'!$G$2:$K$14,5,FALSE))*'By Population'!$BH7*Scenario_VT_3","v":0},{"$f":"(VLOOKUP($G8,'By Population'!$G$2:$K$14,5,FALSE))*'By Population'!$BI7*Scenario_VT_3","v":0},{"$f":"(VLOOKUP($G8,'By Population'!$G$2:$K$14,5,FALSE))*'By Population'!$BJ7*Scenario_VT_3","v":0},{"$f":"(VLOOKUP($G8,'By Population'!$G$2:$K$14,5,FALSE))*'By Population'!$BA7*Scenario_VT_4","v":0},{"$f":"(VLOOKUP($G8,'By Population'!$G$2:$K$14,5,FALSE))*'By Population'!$BB7*Scenario_VT_4","v":0},{"$f":"(VLOOKUP($G8,'By Population'!$G$2:$K$14,5,FALSE))*'By Population'!$BC7*Scenario_VT_4","v":0},{"$f":"(VLOOKUP($G8,'By Population'!$G$2:$K$14,5,FALSE))*'By Population'!$BD7*Scenario_VT_4","v":0},{"$f":"(VLOOKUP($G8,'By Population'!$G$2:$K$14,5,FALSE))*'By Population'!$BE7*Scenario_VT_4","v":0},{"$f":"(VLOOKUP($G8,'By Population'!$G$2:$K$14,5,FALSE))*'By Population'!$BF7*Scenario_VT_4","v":0},{"$f":"(VLOOKUP($G8,'By Population'!$G$2:$K$14,5,FALSE))*'By Population'!$BG7*Scenario_VT_4","v":0},{"$f":"(VLOOKUP($G8,'By Population'!$G$2:$K$14,5,FALSE))*'By Population'!$BH7*Scenario_VT_4","v":0},{"$f":"(VLOOKUP($G8,'By Population'!$G$2:$K$14,5,FALSE))*'By Population'!$BI7*Scenario_VT_4","v":0},{"$f":"(VLOOKUP($G8,'By Population'!$G$2:$K$14,5,FALSE))*'By Population'!$BJ7*Scenario_VT_4","v":0},{"$f":"(VLOOKUP($G8,'By Population'!$G$2:$K$14,5,FALSE))*'By Population'!$BA7*Scenario_VT_5","v":0},{"$f":"(VLOOKUP($G8,'By Population'!$G$2:$K$14,5,FALSE))*'By Population'!$BB7*Scenario_VT_5","v":0},{"$f":"(VLOOKUP($G8,'By Population'!$G$2:$K$14,5,FALSE))*'By Population'!$BC7*Scenario_VT_5","v":0},{"$f":"(VLOOKUP($G8,'By Population'!$G$2:$K$14,5,FALSE))*'By Population'!$BD7*Scenario_VT_5","v":0},{"$f":"(VLOOKUP($G8,'By Population'!$G$2:$K$14,5,FALSE))*'By Population'!$BE7*Scenario_VT_5","v":0},{"$f":"(VLOOKUP($G8,'By Population'!$G$2:$K$14,5,FALSE))*'By Population'!$BF7*Scenario_VT_5","v":0},{"$f":"(VLOOKUP($G8,'By Population'!$G$2:$K$14,5,FALSE))*'By Population'!$BG7*Scenario_VT_5","v":0},{"$f":"(VLOOKUP($G8,'By Population'!$G$2:$K$14,5,FALSE))*'By Population'!$BH7*Scenario_VT_5","v":0},{"$f":"(VLOOKUP($G8,'By Population'!$G$2:$K$14,5,FALSE))*'By Population'!$BI7*Scenario_VT_5","v":0},{"$f":"(VLOOKUP($G8,'By Population'!$G$2:$K$14,5,FALSE))*'By Population'!$BJ7*Scenario_VT_5","v":0}]
[7,"Statewide Totals",2012,"Annual","LHD1","GAS","LHD1_GAS","AllMYr","AllSpeeds",null,681852.75809999998,2.6942764026905378E-2,null,10200000,{"$f":"(VLOOKUP($G9,'By Population'!$G$2:$K$14,5,FALSE))*'By Population'!$BA8*Scenario_VT_EX","v":0},{"$f":"(VLOOKUP($G9,'By Population'!$G$2:$K$14,5,FALSE))*'By Population'!$BB8*Scenario_VT_EX","v":0},{"$f":"(VLOOKUP($G9,'By Population'!$G$2:$K$14,5,FALSE))*'By Population'!$BC8*Scenario_VT_EX","v":0},{"$f":"(VLOOKUP($G9,'By Population'!$G$2:$K$14,5,FALSE))*'By Population'!$BD8*Scenario_VT_EX","v":0},{"$f":"(VLOOKUP($G9,'By Population'!$G$2:$K$14,5,FALSE))*'By Population'!$BE8*Scenario_VT_EX","v":0},{"$f":"(VLOOKUP($G9,'By Population'!$G$2:$K$14,5,FALSE))*'By Population'!$BF8*Scenario_VT_EX","v":0},{"$f":"(VLOOKUP($G9,'By Population'!$G$2:$K$14,5,FALSE))*'By Population'!$BG8*Scenario_VT_EX","v":0},{"$f":"(VLOOKUP($G9,'By Population'!$G$2:$K$14,5,FALSE))*'By Population'!$BH8*Scenario_VT_EX","v":0},{"$f":"(VLOOKUP($G9,'By Population'!$G$2:$K$14,5,FALSE))*'By Population'!$BI8*Scenario_VT_EX","v":0},{"$f":"(VLOOKUP($G9,'By Population'!$G$2:$K$14,5,FALSE))*'By Population'!$BJ8*Scenario_VT_EX","v":0},{"$f":"(VLOOKUP($G9,'By Population'!$G$2:$K$14,5,FALSE))*'By Population'!$BA8*Scenario_VT_1","v":0},{"$f":"(VLOOKUP($G9,'By Population'!$G$2:$K$14,5,FALSE))*'By Population'!$BB8*Scenario_VT_1","v":0},{"$f":"(VLOOKUP($G9,'By Population'!$G$2:$K$14,5,FALSE))*'By Population'!$BC8*Scenario_VT_1","v":0},{"$f":"(VLOOKUP($G9,'By Population'!$G$2:$K$14,5,FALSE))*'By Population'!$BD8*Scenario_VT_1","v":0},{"$f":"(VLOOKUP($G9,'By Population'!$G$2:$K$14,5,FALSE))*'By Population'!$BE8*Scenario_VT_1","v":0},{"$f":"(VLOOKUP($G9,'By Population'!$G$2:$K$14,5,FALSE))*'By Population'!$BF8*Scenario_VT_1","v":0},{"$f":"(VLOOKUP($G9,'By Population'!$G$2:$K$14,5,FALSE))*'By Population'!$BG8*Scenario_VT_1","v":0},{"$f":"(VLOOKUP($G9,'By Population'!$G$2:$K$14,5,FALSE))*'By Population'!$BH8*Scenario_VT_1","v":0},{"$f":"(VLOOKUP($G9,'By Population'!$G$2:$K$14,5,FALSE))*'By Population'!$BI8*Scenario_VT_1","v":0},{"$f":"(VLOOKUP($G9,'By Population'!$G$2:$K$14,5,FALSE))*'By Population'!$BJ8*Scenario_VT_1","v":0},{"$f":"(VLOOKUP($G9,'By Population'!$G$2:$K$14,5,FALSE))*'By Population'!$BA8*Scenario_VT_2","v":0},{"$f":"(VLOOKUP($G9,'By Population'!$G$2:$K$14,5,FALSE))*'By Population'!$BB8*Scenario_VT_2","v":0},{"$f":"(VLOOKUP($G9,'By Population'!$G$2:$K$14,5,FALSE))*'By Population'!$BC8*Scenario_VT_2","v":0},{"$f":"(VLOOKUP($G9,'By Population'!$G$2:$K$14,5,FALSE))*'By Population'!$BD8*Scenario_VT_2","v":0},{"$f":"(VLOOKUP($G9,'By Population'!$G$2:$K$14,5,FALSE))*'By Population'!$BE8*Scenario_VT_2","v":0},{"$f":"(VLOOKUP($G9,'By Population'!$G$2:$K$14,5,FALSE))*'By Population'!$BF8*Scenario_VT_2","v":0},{"$f":"(VLOOKUP($G9,'By Population'!$G$2:$K$14,5,FALSE))*'By Population'!$BG8*Scenario_VT_2","v":0},{"$f":"(VLOOKUP($G9,'By Population'!$G$2:$K$14,5,FALSE))*'By Population'!$BH8*Scenario_VT_2","v":0},{"$f":"(VLOOKUP($G9,'By Population'!$G$2:$K$14,5,FALSE))*'By Population'!$BI8*Scenario_VT_2","v":0},{"$f":"(VLOOKUP($G9,'By Population'!$G$2:$K$14,5,FALSE))*'By Population'!$BJ8*Scenario_VT_2","v":0},{"$f":"(VLOOKUP($G9,'By Population'!$G$2:$K$14,5,FALSE))*'By Population'!$BA8*Scenario_VT_3","v":0},{"$f":"(VLOOKUP($G9,'By Population'!$G$2:$K$14,5,FALSE))*'By Population'!$BB8*Scenario_VT_3","v":0},{"$f":"(VLOOKUP($G9,'By Population'!$G$2:$K$14,5,FALSE))*'By Population'!$BC8*Scenario_VT_3","v":0},{"$f":"(VLOOKUP($G9,'By Population'!$G$2:$K$14,5,FALSE))*'By Population'!$BD8*Scenario_VT_3","v":0},{"$f":"(VLOOKUP($G9,'By Population'!$G$2:$K$14,5,FALSE))*'By Population'!$BE8*Scenario_VT_3","v":0},{"$f":"(VLOOKUP($G9,'By Population'!$G$2:$K$14,5,FALSE))*'By Population'!$BF8*Scenario_VT_3","v":0},{"$f":"(VLOOKUP($G9,'By Population'!$G$2:$K$14,5,FALSE))*'By Population'!$BG8*Scenario_VT_3","v":0},{"$f":"(VLOOKUP($G9,'By Population'!$G$2:$K$14,5,FALSE))*'By Population'!$BH8*Scenario_VT_3","v":0},{"$f":"(VLOOKUP($G9,'By Population'!$G$2:$K$14,5,FALSE))*'By Population'!$BI8*Scenario_VT_3","v":0},{"$f":"(VLOOKUP($G9,'By Population'!$G$2:$K$14,5,FALSE))*'By Population'!$BJ8*Scenario_VT_3","v":0},{"$f":"(VLOOKUP($G9,'By Population'!$G$2:$K$14,5,FALSE))*'By Population'!$BA8*Scenario_VT_4","v":0},{"$f":"(VLOOKUP($G9,'By Population'!$G$2:$K$14,5,FALSE))*'By Population'!$BB8*Scenario_VT_4","v":0},{"$f":"(VLOOKUP($G9,'By Population'!$G$2:$K$14,5,FALSE))*'By Population'!$BC8*Scenario_VT_4","v":0},{"$f":"(VLOOKUP($G9,'By Population'!$G$2:$K$14,5,FALSE))*'By Population'!$BD8*Scenario_VT_4","v":0},{"$f":"(VLOOKUP($G9,'By Population'!$G$2:$K$14,5,FALSE))*'By Population'!$BE8*Scenario_VT_4","v":0},{"$f":"(VLOOKUP($G9,'By Population'!$G$2:$K$14,5,FALSE))*'By Population'!$BF8*Scenario_VT_4","v":0},{"$f":"(VLOOKUP($G9,'By Population'!$G$2:$K$14,5,FALSE))*'By Population'!$BG8*Scenario_VT_4","v":0},{"$f":"(VLOOKUP($G9,'By Population'!$G$2:$K$14,5,FALSE))*'By Population'!$BH8*Scenario_VT_4","v":0},{"$f":"(VLOOKUP($G9,'By Population'!$G$2:$K$14,5,FALSE))*'By Population'!$BI8*Scenario_VT_4","v":0},{"$f":"(VLOOKUP($G9,'By Population'!$G$2:$K$14,5,FALSE))*'By Population'!$BJ8*Scenario_VT_4","v":0},{"$f":"(VLOOKUP($G9,'By Population'!$G$2:$K$14,5,FALSE))*'By Population'!$BA8*Scenario_VT_5","v":0},{"$f":"(VLOOKUP($G9,'By Population'!$G$2:$K$14,5,FALSE))*'By Population'!$BB8*Scenario_VT_5","v":0},{"$f":"(VLOOKUP($G9,'By Population'!$G$2:$K$14,5,FALSE))*'By Population'!$BC8*Scenario_VT_5","v":0},{"$f":"(VLOOKUP($G9,'By Population'!$G$2:$K$14,5,FALSE))*'By Population'!$BD8*Scenario_VT_5","v":0},{"$f":"(VLOOKUP($G9,'By Population'!$G$2:$K$14,5,FALSE))*'By Population'!$BE8*Scenario_VT_5","v":0},{"$f":"(VLOOKUP($G9,'By Population'!$G$2:$K$14,5,FALSE))*'By Population'!$BF8*Scenario_VT_5","v":0},{"$f":"(VLOOKUP($G9,'By Population'!$G$2:$K$14,5,FALSE))*'By Population'!$BG8*Scenario_VT_5","v":0},{"$f":"(VLOOKUP($G9,'By Population'!$G$2:$K$14,5,FALSE))*'By Population'!$BH8*Scenario_VT_5","v":0},{"$f":"(VLOOKUP($G9,'By Population'!$G$2:$K$14,5,FALSE))*'By Population'!$BI8*Scenario_VT_5","v":0},{"$f":"(VLOOKUP($G9,'By Population'!$G$2:$K$14,5,FALSE))*'By Population'!$BJ8*Scenario_VT_5","v":0}]
[8,"Statewide Totals",2012,"Annual","LHD1","DSL","LHD1_DSL","AllMYr","AllSpeeds",null,358209.9792,1.4154327055245042E-2,null,4505830.7929999996,{"$f":"(VLOOKUP($G10,'By Population'!$G$2:$K$14,5,FALSE))*'By Population'!$BA9*Scenario_VT_EX","v":0},{"$f":"(VLOOKUP($G10,'By Population'!$G$2:$K$14,5,FALSE))*'By Population'!$BB9*Scenario_VT_EX","v":0},{"$f":"(VLOOKUP($G10,'By Population'!$G$2:$K$14,5,FALSE))*'By Population'!$BC9*Scenario_VT_EX","v":0},{"$f":"(VLOOKUP($G10,'By Population'!$G$2:$K$14,5,FALSE))*'By Population'!$BD9*Scenario_VT_EX","v":0},{"$f":"(VLOOKUP($G10,'By Population'!$G$2:$K$14,5,FALSE))*'By Population'!$BE9*Scenario_VT_EX","v":0},{"$f":"(VLOOKUP($G10,'By Population'!$G$2:$K$14,5,FALSE))*'By Population'!$BF9*Scenario_VT_EX","v":0},{"$f":"(VLOOKUP($G10,'By Population'!$G$2:$K$14,5,FALSE))*'By Population'!$BG9*Scenario_VT_EX","v":0},{"$f":"(VLOOKUP($G10,'By Population'!$G$2:$K$14,5,FALSE))*'By Population'!$BH9*Scenario_VT_EX","v":0},{"$f":"(VLOOKUP($G10,'By Population'!$G$2:$K$14,5,FALSE))*'By Population'!$BI9*Scenario_VT_EX","v":0},{"$f":"(VLOOKUP($G10,'By Population'!$G$2:$K$14,5,FALSE))*'By Population'!$BJ9*Scenario_VT_EX","v":0},{"$f":"(VLOOKUP($G10,'By Population'!$G$2:$K$14,5,FALSE))*'By Population'!$BA9*Scenario_VT_1","v":0},{"$f":"(VLOOKUP($G10,'By Population'!$G$2:$K$14,5,FALSE))*'By Population'!$BB9*Scenario_VT_1","v":0},{"$f":"(VLOOKUP($G10,'By Population'!$G$2:$K$14,5,FALSE))*'By Population'!$BC9*Scenario_VT_1","v":0},{"$f":"(VLOOKUP($G10,'By Population'!$G$2:$K$14,5,FALSE))*'By Population'!$BD9*Scenario_VT_1","v":0},{"$f":"(VLOOKUP($G10,'By Population'!$G$2:$K$14,5,FALSE))*'By Population'!$BE9*Scenario_VT_1","v":0},{"$f":"(VLOOKUP($G10,'By Population'!$G$2:$K$14,5,FALSE))*'By Population'!$BF9*Scenario_VT_1","v":0},{"$f":"(VLOOKUP($G10,'By Population'!$G$2:$K$14,5,FALSE))*'By Population'!$BG9*Scenario_VT_1","v":0},{"$f":"(VLOOKUP($G10,'By Population'!$G$2:$K$14,5,FALSE))*'By Population'!$BH9*Scenario_VT_1","v":0},{"$f":"(VLOOKUP($G10,'By Population'!$G$2:$K$14,5,FALSE))*'By Population'!$BI9*Scenario_VT_1","v":0},{"$f":"(VLOOKUP($G10,'By Population'!$G$2:$K$14,5,FALSE))*'By Population'!$BJ9*Scenario_VT_1","v":0},{"$f":"(VLOOKUP($G10,'By Population'!$G$2:$K$14,5,FALSE))*'By Population'!$BA9*Scenario_VT_2","v":0},{"$f":"(VLOOKUP($G10,'By Population'!$G$2:$K$14,5,FALSE))*'By Population'!$BB9*Scenario_VT_2","v":0},{"$f":"(VLOOKUP($G10,'By Population'!$G$2:$K$14,5,FALSE))*'By Population'!$BC9*Scenario_VT_2","v":0},{"$f":"(VLOOKUP($G10,'By Population'!$G$2:$K$14,5,FALSE))*'By Population'!$BD9*Scenario_VT_2","v":0},{"$f":"(VLOOKUP($G10,'By Population'!$G$2:$K$14,5,FALSE))*'By Population'!$BE9*Scenario_VT_2","v":0},{"$f":"(VLOOKUP($G10,'By Population'!$G$2:$K$14,5,FALSE))*'By Population'!$BF9*Scenario_VT_2","v":0},{"$f":"(VLOOKUP($G10,'By Population'!$G$2:$K$14,5,FALSE))*'By Population'!$BG9*Scenario_VT_2","v":0},{"$f":"(VLOOKUP($G10,'By Population'!$G$2:$K$14,5,FALSE))*'By Population'!$BH9*Scenario_VT_2","v":0},{"$f":"(VLOOKUP($G10,'By Population'!$G$2:$K$14,5,FALSE))*'By Population'!$BI9*Scenario_VT_2","v":0},{"$f":"(VLOOKUP($G10,'By Population'!$G$2:$K$14,5,FALSE))*'By Population'!$BJ9*Scenario_VT_2","v":0},{"$f":"(VLOOKUP($G10,'By Population'!$G$2:$K$14,5,FALSE))*'By Population'!$BA9*Scenario_VT_3","v":0},{"$f":"(VLOOKUP($G10,'By Population'!$G$2:$K$14,5,FALSE))*'By Population'!$BB9*Scenario_VT_3","v":0},{"$f":"(VLOOKUP($G10,'By Population'!$G$2:$K$14,5,FALSE))*'By Population'!$BC9*Scenario_VT_3","v":0},{"$f":"(VLOOKUP($G10,'By Population'!$G$2:$K$14,5,FALSE))*'By Population'!$BD9*Scenario_VT_3","v":0},{"$f":"(VLOOKUP($G10,'By Population'!$G$2:$K$14,5,FALSE))*'By Population'!$BE9*Scenario_VT_3","v":0},{"$f":"(VLOOKUP($G10,'By Population'!$G$2:$K$14,5,FALSE))*'By Population'!$BF9*Scenario_VT_3","v":0},{"$f":"(VLOOKUP($G10,'By Population'!$G$2:$K$14,5,FALSE))*'By Population'!$BG9*Scenario_VT_3","v":0},{"$f":"(VLOOKUP($G10,'By Population'!$G$2:$K$14,5,FALSE))*'By Population'!$BH9*Scenario_VT_3","v":0},{"$f":"(VLOOKUP($G10,'By Population'!$G$2:$K$14,5,FALSE))*'By Population'!$BI9*Scenario_VT_3","v":0},{"$f":"(VLOOKUP($G10,'By Population'!$G$2:$K$14,5,FALSE))*'By Population'!$BJ9*Scenario_VT_3","v":0},{"$f":"(VLOOKUP($G10,'By Population'!$G$2:$K$14,5,FALSE))*'By Population'!$BA9*Scenario_VT_4","v":0},{"$f":"(VLOOKUP($G10,'By Population'!$G$2:$K$14,5,FALSE))*'By Population'!$BB9*Scenario_VT_4","v":0},{"$f":"(VLOOKUP($G10,'By Population'!$G$2:$K$14,5,FALSE))*'By Population'!$BC9*Scenario_VT_4","v":0},{"$f":"(VLOOKUP($G10,'By Population'!$G$2:$K$14,5,FALSE))*'By Population'!$BD9*Scenario_VT_4","v":0},{"$f":"(VLOOKUP($G10,'By Population'!$G$2:$K$14,5,FALSE))*'By Population'!$BE9*Scenario_VT_4","v":0},{"$f":"(VLOOKUP($G10,'By Population'!$G$2:$K$14,5,FALSE))*'By Population'!$BF9*Scenario_VT_4","v":0},{"$f":"(VLOOKUP($G10,'By Population'!$G$2:$K$14,5,FALSE))*'By Population'!$BG9*Scenario_VT_4","v":0},{"$f":"(VLOOKUP($G10,'By Population'!$G$2:$K$14,5,FALSE))*'By Population'!$BH9*Scenario_VT_4","v":0},{"$f":"(VLOOKUP($G10,'By Population'!$G$2:$K$14,5,FALSE))*'By Population'!$BI9*Scenario_VT_4","v":0},{"$f":"(VLOOKUP($G10,'By Population'!$G$2:$K$14,5,FALSE))*'By Population'!$BJ9*Scenario_VT_4","v":0},{"$f":"(VLOOKUP($G10,'By Population'!$G$2:$K$14,5,FALSE))*'By Population'!$BA9*Scenario_VT_5","v":0},{"$f":"(VLOOKUP($G10,'By Population'!$G$2:$K$14,5,FALSE))*'By Population'!$BB9*Scenario_VT_5","v":0},{"$f":"(VLOOKUP($G10,'By Population'!$G$2:$K$14,5,FALSE))*'By Population'!$BC9*Scenario_VT_5","v":0},{"$f":"(VLOOKUP($G10,'By Population'!$G$2:$K$14,5,FALSE))*'By Population'!$BD9*Scenario_VT_5","v":0},{"$f":"(VLOOKUP($G10,'By Population'!$G$2:$K$14,5,FALSE))*'By Population'!$BE9*Scenario_VT_5","v":0},{"$f":"(VLOOKUP($G10,'By Population'!$G$2:$K$14,5,FALSE))*'By Population'!$BF9*Scenario_VT_5","v":0},{"$f":"(VLOOKUP($G10,'By Population'!$G$2:$K$14,5,FALSE))*'By Population'!$BG9*Scenario_VT_5","v":0},{"$f":"(VLOOKUP($G10,'By Population'!$G$2:$K$14,5,FALSE))*'By Population'!$BH9*Scenario_VT_5","v":0},{"$f":"(VLOOKUP($G10,'By Population'!$G$2:$K$14,5,FALSE))*'By Population'!$BI9*Scenario_VT_5","v":0},{"$f":"(VLOOKUP($G10,'By Population'!$G$2:$K$14,5,FALSE))*'By Population'!$BJ9*Scenario_VT_5","v":0}]
[9,"Statewide Totals",2012,"Annual","LHD2","GAS","LHD2_GAS","AllMYr","AllSpeeds",null,62419.25159,2.4664374329314725E-3,null,929953.80299999996,{"$f":"(VLOOKUP($G11,'By Population'!$G$2:$K$14,5,FALSE))*'By Population'!$BA10*Scenario_VT_EX","v":0},{"$f":"(VLOOKUP($G11,'By Population'!$G$2:$K$14,5,FALSE))*'By Population'!$BB10*Scenario_VT_EX","v":0},{"$f":"(VLOOKUP($G11,'By Population'!$G$2:$K$14,5,FALSE))*'By Population'!$BC10*Scenario_VT_EX","v":0},{"$f":"(VLOOKUP($G11,'By Population'!$G$2:$K$14,5,FALSE))*'By Population'!$BD10*Scenario_VT_EX","v":0},{"$f":"(VLOOKUP($G11,'By Population'!$G$2:$K$14,5,FALSE))*'By Population'!$BE10*Scenario_VT_EX","v":0},{"$f":"(VLOOKUP($G11,'By Population'!$G$2:$K$14,5,FALSE))*'By Population'!$BF10*Scenario_VT_EX","v":0},{"$f":"(VLOOKUP($G11,'By Population'!$G$2:$K$14,5,FALSE))*'By Population'!$BG10*Scenario_VT_EX","v":0},{"$f":"(VLOOKUP($G11,'By Population'!$G$2:$K$14,5,FALSE))*'By Population'!$BH10*Scenario_VT_EX","v":0},{"$f":"(VLOOKUP($G11,'By Population'!$G$2:$K$14,5,FALSE))*'By Population'!$BI10*Scenario_VT_EX","v":0},{"$f":"(VLOOKUP($G11,'By Population'!$G$2:$K$14,5,FALSE))*'By Population'!$BJ10*Scenario_VT_EX","v":0},{"$f":"(VLOOKUP($G11,'By Population'!$G$2:$K$14,5,FALSE))*'By Population'!$BA10*Scenario_VT_1","v":0},{"$f":"(VLOOKUP($G11,'By Population'!$G$2:$K$14,5,FALSE))*'By Population'!$BB10*Scenario_VT_1","v":0},{"$f":"(VLOOKUP($G11,'By Population'!$G$2:$K$14,5,FALSE))*'By Population'!$BC10*Scenario_VT_1","v":0},{"$f":"(VLOOKUP($G11,'By Population'!$G$2:$K$14,5,FALSE))*'By Population'!$BD10*Scenario_VT_1","v":0},{"$f":"(VLOOKUP($G11,'By Population'!$G$2:$K$14,5,FALSE))*'By Population'!$BE10*Scenario_VT_1","v":0},{"$f":"(VLOOKUP($G11,'By Population'!$G$2:$K$14,5,FALSE))*'By Population'!$BF10*Scenario_VT_1","v":0},{"$f":"(VLOOKUP($G11,'By Population'!$G$2:$K$14,5,FALSE))*'By Population'!$BG10*Scenario_VT_1","v":0},{"$f":"(VLOOKUP($G11,'By Population'!$G$2:$K$14,5,FALSE))*'By Population'!$BH10*Scenario_VT_1","v":0},{"$f":"(VLOOKUP($G11,'By Population'!$G$2:$K$14,5,FALSE))*'By Population'!$BI10*Scenario_VT_1","v":0},{"$f":"(VLOOKUP($G11,'By Population'!$G$2:$K$14,5,FALSE))*'By Population'!$BJ10*Scenario_VT_1","v":0},{"$f":"(VLOOKUP($G11,'By Population'!$G$2:$K$14,5,FALSE))*'By Population'!$BA10*Scenario_VT_2","v":0},{"$f":"(VLOOKUP($G11,'By Population'!$G$2:$K$14,5,FALSE))*'By Population'!$BB10*Scenario_VT_2","v":0},{"$f":"(VLOOKUP($G11,'By Population'!$G$2:$K$14,5,FALSE))*'By Population'!$BC10*Scenario_VT_2","v":0},{"$f":"(VLOOKUP($G11,'By Population'!$G$2:$K$14,5,FALSE))*'By Population'!$BD10*Scenario_VT_2","v":0},{"$f":"(VLOOKUP($G11,'By Population'!$G$2:$K$14,5,FALSE))*'By Population'!$BE10*Scenario_VT_2","v":0},{"$f":"(VLOOKUP($G11,'By Population'!$G$2:$K$14,5,FALSE))*'By Population'!$BF10*Scenario_VT_2","v":0},{"$f":"(VLOOKUP($G11,'By Population'!$G$2:$K$14,5,FALSE))*'By Population'!$BG10*Scenario_VT_2","v":0},{"$f":"(VLOOKUP($G11,'By Population'!$G$2:$K$14,5,FALSE))*'By Population'!$BH10*Scenario_VT_2","v":0},{"$f":"(VLOOKUP($G11,'By Population'!$G$2:$K$14,5,FALSE))*'By Population'!$BI10*Scenario_VT_2","v":0},{"$f":"(VLOOKUP($G11,'By Population'!$G$2:$K$14,5,FALSE))*'By Population'!$BJ10*Scenario_VT_2","v":0},{"$f":"(VLOOKUP($G11,'By Population'!$G$2:$K$14,5,FALSE))*'By Population'!$BA10*Scenario_VT_3","v":0},{"$f":"(VLOOKUP($G11,'By Population'!$G$2:$K$14,5,FALSE))*'By Population'!$BB10*Scenario_VT_3","v":0},{"$f":"(VLOOKUP($G11,'By Population'!$G$2:$K$14,5,FALSE))*'By Population'!$BC10*Scenario_VT_3","v":0},{"$f":"(VLOOKUP($G11,'By Population'!$G$2:$K$14,5,FALSE))*'By Population'!$BD10*Scenario_VT_3","v":0},{"$f":"(VLOOKUP($G11,'By Population'!$G$2:$K$14,5,FALSE))*'By Population'!$BE10*Scenario_VT_3","v":0},{"$f":"(VLOOKUP($G11,'By Population'!$G$2:$K$14,5,FALSE))*'By Population'!$BF10*Scenario_VT_3","v":0},{"$f":"(VLOOKUP($G11,'By Population'!$G$2:$K$14,5,FALSE))*'By Population'!$BG10*Scenario_VT_3","v":0},{"$f":"(VLOOKUP($G11,'By Population'!$G$2:$K$14,5,FALSE))*'By Population'!$BH10*Scenario_VT_3","v":0},{"$f":"(VLOOKUP($G11,'By Population'!$G$2:$K$14,5,FALSE))*'By Population'!$BI10*Scenario_VT_3","v":0},{"$f":"(VLOOKUP($G11,'By Population'!$G$2:$K$14,5,FALSE))*'By Population'!$BJ10*Scenario_VT_3","v":0},{"$f":"(VLOOKUP($G11,'By Population'!$G$2:$K$14,5,FALSE))*'By Population'!$BA10*Scenario_VT_4","v":0},{"$f":"(VLOOKUP($G11,'By Population'!$G$2:$K$14,5,FALSE))*'By Population'!$BB10*Scenario_VT_4","v":0},{"$f":"(VLOOKUP($G11,'By Population'!$G$2:$K$14,5,FALSE))*'By Population'!$BC10*Scenario_VT_4","v":0},{"$f":"(VLOOKUP($G11,'By Population'!$G$2:$K$14,5,FALSE))*'By Population'!$BD10*Scenario_VT_4","v":0},{"$f":"(VLOOKUP($G11,'By Population'!$G$2:$K$14,5,FALSE))*'By Population'!$BE10*Scenario_VT_4","v":0},{"$f":"(VLOOKUP($G11,'By Population'!$G$2:$K$14,5,FALSE))*'By Population'!$BF10*Scenario_VT_4","v":0},{"$f":"(VLOOKUP($G11,'By Population'!$G$2:$K$14,5,FALSE))*'By Population'!$BG10*Scenario_VT_4","v":0},{"$f":"(VLOOKUP($G11,'By Population'!$G$2:$K$14,5,FALSE))*'By Population'!$BH10*Scenario_VT_4","v":0},{"$f":"(VLOOKUP($G11,'By Population'!$G$2:$K$14,5,FALSE))*'By Population'!$BI10*Scenario_VT_4","v":0},{"$f":"(VLOOKUP($G11,'By Population'!$G$2:$K$14,5,FALSE))*'By Population'!$BJ10*Scenario_VT_4","v":0},{"$f":"(VLOOKUP($G11,'By Population'!$G$2:$K$14,5,FALSE))*'By Population'!$BA10*Scenario_VT_5","v":0},{"$f":"(VLOOKUP($G11,'By Population'!$G$2:$K$14,5,FALSE))*'By Population'!$BB10*Scenario_VT_5","v":0},{"$f":"(VLOOKUP($G11,'By Population'!$G$2:$K$14,5,FALSE))*'By Population'!$BC10*Scenario_VT_5","v":0},{"$f":"(VLOOKUP($G11,'By Population'!$G$2:$K$14,5,FALSE))*'By Population'!$BD10*Scenario_VT_5","v":0},{"$f":"(VLOOKUP($G11,'By Population'!$G$2:$K$14,5,FALSE))*'By Population'!$BE10*Scenario_VT_5","v":0},{"$f":"(VLOOKUP($G11,'By Population'!$G$2:$K$14,5,FALSE))*'By Population'!$BF10*Scenario_VT_5","v":0},{"$f":"(VLOOKUP($G11,'By Population'!$G$2:$K$14,5,FALSE))*'By Population'!$BG10*Scenario_VT_5","v":0},{"$f":"(VLOOKUP($G11,'By Population'!$G$2:$K$14,5,FALSE))*'By Population'!$BH10*Scenario_VT_5","v":0},{"$f":"(VLOOKUP($G11,'By Population'!$G$2:$K$14,5,FALSE))*'By Population'!$BI10*Scenario_VT_5","v":0},{"$f":"(VLOOKUP($G11,'By Population'!$G$2:$K$14,5,FALSE))*'By Population'!$BJ10*Scenario_VT_5","v":0}]
[10,"Statewide Totals",2012,"Annual","LHD2","DSL","LHD2_DSL","AllMYr","AllSpeeds",null,93333.205530000007,3.6879729569131593E-3,null,1174014.2879999999,{"$f":"(VLOOKUP($G12,'By Population'!$G$2:$K$14,5,FALSE))*'By Population'!$BA11*Scenario_VT_EX","v":0},{"$f":"(VLOOKUP($G12,'By Population'!$G$2:$K$14,5,FALSE))*'By Population'!$BB11*Scenario_VT_EX","v":0},{"$f":"(VLOOKUP($G12,'By Population'!$G$2:$K$14,5,FALSE))*'By Population'!$BC11*Scenario_VT_EX","v":0},{"$f":"(VLOOKUP($G12,'By Population'!$G$2:$K$14,5,FALSE))*'By Population'!$BD11*Scenario_VT_EX","v":0},{"$f":"(VLOOKUP($G12,'By Population'!$G$2:$K$14,5,FALSE))*'By Population'!$BE11*Scenario_VT_EX","v":0},{"$f":"(VLOOKUP($G12,'By Population'!$G$2:$K$14,5,FALSE))*'By Population'!$BF11*Scenario_VT_EX","v":0},{"$f":"(VLOOKUP($G12,'By Population'!$G$2:$K$14,5,FALSE))*'By Population'!$BG11*Scenario_VT_EX","v":0},{"$f":"(VLOOKUP($G12,'By Population'!$G$2:$K$14,5,FALSE))*'By Population'!$BH11*Scenario_VT_EX","v":0},{"$f":"(VLOOKUP($G12,'By Population'!$G$2:$K$14,5,FALSE))*'By Population'!$BI11*Scenario_VT_EX","v":0},{"$f":"(VLOOKUP($G12,'By Population'!$G$2:$K$14,5,FALSE))*'By Population'!$BJ11*Scenario_VT_EX","v":0},{"$f":"(VLOOKUP($G12,'By Population'!$G$2:$K$14,5,FALSE))*'By Population'!$BA11*Scenario_VT_1","v":0},{"$f":"(VLOOKUP($G12,'By Population'!$G$2:$K$14,5,FALSE))*'By Population'!$BB11*Scenario_VT_1","v":0},{"$f":"(VLOOKUP($G12,'By Population'!$G$2:$K$14,5,FALSE))*'By Population'!$BC11*Scenario_VT_1","v":0},{"$f":"(VLOOKUP($G12,'By Population'!$G$2:$K$14,5,FALSE))*'By Population'!$BD11*Scenario_VT_1","v":0},{"$f":"(VLOOKUP($G12,'By Population'!$G$2:$K$14,5,FALSE))*'By Population'!$BE11*Scenario_VT_1","v":0},{"$f":"(VLOOKUP($G12,'By Population'!$G$2:$K$14,5,FALSE))*'By Population'!$BF11*Scenario_VT_1","v":0},{"$f":"(VLOOKUP($G12,'By Population'!$G$2:$K$14,5,FALSE))*'By Population'!$BG11*Scenario_VT_1","v":0},{"$f":"(VLOOKUP($G12,'By Population'!$G$2:$K$14,5,FALSE))*'By Population'!$BH11*Scenario_VT_1","v":0},{"$f":"(VLOOKUP($G12,'By Population'!$G$2:$K$14,5,FALSE))*'By Population'!$BI11*Scenario_VT_1","v":0},{"$f":"(VLOOKUP($G12,'By Population'!$G$2:$K$14,5,FALSE))*'By Population'!$BJ11*Scenario_VT_1","v":0},{"$f":"(VLOOKUP($G12,'By Population'!$G$2:$K$14,5,FALSE))*'By Population'!$BA11*Scenario_VT_2","v":0},{"$f":"(VLOOKUP($G12,'By Population'!$G$2:$K$14,5,FALSE))*'By Population'!$BB11*Scenario_VT_2","v":0},{"$f":"(VLOOKUP($G12,'By Population'!$G$2:$K$14,5,FALSE))*'By Population'!$BC11*Scenario_VT_2","v":0},{"$f":"(VLOOKUP($G12,'By Population'!$G$2:$K$14,5,FALSE))*'By Population'!$BD11*Scenario_VT_2","v":0},{"$f":"(VLOOKUP($G12,'By Population'!$G$2:$K$14,5,FALSE))*'By Population'!$BE11*Scenario_VT_2","v":0},{"$f":"(VLOOKUP($G12,'By Population'!$G$2:$K$14,5,FALSE))*'By Population'!$BF11*Scenario_VT_2","v":0},{"$f":"(VLOOKUP($G12,'By Population'!$G$2:$K$14,5,FALSE))*'By Population'!$BG11*Scenario_VT_2","v":0},{"$f":"(VLOOKUP($G12,'By Population'!$G$2:$K$14,5,FALSE))*'By Population'!$BH11*Scenario_VT_2","v":0},{"$f":"(VLOOKUP($G12,'By Population'!$G$2:$K$14,5,FALSE))*'By Population'!$BI11*Scenario_VT_2","v":0},{"$f":"(VLOOKUP($G12,'By Population'!$G$2:$K$14,5,FALSE))*'By Population'!$BJ11*Scenario_VT_2","v":0},{"$f":"(VLOOKUP($G12,'By Population'!$G$2:$K$14,5,FALSE))*'By Population'!$BA11*Scenario_VT_3","v":0},{"$f":"(VLOOKUP($G12,'By Population'!$G$2:$K$14,5,FALSE))*'By Population'!$BB11*Scenario_VT_3","v":0},{"$f":"(VLOOKUP($G12,'By Population'!$G$2:$K$14,5,FALSE))*'By Population'!$BC11*Scenario_VT_3","v":0},{"$f":"(VLOOKUP($G12,'By Population'!$G$2:$K$14,5,FALSE))*'By Population'!$BD11*Scenario_VT_3","v":0},{"$f":"(VLOOKUP($G12,'By Population'!$G$2:$K$14,5,FALSE))*'By Population'!$BE11*Scenario_VT_3","v":0},{"$f":"(VLOOKUP($G12,'By Population'!$G$2:$K$14,5,FALSE))*'By Population'!$BF11*Scenario_VT_3","v":0},{"$f":"(VLOOKUP($G12,'By Population'!$G$2:$K$14,5,FALSE))*'By Population'!$BG11*Scenario_VT_3","v":0},{"$f":"(VLOOKUP($G12,'By Population'!$G$2:$K$14,5,FALSE))*'By Population'!$BH11*Scenario_VT_3","v":0},{"$f":"(VLOOKUP($G12,'By Population'!$G$2:$K$14,5,FALSE))*'By Population'!$BI11*Scenario_VT_3","v":0},{"$f":"(VLOOKUP($G12,'By Population'!$G$2:$K$14,5,FALSE))*'By Population'!$BJ11*Scenario_VT_3","v":0},{"$f":"(VLOOKUP($G12,'By Population'!$G$2:$K$14,5,FALSE))*'By Population'!$BA11*Scenario_VT_4","v":0},{"$f":"(VLOOKUP($G12,'By Population'!$G$2:$K$14,5,FALSE))*'By Population'!$BB11*Scenario_VT_4","v":0},{"$f":"(VLOOKUP($G12,'By Population'!$G$2:$K$14,5,FALSE))*'By Population'!$BC11*Scenario_VT_4","v":0},{"$f":"(VLOOKUP($G12,'By Population'!$G$2:$K$14,5,FALSE))*'By Population'!$BD11*Scenario_VT_4","v":0},{"$f":"(VLOOKUP($G12,'By Population'!$G$2:$K$14,5,FALSE))*'By Population'!$BE11*Scenario_VT_4","v":0},{"$f":"(VLOOKUP($G12,'By Population'!$G$2:$K$14,5,FALSE))*'By Population'!$BF11*Scenario_VT_4","v":0},{"$f":"(VLOOKUP($G12,'By Population'!$G$2:$K$14,5,FALSE))*'By Population'!$BG11*Scenario_VT_4","v":0},{"$f":"(VLOOKUP($G12,'By Population'!$G$2:$K$14,5,FALSE))*'By Population'!$BH11*Scenario_VT_4","v":0},{"$f":"(VLOOKUP($G12,'By Population'!$G$2:$K$14,5,FALSE))*'By Population'!$BI11*Scenario_VT_4","v":0},{"$f":"(VLOOKUP($G12,'By Population'!$G$2:$K$14,5,FALSE))*'By Population'!$BJ11*Scenario_VT_4","v":0},{"$f":"(VLOOKUP($G12,'By Population'!$G$2:$K$14,5,FALSE))*'By Population'!$BA11*Scenario_VT_5","v":0},{"$f":"(VLOOKUP($G12,'By Population'!$G$2:$K$14,5,FALSE))*'By Population'!$BB11*Scenario_VT_5","v":0},{"$f":"(VLOOKUP($G12,'By Population'!$G$2:$K$14,5,FALSE))*'By Population'!$BC11*Scenario_VT_5","v":0},{"$f":"(VLOOKUP($G12,'By Population'!$G$2:$K$14,5,FALSE))*'By Population'!$BD11*Scenario_VT_5","v":0},{"$f":"(VLOOKUP($G12,'By Population'!$G$2:$K$14,5,FALSE))*'By Population'!$BE11*Scenario_VT_5","v":0},{"$f":"(VLOOKUP($G12,'By Population'!$G$2:$K$14,5,FALSE))*'By Population'!$BF11*Scenario_VT_5","v":0},{"$f":"(VLOOKUP($G12,'By Population'!$G$2:$K$14,5,FALSE))*'By Population'!$BG11*Scenario_VT_5","v":0},{"$f":"(VLOOKUP($G12,'By Population'!$G$2:$K$14,5,FALSE))*'By Population'!$BH11*Scenario_VT_5","v":0},{"$f":"(VLOOKUP($G12,'By Population'!$G$2:$K$14,5,FALSE))*'By Population'!$BI11*Scenario_VT_5","v":0},{"$f":"(VLOOKUP($G12,'By Population'!$G$2:$K$14,5,FALSE))*'By Population'!$BJ11*Scenario_VT_5","v":0}]
[11,"Statewide Totals",2012,"Annual","MCY","GAS","MCY_GAS","AllMYr","AllSpeeds",null,666767.42709999997,2.6346681502383049E-2,null,2670948.196,{"$f":"(VLOOKUP($G13,'By Population'!$G$2:$K$14,5,FALSE))*'By Population'!$BA12*Scenario_VT_EX","v":0},{"$f":"(VLOOKUP($G13,'By Population'!$G$2:$K$14,5,FALSE))*'By Population'!$BB12*Scenario_VT_EX","v":0},{"$f":"(VLOOKUP($G13,'By Population'!$G$2:$K$14,5,FALSE))*'By Population'!$BC12*Scenario_VT_EX","v":0},{"$f":"(VLOOKUP($G13,'By Population'!$G$2:$K$14,5,FALSE))*'By Population'!$BD12*Scenario_VT_EX","v":0},{"$f":"(VLOOKUP($G13,'By Population'!$G$2:$K$14,5,FALSE))*'By Population'!$BE12*Scenario_VT_EX","v":0},{"$f":"(VLOOKUP($G13,'By Population'!$G$2:$K$14,5,FALSE))*'By Population'!$BF12*Scenario_VT_EX","v":0},{"$f":"(VLOOKUP($G13,'By Population'!$G$2:$K$14,5,FALSE))*'By Population'!$BG12*Scenario_VT_EX","v":0},{"$f":"(VLOOKUP($G13,'By Population'!$G$2:$K$14,5,FALSE))*'By Population'!$BH12*Scenario_VT_EX","v":0},{"$f":"(VLOOKUP($G13,'By Population'!$G$2:$K$14,5,FALSE))*'By Population'!$BI12*Scenario_VT_EX","v":0},{"$f":"(VLOOKUP($G13,'By Population'!$G$2:$K$14,5,FALSE))*'By Population'!$BJ12*Scenario_VT_EX","v":0},{"$f":"(VLOOKUP($G13,'By Population'!$G$2:$K$14,5,FALSE))*'By Population'!$BA12*Scenario_VT_1","v":0},{"$f":"(VLOOKUP($G13,'By Population'!$G$2:$K$14,5,FALSE))*'By Population'!$BB12*Scenario_VT_1","v":0},{"$f":"(VLOOKUP($G13,'By Population'!$G$2:$K$14,5,FALSE))*'By Population'!$BC12*Scenario_VT_1","v":0},{"$f":"(VLOOKUP($G13,'By Population'!$G$2:$K$14,5,FALSE))*'By Population'!$BD12*Scenario_VT_1","v":0},{"$f":"(VLOOKUP($G13,'By Population'!$G$2:$K$14,5,FALSE))*'By Population'!$BE12*Scenario_VT_1","v":0},{"$f":"(VLOOKUP($G13,'By Population'!$G$2:$K$14,5,FALSE))*'By Population'!$BF12*Scenario_VT_1","v":0},{"$f":"(VLOOKUP($G13,'By Population'!$G$2:$K$14,5,FALSE))*'By Population'!$BG12*Scenario_VT_1","v":0},{"$f":"(VLOOKUP($G13,'By Population'!$G$2:$K$14,5,FALSE))*'By Population'!$BH12*Scenario_VT_1","v":0},{"$f":"(VLOOKUP($G13,'By Population'!$G$2:$K$14,5,FALSE))*'By Population'!$BI12*Scenario_VT_1","v":0},{"$f":"(VLOOKUP($G13,'By Population'!$G$2:$K$14,5,FALSE))*'By Population'!$BJ12*Scenario_VT_1","v":0},{"$f":"(VLOOKUP($G13,'By Population'!$G$2:$K$14,5,FALSE))*'By Population'!$BA12*Scenario_VT_2","v":0},{"$f":"(VLOOKUP($G13,'By Population'!$G$2:$K$14,5,FALSE))*'By Population'!$BB12*Scenario_VT_2","v":0},{"$f":"(VLOOKUP($G13,'By Population'!$G$2:$K$14,5,FALSE))*'By Population'!$BC12*Scenario_VT_2","v":0},{"$f":"(VLOOKUP($G13,'By Population'!$G$2:$K$14,5,FALSE))*'By Population'!$BD12*Scenario_VT_2","v":0},{"$f":"(VLOOKUP($G13,'By Population'!$G$2:$K$14,5,FALSE))*'By Population'!$BE12*Scenario_VT_2","v":0},{"$f":"(VLOOKUP($G13,'By Population'!$G$2:$K$14,5,FALSE))*'By Population'!$BF12*Scenario_VT_2","v":0},{"$f":"(VLOOKUP($G13,'By Population'!$G$2:$K$14,5,FALSE))*'By Population'!$BG12*Scenario_VT_2","v":0},{"$f":"(VLOOKUP($G13,'By Population'!$G$2:$K$14,5,FALSE))*'By Population'!$BH12*Scenario_VT_2","v":0},{"$f":"(VLOOKUP($G13,'By Population'!$G$2:$K$14,5,FALSE))*'By Population'!$BI12*Scenario_VT_2","v":0},{"$f":"(VLOOKUP($G13,'By Population'!$G$2:$K$14,5,FALSE))*'By Population'!$BJ12*Scenario_VT_2","v":0},{"$f":"(VLOOKUP($G13,'By Population'!$G$2:$K$14,5,FALSE))*'By Population'!$BA12*Scenario_VT_3","v":0},{"$f":"(VLOOKUP($G13,'By Population'!$G$2:$K$14,5,FALSE))*'By Population'!$BB12*Scenario_VT_3","v":0},{"$f":"(VLOOKUP($G13,'By Population'!$G$2:$K$14,5,FALSE))*'By Population'!$BC12*Scenario_VT_3","v":0},{"$f":"(VLOOKUP($G13,'By Population'!$G$2:$K$14,5,FALSE))*'By Population'!$BD12*Scenario_VT_3","v":0},{"$f":"(VLOOKUP($G13,'By Population'!$G$2:$K$14,5,FALSE))*'By Population'!$BE12*Scenario_VT_3","v":0},{"$f":"(VLOOKUP($G13,'By Population'!$G$2:$K$14,5,FALSE))*'By Population'!$BF12*Scenario_VT_3","v":0},{"$f":"(VLOOKUP($G13,'By Population'!$G$2:$K$14,5,FALSE))*'By Population'!$BG12*Scenario_VT_3","v":0},{"$f":"(VLOOKUP($G13,'By Population'!$G$2:$K$14,5,FALSE))*'By Population'!$BH12*Scenario_VT_3","v":0},{"$f":"(VLOOKUP($G13,'By Population'!$G$2:$K$14,5,FALSE))*'By Population'!$BI12*Scenario_VT_3","v":0},{"$f":"(VLOOKUP($G13,'By Population'!$G$2:$K$14,5,FALSE))*'By Population'!$BJ12*Scenario_VT_3","v":0},{"$f":"(VLOOKUP($G13,'By Population'!$G$2:$K$14,5,FALSE))*'By Population'!$BA12*Scenario_VT_4","v":0},{"$f":"(VLOOKUP($G13,'By Population'!$G$2:$K$14,5,FALSE))*'By Population'!$BB12*Scenario_VT_4","v":0},{"$f":"(VLOOKUP($G13,'By Population'!$G$2:$K$14,5,FALSE))*'By Population'!$BC12*Scenario_VT_4","v":0},{"$f":"(VLOOKUP($G13,'By Population'!$G$2:$K$14,5,FALSE))*'By Population'!$BD12*Scenario_VT_4","v":0},{"$f":"(VLOOKUP($G13,'By Population'!$G$2:$K$14,5,FALSE))*'By Population'!$BE12*Scenario_VT_4","v":0},{"$f":"(VLOOKUP($G13,'By Population'!$G$2:$K$14,5,FALSE))*'By Population'!$BF12*Scenario_VT_4","v":0},{"$f":"(VLOOKUP($G13,'By Population'!$G$2:$K$14,5,FALSE))*'By Population'!$BG12*Scenario_VT_4","v":0},{"$f":"(VLOOKUP($G13,'By Population'!$G$2:$K$14,5,FALSE))*'By Population'!$BH12*Scenario_VT_4","v":0},{"$f":"(VLOOKUP($G13,'By Population'!$G$2:$K$14,5,FALSE))*'By Population'!$BI12*Scenario_VT_4","v":0},{"$f":"(VLOOKUP($G13,'By Population'!$G$2:$K$14,5,FALSE))*'By Population'!$BJ12*Scenario_VT_4","v":0},{"$f":"(VLOOKUP($G13,'By Population'!$G$2:$K$14,5,FALSE))*'By Population'!$BA12*Scenario_VT_5","v":0},{"$f":"(VLOOKUP($G13,'By Population'!$G$2:$K$14,5,FALSE))*'By Population'!$BB12*Scenario_VT_5","v":0},{"$f":"(VLOOKUP($G13,'By Population'!$G$2:$K$14,5,FALSE))*'By Population'!$BC12*Scenario_VT_5","v":0},{"$f":"(VLOOKUP($G13,'By Population'!$G$2:$K$14,5,FALSE))*'By Population'!$BD12*Scenario_VT_5","v":0},{"$f":"(VLOOKUP($G13,'By Population'!$G$2:$K$14,5,FALSE))*'By Population'!$BE12*Scenario_VT_5","v":0},{"$f":"(VLOOKUP($G13,'By Population'!$G$2:$K$14,5,FALSE))*'By Population'!$BF12*Scenario_VT_5","v":0},{"$f":"(VLOOKUP($G13,'By Population'!$G$2:$K$14,5,FALSE))*'By Population'!$BG12*Scenario_VT_5","v":0},{"$f":"(VLOOKUP($G13,'By Population'!$G$2:$K$14,5,FALSE))*'By Population'!$BH12*Scenario_VT_5","v":0},{"$f":"(VLOOKUP($G13,'By Population'!$G$2:$K$14,5,FALSE))*'By Population'!$BI12*Scenario_VT_5","v":0},{"$f":"(VLOOKUP($G13,'By Population'!$G$2:$K$14,5,FALSE))*'By Population'!$BJ12*Scenario_VT_5","v":0}]
[12,"Statewide Totals",2012,"Annual","MDV","GAS","MDV_GAS","AllMYr","AllSpeeds",null,3817382.1860000002,0.15084023085058226,null,24000000,{"$f":"(VLOOKUP($G14,'By Population'!$G$2:$K$14,5,FALSE))*'By Population'!$BA13*Scenario_VT_EX","v":0},{"$f":"(VLOOKUP($G14,'By Population'!$G$2:$K$14,5,FALSE))*'By Population'!$BB13*Scenario_VT_EX","v":0},{"$f":"(VLOOKUP($G14,'By Population'!$G$2:$K$14,5,FALSE))*'By Population'!$BC13*Scenario_VT_EX","v":0},{"$f":"(VLOOKUP($G14,'By Population'!$G$2:$K$14,5,FALSE))*'By Population'!$BD13*Scenario_VT_EX","v":0},{"$f":"(VLOOKUP($G14,'By Population'!$G$2:$K$14,5,FALSE))*'By Population'!$BE13*Scenario_VT_EX","v":0},{"$f":"(VLOOKUP($G14,'By Population'!$G$2:$K$14,5,FALSE))*'By Population'!$BF13*Scenario_VT_EX","v":0},{"$f":"(VLOOKUP($G14,'By Population'!$G$2:$K$14,5,FALSE))*'By Population'!$BG13*Scenario_VT_EX","v":0},{"$f":"(VLOOKUP($G14,'By Population'!$G$2:$K$14,5,FALSE))*'By Population'!$BH13*Scenario_VT_EX","v":0},{"$f":"(VLOOKUP($G14,'By Population'!$G$2:$K$14,5,FALSE))*'By Population'!$BI13*Scenario_VT_EX","v":0},{"$f":"(VLOOKUP($G14,'By Population'!$G$2:$K$14,5,FALSE))*'By Population'!$BJ13*Scenario_VT_EX","v":0},{"$f":"(VLOOKUP($G14,'By Population'!$G$2:$K$14,5,FALSE))*'By Population'!$BA13*Scenario_VT_1","v":0},{"$f":"(VLOOKUP($G14,'By Population'!$G$2:$K$14,5,FALSE))*'By Population'!$BB13*Scenario_VT_1","v":0},{"$f":"(VLOOKUP($G14,'By Population'!$G$2:$K$14,5,FALSE))*'By Population'!$BC13*Scenario_VT_1","v":0},{"$f":"(VLOOKUP($G14,'By Population'!$G$2:$K$14,5,FALSE))*'By Population'!$BD13*Scenario_VT_1","v":0},{"$f":"(VLOOKUP($G14,'By Population'!$G$2:$K$14,5,FALSE))*'By Population'!$BE13*Scenario_VT_1","v":0},{"$f":"(VLOOKUP($G14,'By Population'!$G$2:$K$14,5,FALSE))*'By Population'!$BF13*Scenario_VT_1","v":0},{"$f":"(VLOOKUP($G14,'By Population'!$G$2:$K$14,5,FALSE))*'By Population'!$BG13*Scenario_VT_1","v":0},{"$f":"(VLOOKUP($G14,'By Population'!$G$2:$K$14,5,FALSE))*'By Population'!$BH13*Scenario_VT_1","v":0},{"$f":"(VLOOKUP($G14,'By Population'!$G$2:$K$14,5,FALSE))*'By Population'!$BI13*Scenario_VT_1","v":0},{"$f":"(VLOOKUP($G14,'By Population'!$G$2:$K$14,5,FALSE))*'By Population'!$BJ13*Scenario_VT_1","v":0},{"$f":"(VLOOKUP($G14,'By Population'!$G$2:$K$14,5,FALSE))*'By Population'!$BA13*Scenario_VT_2","v":0},{"$f":"(VLOOKUP($G14,'By Population'!$G$2:$K$14,5,FALSE))*'By Population'!$BB13*Scenario_VT_2","v":0},{"$f":"(VLOOKUP($G14,'By Population'!$G$2:$K$14,5,FALSE))*'By Population'!$BC13*Scenario_VT_2","v":0},{"$f":"(VLOOKUP($G14,'By Population'!$G$2:$K$14,5,FALSE))*'By Population'!$BD13*Scenario_VT_2","v":0},{"$f":"(VLOOKUP($G14,'By Population'!$G$2:$K$14,5,FALSE))*'By Population'!$BE13*Scenario_VT_2","v":0},{"$f":"(VLOOKUP($G14,'By Population'!$G$2:$K$14,5,FALSE))*'By Population'!$BF13*Scenario_VT_2","v":0},{"$f":"(VLOOKUP($G14,'By Population'!$G$2:$K$14,5,FALSE))*'By Population'!$BG13*Scenario_VT_2","v":0},{"$f":"(VLOOKUP($G14,'By Population'!$G$2:$K$14,5,FALSE))*'By Population'!$BH13*Scenario_VT_2","v":0},{"$f":"(VLOOKUP($G14,'By Population'!$G$2:$K$14,5,FALSE))*'By Population'!$BI13*Scenario_VT_2","v":0},{"$f":"(VLOOKUP($G14,'By Population'!$G$2:$K$14,5,FALSE))*'By Population'!$BJ13*Scenario_VT_2","v":0},{"$f":"(VLOOKUP($G14,'By Population'!$G$2:$K$14,5,FALSE))*'By Population'!$BA13*Scenario_VT_3","v":0},{"$f":"(VLOOKUP($G14,'By Population'!$G$2:$K$14,5,FALSE))*'By Population'!$BB13*Scenario_VT_3","v":0},{"$f":"(VLOOKUP($G14,'By Population'!$G$2:$K$14,5,FALSE))*'By Population'!$BC13*Scenario_VT_3","v":0},{"$f":"(VLOOKUP($G14,'By Population'!$G$2:$K$14,5,FALSE))*'By Population'!$BD13*Scenario_VT_3","v":0},{"$f":"(VLOOKUP($G14,'By Population'!$G$2:$K$14,5,FALSE))*'By Population'!$BE13*Scenario_VT_3","v":0},{"$f":"(VLOOKUP($G14,'By Population'!$G$2:$K$14,5,FALSE))*'By Population'!$BF13*Scenario_VT_3","v":0},{"$f":"(VLOOKUP($G14,'By Population'!$G$2:$K$14,5,FALSE))*'By Population'!$BG13*Scenario_VT_3","v":0},{"$f":"(VLOOKUP($G14,'By Population'!$G$2:$K$14,5,FALSE))*'By Population'!$BH13*Scenario_VT_3","v":0},{"$f":"(VLOOKUP($G14,'By Population'!$G$2:$K$14,5,FALSE))*'By Population'!$BI13*Scenario_VT_3","v":0},{"$f":"(VLOOKUP($G14,'By Population'!$G$2:$K$14,5,FALSE))*'By Population'!$BJ13*Scenario_VT_3","v":0},{"$f":"(VLOOKUP($G14,'By Population'!$G$2:$K$14,5,FALSE))*'By Population'!$BA13*Scenario_VT_4","v":0},{"$f":"(VLOOKUP($G14,'By Population'!$G$2:$K$14,5,FALSE))*'By Population'!$BB13*Scenario_VT_4","v":0},{"$f":"(VLOOKUP($G14,'By Population'!$G$2:$K$14,5,FALSE))*'By Population'!$BC13*Scenario_VT_4","v":0},{"$f":"(VLOOKUP($G14,'By Population'!$G$2:$K$14,5,FALSE))*'By Population'!$BD13*Scenario_VT_4","v":0},{"$f":"(VLOOKUP($G14,'By Population'!$G$2:$K$14,5,FALSE))*'By Population'!$BE13*Scenario_VT_4","v":0},{"$f":"(VLOOKUP($G14,'By Population'!$G$2:$K$14,5,FALSE))*'By Population'!$BF13*Scenario_VT_4","v":0},{"$f":"(VLOOKUP($G14,'By Population'!$G$2:$K$14,5,FALSE))*'By Population'!$BG13*Scenario_VT_4","v":0},{"$f":"(VLOOKUP($G14,'By Population'!$G$2:$K$14,5,FALSE))*'By Population'!$BH13*Scenario_VT_4","v":0},{"$f":"(VLOOKUP($G14,'By Population'!$G$2:$K$14,5,FALSE))*'By Population'!$BI13*Scenario_VT_4","v":0},{"$f":"(VLOOKUP($G14,'By Population'!$G$2:$K$14,5,FALSE))*'By Population'!$BJ13*Scenario_VT_4","v":0},{"$f":"(VLOOKUP($G14,'By Population'!$G$2:$K$14,5,FALSE))*'By Population'!$BA13*Scenario_VT_5","v":0},{"$f":"(VLOOKUP($G14,'By Population'!$G$2:$K$14,5,FALSE))*'By Population'!$BB13*Scenario_VT_5","v":0},{"$f":"(VLOOKUP($G14,'By Population'!$G$2:$K$14,5,FALSE))*'By Population'!$BC13*Scenario_VT_5","v":0},{"$f":"(VLOOKUP($G14,'By Population'!$G$2:$K$14,5,FALSE))*'By Population'!$BD13*Scenario_VT_5","v":0},{"$f":"(VLOOKUP($G14,'By Population'!$G$2:$K$14,5,FALSE))*'By Population'!$BE13*Scenario_VT_5","v":0},{"$f":"(VLOOKUP($G14,'By Population'!$G$2:$K$14,5,FALSE))*'By Population'!$BF13*Scenario_VT_5","v":0},{"$f":"(VLOOKUP($G14,'By Population'!$G$2:$K$14,5,FALSE))*'By Population'!$BG13*Scenario_VT_5","v":0},{"$f":"(VLOOKUP($G14,'By Population'!$G$2:$K$14,5,FALSE))*'By Population'!$BH13*Scenario_VT_5","v":0},{"$f":"(VLOOKUP($G14,'By Population'!$G$2:$K$14,5,FALSE))*'By Population'!$BI13*Scenario_VT_5","v":0},{"$f":"(VLOOKUP($G14,'By Population'!$G$2:$K$14,5,FALSE))*'By Population'!$BJ13*Scenario_VT_5","v":0}]
[13,"Statewide Totals",2012,"Annual","MDV","DSL","MDV_DSL","AllMYr","AllSpeeds",null,3731.7115570000001,1.4745503732637415E-4,null,21731.61609,{"$f":"(VLOOKUP($G15,'By Population'!$G$2:$K$14,5,FALSE))*'By Population'!$BA14*Scenario_VT_EX","v":0},{"$f":"(VLOOKUP($G15,'By Population'!$G$2:$K$14,5,FALSE))*'By Population'!$BB14*Scenario_VT_EX","v":0},{"$f":"(VLOOKUP($G15,'By Population'!$G$2:$K$14,5,FALSE))*'By Population'!$BC14*Scenario_VT_EX","v":0},{"$f":"(VLOOKUP($G15,'By Population'!$G$2:$K$14,5,FALSE))*'By Population'!$BD14*Scenario_VT_EX","v":0},{"$f":"(VLOOKUP($G15,'By Population'!$G$2:$K$14,5,FALSE))*'By Population'!$BE14*Scenario_VT_EX","v":0},{"$f":"(VLOOKUP($G15,'By Population'!$G$2:$K$14,5,FALSE))*'By Population'!$BF14*Scenario_VT_EX","v":0},{"$f":"(VLOOKUP($G15,'By Population'!$G$2:$K$14,5,FALSE))*'By Population'!$BG14*Scenario_VT_EX","v":0},{"$f":"(VLOOKUP($G15,'By Population'!$G$2:$K$14,5,FALSE))*'By Population'!$BH14*Scenario_VT_EX","v":0},{"$f":"(VLOOKUP($G15,'By Population'!$G$2:$K$14,5,FALSE))*'By Population'!$BI14*Scenario_VT_EX","v":0},{"$f":"(VLOOKUP($G15,'By Population'!$G$2:$K$14,5,FALSE))*'By Population'!$BJ14*Scenario_VT_EX","v":0},{"$f":"(VLOOKUP($G15,'By Population'!$G$2:$K$14,5,FALSE))*'By Population'!$BA14*Scenario_VT_1","v":0},{"$f":"(VLOOKUP($G15,'By Population'!$G$2:$K$14,5,FALSE))*'By Population'!$BB14*Scenario_VT_1","v":0},{"$f":"(VLOOKUP($G15,'By Population'!$G$2:$K$14,5,FALSE))*'By Population'!$BC14*Scenario_VT_1","v":0},{"$f":"(VLOOKUP($G15,'By Population'!$G$2:$K$14,5,FALSE))*'By Population'!$BD14*Scenario_VT_1","v":0},{"$f":"(VLOOKUP($G15,'By Population'!$G$2:$K$14,5,FALSE))*'By Population'!$BE14*Scenario_VT_1","v":0},{"$f":"(VLOOKUP($G15,'By Population'!$G$2:$K$14,5,FALSE))*'By Population'!$BF14*Scenario_VT_1","v":0},{"$f":"(VLOOKUP($G15,'By Population'!$G$2:$K$14,5,FALSE))*'By Population'!$BG14*Scenario_VT_1","v":0},{"$f":"(VLOOKUP($G15,'By Population'!$G$2:$K$14,5,FALSE))*'By Population'!$BH14*Scenario_VT_1","v":0},{"$f":"(VLOOKUP($G15,'By Population'!$G$2:$K$14,5,FALSE))*'By Population'!$BI14*Scenario_VT_1","v":0},{"$f":"(VLOOKUP($G15,'By Population'!$G$2:$K$14,5,FALSE))*'By Population'!$BJ14*Scenario_VT_1","v":0},{"$f":"(VLOOKUP($G15,'By Population'!$G$2:$K$14,5,FALSE))*'By Population'!$BA14*Scenario_VT_2","v":0},{"$f":"(VLOOKUP($G15,'By Population'!$G$2:$K$14,5,FALSE))*'By Population'!$BB14*Scenario_VT_2","v":0},{"$f":"(VLOOKUP($G15,'By Population'!$G$2:$K$14,5,FALSE))*'By Population'!$BC14*Scenario_VT_2","v":0},{"$f":"(VLOOKUP($G15,'By Population'!$G$2:$K$14,5,FALSE))*'By Population'!$BD14*Scenario_VT_2","v":0},{"$f":"(VLOOKUP($G15,'By Population'!$G$2:$K$14,5,FALSE))*'By Population'!$BE14*Scenario_VT_2","v":0},{"$f":"(VLOOKUP($G15,'By Population'!$G$2:$K$14,5,FALSE))*'By Population'!$BF14*Scenario_VT_2","v":0},{"$f":"(VLOOKUP($G15,'By Population'!$G$2:$K$14,5,FALSE))*'By Population'!$BG14*Scenario_VT_2","v":0},{"$f":"(VLOOKUP($G15,'By Population'!$G$2:$K$14,5,FALSE))*'By Population'!$BH14*Scenario_VT_2","v":0},{"$f":"(VLOOKUP($G15,'By Population'!$G$2:$K$14,5,FALSE))*'By Population'!$BI14*Scenario_VT_2","v":0},{"$f":"(VLOOKUP($G15,'By Population'!$G$2:$K$14,5,FALSE))*'By Population'!$BJ14*Scenario_VT_2","v":0},{"$f":"(VLOOKUP($G15,'By Population'!$G$2:$K$14,5,FALSE))*'By Population'!$BA14*Scenario_VT_3","v":0},{"$f":"(VLOOKUP($G15,'By Population'!$G$2:$K$14,5,FALSE))*'By Population'!$BB14*Scenario_VT_3","v":0},{"$f":"(VLOOKUP($G15,'By Population'!$G$2:$K$14,5,FALSE))*'By Population'!$BC14*Scenario_VT_3","v":0},{"$f":"(VLOOKUP($G15,'By Population'!$G$2:$K$14,5,FALSE))*'By Population'!$BD14*Scenario_VT_3","v":0},{"$f":"(VLOOKUP($G15,'By Population'!$G$2:$K$14,5,FALSE))*'By Population'!$BE14*Scenario_VT_3","v":0},{"$f":"(VLOOKUP($G15,'By Population'!$G$2:$K$14,5,FALSE))*'By Population'!$BF14*Scenario_VT_3","v":0},{"$f":"(VLOOKUP($G15,'By Population'!$G$2:$K$14,5,FALSE))*'By Population'!$BG14*Scenario_VT_3","v":0},{"$f":"(VLOOKUP($G15,'By Population'!$G$2:$K$14,5,FALSE))*'By Population'!$BH14*Scenario_VT_3","v":0},{"$f":"(VLOOKUP($G15,'By Population'!$G$2:$K$14,5,FALSE))*'By Population'!$BI14*Scenario_VT_3","v":0},{"$f":"(VLOOKUP($G15,'By Population'!$G$2:$K$14,5,FALSE))*'By Population'!$BJ14*Scenario_VT_3","v":0},{"$f":"(VLOOKUP($G15,'By Population'!$G$2:$K$14,5,FALSE))*'By Population'!$BA14*Scenario_VT_4","v":0},{"$f":"(VLOOKUP($G15,'By Population'!$G$2:$K$14,5,FALSE))*'By Population'!$BB14*Scenario_VT_4","v":0},{"$f":"(VLOOKUP($G15,'By Population'!$G$2:$K$14,5,FALSE))*'By Population'!$BC14*Scenario_VT_4","v":0},{"$f":"(VLOOKUP($G15,'By Population'!$G$2:$K$14,5,FALSE))*'By Population'!$BD14*Scenario_VT_4","v":0},{"$f":"(VLOOKUP($G15,'By Population'!$G$2:$K$14,5,FALSE))*'By Population'!$BE14*Scenario_VT_4","v":0},{"$f":"(VLOOKUP($G15,'By Population'!$G$2:$K$14,5,FALSE))*'By Population'!$BF14*Scenario_VT_4","v":0},{"$f":"(VLOOKUP($G15,'By Population'!$G$2:$K$14,5,FALSE))*'By Population'!$BG14*Scenario_VT_4","v":0},{"$f":"(VLOOKUP($G15,'By Population'!$G$2:$K$14,5,FALSE))*'By Population'!$BH14*Scenario_VT_4","v":0},{"$f":"(VLOOKUP($G15,'By Population'!$G$2:$K$14,5,FALSE))*'By Population'!$BI14*Scenario_VT_4","v":0},{"$f":"(VLOOKUP($G15,'By Population'!$G$2:$K$14,5,FALSE))*'By Population'!$BJ14*Scenario_VT_4","v":0},{"$f":"(VLOOKUP($G15,'By Population'!$G$2:$K$14,5,FALSE))*'By Population'!$BA14*Scenario_VT_5","v":0},{"$f":"(VLOOKUP($G15,'By Population'!$G$2:$K$14,5,FALSE))*'By Population'!$BB14*Scenario_VT_5","v":0},{"$f":"(VLOOKUP($G15,'By Population'!$G$2:$K$14,5,FALSE))*'By Population'!$BC14*Scenario_VT_5","v":0},{"$f":"(VLOOKUP($G15,'By Population'!$G$2:$K$14,5,FALSE))*'By Population'!$BD14*Scenario_VT_5","v":0},{"$f":"(VLOOKUP($G15,'By Population'!$G$2:$K$14,5,FALSE))*'By Population'!$BE14*Scenario_VT_5","v":0},{"$f":"(VLOOKUP($G15,'By Population'!$G$2:$K$14,5,FALSE))*'By Population'!$BF14*Scenario_VT_5","v":0},{"$f":"(VLOOKUP($G15,'By Population'!$G$2:$K$14,5,FALSE))*'By Population'!$BG14*Scenario_VT_5","v":0},{"$f":"(VLOOKUP($G15,'By Population'!$G$2:$K$14,5,FALSE))*'By Population'!$BH14*Scenario_VT_5","v":0},{"$f":"(VLOOKUP($G15,'By Population'!$G$2:$K$14,5,FALSE))*'By Population'!$BI14*Scenario_VT_5","v":0},{"$f":"(VLOOKUP($G15,'By Population'!$G$2:$K$14,5,FALSE))*'By Population'!$BJ14*Scenario_VT_5","v":0}]
[null,null,null,null,null,null,null,null,null,null,null,null,null,null,{"$f":"SUM(O3:O15)","v":0},0,0,0,0,0,0,0,0,0,{"$f":"SUM(Y3:Y15)","v":0},0,0,0,0,0,0,0,0,0,{"$f":"SUM(AI3:AI15)","v":0},0,0,0,0,0,0,0,0,0,0,0,0,0,0,0,0,0,0,0,0,0,0,0,0,0,0,0,0,0,0,0,0,0,0,0,0,0,0,0]
[null,null,null,null,null,null,null,null,null,null,{"$f":"SUM(K3:K15)","v":25307453.883316997},null,null,null,{"$f":"SUM(O16,P16)","v":0},null,{"$f":"SUM(Q16,R16)","v":0},null,{"$f":"S16","v":0},0,0,0,0,0,{"$f":"SUM(Y16,Z16)","v":0},null,{"$f":"SUM(AA16,AB16)","v":0},null,{"$f":"AC16","v":0},0,0,0,0,0,{"$f":"SUM(AI16,AJ16)","v":0},null,{"$f":"SUM(AK16,AL16)","v":0},null,{"$f":"AM16","v":0},0,0,0,0,0,{"$f":"SUM(AS16,AT16)","v":0},null,{"$f":"SUM(AU16,AV16)","v":0},null,{"$f":"AW16","v":0},0,0,0,0,0,{"$f":"SUM(BC16,BD16)","v":0},null,{"$f":"SUM(BE16,BF16)","v":0},null,{"$f":"BG16","v":0},0,0,0,0,0,{"$f":"SUM(BM16,BN16)","v":0},null,{"$f":"SUM(BO16,BP16)","v":0},null,{"$f":"BQ16","v":0},0,0,0,0,0]
[]
[]
[]
[]
[]
[]
[]
[]
[null,null,null,null,null,null,null,null,null,null,null,"`"]

{"sheet":"By Speed","index":8,"n_rows":694,"n_cols":21,"rows_kept":694,"cut":false,"hidden":false,"merged":[]}
["SortOrder","Area","CalYr","Season","Veh","Fuel","VehK","MdlYr","Speed","VehClass_Speed","VMT","Trips","ROG_RUNEX","TOG_RUNEX","CO_RUNEX","NOX_RUNEX","CO2_RUNEX","CO2_RUNEX (Pavley I+LCFS)","PM10_RUNEX","PM2_5_RUNEX","SOX_RUNEX"]
[681,"Statewide Totals",2012,"Annual","All Other Buses","DSL","All Other Buses_DSL","AllMYr",10,"All Other Buses_DSL_10",12254.9961,0,2.916916397,3.3206872779999999,4.6698971250000003,18.65612024,2165.1532040000002,2154.3274379999998,0.87846811000000002,0.80819066100000003,0]
[682,"Statewide Totals",2012,"Annual","All Other Buses","DSL","All Other Buses_DSL","AllMYr",15,"All Other Buses_DSL_15",17344.920180000001,0,1.5509006919999999,1.765582381,3.3063781909999999,13.294535829999999,1777.778466,1768.889574,0.61628559699999996,0.56698274900000001,0]
[683,"Statewide Totals",2012,"Annual","All Other Buses","DSL","All Other Buses_DSL","AllMYr",20,"All Other Buses_DSL_20",24177.1695,0,0.63803236500000005,0.72635128000000004,2.2804548790000001,10.0722079,1402.490376,1395.477924,0.41337395500000002,0.38030403899999998,0]
[684,"Statewide Totals",2012,"Annual","All Other Buses","DSL","All Other Buses_DSL","AllMYr",25,"All Other Buses_DSL_25",34329.272770000003,0,0.53216887800000001,0.60583375799999994,1.9706225429999999,9.4488073979999996,1308.5548659999999,1302.0120919999999,0.357630377,0.32901994699999998,0]
[685,"Statewide Totals",2012,"Annual","All Other Buses","DSL","All Other Buses_DSL","AllMYr",30,"All Other Buses_DSL_30",43870.504809999999,0,0.44432068000000002,0.50582527200000005,1.707181963,8.9412668390000007,1228.276613,1222.1352300000001,0.31599662499999998,0.29071689499999998,0]
[686,"Statewide Totals",2012,"Annual","All Other Buses","DSL","All Other Buses_DSL","AllMYr",35,"All Other Buses_DSL_35",43879.55586,0,0.374487772,0.42632582200000002,1.4901331390000001,8.5467007559999999,1161.6556149999999,1155.8473369999999,0.288472699,0.26539488300000003,0]
[687,"Statewide Totals",2012,"Annual","All Other Buses","DSL","All Other Buses_DSL","AllMYr",40,"All Other Buses_DSL_40",50248.909590000003,0,0.32267015300000002,0.36733540799999997,1.3194760720000001,8.255368722,1108.691873,1103.148414,0.27505859900000001,0.25305391100000002,0]
[688,"Statewide Totals",2012,"Annual","All Other Buses","DSL","All Other Buses_DSL","AllMYr",45,"All Other Buses_DSL_45",46739.430480000003,0,0.288867824,0.32885402899999999,1.195210761,8.0615955659999994,1069.3853879999999,1064.0384610000001,0.27575432500000002,0.25369397900000001,0]
[680,"Statewide Totals",2012,"Annual","All Other Buses","DSL","All Other Buses_DSL","AllMYr",5,"All Other Buses_DSL_5",2508.1809800000001,0,4.8306983890000001,5.4993823969999998,6.471855476,26.415593950000002,2621.002876,2607.8978609999999,1.2190260980000001,1.12150401,0]
[689,"Statewide Totals",2012,"Annual","All Other Buses","DSL","All Other Buses_DSL","AllMYr",50,"All Other Buses_DSL_50",48834.53671,0,0.27308078499999999,0.31088168700000002,1.117337206,7.9797940049999996,1043.7361579999999,1038.5174770000001,0.29055987700000002,0.26731508700000001,0]
[690,"Statewide Totals",2012,"Annual","All Other Buses","DSL","All Other Buses_DSL","AllMYr",55,"All Other Buses_DSL_55",59550.732230000001,0,0.27530903499999998,0.31341838,1.085855408,8.008476645,1031.7441839999999,1026.5854629999999,0.31947525599999999,0.293917235,0]
[691,"Statewide Totals",2012,"Annual","All Other Buses","DSL","All Other Buses_DSL","AllMYr",60,"All Other Buses_DSL_60",79375.848379999996,0,0.29555257499999998,0.33646410900000001,1.1007653660000001,8.1328438490000003,1033.4094660000001,1028.2424189999999,0.36250046000000002,0.33350042299999999,0]
[692,"Statewide Totals",2012,"Annual","All Other Buses","DSL","All Other Buses_DSL","AllMYr",65,"All Other Buses_DSL_65",33335.08844,0,0.33381140500000001,0.38001887400000001,1.1620670799999999,8.3552166210000003,1048.7320050000001,1043.488345,0.41963549,0.38606465099999998,0]
[693,null,2012,"Annual","All Other Buses","DSL","All Other Buses_DSL","AllMYr",70,"All Other Buses_DSL_70",4457.4226980000003,0,0.39008552400000002,0.44408267499999998,1.2697605510000001,8.7551439920000007,1077.7117989999999,1072.3232399999999,0.49088034699999999,0.45160991900000003,0]
[4,"Statewide Totals",2012,"Annual","LDA","DSL","LDA_DSL","AllMYr",10,"LDA_DSL_10",11525.74314,0,0.182896633,0.20821565,1.1223902269999999,0.99032735400000005,410.22845009999998,379.33370359999998,0.137549113,0.126545187,0]
[6,"Statewide Totals",2012,"Annual","LDA","DSL","LDA_DSL","AllMYr",15,"LDA_DSL_15",28373.776989999998,0,0.14411331699999999,0.16406342400000001,0.795551428,0.841704271,371.00327249999998,344.6271658,0.108395665,9.9724013E-2,0]
[8,"Statewide Totals",2012,"Annual","LDA","DSL","LDA_DSL","AllMYr",20,"LDA_DSL_20",74570.287379999994,0,0.117968082,0.13429881199999999,0.593273092,0.73539033899999995,344.50984829999999,321.26443760000001,8.8890541000000003E-2,8.1779299999999999E-2,0]
[10,"Statewide Totals",2012,"Annual","LDA","DSL","LDA_DSL","AllMYr",25,"LDA_DSL_25",174781.48819999999,0,9.5963461999999999E-2,0.10924802,0.457543488,0.66347712999999997,326.72914159999999,305.6938849,7.2292581999999994E-2,6.6509176000000003E-2,0]
[12,"Statewide Totals",2012,"Annual","LDA","DSL","LDA_DSL","AllMYr",30,"LDA_DSL_30",279738.82010000001,0,8.2551250000000007E-2,9.3979107000000006E-2,0.37791327699999999,0.63546121200000005,317.0763063,297.81134989999998,6.2122212000000003E-2,5.7152435000000001E-2,0]
[14,"Statewide Totals",2012,"Annual","LDA","DSL","LDA_DSL","AllMYr",35,"LDA_DSL_35",199146.14869999999,0,6.9980540999999993E-2,7.9668190999999999E-2,0.31812427900000001,0.61821409000000005,312.50913709999998,293.57292589999997,5.2470362E-2,4.8272733999999998E-2,0]
[16,"Statewide Totals",2012,"Annual","LDA","DSL","LDA_DSL","AllMYr",40,"LDA_DSL_40",166955.55119999999,0,6.1491862000000001E-2,7.0004392999999998E-2,0.28134283700000001,0.62371031099999996,313.72484109999999,294.6044564,4.5956647000000003E-2,4.2280115E-2,0]
[18,"Statewide Totals",2012,"Annual","LDA","DSL","LDA_DSL","AllMYr",45,"LDA_DSL_45",143230.4681,0,5.6122538999999999E-2,6.3891778999999996E-2,0.261122839,0.65105027999999998,320.84308529999998,300.81178460000001,4.1913306999999997E-2,3.8560243000000001E-2,0]
[2,"Statewide Totals",2012,"Annual","LDA","DSL","LDA_DSL","AllMYr",5,"LDA_DSL_5",4099.1082329999999,0,0.201725194,0.22965071500000001,1.348198687,1.1110034719999999,434.53658530000001,400.9006526,0.1504751,0.13843709300000001,0]
[20,"Statewide Totals",2012,"Annual","LDA","DSL","LDA_DSL","AllMYr",50,"LDA_DSL_50",131987.94769999999,0,5.2423749999999998E-2,5.9680952000000002E-2,0.25426423500000001,0.70777687899999997,334.51095320000002,312.93858230000001,3.9068687999999997E-2,3.5943192999999998E-2,0]
[22,"Statewide Totals",2012,"Annual","LDA","DSL","LDA_DSL","AllMYr",55,"LDA_DSL_55",137271.2083,0,5.0105393999999998E-2,5.7041658000000002E-2,0.25765615600000003,0.79335223399999999,355.78517629999999,331.66256329999999,3.7208287E-2,3.4231624000000002E-2,0]
[24,"Statewide Totals",2012,"Annual","LDA","DSL","LDA_DSL","AllMYr",60,"LDA_DSL_60",184609.01879999999,0,4.9917239000000002E-2,5.6827455999999998E-2,0.27275744899999999,0.90701094400000004,388.0807772,360.23811790000002,3.7165393999999997E-2,3.4192162999999998E-2,0]
[26,"Statewide Totals",2012,"Annual","LDA","DSL","LDA_DSL","AllMYr",65,"LDA_DSL_65",237622.924,0,4.9404135000000002E-2,5.6243319999999999E-2,0.295550111,1.069317589,436.28694209999998,402.78408209999998,3.6612224999999998E-2,3.3683246999999999E-2,0]
[28,"Statewide Totals",2012,"Annual","LDA","DSL","LDA_DSL","AllMYr",70,"LDA_DSL_70",31744.315170000002,0,4.9340586999999998E-2,5.6170975999999997E-2,0.316474123,1.278388259,515.16642339999999,469.35579510000002,3.6063564999999999E-2,3.3178480000000003E-2,0]
[3,"Statewide Totals",2012,"Annual","LDA","GAS","LDA_GAS","AllMYr",10,"LDA_GAS_10",2957399.554,0,0.21479490500000001,0.289355319,3.3200078039999998,0.24824244000000001,812.66562280000005,769.79813420000005,9.7266000000000002E-3,8.8649609999999993E-3,0]
[5,"Statewide Totals",2012,"Annual","LDA","GAS","LDA_GAS","AllMYr",15,"LDA_GAS_15",7536157.7089999998,0,0.15399595799999999,0.205541257,2.9093296020000001,0.225310237,627.36643530000003,593.81380739999997,6.5994779999999998E-3,6.0054289999999996E-3,0]
[7,"Statewide Totals",2012,"Annual","LDA","GAS","LDA_GAS","AllMYr",20,"LDA_GAS_20",20300000,0,0.11023595899999999,0.14651386999999999,2.4969438990000001,0.19947464600000001,501.41809970000003,474.80374089999998,4.6934489999999997E-3,4.2659819999999998E-3,0]
[9,"Statewide Totals",2012,"Annual","LDA","GAS","LDA_GAS","AllMYr",25,"LDA_GAS_25",48300000,0,8.1880232999999997E-2,0.108758954,2.179824253,0.18042792299999999,415.61474579999998,393.59946580000002,3.4654600000000001E-3,3.14737E-3,0]
[11,"Statewide Totals",2012,"Annual","LDA","GAS","LDA_GAS","AllMYr",30,"LDA_GAS_30",75900000,0,6.8462269000000006E-2,9.0353050000000004E-2,2.019973877,0.174663612,357.16971699999999,338.25098150000002,2.8150739999999999E-3,2.5522420000000001E-3,0]
[13,"Statewide Totals",2012,"Annual","LDA","GAS","LDA_GAS","AllMYr",35,"LDA_GAS_35",53300000,0,5.9353492000000001E-2,7.7811161000000004E-2,1.8918635829999999,0.169980985,319.95845630000002,302.6945541,2.3155609999999998E-3,2.0964099999999999E-3,0]
[15,"Statewide Totals",2012,"Annual","LDA","GAS","LDA_GAS","AllMYr",40,"LDA_GAS_40",45200000,0,5.4200199999999997E-2,7.0665265000000005E-2,1.80458023,0.16918425200000001,297.29364520000001,281.01860219999998,2.0355070000000002E-3,1.840812E-3,0]
[17,"Statewide Totals",2012,"Annual","LDA","GAS","LDA_GAS","AllMYr",45,"LDA_GAS_45",38700000,0,5.2082336999999999E-2,6.7494443000000001E-2,1.7437171140000001,0.170901199,286.40473830000002,270.70843189999999,1.8881760000000001E-3,1.7057940000000001E-3,0]
[1,"Statewide Totals",2012,"Annual","LDA","GAS","LDA_GAS","AllMYr",5,"LDA_GAS_5",967323.26419999998,0,0.34801451500000002,0.47016699000000001,4.224044256,0.30391031200000002,1098.167105,1038.813005,1.5231227E-2,1.3892237E-2,0]
[19,"Statewide Totals",2012,"Annual","LDA","GAS","LDA_GAS","AllMYr",50,"LDA_GAS_50",34200000,0,5.2236798000000001E-2,6.7333586000000001E-2,1.705996193,0.17433024899999999,286.14974489999997,270.40516819999999,1.8472440000000001E-3,1.6667979999999999E-3,0]
[21,"Statewide Totals",2012,"Annual","LDA","GAS","LDA_GAS","AllMYr",55,"LDA_GAS_55",34800000,0,5.5489139E-2,7.1154466999999999E-2,1.718172751,0.18279034799999999,296.36364120000002,279.96234459999999,1.895597E-3,1.7089589999999999E-3,0]
[23,"Statewide Totals",2012,"Annual","LDA","GAS","LDA_GAS","AllMYr",60,"LDA_GAS_60",49100000,0,5.5362359E-2,7.1400281999999995E-2,1.6498363979999999,0.177608707,316.74590480000001,299.6252351,2.011756E-3,1.8128949999999999E-3,0]
[25,"Statewide Totals",2012,"Annual","LDA","GAS","LDA_GAS","AllMYr",65,"LDA_GAS_65",60000000,0,6.8149863000000005E-2,8.6972419999999995E-2,1.8244120589999999,0.198484507,353.53242299999999,334.18582379999998,2.2750919999999998E-3,2.0476520000000001E-3,0]
[27,"Statewide Totals",2012,"Annual","LDA","GAS","LDA_GAS","AllMYr",70,"LDA_GAS_70",9911220.3990000002,0,7.7917225000000007E-2,9.9680885999999996E-2,2.0765395959999999,0.213755905,387.01614769999998,364.55885480000001,2.3552489999999998E-3,2.1169069999999999E-3,0]
[32,"Statewide Totals",2012,"Annual","LDT1","DSL","LDT1_DSL","AllMYr",10,"LDT1_DSL_10",427.18758350000002,0,0.30700944800000002,0.34950984600000001,1.6998363970000001,1.2705492759999999,402.21996899999999,376.16752589999999,0.25939062299999999,0.23863936699999999,0]
[34,"Statewide Totals",2012,"Annual","LDT1","DSL","LDT1_DSL","AllMYr",15,"LDT1_DSL_15",1126.5644420000001,0,0.23915413299999999,0.27226108399999999,1.1833847689999999,1.064873038,376.3036535,353.58089669999998,0.202182206,0.18600763000000001,0]
[36,"Statewide Totals",2012,"Annual","LDT1","DSL","LDT1_DSL","AllMYr",20,"LDT1_DSL_20",2990.6294939999998,0,0.19572322,0.222817881,0.88618329399999995,0.94059361100000005,358.33352180000003,338.6943316,0.16535649999999999,0.152127975,0]
[38,"Statewide Totals",2012,"Annual","LDT1","DSL","LDT1_DSL","AllMYr",25,"LDT1_DSL_25",7030.2235650000002,0,0.16094620900000001,0.18322656000000001,0.68271141800000001,0.84953210000000001,346.31807679999997,328.19543920000001,0.135992064,0.125112696,0]
[40,"Statewide Totals",2012,"Annual","LDT1","DSL","LDT1_DSL","AllMYr",30,"LDT1_DSL_30",11141.40964,0,0.13781184399999999,0.15688961000000001,0.55954889600000002,0.80644946699999998,340.01376499999998,323.20402999999999,0.11647927499999999,0.107160932,0]
[42,"Statewide Totals",2012,"Annual","LDT1","DSL","LDT1_DSL","AllMYr",35,"LDT1_DSL_35",7942.9294209999998,0,0.116344552,0.13245053100000001,0.46333508200000001,0.76925179799999999,335.43770849999999,318.28654110000002,9.8252618E-2,9.0392410000000006E-2,0]
[44,"Statewide Totals",2012,"Annual","LDT1","DSL","LDT1_DSL","AllMYr",40,"LDT1_DSL_40",6781.0535920000002,0,0.102031866,0.116156491,0.40687076599999999,0.76816691400000003,335.63760930000001,318.01866890000002,8.6094187000000003E-2,7.9206649000000004E-2,0]
[46,"Statewide Totals",2012,"Annual","LDT1","DSL","LDT1_DSL","AllMYr",45,"LDT1_DSL_45",5882.0029649999997,0,9.2697164999999998E-2,0.105529557,0.37744238400000002,0.80191974200000005,340.75995719999997,322.35746870000003,7.8204481000000006E-2,7.1948120000000004E-2,0]
[30,"Statewide Totals",2012,"Annual","LDT1","DSL","LDT1_DSL","AllMYr",5,"LDT1_DSL_5",144.75692889999999,0,0.34176525499999999,0.389077008,2.014304181,1.3803574869999999,421.25106010000002,391.51332239999999,0.28860998100000002,0.265521181,0]
[48,"Statewide Totals",2012,"Annual","LDT1","DSL","LDT1_DSL","AllMYr",50,"LDT1_DSL_50",5240.1881560000002,0,8.6191764000000004E-2,9.8123587999999998E-2,0.36567438699999999,0.86552222000000001,350.49672179999999,330.6094033,7.2669600000000001E-2,6.6856031999999996E-2,0]
[50,"Statewide Totals",2012,"Annual","LDT1","DSL","LDT1_DSL","AllMYr",55,"LDT1_DSL_55",5333.4494999999997,0,8.2426203000000003E-2,9.3836748999999997E-2,0.37131568199999998,0.97053261300000004,366.0524059,343.85969360000001,6.9380606999999997E-2,6.3830158999999997E-2,0]
[52,"Statewide Totals",2012,"Annual","LDT1","DSL","LDT1_DSL","AllMYr",60,"LDT1_DSL_60",7280.6290449999997,0,8.1531701999999998E-2,9.2818418E-2,0.39902808000000001,1.1339143490000001,388.56487240000001,363.50818279999999,6.8440375999999997E-2,6.2965146999999999E-2,0]
[54,"Statewide Totals",2012,"Annual","LDT1","DSL","LDT1_DSL","AllMYr",65,"LDT1_DSL_65",9053.5589110000001,0,7.9360547000000004E-2,9.0346705999999999E-2,0.430222049,1.32414648,423.94477189999998,392.4005689,6.6248367000000002E-2,6.0948495999999998E-2,0]
[56,"Statewide Totals",2012,"Annual","LDT1","DSL","LDT1_DSL","AllMYr",70,"LDT1_DSL_70",1704.2269650000001,0,7.6238239999999999E-2,8.6792163000000006E-2,0.45929197399999999,1.5390830499999999,488.7059299,443.903526,6.2789017000000003E-2,5.7765895999999997E-2,0]
[31,"Statewide Totals",2012,"Annual","LDT1","GAS","LDT1_GAS","AllMYr",10,"LDT1_GAS_10",355442.87050000002,0,0.55358965800000004,0.69154811000000005,8.6980700649999996,0.66997207199999997,936.54899709999995,896.57767560000002,2.1044627999999999E-2,1.9142365000000001E-2,0]
[33,"Statewide Totals",2012,"Annual","LDT1","GAS","LDT1_GAS","AllMYr",15,"LDT1_GAS_15",942458.52760000003,0,0.406412261,0.50469853799999997,7.4539434800000004,0.59911335099999996,723.21402760000001,690.84028950000004,1.4729057E-2,1.3378630000000001E-2,0]
[35,"Statewide Totals",2012,"Annual","LDT1","GAS","LDT1_GAS","AllMYr",20,"LDT1_GAS_20",2505956.841,0,0.29495647000000003,0.36616568100000002,6.283956216,0.52391243099999996,577.69654300000002,552.45178840000005,1.0740537E-2,9.7483670000000008E-3,0]
[37,"Statewide Totals",2012,"Annual","LDT1","GAS","LDT1_GAS","AllMYr",25,"LDT1_GAS_25",5893977.5070000002,0,0.20934862400000001,0.26211226300000001,5.1914185069999998,0.45170892299999998,478.6056208,457.68496909999999,7.8928720000000004E-3,7.1682660000000004E-3,0]
[39,"Statewide Totals",2012,"Annual","LDT1","GAS","LDT1_GAS","AllMYr",30,"LDT1_GAS_30",9212750.7740000002,0,0.175316257,0.219101354,4.7581459270000002,0.43494534200000001,411.44072519999997,393.62518360000001,6.4147650000000002E-3,5.8184869999999998E-3,0]
[41,"Statewide Totals",2012,"Annual","LDT1","GAS","LDT1_GAS","AllMYr",35,"LDT1_GAS_35",6871344.6069999998,0,0.15463533700000001,0.191876302,4.4279833699999998,0.42152856,368.66315320000001,351.79848040000002,5.3306289999999999E-3,4.8238919999999998E-3,0]
[43,"Statewide Totals",2012,"Annual","LDT1","GAS","LDT1_GAS","AllMYr",40,"LDT1_GAS_40",5930751.7319999998,0,0.142898998,0.17626102099999999,4.2327376650000001,0.421386973,342.58302800000001,326.491759,4.7057840000000002E-3,4.2512729999999999E-3,0]
[45,"Statewide Totals",2012,"Annual","LDT1","GAS","LDT1_GAS","AllMYr",45,"LDT1_GAS_45",5039207.1069999998,0,0.14239541,0.17391858800000001,4.2034598479999996,0.43644266399999998,330.30177680000003,314.64057659999997,4.397247E-3,3.9630489999999997E-3,0]
[29,"Statewide Totals",2012,"Annual","LDT1","GAS","LDT1_GAS","AllMYr",5,"LDT1_GAS_5",129028.7991,0,0.98047314100000005,1.207626366,12.66501734,0.88289377400000002,1267.892335,1209.893043,3.3092768000000002E-2,3.0016808999999998E-2,0]
[47,"Statewide Totals",2012,"Annual","LDT1","GAS","LDT1_GAS","AllMYr",50,"LDT1_GAS_50",4437640.6229999997,0,0.14276529499999999,0.17345349500000001,4.159948998,0.44916325600000001,330.10876209999998,314.43808239999998,4.260186E-3,3.8308550000000002E-3,0]
[49,"Statewide Totals",2012,"Annual","LDT1","GAS","LDT1_GAS","AllMYr",55,"LDT1_GAS_55",4463680.074,0,0.15288554900000001,0.18442248,4.2939689660000004,0.47337690999999998,342.14307459999998,325.92971740000002,4.3381820000000003E-3,3.8894519999999998E-3,0]
[51,"Statewide Totals",2012,"Annual","LDT1","GAS","LDT1_GAS","AllMYr",60,"LDT1_GAS_60",6144567.3650000002,0,0.14399727100000001,0.176111781,4.1183292570000001,0.46708653900000002,365.47030260000002,348.87986840000002,4.4941240000000004E-3,4.0422289999999996E-3,0]
[53,"Statewide Totals",2012,"Annual","LDT1","GAS","LDT1_GAS","AllMYr",65,"LDT1_GAS_65",8204597.6399999997,0,0.15743417100000001,0.192626467,4.3514411409999996,0.495165682,407.5772882,388.42938880000003,4.8387960000000002E-3,4.3516910000000004E-3,0]
[55,"Statewide Totals",2012,"Annual","LDT1","GAS","LDT1_GAS","AllMYr",70,"LDT1_GAS_70",1502810.294,0,0.22433540799999999,0.26777982900000002,5.6593111399999998,0.61228381200000004,445.84094750000003,421.0478627,5.4296689999999998E-3,4.8475059999999997E-3,0]
[60,"Statewide Totals",2012,"Annual","LDT2","DSL","LDT2_DSL","AllMYr",10,"LDT2_DSL_10",408.19806269999998,0,0.28719756699999999,0.32695532700000002,1.554151069,1.3825862739999999,396.0846621,376.55241419999999,0.235227302,0.21640911900000001,0]
[62,"Statewide Totals",2012,"Annual","LDT2","DSL","LDT2_DSL","AllMYr",15,"LDT2_DSL_15",1063.2702509999999,0,0.22327608199999999,0.25418496899999998,1.086925221,1.168608495,371.80161579999998,355.06284260000001,0.18313275500000001,0.16848213400000001,0]
[64,"Statewide Totals",2012,"Annual","LDT2","DSL","LDT2_DSL","AllMYr",20,"LDT2_DSL_20",2843.8078580000001,0,0.182757157,0.20805686700000001,0.81094864799999999,1.024513139,355.31854399999997,340.55723510000001,0.149803247,0.13781898300000001,0]
[66,"Statewide Totals",2012,"Annual","LDT2","DSL","LDT2_DSL","AllMYr",25,"LDT2_DSL_25",6791.3584099999998,0,0.150109353,0.170889508,0.62440341899999996,0.92363223699999997,344.01805630000001,330.31157889999997,0.122785453,0.112962619,0]
[68,"Statewide Totals",2012,"Annual","LDT2","DSL","LDT2_DSL","AllMYr",30,"LDT2_DSL_30",10776.02787,0,0.128849292,0.14668634699999999,0.51144112600000002,0.87427750599999998,338.05627129999999,325.30884959999997,0.105403042,9.6970795999999998E-2,0]
[70,"Statewide Totals",2012,"Annual","LDT2","DSL","LDT2_DSL","AllMYr",35,"LDT2_DSL_35",7688.6197220000004,0,0.108515156,0.123537287,0.42524687300000003,0.83938785400000004,334.06617119999999,321.19111529999998,8.8657103000000001E-2,8.1564537000000006E-2,0]
[72,"Statewide Totals",2012,"Annual","LDT2","DSL","LDT2_DSL","AllMYr",40,"LDT2_DSL_40",6534.2972010000003,0,9.5206233000000001E-2,0.108385963,0.37426252199999999,0.84173165400000005,334.46662520000001,321.32015530000001,7.7740164E-2,7.152095E-2,0]
[74,"Statewide Totals",2012,"Annual","LDT2","DSL","LDT2_DSL","AllMYr",45,"LDT2_DSL_45",5558.9624549999999,0,8.6917693000000004E-2,9.8950009000000005E-2,0.34837430800000002,0.88282853299999997,339.48628230000003,325.8976715,7.1047033999999995E-2,6.5363271000000001E-2,0]
[58,"Statewide Totals",2012,"Annual","LDT2","DSL","LDT2_DSL","AllMYr",5,"LDT2_DSL_5",134.50886220000001,0,0.31923895499999999,0.36343232199999997,1.852434017,1.5134854099999999,413.0023506,391.15092060000001,0.26203809300000003,0.24107503999999999,0]
[76,"Statewide Totals",2012,"Annual","LDT2","DSL","LDT2_DSL","AllMYr",50,"LDT2_DSL_50",4968.9325070000004,0,8.0659404000000004E-2,9.1825367000000005E-2,0.33731495700000003,0.95505751900000002,348.32429189999999,333.7569173,6.5848959999999998E-2,6.0581043000000001E-2,0]
[78,"Statewide Totals",2012,"Annual","LDT2","DSL","LDT2_DSL","AllMYr",55,"LDT2_DSL_55",5026.5208510000002,0,7.7158450000000003E-2,8.7839764000000001E-2,0.34312614899999999,1.066579127,362.41067020000003,346.10684950000001,6.2961496000000006E-2,5.7924576999999998E-2,0]
[80,"Statewide Totals",2012,"Annual","LDT2","DSL","LDT2_DSL","AllMYr",60,"LDT2_DSL_60",6983.401108,0,7.6287078999999994E-2,8.6847764999999993E-2,0.36640713200000002,1.2384684100000001,383.21818860000002,364.6013878,6.1967060999999997E-2,5.7009696999999998E-2,0]
[82,"Statewide Totals",2012,"Annual","LDT2","DSL","LDT2_DSL","AllMYr",65,"LDT2_DSL_65",8730.5465569999997,0,7.4376991000000003E-2,8.4673256000000002E-2,0.39742329399999998,1.4687572470000001,414.91748059999998,391.97979320000002,6.0140039999999999E-2,5.5328836999999999E-2,0]
[84,"Statewide Totals",2012,"Annual","LDT2","DSL","LDT2_DSL","AllMYr",70,"LDT2_DSL_70",1569.2226880000001,0,7.1581588000000002E-2,8.1490876000000004E-2,0.43148389199999998,1.747948796,471.05645520000002,439.22401139999999,5.7203623000000002E-2,5.2627334999999997E-2,0]
[59,"Statewide Totals",2012,"Annual","LDT2","GAS","LDT2_GAS","AllMYr",10,"LDT2_GAS_10",1028608.9350000001,0,0.26149571799999999,0.36185548499999998,4.4344047069999997,0.51230985200000001,1111.356828,1071.0963879999999,1.0122584E-2,9.2663309999999992E-3,0]
[61,"Statewide Totals",2012,"Annual","LDT2","GAS","LDT2_GAS","AllMYr",15,"LDT2_GAS_15",2742728.6409999998,0,0.19221930600000001,0.26227756699999999,4.0053524759999997,0.46471796799999998,857.67098009999995,825.60787100000005,7.0109480000000004E-3,6.4072390000000003E-3,0]
[63,"Statewide Totals",2012,"Annual","LDT2","GAS","LDT2_GAS","AllMYr",20,"LDT2_GAS_20",7282504.7589999996,0,0.13501986099999999,0.18414897199999999,3.4397615579999998,0.39748946200000002,685.41823020000004,660.17133220000005,4.9460379999999998E-3,4.5155730000000002E-3,0]
[65,"Statewide Totals",2012,"Annual","LDT2","GAS","LDT2_GAS","AllMYr",25,"LDT2_GAS_25",17100000,0,9.5015515999999994E-2,0.13075500600000001,2.9412451800000001,0.34153376699999999,568.05064909999999,547.25239480000005,3.5583210000000001E-3,3.2480920000000002E-3,0]
[67,"Statewide Totals",2012,"Annual","LDT2","GAS","LDT2_GAS","AllMYr",30,"LDT2_GAS_30",26600000,0,7.8163819999999995E-2,0.10700180500000001,2.7064722579999998,0.32385369400000003,488.28191520000001,470.5632205,2.8445440000000001E-3,2.592998E-3,0]
[69,"Statewide Totals",2012,"Annual","LDT2","GAS","LDT2_GAS","AllMYr",35,"LDT2_GAS_35",19400000,0,6.8807859999999998E-2,9.3221093000000005E-2,2.551966819,0.31397686499999999,437.3533213,420.85285529999999,2.383058E-3,2.1688850000000002E-3,0]
[71,"Statewide Totals",2012,"Annual","LDT2","GAS","LDT2_GAS","AllMYr",40,"LDT2_GAS_40",16500000,0,6.3588641000000001E-2,8.5390975999999993E-2,2.4373632519999999,0.31151770499999998,406.35776550000003,390.74417519999997,2.113612E-3,1.920714E-3,0]
[73,"Statewide Totals",2012,"Annual","LDT2","GAS","LDT2_GAS","AllMYr",45,"LDT2_GAS_45",14400000,0,6.2922343000000006E-2,8.3612679999999995E-2,2.389640886,0.32311663499999999,391.53628730000003,376.29219740000002,2.0039960000000001E-3,1.819787E-3,0]
[57,"Statewide Totals",2012,"Annual","LDT2","GAS","LDT2_GAS","AllMYr",5,"LDT2_GAS_5",368813.92729999998,0,0.45293430200000001,0.61987068099999998,5.8036061109999997,0.67516509599999996,1501.1853639999999,1444.1344810000001,1.6455134999999999E-2,1.5065663E-2,0]
[75,"Statewide Totals",2012,"Annual","LDT2","GAS","LDT2_GAS","AllMYr",50,"LDT2_GAS_50",12800000,0,6.4072456999999999E-2,8.4489783999999998E-2,2.3488835849999998,0.33614337799999999,391.24219299999999,375.89570350000002,1.987824E-3,1.8034780000000001E-3,0]
[77,"Statewide Totals",2012,"Annual","LDT2","GAS","LDT2_GAS","AllMYr",55,"LDT2_GAS_55",13200000,0,6.7073994999999997E-2,8.8105049000000005E-2,2.3344091649999998,0.353435206,405.32100960000002,389.3856955,2.0421110000000001E-3,1.851728E-3,0]
[79,"Statewide Totals",2012,"Annual","LDT2","GAS","LDT2_GAS","AllMYr",60,"LDT2_GAS_60",17500000,0,6.1974458000000003E-2,8.2863532000000004E-2,2.1064756529999999,0.32852021999999997,433.27722080000001,417.02034980000002,2.038921E-3,1.848599E-3,0]
[81,"Statewide Totals",2012,"Annual","LDT2","GAS","LDT2_GAS","AllMYr",65,"LDT2_GAS_65",22000000,0,7.0779497999999996E-2,9.4288060000000007E-2,2.1873556839999999,0.34684640700000002,483.40049959999999,465.11237499999999,2.251229E-3,2.0377619999999998E-3,0]
[83,"Statewide Totals",2012,"Annual","LDT2","GAS","LDT2_GAS","AllMYr",70,"LDT2_GAS_70",3831785.4870000002,0,0.10330692,0.13269749,2.865801174,0.43456006000000003,528.94334300000003,506.00091079999999,2.646804E-3,2.381307E-3,0]
[88,"Statewide Totals",2012,"Annual","LHD1","DSL","LHD1_DSL","AllMYr",10,"LHD1_DSL_10",597024.94620000001,0,0.49416864500000002,0.56257813199999995,2.8694051209999998,6.8402070339999996,526.21033929999999,523.57928760000004,0.112952048,0.103915886,0]
[90,"Statewide Totals",2012,"Annual","LHD1","DSL","LHD1_DSL","AllMYr",15,"LHD1_DSL_15",1335358.851,0,0.391857442,0.446103631,2.0221509630000001,5.7809056290000003,526.2333036,523.60213710000005,8.9664208999999995E-2,8.2491073999999998E-2,0]
[92,"Statewide Totals",2012,"Annual","LHD1","DSL","LHD1_DSL","AllMYr",20,"LHD1_DSL_20",1532591.615,0,0.31741413400000001,0.36135487900000002,1.4940838569999999,5.0352976859999998,526.13297160000002,523.50230669999996,7.2652883000000001E-2,6.6840653E-2,0]
[94,"Statewide Totals",2012,"Annual","LHD1","DSL","LHD1_DSL","AllMYr",25,"LHD1_DSL_25",1759893.2290000001,0,0.26262626300000003,0.29898253200000002,1.1555063029999999,4.550893769,525.98371880000002,523.35380020000002,6.0127065E-2,5.5316901000000002E-2,0]
[96,"Statewide Totals",2012,"Annual","LHD1","DSL","LHD1_DSL","AllMYr",30,"LHD1_DSL_30",1632741.2849999999,0,0.22155024600000001,0.25222021700000002,0.93369726399999997,4.2373625700000002,525.77465410000002,523.14578080000001,5.0747034000000003E-2,4.6687272000000002E-2,0]
[98,"Statewide Totals",2012,"Annual","LHD1","DSL","LHD1_DSL","AllMYr",35,"LHD1_DSL_35",1025714.037,0,0.19184321500000001,0.21840073700000001,0.79397204300000002,4.0934445290000001,525.4593271,522.83203049999997,4.3832905999999998E-2,4.0326274000000002E-2,0]
[100,"Statewide Totals",2012,"Annual","LHD1","DSL","LHD1_DSL","AllMYr",40,"LHD1_DSL_40",748551.95869999996,0,0.17140752000000001,0.195136061,0.71415451699999999,4.0809874739999996,525.02062939999996,522.39552619999995,3.8851828999999997E-2,3.5743683999999998E-2,0]
[102,"Statewide Totals",2012,"Annual","LHD1","DSL","LHD1_DSL","AllMYr",45,"LHD1_DSL_45",771807.6067,0,0.15430492600000001,0.17566589299999999,0.65769786399999997,4.259403871,525.04235610000001,522.41714430000002,3.5057563E-2,3.2252958999999998E-2,0]
[86,"Statewide Totals",2012,"Annual","LHD1","DSL","LHD1_DSL","AllMYr",5,"LHD1_DSL_5",190250.18109999999,0,0.55815051299999996,0.635417232,3.46812692,7.5435024630000003,526.23054060000004,523.59938790000001,0.127772464,0.11755067,0]
[104,"Statewide Totals",2012,"Annual","LHD1","DSL","LHD1_DSL","AllMYr",50,"LHD1_DSL_50",1895997.2220000001,0,0.14315235100000001,0.162969429,0.62962081700000005,4.7343703489999998,525.80660049999994,523.17756750000001,3.2710355000000003E-2,3.0093528000000001E-2,0]
[106,"Statewide Totals",2012,"Annual","LHD1","DSL","LHD1_DSL","AllMYr",55,"LHD1_DSL_55",1335897.07,0,0.134654417,0.15329509699999999,0.63897915800000005,5.2670480590000004,525.51940830000001,522.89181129999997,3.0768337E-2,2.8306870000000001E-2,0]
[108,"Statewide Totals",2012,"Annual","LHD1","DSL","LHD1_DSL","AllMYr",60,"LHD1_DSL_60",970893.32200000004,0,0.122634253,0.13961093599999999,0.66450138599999997,5.7048670279999998,523.81614709999997,521.19706640000004,2.8392161999999999E-2,2.6120790000000001E-2,0]
[110,"Statewide Totals",2012,"Annual","LHD1","DSL","LHD1_DSL","AllMYr",65,"LHD1_DSL_65",1035681.942,0,0.12517535900000001,0.142503817,0.75743983400000003,6.9317323340000003,523.86966059999997,521.25031230000002,2.8474547999999999E-2,2.6196585000000001E-2,0]
[112,"Statewide Totals",2012,"Annual","LHD1","DSL","LHD1_DSL","AllMYr",70,"LHD1_DSL_70",562630.35730000003,0,0.13761806600000001,0.15666901599999999,0.95241125199999999,8.7377306860000008,523.76399690000005,521.14517690000002,2.9845345999999998E-2,2.7457721000000001E-2,0]
[87,"Statewide Totals",2012,"Annual","LHD1","GAS","LHD1_GAS","AllMYr",10,"LHD1_GAS_10",1178986.851,0,0.75830834800000002,0.86433174300000004,9.3327972960000007,0.57004394400000002,2036.1281759999999,2025.947535,1.0287902999999999E-2,9.4855689999999993E-3,0]
[89,"Statewide Totals",2012,"Annual","LHD1","GAS","LHD1_GAS","AllMYr",15,"LHD1_GAS_15",2779525.6919999998,0,0.50535777999999998,0.57615458399999997,6.3625234600000002,0.59551559899999995,1392.429576,1385.4674279999999,6.872502E-3,6.3368599999999997E-3,0]
[91,"Statewide Totals",2012,"Annual","LHD1","GAS","LHD1_GAS","AllMYr",20,"LHD1_GAS_20",3547036.8969999999,0,0.351979404,0.40279188599999999,4.5846382209999996,0.62353919599999996,1006.0685549999999,1001.038212,4.7578840000000004E-3,4.3866759999999999E-3,0]
[93,"Statewide Totals",2012,"Annual","LHD1","GAS","LHD1_GAS","AllMYr",25,"LHD1_GAS_25",3513169.074,0,0.25315797299999998,0.291991314,3.4590747959999999,0.64887738900000003,768.01209219999998,764.17203170000005,3.3988199999999999E-3,3.1332869999999998E-3,0]
[95,"Statewide Totals",2012,"Annual","LHD1","GAS","LHD1_GAS","AllMYr",30,"LHD1_GAS_30",3564509.395,0,0.190067613,0.22001726099999999,2.7626174859999999,0.66970772499999998,619.43360619999999,616.33643819999998,2.54587E-3,2.3469179999999999E-3,0]
[97,"Statewide Totals",2012,"Annual","LHD1","GAS","LHD1_GAS","AllMYr",35,"LHD1_GAS_35",2089972.551,0,0.14821793899999999,0.17321760999999999,2.3165244619999998,0.69393382100000001,527.84651369999995,525.20728110000005,1.9646009999999998E-3,1.810947E-3,0]
[99,"Statewide Totals",2012,"Annual","LHD1","GAS","LHD1_GAS","AllMYr",40,"LHD1_GAS_40",1545775.655,0,0.123360229,0.14550281300000001,2.083473321,0.71956561200000002,475.23320360000002,472.85703760000001,1.583262E-3,1.4592439999999999E-3,0]
[101,"Statewide Totals",2012,"Annual","LHD1","GAS","LHD1_GAS","AllMYr",45,"LHD1_GAS_45",1622563.7,0,0.103596706,0.122549853,1.955641126,0.73365881200000005,452.05581719999998,449.79553809999999,1.35227E-3,1.246449E-3,0]
[85,"Statewide Totals",2012,"Annual","LHD1","GAS","LHD1_GAS","AllMYr",5,"LHD1_GAS_5",464708.2574,0,0.92779135899999998,1.058832598,11.404547969999999,0.55473454700000002,2513.4971650000002,2500.9296789999999,1.2751546000000001E-2,1.1758573E-2,0]
[103,"Statewide Totals",2012,"Annual","LHD1","GAS","LHD1_GAS","AllMYr",50,"LHD1_GAS_50",3251450.1320000002,0,9.2924725999999999E-2,0.10844447,2.009190861,0.77729631700000001,454.32180319999998,452.05019420000002,1.269357E-3,1.1703E-3,0]
[105,"Statewide Totals",2012,"Annual","LHD1","GAS","LHD1_GAS","AllMYr",55,"LHD1_GAS_55",1779022.263,0,8.3872322999999999E-2,9.9863255999999997E-2,2.069840277,0.79640803999999998,482.4155073,480.00342979999999,1.1383319999999999E-3,1.0494009999999999E-3,0]
[107,"Statewide Totals",2012,"Annual","LHD1","GAS","LHD1_GAS","AllMYr",60,"LHD1_GAS_60",1935009.3770000001,0,7.7599752999999994E-2,9.3749820999999997E-2,2.2210755739999999,0.78803805400000004,541.20917550000001,538.50312970000004,1.0591730000000001E-3,9.7599999999999998E-4,0]
[109,"Statewide Totals",2012,"Annual","LHD1","GAS","LHD1_GAS","AllMYr",65,"LHD1_GAS_65",1675339.378,0,8.4892780000000001E-2,0.102331818,2.7784459460000002,0.86504941599999996,641.4978711,638.29038179999998,1.089242E-3,1.0039890000000001E-3,0]
[111,"Statewide Totals",2012,"Annual","LHD1","GAS","LHD1_GAS","AllMYr",70,"LHD1_GAS_70",624138.83160000003,0,0.104703463,0.12634844200000001,3.920565485,1.019188771,803.36235420000003,799.3455424,1.1838910000000001E-3,1.0911899999999999E-3,0]
[116,"Statewide Totals",2012,"Annual","LHD2","DSL","LHD2_DSL","AllMYr",10,"LHD2_DSL_10",140417.29380000001,0,0.44287662300000002,0.50418557900000005,2.6774870480000001,6.2665306860000003,524.72019479999994,522.09659380000005,0.102943967,9.470845E-2,0]
[118,"Statewide Totals",2012,"Annual","LHD2","DSL","LHD2_DSL","AllMYr",15,"LHD2_DSL_15",315982.4117,0,0.35116048700000002,0.39977285400000001,1.8863437199999999,5.2952026229999998,524.79117880000001,522.16722289999996,8.1774601000000002E-2,7.5232635000000006E-2,0]
[120,"Statewide Totals",2012,"Annual","LHD2","DSL","LHD2_DSL","AllMYr",20,"LHD2_DSL_20",370753.51819999999,0,0.285456339,0.32497305399999998,1.397134627,4.6174364360000002,524.87167269999998,522.24731429999997,6.6641771000000002E-2,6.1310429999999999E-2,0]
[122,"Statewide Totals",2012,"Annual","LHD2","DSL","LHD2_DSL","AllMYr",25,"LHD2_DSL_25",437599.80560000002,0,0.23726584000000001,0.27011137499999999,1.083683569,4.1805104579999997,524.95677330000001,522.3319894,5.5548889999999997E-2,5.1104981000000001E-2,0]
[124,"Statewide Totals",2012,"Annual","LHD2","DSL","LHD2_DSL","AllMYr",30,"LHD2_DSL_30",418718.86930000002,0,0.20117660900000001,0.22902618699999999,0.87834642799999996,3.903599356,524.99511649999999,522.37014099999999,4.7236221000000002E-2,4.3457323999999999E-2,0]
[126,"Statewide Totals",2012,"Annual","LHD2","DSL","LHD2_DSL","AllMYr",35,"LHD2_DSL_35",273345.43180000002,0,0.17532178000000001,0.19959218100000001,0.74966730400000003,3.7856412019999999,524.97932030000004,522.35442369999998,4.1165983000000003E-2,3.7872705999999999E-2,0]
[128,"Statewide Totals",2012,"Annual","LHD2","DSL","LHD2_DSL","AllMYr",40,"LHD2_DSL_40",208520.1256,0,0.15789898799999999,0.17975749499999999,0.67721271500000002,3.7986645289999998,524.85655589999999,522.23227320000001,3.6845187000000001E-2,3.3897573E-2,0]
[130,"Statewide Totals",2012,"Annual","LHD2","DSL","LHD2_DSL","AllMYr",45,"LHD2_DSL_45",213644.55790000001,0,0.142093363,0.16176384399999999,0.62359398899999996,3.9641512649999999,524.8271866,522.20305069999995,3.3209023999999997E-2,3.0552302999999999E-2,0]
[114,"Statewide Totals",2012,"Annual","LHD2","DSL","LHD2_DSL","AllMYr",5,"LHD2_DSL_5",45114.92772,0,0.49984926299999999,0.56904513700000003,3.2329974990000001,6.9091285930000002,524.79216480000002,522.16820399999995,0.11646087199999999,0.107144003,0]
[132,"Statewide Totals",2012,"Annual","LHD2","DSL","LHD2_DSL","AllMYr",50,"LHD2_DSL_50",475733.74349999998,0,0.12950539999999999,0.147433284,0.59103777000000002,4.3558723529999996,524.77871789999995,522.15482440000005,3.0235163999999998E-2,2.7816351999999999E-2,0]
[134,"Statewide Totals",2012,"Annual","LHD2","DSL","LHD2_DSL","AllMYr",55,"LHD2_DSL_55",348803.93939999997,0,0.12258854199999999,0.13955890000000001,0.601892816,4.8649214609999998,524.78582119999999,522.16189210000005,2.8692195E-2,2.6396820000000001E-2,0]
[136,"Statewide Totals",2012,"Annual","LHD2","DSL","LHD2_DSL","AllMYr",60,"LHD2_DSL_60",319290.40990000003,0,0.116832477,0.13300600300000001,0.63916525599999996,5.4605700720000003,525.28598009999996,522.65955020000001,2.8171813E-2,2.5918067999999999E-2,0]
[138,"Statewide Totals",2012,"Annual","LHD2","DSL","LHD2_DSL","AllMYr",65,"LHD2_DSL_65",328785.04249999998,0,0.117791095,0.13409732599999999,0.72379257600000002,6.6153669759999998,524.59581100000003,521.97283189999996,2.7698956E-2,2.5483039999999998E-2,0]
[140,"Statewide Totals",2012,"Annual","LHD2","DSL","LHD2_DSL","AllMYr",70,"LHD2_DSL_70",171647.473,0,0.129521044,0.14745109100000001,0.91316739499999999,8.4793187589999999,522.63802929999997,520.02483910000001,2.8118199E-2,2.5868742E-2,0]
[115,"Statewide Totals",2012,"Annual","LHD2","GAS","LHD2_GAS","AllMYr",10,"LHD2_GAS_10",96235.03499,0,0.72979866199999999,0.83129549300000005,10.36057851,0.51624108899999999,2036.128199,2025.9475580000001,1.0218072E-2,9.1712809999999999E-3,0]
[117,"Statewide Totals",2012,"Annual","LHD2","GAS","LHD2_GAS","AllMYr",15,"LHD2_GAS_15",227742.87830000001,0,0.48715533799999999,0.55509075600000002,7.0690660870000004,0.54158065899999996,1392.429588,1385.4674399999999,6.8415280000000004E-3,6.1425430000000003E-3,0]
[119,"Statewide Totals",2012,"Annual","LHD2","GAS","LHD2_GAS","AllMYr",20,"LHD2_GAS_20",299422.73,0,0.33908978699999998,0.38825815200000002,5.0667097510000003,0.57171250900000004,1006.068549,1001.0382059999999,4.743934E-3,4.265708E-3,0]
[121,"Statewide Totals",2012,"Annual","LHD2","GAS","LHD2_GAS","AllMYr",25,"LHD2_GAS_25",313082.1923,0,0.24391162399999999,0.28185363299999999,3.7933581570000001,0.60426378999999997,768.01211169999999,764.17205109999998,3.4053080000000001E-3,3.0706209999999999E-3,0]
[123,"Statewide Totals",2012,"Annual","LHD2","GAS","LHD2_GAS","AllMYr",30,"LHD2_GAS_30",324676.61949999997,0,0.18170106799999999,0.211008325,2.9987800010000001,0.62610658399999997,619.4335916,616.33642369999995,2.5469310000000001E-3,2.2989909999999998E-3,0]
[125,"Statewide Totals",2012,"Annual","LHD2","GAS","LHD2_GAS","AllMYr",35,"LHD2_GAS_35",198853.36189999999,0,0.140323368,0.16466261900000001,2.4812335920000002,0.65470186399999997,527.84652840000001,525.20729570000003,1.9694600000000001E-3,1.7820679999999999E-3,0]
[127,"Statewide Totals",2012,"Annual","LHD2","GAS","LHD2_GAS","AllMYr",40,"LHD2_GAS_40",153139.30970000001,0,0.114564207,0.135845412,2.1855018290000001,0.68389237899999999,475.23320130000002,472.85703530000001,1.5938079999999999E-3,1.445467E-3,0]
[129,"Statewide Totals",2012,"Annual","LHD2","GAS","LHD2_GAS","AllMYr",45,"LHD2_GAS_45",160092.17679999999,0,9.6538304000000005E-2,0.114805031,2.0538538719999999,0.69763808000000005,452.05582920000001,449.79554999999999,1.3597889999999999E-3,1.2329629999999999E-3,0]
[113,"Statewide Totals",2012,"Annual","LHD2","GAS","LHD2_GAS","AllMYr",5,"LHD2_GAS_5",37644.008130000002,0,0.89822049299999995,1.023744569,12.758063140000001,0.503816084,2513.497124,2500.929639,1.270246E-2,1.1400677999999999E-2,0]
[131,"Statewide Totals",2012,"Annual","LHD2","GAS","LHD2_GAS","AllMYr",50,"LHD2_GAS_50",287150.89350000001,0,8.8560001999999999E-2,0.10358284800000001,2.1859324240000002,0.71859297499999997,454.3217922,452.05018319999999,1.2629189999999999E-3,1.1385119999999999E-3,0]
[133,"Statewide Totals",2012,"Annual","LHD2","GAS","LHD2_GAS","AllMYr",55,"LHD2_GAS_55",167923.6256,0,7.9070560999999998E-2,9.4442233E-2,2.2144197619999999,0.74569362400000005,482.41550549999999,480.00342799999999,1.1343830000000001E-3,1.0260810000000001E-3,0]
[135,"Statewide Totals",2012,"Annual","LHD2","GAS","LHD2_GAS","AllMYr",60,"LHD2_GAS_60",196947.41339999999,0,7.2711407000000006E-2,8.8384194999999999E-2,2.332550425,0.76472247100000001,541.20918140000003,538.50313549999998,1.069595E-3,9.7099999999999997E-4,0]
[137,"Statewide Totals",2012,"Annual","LHD2","GAS","LHD2_GAS","AllMYr",65,"LHD2_GAS_65",166398.9002,0,7.8306628000000003E-2,9.4904654000000005E-2,2.9151248349999999,0.82040832900000005,641.49786989999996,638.29038049999997,1.0975030000000001E-3,9.9500000000000001E-4,0]
[139,"Statewide Totals",2012,"Annual","LHD2","GAS","LHD2_GAS","AllMYr",70,"LHD2_GAS_70",52317.552049999998,0,9.4079597000000001E-2,0.112965072,3.936228243,0.82500927899999998,803.36239120000005,799.34557930000005,1.133238E-3,1.018871E-3,0]
[142,"Statewide Totals",2012,"Annual","MCY","GAS","MCY_GAS","AllMYr",10,"MCY_GAS_10",31856.294259999999,0,4.3798711839999998,4.7955576679999998,28.698084089999998,1.147139482,227.67309119999999,226.53472579999999,1.7081500000000001E-3,1.352808E-3,0]
[143,"Statewide Totals",2012,"Annual","MCY","GAS","MCY_GAS","AllMYr",15,"MCY_GAS_15",84363.048949999997,0,3.4659387920000002,3.7893449170000002,24.5109697,1.1430008709999999,193.98422160000001,193.01430049999999,1.3416490000000001E-3,1.0621809999999999E-3,0]
[144,"Statewide Totals",2012,"Annual","MCY","GAS","MCY_GAS","AllMYr",20,"MCY_GAS_20",211074.97,0,2.8660884480000002,3.1341415029999999,21.696649990000001,1.142626393,169.45645020000001,168.60916800000001,1.122257E-3,8.8699999999999998E-4,0]
[145,"Statewide Totals",2012,"Annual","MCY","GAS","MCY_GAS","AllMYr",25,"MCY_GAS_25",498936.99660000001,0,2.4944291079999998,2.7270878010000001,20.165964949999999,1.154753972,151.62231370000001,150.8642021,9.7499999999999996E-4,7.7099999999999998E-4,0]
[146,"Statewide Totals",2012,"Annual","MCY","GAS","MCY_GAS","AllMYr",30,"MCY_GAS_30",814881.42610000004,0,2.2906614859999999,2.501707685,19.74525023,1.1799440000000001,138.9624148,138.26760279999999,9.1399999999999999E-4,7.2199999999999999E-4,0]
[147,"Statewide Totals",2012,"Annual","MCY","GAS","MCY_GAS","AllMYr",35,"MCY_GAS_35",612609.29579999996,0,2.2020715819999999,2.4036032340000002,20.229245460000001,1.2098975590000001,130.594269,129.94129770000001,8.7100000000000003E-4,6.8800000000000003E-4,0]
[148,"Statewide Totals",2012,"Annual","MCY","GAS","MCY_GAS","AllMYr",40,"MCY_GAS_40",543026.78659999999,0,2.2193808480000001,2.42167786,21.709105099999999,1.2454943570000001,125.91442189999999,125.2848498,8.8099999999999995E-4,6.9499999999999998E-4,0]
[149,"Statewide Totals",2012,"Annual","MCY","GAS","MCY_GAS","AllMYr",45,"MCY_GAS_45",483796.12839999999,0,2.3414895210000002,2.5543775609999999,24.3812058,1.285715009,124.8368936,124.2127091,9.3499999999999996E-4,7.3700000000000002E-4,0]
[141,"Statewide Totals",2012,"Annual","MCY","GAS","MCY_GAS","AllMYr",5,"MCY_GAS_5",11784.36478,0,5.0474726890000001,5.5243247320000002,32.036968510000001,1.161638078,248.7678195,247.5239804,1.9722469999999999E-3,1.5626209999999999E-3,0]
[150,"Statewide Totals",2012,"Annual","MCY","GAS","MCY_GAS","AllMYr",50,"MCY_GAS_50",442619.47110000002,0,2.5919275810000002,2.8269953650000001,28.87569542,1.3310294250000001,127.2996825,126.6631841,1.044765E-3,8.2299999999999995E-4,0]
[151,"Statewide Totals",2012,"Annual","MCY","GAS","MCY_GAS","AllMYr",55,"MCY_GAS_55",454841.68920000002,0,3.009617913,3.2826529020000002,36.103253389999999,1.3831343700000001,133.85297080000001,133.18370590000001,1.215629E-3,9.5799999999999998E-4,0]
[152,"Statewide Totals",2012,"Annual","MCY","GAS","MCY_GAS","AllMYr",60,"MCY_GAS_60",579836.32689999999,0,3.6736190130000002,4.0014714720000004,47.705871289999997,1.4414629219999999,145.669873,144.9415237,1.483875E-3,1.169394E-3,0]
[153,"Statewide Totals",2012,"Annual","MCY","GAS","MCY_GAS","AllMYr",65,"MCY_GAS_65",777131.72739999997,0,4.6750292260000004,5.0782280379999998,65.944801369999993,1.5035367049999999,164.3313441,163.50968739999999,1.845139E-3,1.455575E-3,0]
[154,"Statewide Totals",2012,"Annual","MCY","GAS","MCY_GAS","AllMYr",70,"MCY_GAS_70",176773.79010000001,0,6.270272319,6.7901244849999998,98.407803939999994,1.588851977,192.44516429999999,191.48293849999999,2.379787E-3,1.879969E-3,0]
[158,"Statewide Totals",2012,"Annual","MDV","DSL","MDV_DSL","AllMYr",10,"MDV_DSL_10",831.83584529999996,0,0.139036618,0.15828393900000001,0.85674035299999995,0.71028968000000003,427.83308979999998,411.43745890000002,0.11566952599999999,0.106415964,0]
[160,"Statewide Totals",2012,"Annual","MDV","DSL","MDV_DSL","AllMYr",15,"MDV_DSL_15",2180.0996559999999,0,0.110269732,0.125534752,0.61701420100000004,0.61224353799999998,377.13512919999999,363.22132299999998,9.1859621000000002E-2,8.4510851999999997E-2,0]
[162,"Statewide Totals",2012,"Annual","MDV","DSL","MDV_DSL","AllMYr",20,"MDV_DSL_20",5776.4517880000003,0,8.8991396E-2,0.101310786,0.46239074200000002,0.54143710899999997,342.97636210000002,330.75789589999999,7.4148705999999995E-2,6.8216808000000004E-2,0]
[164,"Statewide Totals",2012,"Annual","MDV","DSL","MDV_DSL","AllMYr",25,"MDV_DSL_25",13691.59153,0,7.365389E-2,8.3850050999999995E-2,0.36291415799999999,0.49441310700000002,320.70536019999997,309.53531390000001,6.1309558E-2,5.6404793000000002E-2,0]
[166,"Statewide Totals",2012,"Annual","MDV","DSL","MDV_DSL","AllMYr",30,"MDV_DSL_30",21629.411800000002,0,6.2733061000000007E-2,7.1417413999999999E-2,0.29910206900000003,0.46876229600000002,307.77776310000002,297.26069130000002,5.2187191000000001E-2,4.8012214999999997E-2,0]
[168,"Statewide Totals",2012,"Annual","MDV","DSL","MDV_DSL","AllMYr",35,"MDV_DSL_35",15531.91469,0,5.4179457E-2,6.1679708E-2,0.25455200100000003,0.45462778500000001,302.20156689999999,291.83852990000003,4.5045768E-2,4.1442105999999999E-2,0]
[170,"Statewide Totals",2012,"Annual","MDV","DSL","MDV_DSL","AllMYr",40,"MDV_DSL_40",13274.92793,0,4.8274507000000001E-2,5.4957315E-2,0.227090236,0.45758977200000001,303.95252340000002,293.44381379999999,4.0080056000000003E-2,3.6873652999999999E-2,0]
[172,"Statewide Totals",2012,"Annual","MDV","DSL","MDV_DSL","AllMYr",45,"MDV_DSL_45",11387.182000000001,0,4.4058253999999998E-2,5.0157393000000002E-2,0.21023821200000001,0.473998484,312.97911649999998,301.94492250000002,3.6561769000000001E-2,3.3636828000000001E-2,0]
[156,"Statewide Totals",2012,"Annual","MDV","DSL","MDV_DSL","AllMYr",5,"MDV_DSL_5",282.54052289999998,0,0.15623769300000001,0.17786621499999999,1.016218944,0.770372795,462.26713960000001,444.10229609999999,0.130179146,0.119764814,0]
[174,"Statewide Totals",2012,"Annual","MDV","DSL","MDV_DSL","AllMYr",50,"MDV_DSL_50",10122.873009999999,0,4.1438417999999998E-2,4.7174882000000001E-2,0.20349941699999999,0.50706997099999995,330.40537799999998,318.52180859999999,3.4279807000000002E-2,3.1537423000000002E-2,0]
[176,"Statewide Totals",2012,"Annual","MDV","DSL","MDV_DSL","AllMYr",55,"MDV_DSL_55",10291.73525,0,3.9744289000000002E-2,4.5246228999999999E-2,0.20341743300000001,0.55795995099999995,358.238878,344.94313649999998,3.2755052E-2,3.0134647000000001E-2,0]
[178,"Statewide Totals",2012,"Annual","MDV","DSL","MDV_DSL","AllMYr",60,"MDV_DSL_60",14157.360269999999,0,3.9587221999999998E-2,4.5067418999999997E-2,0.213640369,0.63791240400000004,400.048586,384.62054999999998,3.2378151000000001E-2,2.9787899E-2,0]
[180,"Statewide Totals",2012,"Annual","MDV","DSL","MDV_DSL","AllMYr",65,"MDV_DSL_65",17765.571209999998,0,4.0746783000000002E-2,4.6387501999999997E-2,0.23486837499999999,0.75580164400000005,461.51134159999998,442.88097529999999,3.3065414000000001E-2,3.0420182E-2,0]
[182,"Statewide Totals",2012,"Annual","MDV","DSL","MDV_DSL","AllMYr",70,"MDV_DSL_70",3205.6748769999999,0,4.2656695000000001E-2,4.8561809999999997E-2,0.25857335799999998,0.91030395500000005,556.00122039999997,531.1689652,3.4079748E-2,3.1353368E-2,0]
[157,"Statewide Totals",2012,"Annual","MDV","GAS","MDV_GAS","AllMYr",10,"MDV_GAS_10",789849.75120000006,0,0.36387047300000003,0.50378156399999996,5.6877231269999999,0.72569176499999999,1406.8144400000001,1372.9167789999999,1.0265839000000001E-2,9.4342820000000004E-3,0]
[159,"Statewide Totals",2012,"Annual","MDV","GAS","MDV_GAS","AllMYr",15,"MDV_GAS_15",2293119.8289999999,0,0.25641149600000002,0.35411110699999998,5.038423227,0.65048923199999997,1085.3705460000001,1058.837473,7.0425430000000001E-3,6.4679780000000001E-3,0]
[161,"Statewide Totals",2012,"Annual","MDV","GAS","MDV_GAS","AllMYr",20,"MDV_GAS_20",5798831.3880000003,0,0.18097245300000001,0.24944263899999999,4.3426868750000001,0.555506838,867.45691509999995,846.17850750000002,4.9963109999999998E-3,4.5838839999999999E-3,0]
[163,"Statewide Totals",2012,"Annual","MDV","GAS","MDV_GAS","AllMYr",25,"MDV_GAS_25",13400000,0,0.12870504799999999,0.17893751199999999,3.7362427989999998,0.47723733200000001,719.51339629999995,701.79734610000003,3.6290950000000002E-3,3.3284819999999998E-3,0]
[165,"Statewide Totals",2012,"Annual","MDV","GAS","MDV_GAS","AllMYr",30,"MDV_GAS_30",21000000,0,0.102902517,0.143656109,3.4188060240000002,0.452447822,618.44589959999996,603.13556530000005,2.8879779999999998E-3,2.6488670000000001E-3,0]
[167,"Statewide Totals",2012,"Annual","MDV","GAS","MDV_GAS","AllMYr",35,"MDV_GAS_35",16100000,0,8.9499974999999996E-2,0.124026752,3.2219874279999998,0.43925437099999998,553.92459710000003,539.83890980000001,2.425984E-3,2.222449E-3,0]
[169,"Statewide Totals",2012,"Annual","MDV","GAS","MDV_GAS","AllMYr",40,"MDV_GAS_40",14100000,0,8.1495142000000007E-2,0.112337178,3.0729911990000001,0.43711782700000001,514.48288639999998,501.22966680000002,2.1536179999999999E-3,1.9716740000000001E-3,0]
[171,"Statewide Totals",2012,"Annual","MDV","GAS","MDV_GAS","AllMYr",45,"MDV_GAS_45",12200000,0,7.8775431000000007E-2,0.10763286,2.9787191399999999,0.44695167299999999,495.58531040000003,482.64979219999998,2.0061179999999999E-3,1.835541E-3,0]
[155,"Statewide Totals",2012,"Annual","MDV","GAS","MDV_GAS","AllMYr",5,"MDV_GAS_5",301341.85450000002,0,0.63283458100000001,0.86826585700000003,7.5059199190000001,0.97833731700000004,1897.952221,1850.997163,1.6874416E-2,1.5511117E-2,0]
[173,"Statewide Totals",2012,"Annual","MDV","GAS","MDV_GAS","AllMYr",50,"MDV_GAS_50",11000000,0,7.8177229000000001E-2,0.106345464,2.8957524600000002,0.458022765,495.0224771,482.17670859999998,1.9574700000000002E-3,1.789873E-3,0]
[175,"Statewide Totals",2012,"Annual","MDV","GAS","MDV_GAS","AllMYr",55,"MDV_GAS_55",11200000,0,8.1282800000000002E-2,0.110227805,2.8705888580000001,0.47923600100000002,512.58813050000003,499.27082719999999,1.999205E-3,1.8270910000000001E-3,0]
[177,"Statewide Totals",2012,"Annual","MDV","GAS","MDV_GAS","AllMYr",60,"MDV_GAS_60",14300000,0,7.8060829999999998E-2,0.107823771,2.6738576100000002,0.46104596599999997,548.87968609999996,534.86249439999995,2.0576679999999999E-3,1.8809829999999999E-3,0]
[179,"Statewide Totals",2012,"Annual","MDV","GAS","MDV_GAS","AllMYr",65,"MDV_GAS_65",18500000,0,8.8467987999999997E-2,0.121915077,2.7719127960000001,0.49450703800000001,612.66756029999999,597.148234,2.279213E-3,2.082324E-3,0]
[181,"Statewide Totals",2012,"Annual","MDV","GAS","MDV_GAS","AllMYr",70,"MDV_GAS_70",3971017.6680000001,0,0.112429372,0.15153335500000001,3.2994468819999998,0.57834714700000001,667.97764410000002,648.90865159999998,2.5480279999999999E-3,2.3235500000000002E-3,0]
[186,"Statewide Totals",2012,"Annual","MH","DSL","MH_DSL","AllMYr",10,"MH_DSL_10",9160.2185040000004,0,1.393143271,1.5860009399999999,2.2685477889999999,17.13937052,2160.337102,2149.5354160000002,0.58541016499999998,0.53857736099999998,0]
[188,"Statewide Totals",2012,"Annual","MH","DSL","MH_DSL","AllMYr",15,"MH_DSL_15",12763.54299,0,0.72308373699999995,0.82318273200000003,1.5716700020000001,12.069867759999999,1773.74353,1764.8748129999999,0.399207751,0.367271134,0]
[190,"Statewide Totals",2012,"Annual","MH","DSL","MH_DSL","AllMYr",20,"MH_DSL_20",16128.26345,0,0.33250380699999998,0.37853346500000001,1.0939291600000001,9.3008155830000003,1455.50667,1448.2291359999999,0.26952021700000001,0.247958604,0]
[192,"Statewide Totals",2012,"Annual","MH","DSL","MH_DSL","AllMYr",25,"MH_DSL_25",21821.422040000001,0,0.23601550499999999,0.26868795699999998,0.882947276,8.4607099350000006,1305.3740170000001,1298.8471469999999,0.21646141799999999,0.199144508,0]
[194,"Statewide Totals",2012,"Annual","MH","DSL","MH_DSL","AllMYr",30,"MH_DSL_30",29178.273550000002,0,0.19275424199999999,0.219437882,0.75743073900000002,7.9916942249999998,1225.134438,1219.0087659999999,0.188470639,0.173392991,0]
[196,"Statewide Totals",2012,"Annual","MH","DSL","MH_DSL","AllMYr",35,"MH_DSL_35",31524.104090000001,0,0.16130013700000001,0.18362947700000001,0.66787327500000004,7.6807248110000002,1158.7038930000001,1152.9103729999999,0.17252751299999999,0.15872531600000001,0]
[198,"Statewide Totals",2012,"Annual","MH","DSL","MH_DSL","AllMYr",40,"MH_DSL_40",37807.517679999997,0,0.13831017700000001,0.15745693699999999,0.59859085999999995,7.4543898789999998,1105.935313,1100.405636,0.166029554,0.152747193,0]
[200,"Statewide Totals",2012,"Annual","MH","DSL","MH_DSL","AllMYr",45,"MH_DSL_45",34837.735079999999,0,0.12156070200000001,0.13838877199999999,0.54069528200000005,7.2486752640000001,1066.622899,1061.2897849999999,0.167829688,0.15440331700000001,0]
[184,"Statewide Totals",2012,"Annual","MH","DSL","MH_DSL","AllMYr",5,"MH_DSL_5",1940.1261380000001,0,1.8128755089999999,2.0638381739999998,2.6751910809999999,20.436565949999999,2379.0284799999999,2367.1333380000001,0.691089709,0.635802541,0]
[202,"Statewide Totals",2012,"Annual","MH","DSL","MH_DSL","AllMYr",50,"MH_DSL_50",36406.62124,0,0.114124107,0.129922704,0.50688830399999996,7.2001684030000002,1041.017803,1035.8127139999999,0.17980510899999999,0.165420704,0]
[204,"Statewide Totals",2012,"Annual","MH","DSL","MH_DSL","AllMYr",55,"MH_DSL_55",47024.753100000002,0,0.116904461,0.13308795300000001,0.499785119,7.2807533680000001,1029.1015629999999,1023.956055,0.20213304400000001,0.185962402,0]
[206,"Statewide Totals",2012,"Annual","MH","DSL","MH_DSL","AllMYr",60,"MH_DSL_60",62884.519610000003,0,0.12574716799999999,0.14315478600000001,0.50755744899999999,7.3551445910000002,1030.6539379999999,1025.5006679999999,0.23281263599999999,0.21418763099999999,0]
[208,"Statewide Totals",2012,"Annual","MH","DSL","MH_DSL","AllMYr",65,"MH_DSL_65",29608.831409999999,0,0.14255580500000001,0.162290302,0.54238891700000003,7.4129874630000003,1045.7108740000001,1040.4823200000001,0.27302468400000002,0.25118271199999997,0]
[210,"Statewide Totals",2012,"Annual","MH","DSL","MH_DSL","AllMYr",70,"MH_DSL_70",15212.53692,0,0.19369984900000001,0.220514393,0.64227195800000003,8.1384763790000001,1074.3153600000001,1068.9437829999999,0.339311533,0.31216661899999998,0]
[185,"Statewide Totals",2012,"Annual","MH","GAS","MH_GAS","AllMYr",10,"MH_GAS_10",55651.369749999998,0,1.7240085860000001,1.96963719,39.244911850000001,1.129229493,2036.1282739999999,2025.947633,1.8752726000000001E-2,1.6588108000000001E-2,0]
[187,"Statewide Totals",2012,"Annual","MH","GAS","MH_GAS","AllMYr",15,"MH_GAS_15",73904.89572,0,1.1469313379999999,1.3089691429999999,26.74031227,1.165513381,1392.429625,1385.4674769999999,1.2511039999999999E-2,1.1063066E-2,0]
[189,"Statewide Totals",2012,"Annual","MH","GAS","MH_GAS","AllMYr",20,"MH_GAS_20",96703.259000000005,0,0.79165164099999996,0.90565429600000003,19.23598406,1.193235246,1006.068562,1001.03822,8.6475470000000002E-3,7.6385280000000003E-3,0]
[191,"Statewide Totals",2012,"Annual","MH","GAS","MH_GAS","AllMYr",25,"MH_GAS_25",139643.0264,0,0.56619293199999998,0.64953225800000003,14.51916353,1.2191509570000001,768.01213489999998,764.1720742,6.2029190000000003E-3,5.4756379999999997E-3,0]
[193,"Statewide Totals",2012,"Annual","MH","GAS","MH_GAS","AllMYr",30,"MH_GAS_30",173505.2059,0,0.42106748500000002,0.48460180899999999,11.536238020000001,1.2596360900000001,619.43361359999994,616.33644560000005,4.6450069999999996E-3,4.1020300000000004E-3,0]
[195,"Statewide Totals",2012,"Annual","MH","GAS","MH_GAS","AllMYr",35,"MH_GAS_35",188225.83420000001,0,0.33267767399999998,0.38322807199999998,9.7904202260000002,1.331909869,527.84657379999999,525.20734089999996,3.663108E-3,3.2377970000000002E-3,0]
[197,"Statewide Totals",2012,"Annual","MH","GAS","MH_GAS","AllMYr",40,"MH_GAS_40",222571.96739999999,0,0.27507578599999999,0.31773722799999998,8.8373071920000008,1.4009631490000001,475.2332025,472.85703649999999,3.0200930000000002E-3,2.6703819999999998E-3,0]
[199,"Statewide Totals",2012,"Annual","MH","GAS","MH_GAS","AllMYr",45,"MH_GAS_45",214937.53769999999,0,0.23421266199999999,0.27041010300000001,8.3535548770000005,1.437547388,452.0558557,449.79557640000002,2.5811269999999999E-3,2.2820599999999998E-3,0]
[183,"Statewide Totals",2012,"Annual","MH","GAS","MH_GAS","AllMYr",5,"MH_GAS_5",11544.51878,0,2.1030603980000002,2.4082700149999998,47.75131038,1.087717214,2513.4972950000001,2500.9298090000002,2.3029132000000001E-2,2.0376352E-2,0]
[201,"Statewide Totals",2012,"Annual","MH","GAS","MH_GAS","AllMYr",50,"MH_GAS_50",203531.62479999999,0,0.20773686899999999,0.24076460699999999,8.3879909519999991,1.4945099369999999,454.32181109999999,452.05020209999998,2.3082459999999999E-3,2.0411370000000002E-3,0]
[203,"Statewide Totals",2012,"Annual","MH","GAS","MH_GAS","AllMYr",55,"MH_GAS_55",235600.5557,0,0.193197058,0.22638924899999999,8.9500919379999999,1.577615306,482.41552009999998,480.00344250000001,2.1567959999999999E-3,1.908475E-3,0]
[205,"Statewide Totals",2012,"Annual","MH","GAS","MH_GAS","AllMYr",60,"MH_GAS_60",282697.31719999999,0,0.18301846899999999,0.21688497500000001,9.9109509199999994,1.6172033020000001,541.20921220000002,538.50316610000004,2.0730919999999999E-3,1.834827E-3,0]
[207,"Statewide Totals",2012,"Annual","MH","GAS","MH_GAS","AllMYr",65,"MH_GAS_65",129954.10679999999,0,0.18833266500000001,0.22337259500000001,11.76871747,1.6457053720000001,641.49787660000004,638.29038720000005,2.0634239999999999E-3,1.8248159999999999E-3,0]
[209,"Statewide Totals",2012,"Annual","MH","GAS","MH_GAS","AllMYr",70,"MH_GAS_70",61426.543890000001,0,0.213943515,0.25690253800000001,15.044439410000001,1.8719465310000001,803.36233700000003,799.34552529999996,2.1920099999999999E-3,1.943558E-3,0]
[212,"Statewide Totals",2012,"Annual","Motor Coach","DSL","Motor Coach_DSL","AllMYr",10,"Motor Coach_DSL_10",4814.7833129999999,0,3.8060643700000001,4.3329145630000001,7.6906851009999997,25.879598869999999,3317.025541,3300.4404129999998,0.79945879799999997,0.735502094,0]
[213,"Statewide Totals",2012,"Annual","Motor Coach","DSL","Motor Coach_DSL","AllMYr",15,"Motor Coach_DSL_15",7324.1795149999998,0,1.9505021549999999,2.2204982289999999,5.0794168810000002,18.47063382,2723.5655040000001,2709.9476770000001,0.57864632500000002,0.53235461900000003,0]
[214,"Statewide Totals",2012,"Annual","Motor Coach","DSL","Motor Coach_DSL","AllMYr",20,"Motor Coach_DSL_20",18195.812279999998,0,0.80443058099999998,0.91578298300000005,3.2194192830000001,13.90305528,2148.6222720000001,2137.8791609999998,0.40580137300000002,0.37333726299999997,0]
[215,"Statewide Totals",2012,"Annual","Motor Coach","DSL","Motor Coach_DSL","AllMYr",25,"Motor Coach_DSL_25",27192.205559999999,0,0.67131434899999998,0.76424028600000005,2.8281375479999999,12.953151249999999,2004.7126009999999,1994.689038,0.35750889899999999,0.32890818700000002,0]
[216,"Statewide Totals",2012,"Annual","Motor Coach","DSL","Motor Coach_DSL","AllMYr",30,"Motor Coach_DSL_30",41321.244330000001,0,0.56009957399999999,0.63763073000000003,2.5030673650000002,12.17777032,1881.725915,1872.317286,0.32510643500000003,0.29909792000000002,0]
[217,"Statewide Totals",2012,"Annual","Motor Coach","DSL","Motor Coach_DSL","AllMYr",35,"Motor Coach_DSL_35",53030.014779999998,0,0.47078625600000001,0.53595431599999999,2.2442087329999998,11.567189450000001,1779.6622139999999,1770.763903,0.30859398100000002,0.28390646200000003,0]
[218,"Statewide Totals",2012,"Annual","Motor Coach","DSL","Motor Coach_DSL","AllMYr",40,"Motor Coach_DSL_40",49049.634530000003,0,0.403374395,0.45921104400000001,2.0515616529999998,11.09767396,1698.521497,1690.0288889999999,0.30797153599999999,0.28333381299999999,0]
[219,"Statewide Totals",2012,"Annual","Motor Coach","DSL","Motor Coach_DSL","AllMYr",45,"Motor Coach_DSL_45",63058.107550000001,0,0.35786399099999999,0.40740091299999998,1.9251261239999999,10.785998019999999,1638.303764,1630.112245,0.32323910099999997,0.29737997300000002,0]
[211,"Statewide Totals",2012,"Annual","Motor Coach","DSL","Motor Coach_DSL","AllMYr",5,"Motor Coach_DSL_5",1328.6584989999999,0,6.4725819810000003,7.3685418839999999,11.254806240000001,36.482143929999999,4015.389518,3995.3125700000001,1.084397193,0.99764541799999995,0]
[220,"Statewide Totals",2012,"Annual","Motor Coach","DSL","Motor Coach_DSL","AllMYr",50,"Motor Coach_DSL_50",62812.315750000002,0,0.33425504499999997,0.38052392400000001,1.864902147,10.625254119999999,1599.009016,1591.0139710000001,0.35439667600000002,0.326044942,0]
[221,"Statewide Totals",2012,"Annual","Motor Coach","DSL","Motor Coach_DSL","AllMYr",55,"Motor Coach_DSL_55",73134.940759999998,0,0.33254755499999999,0.37858007700000001,1.870889722,10.622145590000001,1580.637252,1572.734066,0.40144426,0.36932871900000003,0]
[222,"Statewide Totals",2012,"Annual","Motor Coach","DSL","Motor Coach_DSL","AllMYr",60,"Motor Coach_DSL_60",56392.927810000001,0,0.35274152199999997,0.40156937100000001,1.9430888479999999,10.739564919999999,1583.1884729999999,1575.27253,0.46438185399999998,0.42723130599999998,0]
[223,"Statewide Totals",2012,"Annual","Motor Coach","DSL","Motor Coach_DSL","AllMYr",65,"Motor Coach_DSL_65",41735.980349999998,0,0.39483694600000002,0.44949180700000002,2.081499526,11.04728392,1606.6626779999999,1598.6293639999999,0.54320945799999998,0.49975270100000002,0]
[224,"Statewide Totals",2012,"Annual","Motor Coach","DSL","Motor Coach_DSL","AllMYr",70,"Motor Coach_DSL_70",5247.429204,0,0.45883382700000003,0.522347385,2.2861217549999999,11.58081634,1651.0598669999999,1642.804568,0.63792707100000001,0.58689290599999999,0]
[226,"Statewide Totals",2012,"Annual","OBUS","GAS","OBUS_GAS","AllMYr",10,"OBUS_GAS_10",22928.384429999998,0,1.1685867569999999,1.3713273399999999,16.289419500000001,1.4162952049999999,2036.1282570000001,2025.9476159999999,5.3511050000000001E-3,4.8879500000000003E-3,0]
[227,"Statewide Totals",2012,"Annual","OBUS","GAS","OBUS_GAS","AllMYr",15,"OBUS_GAS_15",30819.28355,0,0.76266236600000004,0.89464103900000003,10.86075816,1.4373525060000001,1392.4296650000001,1385.467517,3.539876E-3,3.2337249999999998E-3,0]
[228,"Statewide Totals",2012,"Annual","OBUS","GAS","OBUS_GAS","AllMYr",20,"OBUS_GAS_20",42497.787069999998,0,0.49037758999999997,0.58072864400000002,7.3028940970000003,1.411176293,1006.068564,1001.038221,2.378247E-3,2.1739749999999999E-3,0]
[229,"Statewide Totals",2012,"Annual","OBUS","GAS","OBUS_GAS","AllMYr",25,"OBUS_GAS_25",62684.210659999997,0,0.33570370199999999,0.40079951400000002,5.2932431050000002,1.4064118109999999,768.01216079999995,764.1721,1.6848449999999999E-3,1.540612E-3,0]
[230,"Statewide Totals",2012,"Annual","OBUS","GAS","OBUS_GAS","AllMYr",30,"OBUS_GAS_30",75258.288490000006,0,0.25262124499999999,0.30301751700000001,4.2626647430000002,1.4649616940000001,619.43363850000003,616.33647029999997,1.2804299999999999E-3,1.1705999999999999E-3,0]
[231,"Statewide Totals",2012,"Annual","OBUS","GAS","OBUS_GAS","AllMYr",35,"OBUS_GAS_35",78039.506810000006,0,0.210576184,0.25172627199999997,3.819697874,1.606173021,527.84653509999998,525.2073024,1.0336569999999999E-3,9.4499999999999998E-4,0]
[232,"Statewide Totals",2012,"Annual","OBUS","GAS","OBUS_GAS","AllMYr",40,"OBUS_GAS_40",90102.335430000006,0,0.178504146,0.213717775,3.543729431,1.719931009,475.23322100000001,472.85705480000001,8.61E-4,7.8700000000000005E-4,0]
[233,"Statewide Totals",2012,"Annual","OBUS","GAS","OBUS_GAS","AllMYr",45,"OBUS_GAS_45",87082.268230000001,0,0.15146130999999999,0.181278984,3.33359454,1.755022157,452.05584240000002,449.7955632,7.3700000000000002E-4,6.7299999999999999E-4,0]
[225,"Statewide Totals",2012,"Annual","OBUS","GAS","OBUS_GAS","AllMYr",5,"OBUS_GAS_5",4658.2540509999999,0,1.4390930399999999,1.693811841,20.005438569999999,1.372318197,2513.4972769999999,2500.929791,6.6384809999999999E-3,6.0628870000000003E-3,0]
[234,"Statewide Totals",2012,"Annual","OBUS","GAS","OBUS_GAS","AllMYr",50,"OBUS_GAS_50",82673.525500000003,0,0.13393369399999999,0.16142821700000001,3.3365088219999999,1.8262116370000001,454.32182899999998,452.05021979999998,6.6E-4,6.0300000000000002E-4,0]
[235,"Statewide Totals",2012,"Annual","OBUS","GAS","OBUS_GAS","AllMYr",55,"OBUS_GAS_55",91632.463210000002,0,0.12860756300000001,0.157322191,3.6986606420000001,1.976692809,482.4155174,480.00343980000002,6.3100000000000005E-4,5.7600000000000001E-4,0]
[236,"Statewide Totals",2012,"Annual","OBUS","GAS","OBUS_GAS","AllMYr",60,"OBUS_GAS_60",108626.58,0,0.121387046,0.15138088999999999,4.1040596149999997,2.0382656749999999,541.20919000000004,538.50314409999999,6.0899999999999995E-4,5.5699999999999999E-4,0]
[237,"Statewide Totals",2012,"Annual","OBUS","GAS","OBUS_GAS","AllMYr",65,"OBUS_GAS_65",48058.198049999999,0,0.127114804,0.15761017099999999,4.9777978039999997,2.068294206,641.49786600000004,638.29037670000002,6.1899999999999998E-4,5.6400000000000005E-4,0]
[238,"Statewide Totals",2012,"Annual","OBUS","GAS","OBUS_GAS","AllMYr",70,"OBUS_GAS_70",15287.2834,0,0.21696689499999999,0.25952981899999999,10.16563859,2.9800293170000001,803.36234890000003,799.34553719999997,7.5500000000000003E-4,6.6500000000000001E-4,0]
[239,"Statewide Totals",2012,"Annual","PTO","DSL","PTO_DSL","AllMYr",20,"PTO_DSL_20",447275.33470000001,0,0.822499753,0.93635335900000005,3.8951632100000002,14.047218000000001,2148.3011590000001,2137.5596529999998,0.48280810099999999,0.44418345300000001,0]
[243,"Statewide Totals",2012,"Annual","SBUS","DSL","SBUS_DSL","AllMYr",10,"SBUS_DSL_10",17982.34073,0,2.711540281,3.086882203,4.1322497330000001,20.54079101,2168.846767,2158.0025329999999,0.96766529499999998,0.89025207100000003,0]
[245,"Statewide Totals",2012,"Annual","SBUS","DSL","SBUS_DSL","AllMYr",15,"SBUS_DSL_15",35964.681449999996,0,1.467144089,1.670231864,3.1164845209999998,14.397440230000001,1780.811201,1771.9071449999999,0.65504648300000001,0.60264276400000005,0]
[247,"Statewide Totals",2012,"Annual","SBUS","DSL","SBUS_DSL","AllMYr",20,"SBUS_DSL_20",48816.205710000002,0,0.59838426199999994,0.68121493200000005,2.2838483900000002,10.968738480000001,1404.8829020000001,1397.858487,0.41592655299999998,0.38265242900000002,0]
[249,"Statewide Totals",2012,"Annual","SBUS","DSL","SBUS_DSL","AllMYr",25,"SBUS_DSL_25",77059.661240000001,0,0.49459358799999997,0.56305715000000001,1.940496132,10.47496815,1310.787147,1304.233211,0.35151518300000001,0.32339396799999998,0]
[251,"Statewide Totals",2012,"Annual","SBUS","DSL","SBUS_DSL","AllMYr",30,"SBUS_DSL_30",92451.333440000002,0,0.40938928099999999,0.466058533,1.644592815,10.077342229999999,1230.3719450000001,1224.220086,0.30048835099999999,0.27644928299999999,0]
[253,"Statewide Totals",2012,"Annual","SBUS","DSL","SBUS_DSL","AllMYr",35,"SBUS_DSL_35",94889.663039999999,0,0.34277134100000001,0.39021908,1.396138442,9.7758607289999997,1163.6372980000001,1157.8191119999999,0.26284605700000002,0.241818373,0]
[255,"Statewide Totals",2012,"Annual","SBUS","DSL","SBUS_DSL","AllMYr",40,"SBUS_DSL_40",64055.538990000001,0,0.29473976899999998,0.335538791,1.1951330099999999,9.5705236429999996,1110.5832049999999,1105.030289,0.238588302,0.21950123799999999,0]
[257,"Statewide Totals",2012,"Annual","SBUS","DSL","SBUS_DSL","AllMYr",45,"SBUS_DSL_45",30732.305700000001,0,0.26529456400000001,0.30201766699999999,1.0415765219999999,9.4613309739999991,1071.209666,1065.8536180000001,0.22771508600000001,0.209497879,0]
[241,"Statewide Totals",2012,"Annual","SBUS","DSL","SBUS_DSL","AllMYr",5,"SBUS_DSL_5",5130.557401,0,4.4273728410000004,5.0402269620000002,5.4048860090000002,29.652060500000001,2625.4740780000002,2612.3467070000002,1.376328716,1.2662224179999999,0]
[259,"Statewide Totals",2012,"Annual","SBUS","DSL","SBUS_DSL","AllMYr",50,"SBUS_DSL_50",15391.672200000001,0,0.254435727,0.28965570699999998,0.93546897600000001,9.448282721,1045.5166810000001,1040.2890970000001,0.23022640799999999,0.21180829500000001,0]
[261,"Statewide Totals",2012,"Annual","SBUS","DSL","SBUS_DSL","AllMYr",55,"SBUS_DSL_55",22909.520489999999,0,0.26216325600000001,0.29845291099999999,0.876810372,9.5313788840000004,1033.50425,1028.3367290000001,0.24612226800000001,0.22643248699999999,0]
[263,"Statewide Totals",2012,"Annual","SBUS","DSL","SBUS_DSL","AllMYr",60,"SBUS_DSL_60",12750.224039999999,0,0.28847715299999999,0.32840928000000003,0.86560071100000002,9.7106194630000005,1035.1723730000001,1029.9965110000001,0.27540266699999999,0.25337045400000002,0]
[242,"Statewide Totals",2012,"Annual","SBUS","GAS","SBUS_GAS","AllMYr",10,"SBUS_GAS_10",6285.523056,0,6.9592886710000004,7.5520673760000001,101.8283945,2.3870872080000001,2036.128056,2025.947416,3.8500640000000003E-2,3.2808693E-2,0]
[244,"Statewide Totals",2012,"Annual","SBUS","GAS","SBUS_GAS","AllMYr",15,"SBUS_GAS_15",12571.04608,0,4.655630049,5.0521876360000002,69.636517330000004,2.5051006779999998,1392.429527,1385.4673789999999,2.5756186E-2,2.1948382999999998E-2,0]
[246,"Statewide Totals",2012,"Annual","SBUS","GAS","SBUS_GAS","AllMYr",20,"SBUS_GAS_20",17063.150379999999,0,3.2462754290000002,3.5226942819999998,50.299957390000003,2.6219265439999999,1006.0685109999999,1001.038168,1.7960496999999999E-2,1.5305212E-2,0]
[248,"Statewide Totals",2012,"Annual","SBUS","GAS","SBUS_GAS","AllMYr",25,"SBUS_GAS_25",26935.32977,0,2.3599034969999999,2.5609581010000002,38.415827149999998,2.741912347,768.01209700000004,764.17203649999999,1.3055046000000001E-2,1.1124983999999999E-2,0]
[250,"Statewide Totals",2012,"Annual","SBUS","GAS","SBUS_GAS","AllMYr",30,"SBUS_GAS_30",32315.314539999999,0,1.7882232739999999,1.9406482949999999,30.997002569999999,2.8618723250000002,619.4335896,616.33642159999999,9.8914899999999993E-3,8.4291290000000005E-3,0]
[252,"Statewide Totals",2012,"Annual","SBUS","GAS","SBUS_GAS","AllMYr",35,"SBUS_GAS_35",33167.605369999997,0,1.4131988019999999,1.5340279059999999,26.483115699999999,2.992398916,527.84651770000005,525.20728510000004,7.8121070000000004E-3,6.6571629999999998E-3,0]
[254,"Statewide Totals",2012,"Annual","SBUS","GAS","SBUS_GAS","AllMYr",40,"SBUS_GAS_40",22389.887019999998,0,1.1639073790000001,1.263627584,23.885432160000001,3.1197130190000002,475.23314900000003,472.8569832,6.4312869999999999E-3,5.4804839999999999E-3,0]
[256,"Statewide Totals",2012,"Annual","SBUS","GAS","SBUS_GAS","AllMYr",45,"SBUS_GAS_45",10742.12912,0,0.99899782599999998,1.084677712,22.740624579999999,3.2431995869999999,452.05580370000001,449.79552469999999,5.518879E-3,4.7029660000000003E-3,0]
[240,"Statewide Totals",2012,"Annual","SBUS","GAS","SBUS_GAS","AllMYr",5,"SBUS_GAS_5",1793.3281079999999,0,8.6477089829999993,9.3866479599999995,126.0426257,2.3381028810000002,2513.4969460000002,2500.9294610000002,4.7810119999999998E-2,4.0741856999999999E-2,0]
[258,"Statewide Totals",2012,"Annual","SBUS","GAS","SBUS_GAS","AllMYr",50,"SBUS_GAS_50",5379.9842639999997,0,0.89291110699999998,0.96920956800000002,22.782564870000002,3.3455343900000001,454.32175810000001,452.05014929999999,4.9365889999999999E-3,4.2067620000000002E-3,0]
[260,"Statewide Totals",2012,"Annual","SBUS","GAS","SBUS_GAS","AllMYr",55,"SBUS_GAS_55",8007.7628779999995,0,0.83553841399999995,0.90817348499999995,24.550567999999998,3.5456404209999999,482.4154456,480.0033684,4.6028450000000004E-3,3.9223590000000003E-3,0]
[262,"Statewide Totals",2012,"Annual","SBUS","GAS","SBUS_GAS","AllMYr",60,"SBUS_GAS_60",4456.6960150000004,0,0.81139274400000005,0.881652879,27.449972320000001,3.6475521949999998,541.20912480000004,538.5030792,4.4735160000000003E-3,3.8121499999999998E-3,0]
[265,"Statewide Totals",2012,"Annual","T6 Ag","DSL","T6 Ag_DSL","AllMYr",10,"T6 Ag_DSL_10",10266.205120000001,0,3.6482933289999999,4.1533042419999999,5.5744318640000001,18.776578239999999,2174.0255940000002,2163.1554660000002,1.17726106,1.0830801750000001,0]
[266,"Statewide Totals",2012,"Annual","T6 Ag","DSL","T6 Ag_DSL","AllMYr",15,"T6 Ag_DSL_15",13887.742700000001,0,1.9838677650000001,2.258482436,4.1600271930000003,13.413473979999999,1785.0634669999999,1776.13815,0.81953985100000004,0.75397666299999999,0]
[267,"Statewide Totals",2012,"Annual","T6 Ag","DSL","T6 Ag_DSL","AllMYr",20,"T6 Ag_DSL_20",14994.432779999999,0,0.81512776799999997,0.927960915,3.035991745,10.27269633,1408.237517,1401.1963290000001,0.54322493299999997,0.49976693799999999,0]
[268,"Statewide Totals",2012,"Annual","T6 Ag","DSL","T6 Ag_DSL","AllMYr",25,"T6 Ag_DSL_25",16114.80896,0,0.679844212,0.77395088499999998,2.5974321279999999,9.6939584750000005,1313.9170770000001,1307.3474920000001,0.46745809599999999,0.43006144800000001,0]
[269,"Statewide Totals",2012,"Annual","T6 Ag","DSL","T6 Ag_DSL","AllMYr",30,"T6 Ag_DSL_30",19798.339899999999,0,0.56800855900000002,0.64663450700000003,2.2200926490000001,9.2199812219999995,1233.309859,1227.143309,0.40806793099999999,0.37542249599999999,0]
[270,"Statewide Totals",2012,"Annual","T6 Ag","DSL","T6 Ag_DSL","AllMYr",35,"T6 Ag_DSL_35",23054.427009999999,0,0.47962081000000001,0.546011782,1.903973307,8.8517611709999997,1166.4158609999999,1160.583781,0.36505443700000001,0.33585008199999999,0]
[271,"Statewide Totals",2012,"Annual","T6 Ag","DSL","T6 Ag_DSL","AllMYr",40,"T6 Ag_DSL_40",28937.128939999999,0,0.41468096300000001,0.47208271000000002,1.649074103,8.5867909299999994,1113.2350839999999,1107.6689080000001,0.33841761399999998,0.31134420499999998,0]
[272,"Statewide Totals",2012,"Annual","T6 Ag","DSL","T6 Ag_DSL","AllMYr",45,"T6 Ag_DSL_45",23887.315360000001,0,0.37318901900000001,0.42484728999999999,1.4553950369999999,8.4241972589999996,1073.767527,1068.39869,0.32815746400000001,0.30190486700000002,0]
[264,"Statewide Totals",2012,"Annual","T6 Ag","DSL","T6 Ag_DSL","AllMYr",5,"T6 Ag_DSL_5",2067.9871290000001,0,5.9400005719999998,6.7622384899999997,7.3786095510000003,26.60755545,2631.7432509999999,2618.584535,1.6425372199999999,1.511134242,0]
[273,"Statewide Totals",2012,"Annual","T6 Ag","DSL","T6 Ag_DSL","AllMYr",50,"T6 Ag_DSL_50",26616.159609999999,0,0.35514497699999997,0.404305523,1.322936109,8.3666656689999996,1048.0131919999999,1042.773126,0.33427398400000002,0.30753206599999999,0]
[274,"Statewide Totals",2012,"Annual","T6 Ag","DSL","T6 Ag_DSL","AllMYr",55,"T6 Ag_DSL_55",39287.88364,0,0.36054883900000001,0.41045740800000002,1.2516973179999999,8.4135376110000006,1035.9720769999999,1030.7922169999999,0.35676717699999999,0.32822580299999998,0]
[275,"Statewide Totals",2012,"Annual","T6 Ag","DSL","T6 Ag_DSL","AllMYr",60,"T6 Ag_DSL_60",47563.067949999997,0,0.38940060399999998,0.44330294599999998,1.241678665,8.5621574559999996,1037.644184,1032.4559630000001,0.39563704100000002,0.36398607700000002,0]
[276,"Statewide Totals",2012,"Annual","T6 Ag","DSL","T6 Ag_DSL","AllMYr",65,"T6 Ag_DSL_65",12255.85187,0,0.441700272,0.50284213700000002,1.29288015,8.8112434880000006,1053.029511,1047.764363,0.45088357600000001,0.41481288999999999,0]
[277,"Statewide Totals",2012,"Annual","T6 Ag","DSL","T6 Ag_DSL","AllMYr",70,"T6 Ag_DSL_70",3088.1549839999998,0,0.51744784200000005,0.58907498000000003,1.4053017720000001,9.1726011449999998,1082.128058,1076.717418,0.52250678299999997,0.48070624000000001,0]
[279,"Statewide Totals",2012,"Annual","T6 CAIRP heavy","DSL","T6 CAIRP heavy_DSL","AllMYr",10,"T6 CAIRP heavy_DSL_10",392.65830419999998,0,1.8054516890000001,2.0553693150000001,3.10698637,13.46006693,2151.7462719999999,2140.9875400000001,0.46965838599999998,0.43208571600000001,0]
[280,"Statewide Totals",2012,"Annual","T6 CAIRP heavy","DSL","T6 CAIRP heavy_DSL","AllMYr",15,"T6 CAIRP heavy_DSL_15",545.05335679999996,0,0.92681598799999998,1.0551094519999999,2.0659721320000002,9.5762008230000006,1766.7702119999999,1757.936361,0.32561104899999999,0.29956216499999999,0]
[281,"Statewide Totals",2012,"Annual","T6 CAIRP heavy","DSL","T6 CAIRP heavy_DSL","AllMYr",20,"T6 CAIRP heavy_DSL_20",661.85680290000005,0,0.38034966799999997,0.432999144,1.3138909400000001,7.2007026649999997,1393.8059579999999,1386.8369279999999,0.21475982499999999,0.19757903900000001,0]
[282,"Statewide Totals",2012,"Annual","T6 CAIRP heavy","DSL","T6 CAIRP heavy_DSL","AllMYr",25,"T6 CAIRP heavy_DSL_25",849.7630163,0,0.315603629,0.35929070800000001,1.147575985,6.7294636250000002,1300.4521110000001,1293.94985,0.18467277900000001,0.16989895699999999,0]
[283,"Statewide Totals",2012,"Annual","T6 CAIRP heavy","DSL","T6 CAIRP heavy_DSL","AllMYr",30,"T6 CAIRP heavy_DSL_30",1088.900564,0,0.26180736599999999,0.29804775700000002,1.008961427,6.3413805419999996,1220.6709510000001,1214.567597,0.16332105899999999,0.150255374,0]
[284,"Statewide Totals",2012,"Annual","T6 CAIRP heavy","DSL","T6 CAIRP heavy_DSL","AllMYr",35,"T6 CAIRP heavy_DSL_35",1180.2374870000001,0,0.218960877,0.249270291,0.89804726499999998,6.0358965920000003,1154.4624799999999,1148.6901680000001,0.15070466299999999,0.13864829000000001,0]
[285,"Statewide Totals",2012,"Annual","T6 CAIRP heavy","DSL","T6 CAIRP heavy_DSL","AllMYr",40,"T6 CAIRP heavy_DSL_40",1452.7007040000001,0,0.18706416300000001,0.21295831000000001,0.81483349900000002,5.8075878630000002,1101.8266980000001,1096.3175639999999,0.146823592,0.13507770499999999,0]
[286,"Statewide Totals",2012,"Annual","T6 CAIRP heavy","DSL","T6 CAIRP heavy_DSL","AllMYr",45,"T6 CAIRP heavy_DSL_45",1304.406463,0,0.16611722400000001,0.18911181399999999,0.75932012999999998,5.6518528410000002,1062.7636030000001,1057.449785,0.15167784600000001,0.13954361800000001,0]
[278,"Statewide Totals",2012,"Annual","T6 CAIRP heavy","DSL","T6 CAIRP heavy_DSL","AllMYr",5,"T6 CAIRP heavy_DSL_5",80.630573170000005,0,3.0649399019999999,3.4892007710000001,4.5185953850000002,19.052002600000002,2604.7732580000002,2591.7493909999998,0.65724580099999996,0.60466613700000005,0]
[287,"Statewide Totals",2012,"Annual","T6 CAIRP heavy","DSL","T6 CAIRP heavy_DSL","AllMYr",50,"T6 CAIRP heavy_DSL_50",1363.298178,0,0.15612005900000001,0.17773080399999999,0.73150715799999999,5.5768435519999997,1037.273197,1032.0868310000001,0.165267425,0.152046031,0]
[288,"Statewide Totals",2012,"Annual","T6 CAIRP heavy","DSL","T6 CAIRP heavy_DSL","AllMYr",55,"T6 CAIRP heavy_DSL_55",1860.079547,0,0.15707267,0.17881527799999999,0.73139458199999996,5.5833015829999999,1025.3554790000001,1020.228702,0.187592328,0.17258494199999999,0]
[289,"Statewide Totals",2012,"Annual","T6 CAIRP heavy","DSL","T6 CAIRP heavy_DSL","AllMYr",60,"T6 CAIRP heavy_DSL_60",2361.4108780000001,0,0.16897505500000001,0.19236523799999999,0.758982402,5.6611593559999998,1027.01045,1021.875398,0.218652556,0.20116035199999999,0]
[290,"Statewide Totals",2012,"Annual","T6 CAIRP heavy","DSL","T6 CAIRP heavy_DSL","AllMYr",65,"T6 CAIRP heavy_DSL_65",1265.5676089999999,0,0.191827215,0.21838068299999999,0.81427061899999997,5.8228940170000003,1042.2381089999999,1037.026918,0.25844810899999998,0.23777226100000001,0]
[291,"Statewide Totals",2012,"Annual","T6 CAIRP heavy","DSL","T6 CAIRP heavy_DSL","AllMYr",70,"T6 CAIRP heavy_DSL_70",1016.850741,0,0.22562915,0.25686161299999999,0.89725923200000002,6.0822650740000004,1071.038456,1065.683264,0.30697898699999998,0.28242066799999999,0]
[293,"Statewide Totals",2012,"Annual","T6 CAIRP small","DSL","T6 CAIRP small_DSL","AllMYr",10,"T6 CAIRP small_DSL_10",1314.224373,0,1.4913492269999999,1.6977875710000001,2.6629900260000001,11.00398442,2149.886383,2139.136951,0.31400035599999998,0.28888032699999999,0]
[294,"Statewide Totals",2012,"Annual","T6 CAIRP small","DSL","T6 CAIRP small_DSL","AllMYr",15,"T6 CAIRP small_DSL_15",1824.2894610000001,0,0.75949740200000004,0.86462997799999997,1.6860832969999999,8.0231844730000006,1765.2430830000001,1756.4168669999999,0.229476297,0.21111819300000001,0]
[295,"Statewide Totals",2012,"Annual","T6 CAIRP small","DSL","T6 CAIRP small_DSL","AllMYr",20,"T6 CAIRP small_DSL_20",2215.229711,0,0.31587843799999998,0.35960355700000002,1.01456499,6.0411418340000003,1392.6012049999999,1385.638199,0.16306457799999999,0.15001941199999999,0]
[296,"Statewide Totals",2012,"Annual","T6 CAIRP small","DSL","T6 CAIRP small_DSL","AllMYr",25,"T6 CAIRP small_DSL_25",2844.1503849999999,0,0.266076488,0.30290782700000002,0.90607106999999998,5.5383124290000003,1299.328049,1292.831408,0.14441335899999999,0.13286028999999999,0]
[297,"Statewide Totals",2012,"Annual","T6 CAIRP small","DSL","T6 CAIRP small_DSL","AllMYr",30,"T6 CAIRP small_DSL_30",3644.5419459999998,0,0.22403616300000001,0.25504811799999999,0.817971118,5.1175912559999999,1219.615849,1213.5177699999999,0.132490041,0.121890837,0]
[298,"Statewide Totals",2012,"Annual","T6 CAIRP small","DSL","T6 CAIRP small_DSL","AllMYr",35,"T6 CAIRP small_DSL_35",3950.2459399999998,0,0.18975746499999999,0.21602442899999999,0.75026513299999997,4.7782865130000003,1153.464606,1147.697283,0.127294624,0.11711105400000001,0]
[299,"Statewide Totals",2012,"Annual","T6 CAIRP small","DSL","T6 CAIRP small_DSL","AllMYr",40,"T6 CAIRP small_DSL_40",4862.1782629999998,0,0.16324039300000001,0.18583676099999999,0.70295311699999996,4.5159772480000004,1100.8743199999999,1095.369948,0.128827108,0.11852093900000001,0]
[300,"Statewide Totals",2012,"Annual","T6 CAIRP small","DSL","T6 CAIRP small_DSL","AllMYr",45,"T6 CAIRP small_DSL_45",4365.8385600000001,0,0.144484947,0.16448511399999999,0.67603506800000002,4.3271871800000001,1061.8449900000001,1056.5357650000001,0.137087493,0.126120494,0]
[292,"Statewide Totals",2012,"Annual","T6 CAIRP small","DSL","T6 CAIRP small_DSL","AllMYr",5,"T6 CAIRP small_DSL_5",269.86991829999999,0,2.5496468270000001,2.9025788299999999,4.0207298009999999,15.165037079999999,2602.5217889999999,2589.50918,0.42282303500000001,0.38899719199999999,0]
[301,"Statewide Totals",2012,"Annual","T6 CAIRP small","DSL","T6 CAIRP small_DSL","AllMYr",50,"T6 CAIRP small_DSL_50",4562.948684,0,0.13349112699999999,0.15196948699999999,0.669510987,4.2182547430000001,1036.3766169999999,1031.1947339999999,0.15207577899999999,0.13990971699999999,0]
[302,"Statewide Totals",2012,"Annual","T6 CAIRP small","DSL","T6 CAIRP small_DSL","AllMYr",55,"T6 CAIRP small_DSL_55",6225.6721680000001,0,0.13025893399999999,0.14828988100000001,0.68338087400000003,4.1896642809999998,1024.4692010000001,1019.346855,0.17379196699999999,0.15988860999999999,0]
[303,"Statewide Totals",2012,"Annual","T6 CAIRP small","DSL","T6 CAIRP small_DSL","AllMYr",60,"T6 CAIRP small_DSL_60",7903.6243379999996,0,0.13478836699999999,0.15344629500000001,0.71764472899999998,4.2338644580000002,1026.1227409999999,1020.992127,0.202236056,0.18605717099999999,0]
[304,"Statewide Totals",2012,"Annual","T6 CAIRP small","DSL","T6 CAIRP small_DSL","AllMYr",65,"T6 CAIRP small_DSL_65",4235.8452100000004,0,0.14707942500000001,0.16743873000000001,0.77230255199999998,4.3602213550000002,1041.337237,1036.130551,0.23740804500000001,0.21841540200000001,0]
[305,"Statewide Totals",2012,"Annual","T6 CAIRP small","DSL","T6 CAIRP small_DSL","AllMYr",70,"T6 CAIRP small_DSL_70",3403.391736,0,0.16713211,0.19026718500000001,0.84735434200000004,4.5791415620000002,1070.1126899999999,1064.762127,0.27930793599999998,0.25696330099999998,0]
[307,"Statewide Totals",2012,"Annual","T6 instate construction heavy","DSL","T6 instate construction heavy_DSL","AllMYr",10,"T6 instate construction heavy_DSL_10",10794.0916,0,3.0141450779999999,3.431374731,4.8892047869999997,18.390220849999999,2155.1972219999998,2144.4212360000001,0.97187140900000002,0.89412169699999999,0]
[308,"Statewide Totals",2012,"Annual","T6 instate construction heavy","DSL","T6 instate construction heavy_DSL","AllMYr",15,"T6 instate construction heavy_DSL_15",15151.72848,0,1.5700331949999999,1.787363279,3.492999448,12.79614086,1769.529904,1760.6822540000001,0.646053773,0.59436947100000004,0]
[309,"Statewide Totals",2012,"Annual","T6 instate construction heavy","DSL","T6 instate construction heavy_DSL","AllMYr",20,"T6 instate construction heavy_DSL_20",19984.468120000001,0,0.628905249,0.71596075299999995,2.3756493230000002,9.5814092520000003,1395.893397,1388.9139299999999,0.395874807,0.36420482199999998,0]
[310,"Statewide Totals",2012,"Annual","T6 instate construction heavy","DSL","T6 instate construction heavy_DSL","AllMYr",25,"T6 instate construction heavy_DSL_25",27404.46153,0,0.50879623200000001,0.57922578000000002,2.0056032359999998,9.0686535839999998,1302.298139,1295.786648,0.32791216200000001,0.30167918900000001,0]
[311,"Statewide Totals",2012,"Annual","T6 instate construction heavy","DSL","T6 instate construction heavy_DSL","AllMYr",30,"T6 instate construction heavy_DSL_30",35693.646209999999,0,0.41450180399999997,0.47187875099999999,1.7068109149999999,8.6941866900000004,1222.3873189999999,1216.2753829999999,0.27880697399999999,0.25650241600000001,0]
[312,"Statewide Totals",2012,"Annual","T6 instate construction heavy","DSL","T6 instate construction heavy_DSL","AllMYr",35,"T6 instate construction heavy_DSL_35",37031.16605,0,0.34311689299999998,0.39061246399999999,1.4674776620000001,8.4406141249999997,1156.1384089999999,1150.3577170000001,0.24644848,0.22673260200000001,0]
[313,"Statewide Totals",2012,"Annual","T6 instate construction heavy","DSL","T6 instate construction heavy_DSL","AllMYr",40,"T6 instate construction heavy_DSL_40",43161.188900000001,0,0.292121032,0.33255755799999998,1.277105301,8.2705612550000005,1103.4497080000001,1097.93246,0.228780126,0.21047771600000001,0]
[314,"Statewide Totals",2012,"Annual","T6 instate construction heavy","DSL","T6 instate construction heavy_DSL","AllMYr",45,"T6 instate construction heavy_DSL_45",39972.768219999998,0,0.25996717899999999,0.29595284500000002,1.129457173,8.1317508519999997,1064.2838159999999,1058.962397,0.224414216,0.20646107899999999,0]
[306,"Statewide Totals",2012,"Annual","T6 instate construction heavy","DSL","T6 instate construction heavy_DSL","AllMYr",5,"T6 instate construction heavy_DSL_5",2230.3092409999999,0,5.0407677079999997,5.7385303260000002,6.6758191040000003,26.603282740000001,2608.8956840000001,2595.8512049999999,1.3943175050000001,1.282772104,0]
[315,"Statewide Totals",2012,"Annual","T6 instate construction heavy","DSL","T6 instate construction heavy_DSL","AllMYr",50,"T6 instate construction heavy_DSL_50",42177.228009999999,0,0.25037056800000002,0.28502783300000001,1.039253049,8.1119535169999999,1038.780569,1033.586667,0.236569273,0.21764373100000001,0]
[316,"Statewide Totals",2012,"Annual","T6 instate construction heavy","DSL","T6 instate construction heavy_DSL","AllMYr",55,"T6 instate construction heavy_DSL_55",53379.21112,0,0.26340358000000003,0.29986492599999998,1.0044566370000001,8.2246605499999994,1026.8695720000001,1021.735224,0.265121944,0.243912188,0]
[317,"Statewide Totals",2012,"Annual","T6 instate construction heavy","DSL","T6 instate construction heavy_DSL","AllMYr",60,"T6 instate construction heavy_DSL_60",70973.861139999994,0,0.29491285900000003,0.33573584099999998,1.0141972189999999,8.3406055509999995,1028.5016089999999,1023.359101,0.30665752499999999,0.28212492300000003,0]
[318,"Statewide Totals",2012,"Annual","T6 instate construction heavy","DSL","T6 instate construction heavy_DSL","AllMYr",65,"T6 instate construction heavy_DSL_65",31303.511310000002,0,0.35023851700000003,0.39871989099999999,1.0772187849999999,8.6136417489999992,1043.4713400000001,1038.2539830000001,0.363274604,0.33421263600000001,0]
[319,"Statewide Totals",2012,"Annual","T6 instate construction heavy","DSL","T6 instate construction heavy_DSL","AllMYr",70,"T6 instate construction heavy_DSL_70",8264.2018750000007,0,0.457515793,0.520846904,1.2361327630000001,9.4555017039999996,1072.01927,1066.6591739999999,0.45719632999999998,0.420620624,0]
[321,"Statewide Totals",2012,"Annual","T6 instate construction small","DSL","T6 instate construction small_DSL","AllMYr",10,"T6 instate construction small_DSL_10",28852.41519,0,2.1848772749999998,2.4873164619999999,3.7257316810000001,14.396185819999999,2150.9395330000002,2140.184835,0.59376421999999995,0.54626308300000004,0]
[322,"Statewide Totals",2012,"Annual","T6 instate construction small","DSL","T6 instate construction small_DSL","AllMYr",15,"T6 instate construction small_DSL_15",40541.420389999999,0,1.1188298210000001,1.2737025850000001,2.501651394,10.25658385,1766.071692,1757.2413329999999,0.40789847099999998,0.37526659299999998,0]
[323,"Statewide Totals",2012,"Annual","T6 instate construction small","DSL","T6 instate construction small_DSL","AllMYr",20,"T6 instate construction small_DSL_20",53751.904320000001,0,0.452949135,0.51564811099999996,1.591150297,7.665296723,1393.2349919999999,1386.2688169999999,0.26334184100000002,0.24227449300000001,0]
[324,"Statewide Totals",2012,"Annual","T6 instate construction small","DSL","T6 instate construction small_DSL","AllMYr",25,"T6 instate construction small_DSL_25",74036.199890000004,0,0.37095809099999999,0.422307549,1.370125652,7.1023189320000002,1299.884462,1293.385039,0.22340041999999999,0.20552838700000001,0]
[325,"Statewide Totals",2012,"Annual","T6 instate construction small","DSL","T6 instate construction small_DSL","AllMYr",30,"T6 instate construction small_DSL_30",96461.011270000003,0,0.30576245499999999,0.34808728,1.1960029160000001,6.6691433919999996,1220.1288609999999,1214.0282159999999,0.196581637,0.18085510599999999,0]
[326,"Statewide Totals",2012,"Annual","T6 instate construction small","DSL","T6 instate construction small_DSL","AllMYr",35,"T6 instate construction small_DSL_35",99856.143920000002,0,0.255326573,0.29066986700000003,1.0608754229999999,6.3515745990000001,1153.969186,1148.1993399999999,0.18149602000000001,0.166976338,0]
[327,"Statewide Totals",2012,"Annual","T6 instate construction small","DSL","T6 instate construction small_DSL","AllMYr",40,"T6 instate construction small_DSL_40",116108.9004,0,0.21810492300000001,0.24829585300000001,0.95803376699999998,6.1162682310000003,1101.356634,1095.8498509999999,0.176903105,0.162750857,0]
[328,"Statewide Totals",2012,"Annual","T6 instate construction small","DSL","T6 instate construction small_DSL","AllMYr",45,"T6 instate construction small_DSL_45",107741.08689999999,0,0.193109264,0.21984019799999999,0.88289491099999995,5.922068361,1062.2924190000001,1056.980957,0.18170847200000001,0.16717179400000001,0]
[320,"Statewide Totals",2012,"Annual","T6 instate construction small","DSL","T6 instate construction small_DSL","AllMYr",5,"T6 instate construction small_DSL_5",5965.5007439999999,0,3.7041933579999999,4.2169421700000003,5.3612568789999999,20.298289059999998,2603.771115,2590.7522589999999,0.83336137399999999,0.76669246400000002,0]
[329,"Statewide Totals",2012,"Annual","T6 instate construction small","DSL","T6 instate construction small_DSL","AllMYr",50,"T6 instate construction small_DSL_50",113634.1774,0,0.182629972,0.20791032200000001,0.84550648500000003,5.8423714410000001,1036.8275149999999,1031.6433770000001,0.198155944,0.182303469,0]
[330,"Statewide Totals",2012,"Annual","T6 instate construction small","DSL","T6 instate construction small_DSL","AllMYr",55,"T6 instate construction small_DSL_55",143160.64480000001,0,0.186869173,0.212736329,0.84497482400000001,5.8826629050000001,1024.9090289999999,1019.784484,0.226467217,0.20834984000000001,0]
[331,"Statewide Totals",2012,"Annual","T6 instate construction small","DSL","T6 instate construction small_DSL","AllMYr",60,"T6 instate construction small_DSL_60",190737.0477,0,0.20294685400000001,0.23103954500000001,0.87259927199999998,5.943021238,1026.5588829999999,1021.426089,0.26352726900000001,0.242445087,0]
[332,"Statewide Totals",2012,"Annual","T6 instate construction small","DSL","T6 instate construction small_DSL","AllMYr",65,"T6 instate construction small_DSL_65",83515.5435,0,0.23468162300000001,0.26716716400000001,0.93538144300000003,6.1166102169999998,1041.5746449999999,1036.3667720000001,0.31141843499999999,0.28650495999999998,0]
[333,"Statewide Totals",2012,"Annual","T6 instate construction small","DSL","T6 instate construction small_DSL","AllMYr",70,"T6 instate construction small_DSL_70",20992.554370000002,0,0.30178020700000002,0.343553793,1.068721236,6.7347282120000003,1069.8100099999999,1064.460959,0.39099974100000001,0.359719762,0]
[335,"Statewide Totals",2012,"Annual","T6 instate heavy","DSL","T6 instate heavy_DSL","AllMYr",10,"T6 instate heavy_DSL_10",59050.38407,0,2.9592812720000001,3.3689164640000002,4.7903345870000003,17.85313764,2154.732919,2143.9592550000002,0.94956926900000005,0.87360372799999997,0]
[336,"Statewide Totals",2012,"Annual","T6 instate heavy","DSL","T6 instate heavy_DSL","AllMYr",15,"T6 instate heavy_DSL_15",83018.47709,0,1.5433437139999999,1.7569793380000001,3.4238695780000001,12.431317099999999,1769.1163939999999,1760.270812,0.63203299400000001,0.58147035400000002,0]
[337,"Statewide Totals",2012,"Annual","T6 instate heavy","DSL","T6 instate heavy_DSL","AllMYr",20,"T6 instate heavy_DSL_20",111603.43550000001,0,0.61690916299999998,0.70230412200000003,2.3258507009999998,9.301861594,1395.456038,1388.478758,0.387097994,0.35613015399999998,0]
[338,"Statewide Totals",2012,"Annual","T6 instate heavy","DSL","T6 instate heavy_DSL","AllMYr",25,"T6 instate heavy_DSL_25",155119.15280000001,0,0.49810069899999998,0.56704973000000003,1.958561472,8.7891680399999998,1301.799853,1295.2908540000001,0.31981912299999998,0.29423359399999999,0]
[339,"Statewide Totals",2012,"Annual","T6 instate heavy","DSL","T6 instate heavy_DSL","AllMYr",30,"T6 instate heavy_DSL_30",202493.0478,0,0.405974157,0.462170674,1.6667483400000001,8.4197607669999996,1221.907387,1215.7978499999999,0.27198534600000002,0.25022651800000001,0]
[340,"Statewide Totals",2012,"Annual","T6 instate heavy","DSL","T6 instate heavy_DSL","AllMYr",35,"T6 instate heavy_DSL_35",208556.19639999999,0,0.33688823699999998,0.38352161299999998,1.4357667329999999,8.173924178,1155.719654,1149.9410559999999,0.24097163699999999,0.221693906,0]
[341,"Statewide Totals",2012,"Annual","T6 instate heavy","DSL","T6 instate heavy_DSL","AllMYr",40,"T6 instate heavy_DSL_40",240697.4319,0,0.28729175099999998,0.32705979000000002,1.2511915309999999,8.0057423169999993,1103.0782039999999,1097.562813,0.22396228000000001,0.20604529799999999,0]
[342,"Statewide Totals",2012,"Annual","T6 instate heavy","DSL","T6 instate heavy_DSL","AllMYr",45,"T6 instate heavy_DSL_45",223961.9589,0,0.25525699400000001,0.29059065699999997,1.1060609109999999,7.8636366640000004,1063.8937189999999,1058.5742499999999,0.219273251,0.20173139100000001,0]
[334,"Statewide Totals",2012,"Annual","T6 instate heavy","DSL","T6 instate heavy_DSL","AllMYr",5,"T6 instate heavy_DSL_5",12217.50819,0,4.9407486690000004,5.6246662629999999,6.5349601589999997,25.796827400000002,2608.3022019999999,2595.260691,1.3598187799999999,1.251033278,0]
[343,"Statewide Totals",2012,"Annual","T6 instate heavy","DSL","T6 instate heavy_DSL","AllMYr",50,"T6 instate heavy_DSL_50",236512.44769999999,0,0.24583027399999999,0.279859054,1.0191486350000001,7.8464120619999997,1038.4115670000001,1033.219509,0.231114983,0.21262578500000001,0]
[344,"Statewide Totals",2012,"Annual","T6 instate heavy","DSL","T6 instate heavy_DSL","AllMYr",55,"T6 instate heavy_DSL_55",293396.89939999999,0,0.25853338999999997,0.29432058500000002,0.986432317,7.9535576690000003,1026.560943,1021.428138,0.25900371,0.238283413,0]
[345,"Statewide Totals",2012,"Annual","T6 instate heavy","DSL","T6 instate heavy_DSL","AllMYr",60,"T6 instate heavy_DSL_60",392871.24579999998,0,0.28825492899999999,0.32815629499999999,0.99494584600000002,8.0607233869999995,1028.1632199999999,1023.0224040000001,0.29878042799999999,0.27487799299999999,0]
[346,"Statewide Totals",2012,"Annual","T6 instate heavy","DSL","T6 instate heavy_DSL","AllMYr",65,"T6 instate heavy_DSL_65",159325.5687,0,0.33568278899999998,0.38214930200000002,1.048060118,8.2223368509999997,1043.0742729999999,1037.8589019999999,0.35049177100000001,0.32245242899999998,0]
[347,"Statewide Totals",2012,"Annual","T6 instate heavy","DSL","T6 instate heavy_DSL","AllMYr",70,"T6 instate heavy_DSL_70",23421.705829999999,0,0.43727127900000001,0.49780006599999999,1.2021740860000001,9.052992025,1071.5795410000001,1066.2216430000001,0.44164746799999999,0.40631567099999999,0]
[349,"Statewide Totals",2012,"Annual","T6 instate small","DSL","T6 instate small_DSL","AllMYr",10,"T6 instate small_DSL_10",160065.58249999999,0,2.1062196200000001,2.397770709,3.5919513049999998,13.76334761,2149.6693140000002,2138.920967,0.56676209799999999,0.52142113000000001,0]
[350,"Statewide Totals",2012,"Annual","T6 instate small","DSL","T6 instate small_DSL","AllMYr",15,"T6 instate small_DSL_15",225313.1256,0,1.0789670600000001,1.2283218650000001,2.4089277180000002,9.8092961990000003,1765.0135399999999,1756.1884729999999,0.38964532800000001,0.35847370200000001,0]
[351,"Statewide Totals",2012,"Annual","T6 instate small","DSL","T6 instate small_DSL","AllMYr",20,"T6 instate small_DSL_20",304732.53820000001,0,0.43660395099999999,0.49704036299999999,1.52933148,7.328103971,1392.353783,1385.392014,0.25161371799999999,0.231484621,0]
[352,"Statewide Totals",2012,"Annual","T6 instate small","DSL","T6 instate small_DSL","AllMYr",25,"T6 instate small_DSL_25",425819.60840000003,0,0.357470913,0.40695342299999998,1.3161130160000001,6.7832793349999996,1299.0266919999999,1292.5315579999999,0.21326804399999999,0.19620660000000001,0]
[353,"Statewide Totals",2012,"Annual","T6 instate small","DSL","T6 instate small_DSL","AllMYr",30,"T6 instate small_DSL_30",556241.75549999997,0,0.29486675899999998,0.33568335900000001,1.149679817,6.3658665330000002,1219.320113,1213.223512,0.18775022,0.172730203,0]
[354,"Statewide Totals",2012,"Annual","T6 instate small","DSL","T6 instate small_DSL","AllMYr",35,"T6 instate small_DSL_35",571536.6605,0,0.24659534,0.28073002400000002,1.0215358809999999,6.0611632689999997,1153.220405,1147.454303,0.17355200500000001,0.159667845,0]
[355,"Statewide Totals",2012,"Annual","T6 instate small","DSL","T6 instate small_DSL","AllMYr",40,"T6 instate small_DSL_40",658173.83369999996,0,0.21081567200000001,0.23999759500000001,0.92377923299999998,5.833304482,1100.6573149999999,1095.1540279999999,0.16924555199999999,0.155705908,0]
[356,"Statewide Totals",2012,"Annual","T6 instate small","DSL","T6 instate small_DSL","AllMYr",45,"T6 instate small_DSL_45",613912.70860000001,0,0.18651605600000001,0.21233433199999999,0.85206301699999998,5.6439302109999998,1061.605337,1056.2973099999999,0.173775811,0.15987374700000001,0]
[348,"Statewide Totals",2012,"Annual","T6 instate small","DSL","T6 instate small_DSL","AllMYr",5,"T6 instate small_DSL_5",33144.890610000002,0,3.5683941890000002,4.062345154,5.1722117340000002,19.390081030000001,2602.2198840000001,2589.2087849999998,0.79447710100000002,0.73091893299999999,0]
[357,"Statewide Totals",2012,"Annual","T6 instate small","DSL","T6 instate small_DSL","AllMYr",50,"T6 instate small_DSL_50",647797.56689999998,0,0.17629556499999999,0.200699081,0.81725950000000003,5.5683065489999999,1036.160136,1030.979335,0.189525164,0.17436314999999999,0]
[358,"Statewide Totals",2012,"Annual","T6 instate small","DSL","T6 instate small_DSL","AllMYr",55,"T6 instate small_DSL_55",800153.63119999995,0,0.18005790899999999,0.20498222299999999,0.81747314500000001,5.6036794600000004,1024.2770800000001,1019.155695,0.21649130999999999,0.19917200500000001,0]
[359,"Statewide Totals",2012,"Annual","T6 instate small","DSL","T6 instate small_DSL","AllMYr",60,"T6 instate small_DSL_60",1074093.145,0,0.19488108100000001,0.22185727599999999,0.84421573400000005,5.6589964889999997,1025.9139230000001,1020.784353,0.25168961299999998,0.231554444,0]
[360,"Statewide Totals",2012,"Annual","T6 instate small","DSL","T6 instate small_DSL","AllMYr",65,"T6 instate small_DSL_65",436939.43699999998,0,0.22135891799999999,0.25200027800000002,0.90001590399999998,5.7649126209999997,1040.953677,1035.7489089999999,0.29537499299999997,0.27174499400000002,0]
[361,"Statewide Totals",2012,"Annual","T6 instate small","DSL","T6 instate small_DSL","AllMYr",70,"T6 instate small_DSL_70",61351.962019999999,0,0.28307937500000002,0.32226431999999999,1.027821503,6.3567359630000002,1069.1948090000001,1063.8488339999999,0.37150875900000002,0.34178805800000001,0]
[363,"Statewide Totals",2012,"Annual","T6 OOS heavy","DSL","T6 OOS heavy_DSL","AllMYr",10,"T6 OOS heavy_DSL_10",225.11919270000001,0,1.8054516890000001,2.0553693150000001,3.10698637,13.46006693,2151.7462719999999,2140.9875400000001,0.46965838599999998,0.43208571499999998,0]
[364,"Statewide Totals",2012,"Annual","T6 OOS heavy","DSL","T6 OOS heavy_DSL","AllMYr",15,"T6 OOS heavy_DSL_15",312.49045380000001,0,0.92681598799999998,1.0551094519999999,2.0659721320000002,9.5762008230000006,1766.7702119999999,1757.936361,0.32561104899999999,0.29956216499999999,0]
[365,"Statewide Totals",2012,"Annual","T6 OOS heavy","DSL","T6 OOS heavy_DSL","AllMYr",20,"T6 OOS heavy_DSL_20",379.4563048,0,0.38034966799999997,0.432999144,1.3138909400000001,7.2007026649999997,1393.8059579999999,1386.8369279999999,0.21475982499999999,0.19757903900000001,0]
[366,"Statewide Totals",2012,"Annual","T6 OOS heavy","DSL","T6 OOS heavy_DSL","AllMYr",25,"T6 OOS heavy_DSL_25",487.18685479999999,0,0.315603629,0.35929070800000001,1.147575985,6.7294636250000002,1300.4521110000001,1293.94985,0.18467277900000001,0.16989895699999999,0]
[367,"Statewide Totals",2012,"Annual","T6 OOS heavy","DSL","T6 OOS heavy_DSL","AllMYr",30,"T6 OOS heavy_DSL_30",624.28939660000003,0,0.26180736599999999,0.29804775700000002,1.008961427,6.3413805419999996,1220.6709510000001,1214.567597,0.16332105899999999,0.150255374,0]
[368,"Statewide Totals",2012,"Annual","T6 OOS heavy","DSL","T6 OOS heavy_DSL","AllMYr",35,"T6 OOS heavy_DSL_35",676.65475949999995,0,0.218960877,0.249270291,0.89804726499999998,6.0358965920000003,1154.4624799999999,1148.6901680000001,0.15070466299999999,0.13864829000000001,0]
[369,"Statewide Totals",2012,"Annual","T6 OOS heavy","DSL","T6 OOS heavy_DSL","AllMYr",40,"T6 OOS heavy_DSL_40",832.86360230000003,0,0.18706416300000001,0.21295831000000001,0.81483349900000002,5.8075878630000002,1101.8266980000001,1096.3175639999999,0.146823592,0.13507770499999999,0]
[370,"Statewide Totals",2012,"Annual","T6 OOS heavy","DSL","T6 OOS heavy_DSL","AllMYr",45,"T6 OOS heavy_DSL_45",747.84342189999995,0,0.16611722400000001,0.18911181399999999,0.75932012999999998,5.6518528410000002,1062.7636030000001,1057.449785,0.15167784600000001,0.13954361800000001,0]
[362,"Statewide Totals",2012,"Annual","T6 OOS heavy","DSL","T6 OOS heavy_DSL","AllMYr",5,"T6 OOS heavy_DSL_5",46.227188740000003,0,3.0649399019999999,3.4892007710000001,4.5185953850000002,19.052002600000002,2604.7732580000002,2591.7493909999998,0.65724579999999999,0.60466613599999997,0]
[371,"Statewide Totals",2012,"Annual","T6 OOS heavy","DSL","T6 OOS heavy_DSL","AllMYr",50,"T6 OOS heavy_DSL_50",781.60726999999997,0,0.15612005900000001,0.17773080399999999,0.73150715799999999,5.5768435509999996,1037.273197,1032.0868310000001,0.165267425,0.152046031,0]
[372,"Statewide Totals",2012,"Annual","T6 OOS heavy","DSL","T6 OOS heavy_DSL","AllMYr",55,"T6 OOS heavy_DSL_55",1066.4223870000001,0,0.15707267,0.17881527799999999,0.73139458199999996,5.5833015819999998,1025.3554790000001,1020.228702,0.187592328,0.17258494199999999,0]
[373,"Statewide Totals",2012,"Annual","T6 OOS heavy","DSL","T6 OOS heavy_DSL","AllMYr",60,"T6 OOS heavy_DSL_60",1353.8460909999999,0,0.16897505500000001,0.19236523799999999,0.758982402,5.6611593559999998,1027.01045,1021.875398,0.218652556,0.20116035199999999,0]
[374,"Statewide Totals",2012,"Annual","T6 OOS heavy","DSL","T6 OOS heavy_DSL","AllMYr",65,"T6 OOS heavy_DSL_65",725.5762972,0,0.191827215,0.21838068299999999,0.81427061899999997,5.8228940160000002,1042.2381089999999,1037.026918,0.25844810899999998,0.23777226100000001,0]
[375,"Statewide Totals",2012,"Annual","T6 OOS heavy","DSL","T6 OOS heavy_DSL","AllMYr",70,"T6 OOS heavy_DSL_70",582.98173120000001,0,0.22562915,0.25686161299999999,0.89725923200000002,6.0822650740000004,1071.038456,1065.683264,0.30697898699999998,0.28242066799999999,0]
[377,"Statewide Totals",2012,"Annual","T6 OOS small","DSL","T6 OOS small_DSL","AllMYr",10,"T6 OOS small_DSL_10",753.47223450000001,0,1.4913492269999999,1.6977875710000001,2.6629900260000001,11.00398442,2149.886383,2139.136951,0.31400035599999998,0.28888032699999999,0]
[378,"Statewide Totals",2012,"Annual","T6 OOS small","DSL","T6 OOS small_DSL","AllMYr",15,"T6 OOS small_DSL_15",1045.903184,0,0.75949740200000004,0.86462997799999997,1.6860832969999999,8.0231844730000006,1765.2430830000001,1756.4168669999999,0.229476297,0.21111819300000001,0]
[379,"Statewide Totals",2012,"Annual","T6 OOS small","DSL","T6 OOS small_DSL","AllMYr",20,"T6 OOS small_DSL_20",1270.0373810000001,0,0.31587843799999998,0.35960355700000002,1.01456499,6.0411418340000003,1392.6012049999999,1385.638199,0.16306457799999999,0.15001941199999999,0]
[380,"Statewide Totals",2012,"Annual","T6 OOS small","DSL","T6 OOS small_DSL","AllMYr",25,"T6 OOS small_DSL_25",1630.6107159999999,0,0.266076488,0.30290782700000002,0.90607106999999998,5.5383124290000003,1299.328049,1292.831408,0.14441335899999999,0.13286028999999999,0]
[381,"Statewide Totals",2012,"Annual","T6 OOS small","DSL","T6 OOS small_DSL","AllMYr",30,"T6 OOS small_DSL_30",2089.4918859999998,0,0.22403616300000001,0.25504811799999999,0.817971118,5.1175912559999999,1219.615849,1213.5177699999999,0.132490041,0.121890837,0]
[382,"Statewide Totals",2012,"Annual","T6 OOS small","DSL","T6 OOS small_DSL","AllMYr",35,"T6 OOS small_DSL_35",2264.7583599999998,0,0.18975746499999999,0.21602442899999999,0.75026513299999997,4.7782865130000003,1153.464606,1147.697283,0.127294624,0.11711105400000001,0]
[383,"Statewide Totals",2012,"Annual","T6 OOS small","DSL","T6 OOS small_DSL","AllMYr",40,"T6 OOS small_DSL_40",2787.5881749999999,0,0.16324039300000001,0.18583676099999999,0.70295311699999996,4.5159772480000004,1100.8743199999999,1095.369948,0.128827108,0.11852093900000001,0]
[384,"Statewide Totals",2012,"Annual","T6 OOS small","DSL","T6 OOS small_DSL","AllMYr",45,"T6 OOS small_DSL_45",2503.0262739999998,0,0.144484947,0.16448511399999999,0.67603506800000002,4.3271871800000001,1061.8449900000001,1056.5357650000001,0.137087493,0.126120494,0]
[376,"Statewide Totals",2012,"Annual","T6 OOS small","DSL","T6 OOS small_DSL","AllMYr",5,"T6 OOS small_DSL_5",154.7220509,0,2.5496468270000001,2.9025788299999999,4.0207298009999999,15.165037079999999,2602.5217889999999,2589.50918,0.42282303500000001,0.38899719199999999,0]
[385,"Statewide Totals",2012,"Annual","T6 OOS small","DSL","T6 OOS small_DSL","AllMYr",50,"T6 OOS small_DSL_50",2616.0336179999999,0,0.13349112699999999,0.15196948699999999,0.669510987,4.2182547430000001,1036.3766169999999,1031.1947339999999,0.15207577899999999,0.13990971699999999,0]
[386,"Statewide Totals",2012,"Annual","T6 OOS small","DSL","T6 OOS small_DSL","AllMYr",55,"T6 OOS small_DSL_55",3569.3076590000001,0,0.13025893399999999,0.14828988100000001,0.68338087400000003,4.1896642809999998,1024.4692010000001,1019.346855,0.17379196699999999,0.15988860999999999,0]
[387,"Statewide Totals",2012,"Annual","T6 OOS small","DSL","T6 OOS small_DSL","AllMYr",60,"T6 OOS small_DSL_60",4531.3126240000001,0,0.13478836699999999,0.15344629500000001,0.71764472899999998,4.2338644580000002,1026.1227409999999,1020.992127,0.202236056,0.18605717099999999,0]
[388,"Statewide Totals",2012,"Annual","T6 OOS small","DSL","T6 OOS small_DSL","AllMYr",65,"T6 OOS small_DSL_65",2428.498376,0,0.14707942500000001,0.16743873000000001,0.77230255199999998,4.3602213550000002,1041.337237,1036.130551,0.23740804500000001,0.21841540200000001,0]
[389,"Statewide Totals",2012,"Annual","T6 OOS small","DSL","T6 OOS small_DSL","AllMYr",70,"T6 OOS small_DSL_70",1951.235443,0,0.16713211,0.19026718500000001,0.84735434200000004,4.5791415620000002,1070.1126899999999,1064.762127,0.27930793599999998,0.25696330099999998,0]
[391,"Statewide Totals",2012,"Annual","T6 Public","DSL","T6 Public_DSL","AllMYr",10,"T6 Public_DSL_10",9536.3359120000005,0,1.812165995,2.063013041,2.8872306289999998,17.094383409999999,2159.7048479999999,2148.906324,0.72452986799999997,0.66656747800000005,0]
[392,"Statewide Totals",2012,"Annual","T6 Public","DSL","T6 Public_DSL","AllMYr",15,"T6 Public_DSL_15",13233.58251,0,0.96521842599999996,1.0988277049999999,2.0992218399999998,12.03530804,1773.450351,1764.5831000000001,0.49308550299999998,0.453638663,0]
[393,"Statewide Totals",2012,"Annual","T6 Public","DSL","T6 Public_DSL","AllMYr",20,"T6 Public_DSL_20",16642.927759999999,0,0.395836939,0.450630223,1.4844994629999999,9.1599386870000004,1399.065824,1392.0704949999999,0.315000693,0.289800638,0]
[394,"Statewide Totals",2012,"Annual","T6 Public","DSL","T6 Public_DSL","AllMYr",25,"T6 Public_DSL_25",21640.91245,0,0.32878048399999998,0.37429155400000003,1.282145672,8.7673077559999992,1305.401965,1298.874955,0.26832453299999998,0.24685857,0]
[395,"Statewide Totals",2012,"Annual","T6 Public","DSL","T6 Public_DSL","AllMYr",30,"T6 Public_DSL_30",27792.03514,0,0.27090652700000001,0.30840645900000002,1.095301793,8.4224947350000008,1225.2992059999999,1219.1727100000001,0.22998412900000001,0.21158539900000001,0]
[396,"Statewide Totals",2012,"Annual","T6 Public","DSL","T6 Public_DSL","AllMYr",35,"T6 Public_DSL_35",29434.145769999999,0,0.22400236700000001,0.25500964399999998,0.93151766400000002,8.1114604719999992,1158.7682,1152.974359,0.20164886100000001,0.18551695200000001,0]
[397,"Statewide Totals",2012,"Annual","T6 Public","DSL","T6 Public_DSL","AllMYr",40,"T6 Public_DSL_40",34526.685440000001,0,0.19091688400000001,0.217344339,0.80509064299999999,7.8992561080000003,1105.911026,1100.3814709999999,0.18578213700000001,0.17091956599999999,0]
[398,"Statewide Totals",2012,"Annual","T6 Public","DSL","T6 Public_DSL","AllMYr",45,"T6 Public_DSL_45",31263.706730000002,0,0.17181639900000001,0.195599891,0.71617914699999996,7.8247409579999996,1066.740045,1061.406344,0.1821361,0.16756521199999999,0]
[390,"Statewide Totals",2012,"Annual","T6 Public","DSL","T6 Public_DSL","AllMYr",5,"T6 Public_DSL_5",1954.7466649999999,0,3.0129371169999999,3.4299995590000001,3.9258885650000002,24.636124389999999,2614.49442,2601.4219469999998,1.0349172959999999,0.95212391200000002,0]
[399,"Statewide Totals",2012,"Annual","T6 Public","DSL","T6 Public_DSL","AllMYr",50,"T6 Public_DSL_50",33423.295310000001,0,0.16409686500000001,0.18681178900000001,0.65404195799999998,7.7791358849999996,1041.121928,1035.916318,0.18911499600000001,0.173985796,0]
[400,"Statewide Totals",2012,"Annual","T6 Public","DSL","T6 Public_DSL","AllMYr",55,"T6 Public_DSL_55",43126.115839999999,0,0.16888715800000001,0.19226517400000001,0.62452204300000003,7.8003251459999996,1029.1710189999999,1024.0251639999999,0.207933057,0.191298412,0]
[401,"Statewide Totals",2012,"Annual","T6 Public","DSL","T6 Public_DSL","AllMYr",60,"T6 Public_DSL_60",56347.700649999999,0,0.187239769,0.21315822400000001,0.62819464800000002,7.9630144009999997,1030.8114290000001,1025.6573719999999,0.237791902,0.21876855000000001,0]
[402,"Statewide Totals",2012,"Annual","T6 Public","DSL","T6 Public_DSL","AllMYr",65,"T6 Public_DSL_65",20097.528389999999,0,0.224416428,0.25548102,0.66799465099999999,8.3836119989999993,1046.1093450000001,1040.8787990000001,0.27951062199999999,0.25714977300000003,0]
[403,"Statewide Totals",2012,"Annual","T6 Public","DSL","T6 Public_DSL","AllMYr",70,"T6 Public_DSL_70",2833.0299730000002,0,0.27792784399999998,0.31639969400000001,0.74694656400000004,8.7966997990000007,1075.969323,1070.589477,0.33296961200000003,0.306332043,0]
[405,"Statewide Totals",2012,"Annual","T6 utility","DSL","T6 utility_DSL","AllMYr",10,"T6 utility_DSL_10",1254.099586,0,1.0930198710000001,1.244319921,1.903350745,13.76701768,2150.1549690000002,2139.4041940000002,0.37263871599999998,0.342827618,0]
[406,"Statewide Totals",2012,"Annual","T6 utility","DSL","T6 utility_DSL","AllMYr",15,"T6 utility_DSL_15",1763.700409,0,0.55625579199999997,0.63325487700000005,1.261633732,9.6807447250000003,1765.4636149999999,1756.636297,0.25446819100000001,0.23411073600000001,0]
[407,"Statewide Totals",2012,"Annual","T6 utility","DSL","T6 utility_DSL","AllMYr",20,"T6 utility_DSL_20",2345.9512399999999,0,0.227151201,0.25859435200000003,0.79490339899999995,7.2588546860000003,1392.775183,1385.8113069999999,0.16402508900000001,0.15090308199999999,0]
[408,"Statewide Totals",2012,"Annual","T6 utility","DSL","T6 utility_DSL","AllMYr",25,"T6 utility_DSL_25",3234.2213400000001,0,0.18727082,0.213193573,0.69216190600000005,6.8355716360000001,1299.490374,1292.9929219999999,0.139724454,0.12854649800000001,0]
[409,"Statewide Totals",2012,"Annual","T6 utility","DSL","T6 utility_DSL","AllMYr",30,"T6 utility_DSL_30",4209.3477119999998,0,0.15427088999999999,0.17562566499999999,0.60660567099999996,6.4913904689999997,1219.7682159999999,1213.6693749999999,0.12246393,0.112666815,0]
[410,"Statewide Totals",2012,"Annual","T6 utility","DSL","T6 utility_DSL","AllMYr",35,"T6 utility_DSL_35",4348.6650659999996,0,0.12815141299999999,0.14589062799999999,0.53823469300000004,6.2245080100000001,1153.6087090000001,1147.8406649999999,0.112243515,0.103264034,0]
[411,"Statewide Totals",2012,"Annual","T6 utility","DSL","T6 utility_DSL","AllMYr",40,"T6 utility_DSL_40",5036.759881,0,0.108912388,0.12398846299999999,0.48704897200000002,6.0283781699999999,1101.0118520000001,1095.506793,0.10906320999999999,0.100338153,0]
[412,"Statewide Totals",2012,"Annual","T6 utility","DSL","T6 utility_DSL","AllMYr",45,"T6 utility_DSL_45",4672.4201270000003,0,9.6553814000000002E-2,0.109919168,0.45304850899999999,5.8988352839999996,1061.9776469999999,1056.6677589999999,0.112923015,0.103889173,0]
[404,"Statewide Totals",2012,"Annual","T6 utility","DSL","T6 utility_DSL","AllMYr",5,"T6 utility_DSL_5",259.38988330000001,0,1.8655152850000001,2.123747147,2.7713819599999998,19.712052060000001,2602.8469230000001,2589.8326889999998,0.52695425500000004,0.48479791500000002,0]
[413,"Statewide Totals",2012,"Annual","T6 utility","DSL","T6 utility_DSL","AllMYr",50,"T6 utility_DSL_50",4933.6659069999996,0,9.1075692999999999E-2,0.10368274399999999,0.43623330399999999,5.8459800509999997,1036.5060920000001,1031.3235609999999,0.123822929,0.113917095,0]
[414,"Statewide Totals",2012,"Annual","T6 utility","DSL","T6 utility_DSL","AllMYr",55,"T6 utility_DSL_55",6167.0092139999997,0,9.2478024000000006E-2,0.10527919099999999,0.436603356,5.8685488389999998,1024.597188,1019.474202,0.141762954,0.130421917,0]
[415,"Statewide Totals",2012,"Annual","T6 utility","DSL","T6 utility_DSL","AllMYr",60,"T6 utility_DSL_60",8216.5735480000003,0,0.10076080699999999,0.114708509,0.45415866500000002,5.9562746119999996,1026.2509339999999,1021.11968,0.16674308800000001,0.15340364100000001,0]
[416,"Statewide Totals",2012,"Annual","T6 utility","DSL","T6 utility_DSL","AllMYr",65,"T6 utility_DSL_65",3345.5793560000002,0,0.115924043,0.131970698,0.48889923200000002,6.1111977599999996,1041.4673319999999,1036.2599949999999,0.19876333199999999,0.182862265,0]
[417,"Statewide Totals",2012,"Annual","T6 utility","DSL","T6 utility_DSL","AllMYr",70,"T6 utility_DSL_70",646.11663759999999,0,0.13796773000000001,0.157065758,0.54082505599999997,6.3892071939999999,1070.24638,1064.8951480000001,0.23782368600000001,0.21879779099999999,0]
[419,"Statewide Totals",2012,"Annual","T6TS","GAS","T6TS_GAS","AllMYr",10,"T6TS_GAS_10",60857.112609999996,0,2.2656560529999998,2.5555890300000002,33.344022440000003,1.680237947,2036.1282900000001,2025.947649,1.3208569999999999E-2,1.1599919E-2,0]
[420,"Statewide Totals",2012,"Annual","T6TS","GAS","T6TS_GAS","AllMYr",15,"T6TS_GAS_15",83981.368470000001,0,1.477481949,1.667018535,22.143883729999999,1.7317990130000001,1392.429648,1385.4675,8.6116460000000006E-3,7.5710990000000004E-3,0]
[421,"Statewide Totals",2012,"Annual","T6TS","GAS","T6TS_GAS","AllMYr",20,"T6TS_GAS_20",120788.34849999999,0,0.96686599900000003,1.0987828509999999,15.011858480000001,1.7862607159999999,1006.068582,1001.038239,5.6575870000000004E-3,4.9936010000000003E-3,0]
[422,"Statewide Totals",2012,"Annual","T6TS","GAS","T6TS_GAS","AllMYr",25,"T6TS_GAS_25",185045.41459999999,0,0.66938062600000003,0.76545333000000004,10.91301685,1.8459631489999999,768.01212310000005,764.17206250000004,3.9347139999999997E-3,3.4844899999999998E-3,0]
[423,"Statewide Totals",2012,"Annual","T6TS","GAS","T6TS_GAS","AllMYr",30,"T6TS_GAS_30",225958.70389999999,0,0.50056510799999998,0.57475540999999997,8.7159459500000001,1.922249793,619.43359520000001,616.3364272,2.960173E-3,2.6233850000000002E-3,0]
[424,"Statewide Totals",2012,"Annual","T6TS","GAS","T6TS_GAS","AllMYr",35,"T6TS_GAS_35",227203.3781,0,0.409640316,0.469344441,7.7126044770000002,2.033460007,527.84656150000001,525.20732869999995,2.4183820000000002E-3,2.139101E-3,0]
[425,"Statewide Totals",2012,"Annual","T6TS","GAS","T6TS_GAS","AllMYr",40,"T6TS_GAS_40",257445.329,0,0.34497703800000001,0.39560648599999998,7.1191815749999998,2.1397378840000001,475.23319709999998,472.85703109999997,2.0289449999999999E-3,1.7925529999999999E-3,0]
[426,"Statewide Totals",2012,"Annual","T6TS","GAS","T6TS_GAS","AllMYr",45,"T6TS_GAS_45",253392.5281,0,0.29145020999999999,0.33453365499999999,6.6565927949999999,2.1975901709999999,452.05584850000002,449.79556919999999,1.7194529999999999E-3,1.520488E-3,0]
[418,"Statewide Totals",2012,"Annual","T6TS","GAS","T6TS_GAS","AllMYr",5,"T6TS_GAS_5",12530.94801,0,2.771265326,3.133240985,40.607175640000001,1.6259139979999999,2513.4972339999999,2500.929748,1.6247311E-2,1.4278305999999999E-2,0]
[427,"Statewide Totals",2012,"Annual","T6TS","GAS","T6TS_GAS","AllMYr",50,"T6TS_GAS_50",239932.2585,0,0.25918340000000001,0.29867461499999998,6.7011842909999997,2.2784689899999999,454.32182210000002,452.05021299999999,1.542091E-3,1.3632410000000001E-3,0]
[428,"Statewide Totals",2012,"Annual","T6TS","GAS","T6TS_GAS","AllMYr",55,"T6TS_GAS_55",261045.44630000001,0,0.24828107099999999,0.28848580299999999,7.4065642269999996,2.3991820380000002,482.41553579999999,480.00345809999999,1.4770320000000001E-3,1.3021269999999999E-3,0]
[429,"Statewide Totals",2012,"Annual","T6TS","GAS","T6TS_GAS","AllMYr",60,"T6TS_GAS_60",312594.23149999999,0,0.235433217,0.27706868499999998,8.2065527080000003,2.4810998569999998,541.20919560000004,538.50314960000003,1.4187270000000001E-3,1.2514119999999999E-3,0]
[430,"Statewide Totals",2012,"Annual","T6TS","GAS","T6TS_GAS","AllMYr",65,"T6TS_GAS_65",149672.6115,0,0.235346576,0.27730441,9.341596569,2.6079385429999999,641.49788809999995,638.2903986,1.3225470000000001E-3,1.1703E-3,0]
[431,"Statewide Totals",2012,"Annual","T6TS","GAS","T6TS_GAS","AllMYr",70,"T6TS_GAS_70",39446.876669999998,0,0.32300960000000001,0.37490214900000002,14.3084209,3.1419675229999999,803.36235060000001,799.34553889999995,1.4086859999999999E-3,1.2323360000000001E-3,0]
[433,"Statewide Totals",2012,"Annual","T7 Ag","DSL","T7 Ag_DSL","AllMYr",10,"T7 Ag_DSL_10",8936.4456069999997,0,5.7419644359999999,6.5367894250000003,11.97706428,32.16577942,3349.9994499999998,3333.2494529999999,1.731078031,1.592591788,0]
[434,"Statewide Totals",2012,"Annual","T7 Ag","DSL","T7 Ag_DSL","AllMYr",15,"T7 Ag_DSL_15",11266.633589999999,0,3.0594813520000002,3.4829866279999999,8.9329951990000005,22.760409020000001,2750.6399419999998,2736.8867420000001,1.2069566009999999,1.1104000730000001,0]
[435,"Statewide Totals",2012,"Annual","T7 Ag","DSL","T7 Ag_DSL","AllMYr",20,"T7 Ag_DSL_20",25143.830269999999,0,1.2486659550000001,1.42151114,6.5108492719999997,17.331939389999999,2169.9813100000001,2159.1314029999999,0.80193117199999997,0.73777667800000002,0]
[436,"Statewide Totals",2012,"Annual","T7 Ag","DSL","T7 Ag_DSL","AllMYr",25,"T7 Ag_DSL_25",26602.522300000001,0,1.031888629,1.174726656,5.5678010010000003,16.413157819999999,2024.641061,2014.5178559999999,0.69081001500000005,0.635545213,0]
[437,"Statewide Totals",2012,"Annual","T7 Ag","DSL","T7 Ag_DSL","AllMYr",30,"T7 Ag_DSL_30",45456.72322,0,0.85351437399999996,0.971661145,4.7565159660000003,15.6675203,1900.4317880000001,1890.9296300000001,0.60432323200000004,0.55597737400000002,0]
[438,"Statewide Totals",2012,"Annual","T7 Ag","DSL","T7 Ag_DSL","AllMYr",35,"T7 Ag_DSL_35",78947.864270000005,0,0.71354318999999999,0.81231460600000005,4.0769941660000004,15.09207967,1797.3534910000001,1788.366724,0.54247082499999999,0.49907315899999999,0]
[439,"Statewide Totals",2012,"Annual","T7 Ag","DSL","T7 Ag_DSL","AllMYr",40,"T7 Ag_DSL_40",75637.914069999999,0,0.61197507699999998,0.69668704100000001,3.529235602,14.67944426,1715.40617,1706.8291389999999,0.50525279199999995,0.46483256899999997,0]
[440,"Statewide Totals",2012,"Annual","T7 Ag","DSL","T7 Ag_DSL","AllMYr",45,"T7 Ag_DSL_45",105961.4604,0,0.54881003500000003,0.62477844900000001,3.1132402739999998,14.434896889999999,1654.589825,1646.316875,0.49266913499999998,0.45325560399999998,0]
[432,"Statewide Totals",2012,"Annual","T7 Ag","DSL","T7 Ag_DSL","AllMYr",5,"T7 Ag_DSL_5",2373.1994880000002,0,9.4847571819999992,10.79767406,15.8581641,45.960110589999999,4055.3057279999998,4035.0291990000001,2.4125981639999998,2.2195903110000001,0]
[441,"Statewide Totals",2012,"Annual","T7 Ag","DSL","T7 Ag_DSL","AllMYr",50,"T7 Ag_DSL_50",109245.0839,0,0.52404806400000004,0.59658882999999996,2.8290081809999998,14.35701517,1614.9044550000001,1606.829933,0.50471985200000002,0.46434226299999998,0]
[442,"Statewide Totals",2012,"Annual","T7 Ag","DSL","T7 Ag_DSL","AllMYr",55,"T7 Ag_DSL_55",133471.89480000001,0,0.537689164,0.61211818299999998,2.6765393240000002,14.445339600000001,1596.3500610000001,1588.3683109999999,0.54140494299999997,0.49809254800000002,0]
[443,"Statewide Totals",2012,"Annual","T7 Ag","DSL","T7 Ag_DSL","AllMYr",60,"T7 Ag_DSL_60",48236.676220000001,0,0.58973333400000005,0.67136651000000003,2.6558337019999998,14.68827787,1598.926643,1590.93201,0.60272440999999999,0.55450645700000001,0]
[444,"Statewide Totals",2012,"Annual","T7 Ag","DSL","T7 Ag_DSL","AllMYr",65,"T7 Ag_DSL_65",37323.427129999996,0,0.68018057600000004,0.77433380900000004,2.7668913160000002,15.105741500000001,1622.6342,1614.521029,0.68867825199999999,0.63358399200000004,0]
[445,"Statewide Totals",2012,"Annual","T7 Ag","DSL","T7 Ag_DSL","AllMYr",70,"T7 Ag_DSL_70",10100.72149,0,0.809030888,0.92102008199999996,3.0097121649999998,15.70281842,1667.4727339999999,1659.13537,0.79926646800000001,0.73532515099999995,0]
[461,"Statewide Totals",2012,"Annual","T7 CAIRP construction","DSL","T7 CAIRP construction_DSL","AllMYr",10,"T7 CAIRP construction_DSL_10",2855.03476,0,4.13261155,4.7046636690000003,8.5010614619999991,23.817305739999998,3322.0538320000001,3305.4435619999999,0.62465504100000002,0.57468263799999997,0]
[462,"Statewide Totals",2012,"Annual","T7 CAIRP construction","DSL","T7 CAIRP construction_DSL","AllMYr",15,"T7 CAIRP construction_DSL_15",4241.1375049999997,0,2.1015032730000001,2.3924015070000002,5.2486280470000004,17.478577749999999,2727.6941670000001,2714.0556959999999,0.48581200899999999,0.44694704800000001,0]
[463,"Statewide Totals",2012,"Annual","T7 CAIRP construction","DSL","T7 CAIRP construction_DSL","AllMYr",20,"T7 CAIRP construction_DSL_20",10211.752990000001,0,0.88258596199999995,1.004756934,3.071116784,13.175039399999999,2151.8793759999999,2141.1199790000001,0.37278896099999997,0.34296584499999999,0]
[464,"Statewide Totals",2012,"Annual","T7 CAIRP construction","DSL","T7 CAIRP construction_DSL","AllMYr",25,"T7 CAIRP construction_DSL_25",14549.23805,0,0.751641581,0.85568672400000001,2.7831521459999999,12.01102815,2007.7515519999999,1997.712794,0.339255747,0.31211528799999999,0]
[465,"Statewide Totals",2012,"Annual","T7 CAIRP construction","DSL","T7 CAIRP construction_DSL","AllMYr",30,"T7 CAIRP construction_DSL_30",23026.528429999998,0,0.63972447399999999,0.72827761599999996,2.554308845,11.042167600000001,1884.57843,1875.155538,0.32077865500000002,0.29511636200000002,0]
[466,"Statewide Totals",2012,"Annual","T7 CAIRP construction","DSL","T7 CAIRP construction_DSL","AllMYr",35,"T7 CAIRP construction_DSL_35",31142.792030000001,0,0.54683463899999996,0.62252961100000004,2.3845868819999998,10.25710817,1782.3600100000001,1773.44821,0.31735768399999997,0.29196906900000003,0]
[467,"Statewide Totals",2012,"Annual","T7 CAIRP construction","DSL","T7 CAIRP construction_DSL","AllMYr",40,"T7 CAIRP construction_DSL_40",29328.952880000001,0,0.47297207899999999,0.53844270800000005,2.2739862560000002,9.6380391339999996,1701.0962910000001,1692.5908099999999,0.32899283400000001,0.30267340799999998,0]
[468,"Statewide Totals",2012,"Annual","T7 CAIRP construction","DSL","T7 CAIRP construction_DSL","AllMYr",45,"T7 CAIRP construction_DSL_45",38274.11404,0,0.41813679199999998,0.47601690800000002,2.2225069679999998,9.1985727920000002,1640.787274,1632.5833379999999,0.355684106,0.32722937800000002,0]
[460,"Statewide Totals",2012,"Annual","T7 CAIRP construction","DSL","T7 CAIRP construction_DSL","AllMYr",5,"T7 CAIRP construction_DSL_5",801.23656819999997,0,7.08050289,8.0606135630000004,13.075955199999999,32.562528380000003,4021.4764610000002,4001.3690780000002,0.79985021999999995,0.73586220199999997,0]
[469,"Statewide Totals",2012,"Annual","T7 CAIRP construction","DSL","T7 CAIRP construction_DSL","AllMYr",50,"T7 CAIRP construction_DSL_50",38590.803030000003,0,0.38232877799999998,0.43525220999999997,2.2301490180000001,8.9330535960000006,1601.432959,1593.425794,0.39743149999999999,0.36563698,0]
[470,"Statewide Totals",2012,"Annual","T7 CAIRP construction","DSL","T7 CAIRP construction_DSL","AllMYr",55,"T7 CAIRP construction_DSL_55",45959.996619999998,0,0.36554803800000002,0.416148615,2.296912405,8.8460356139999998,1583.0333450000001,1575.1181790000001,0.45423501500000002,0.41789621399999999,0]
[471,"Statewide Totals",2012,"Annual","T7 CAIRP construction","DSL","T7 CAIRP construction_DSL","AllMYr",60,"T7 CAIRP construction_DSL_60",34119.310740000001,0,0.36779457100000001,0.41870612200000001,2.4227971300000002,8.9117278809999991,1585.5884329999999,1577.6604910000001,0.52609465200000005,0.48400707999999998,0]
[472,"Statewide Totals",2012,"Annual","T7 CAIRP construction","DSL","T7 CAIRP construction_DSL","AllMYr",65,"T7 CAIRP construction_DSL_65",29019.576420000001,0,0.38906837799999999,0.44292473199999999,2.6078031930000001,9.1820700029999998,1609.098223,1601.0527320000001,0.61301041000000001,0.56396957700000006,0]
[473,"Statewide Totals",2012,"Annual","T7 CAIRP construction","DSL","T7 CAIRP construction_DSL","AllMYr",70,"T7 CAIRP construction_DSL_70",8254.1866140000002,0,0.42936945799999998,0.488804444,2.8519305940000002,9.6768033150000008,1653.562715,1645.294901,0.71498229000000002,0.657783707,0]
[447,"Statewide Totals",2012,"Annual","T7 CAIRP","DSL","T7 CAIRP_DSL","AllMYr",10,"T7 CAIRP_DSL_10",63442.934200000003,0,4.0816642080000003,4.6466639990000003,8.3978471389999996,23.514990300000001,3321.1980699999999,3304.5920799999999,0.61466027199999995,0.56548745,0]
[448,"Statewide Totals",2012,"Annual","T7 CAIRP","DSL","T7 CAIRP_DSL","AllMYr",15,"T7 CAIRP_DSL_15",87717.309850000005,0,2.0755857529999999,2.3628963839999999,5.1833604969999998,17.260256219999999,2726.9915120000001,2713.3565549999998,0.47812270499999998,0.43987288800000002,0]
[449,"Statewide Totals",2012,"Annual","T7 CAIRP","DSL","T7 CAIRP_DSL","AllMYr",20,"T7 CAIRP_DSL_20",205536.04180000001,0,0.87179938000000001,0.99247723200000004,3.031891415,13.01118009,2151.3250509999998,2140.5684259999998,0.36696277500000002,0.33760575300000001,0]
[450,"Statewide Totals",2012,"Annual","T7 CAIRP","DSL","T7 CAIRP_DSL","AllMYr",25,"T7 CAIRP_DSL_25",267816.47570000001,0,0.74254915499999996,0.845335689,2.748092513,11.86082255,2007.2343550000001,1997.198183,0.333976361,0.30725825200000001,0]
[451,"Statewide Totals",2012,"Annual","T7 CAIRP","DSL","T7 CAIRP_DSL","AllMYr",30,"T7 CAIRP_DSL_30",437437.59850000002,0,0.63206351599999999,0.71955619900000001,2.522628691,10.90380214,1884.0929619999999,1874.6724979999999,0.315810174,0.29054535999999997,0]
[452,"Statewide Totals",2012,"Annual","T7 CAIRP","DSL","T7 CAIRP_DSL","AllMYr",35,"T7 CAIRP_DSL_35",642635.12520000001,0,0.540342463,0.61513876300000003,2.3554999489999999,10.127514959999999,1781.9008739999999,1772.9913690000001,0.31246421499999999,0.28746707700000002,0]
[453,"Statewide Totals",2012,"Annual","T7 CAIRP","DSL","T7 CAIRP_DSL","AllMYr",40,"T7 CAIRP_DSL_40",621992.09470000002,0,0.467385997,0.53208337999999999,2.2467062869999999,9.5161646629999996,1700.658089,1692.154798,0.32393848200000003,0.29802340300000002,0]
[454,"Statewide Totals",2012,"Annual","T7 CAIRP","DSL","T7 CAIRP_DSL","AllMYr",45,"T7 CAIRP_DSL_45",839953.37580000004,0,0.41319411700000003,0.47039005,2.1962477059999999,9.0815581420000004,1640.364607,1632.1627840000001,0.35023297599999997,0.32221433799999999,0]
[446,"Statewide Totals",2012,"Annual","T7 CAIRP","DSL","T7 CAIRP_DSL","AllMYr",5,"T7 CAIRP_DSL_5",17240.52636,0,6.993330222,7.9613741170000001,12.91996254,32.146466330000003,4020.4405280000001,4000.3383250000002,0.78693402099999998,0.72397929999999999,0]
[455,"Statewide Totals",2012,"Annual","T7 CAIRP","DSL","T7 CAIRP_DSL","AllMYr",50,"T7 CAIRP_DSL_50",858148.50560000003,0,0.377766824,0.43005877300000001,2.2041242049999998,8.8191159339999992,1601.02043,1593.0153270000001,0.39134769699999999,0.36003988199999998,0]
[456,"Statewide Totals",2012,"Annual","T7 CAIRP","DSL","T7 CAIRP_DSL","AllMYr",55,"T7 CAIRP_DSL_55",1046784.937,0,0.36110411599999998,0.411089549,2.2703357830000002,8.7327055999999992,1582.625556,1574.712428,0.44728264600000001,0.41150003400000001,0]
[457,"Statewide Totals",2012,"Annual","T7 CAIRP","DSL","T7 CAIRP_DSL","AllMYr",60,"T7 CAIRP_DSL_60",619197.87930000003,0,0.36320599599999998,0.41348237799999998,2.3948824420000001,8.7970434669999999,1585.1799860000001,1577.2540859999999,0.51803782099999995,0.47659479500000002,0]
[458,"Statewide Totals",2012,"Annual","T7 CAIRP","DSL","T7 CAIRP_DSL","AllMYr",65,"T7 CAIRP_DSL_65",665902.799,0,0.38407246099999998,0.43723726099999999,2.577764181,9.0723078400000006,1608.6837190000001,1600.6403009999999,0.60361322299999998,0.55532416500000004,0]
[459,"Statewide Totals",2012,"Annual","T7 CAIRP","DSL","T7 CAIRP_DSL","AllMYr",70,"T7 CAIRP_DSL_70",674771.60979999998,0,0.42370351299999998,0.48235419600000001,2.818981,9.5479859739999995,1653.1367560000001,1644.871073,0.70400885199999996,0.64768814399999997,0]
[475,"Statewide Totals",2012,"Annual","T7 NNOOS","DSL","T7 NNOOS_DSL","AllMYr",10,"T7 NNOOS_DSL_10",71370.929520000005,0,2.70592283,3.080487164,5.6130517119999999,14.42345615,3306.3198219999999,3289.788223,0.31288117999999998,0.28785068600000002,0]
[476,"Statewide Totals",2012,"Annual","T7 NNOOS","DSL","T7 NNOOS_DSL","AllMYr",15,"T7 NNOOS_DSL_15",98678.694770000002,0,1.3751357120000001,1.5654873309999999,3.3784934080000002,10.67511919,2714.775181,2701.201305,0.25275697400000002,0.232536416,0]
[477,"Statewide Totals",2012,"Annual","T7 NNOOS","DSL","T7 NNOOS_DSL","AllMYr",20,"T7 NNOOS_DSL_20",231220.36429999999,0,0.582645144,0.66329714399999995,1.9178455320000001,8.0529755089999995,2141.6875810000001,2130.979143,0.20228669499999999,0.18610375900000001,0]
[478,"Statewide Totals",2012,"Annual","T7 NNOOS","DSL","T7 NNOOS_DSL","AllMYr",25,"T7 NNOOS_DSL_25",301283.52439999999,0,0.50108151999999995,0.57044316799999994,1.7652141649999999,7.2953333860000003,1998.2423799999999,1988.251168,0.186642638,0.17171122699999999,0]
[479,"Statewide Totals",2012,"Annual","T7 NNOOS","DSL","T7 NNOOS_DSL","AllMYr",30,"T7 NNOOS_DSL_30",492100.9472,0,0.43050719199999998,0.49009966700000002,1.6477989099999999,6.662579934,1875.652634,1866.274371,0.17911123700000001,0.164782338,0]
[480,"Statewide Totals",2012,"Annual","T7 NNOOS","DSL","T7 NNOOS_DSL","AllMYr",35,"T7 NNOOS_DSL_35",722940.49459999998,0,0.370922158,0.42226664200000003,1.5655997669999999,6.1468399600000003,1773.9183439999999,1765.0487519999999,0.17969249300000001,0.165317094,0]
[481,"Statewide Totals",2012,"Annual","T7 NNOOS","DSL","T7 NNOOS_DSL","AllMYr",40,"T7 NNOOS_DSL_40",699717.85699999996,0,0.32232641899999998,0.36694409300000003,1.5186167349999999,5.7385182109999997,1693.039509,1684.5743110000001,0.18838640600000001,0.17331549299999999,0]
[482,"Statewide Totals",2012,"Annual","T7 NNOOS","DSL","T7 NNOOS_DSL","AllMYr",45,"T7 NNOOS_DSL_45",944916.15099999995,0,0.28471997599999999,0.32413201899999999,1.506849815,5.4448089790000003,1633.0161290000001,1624.8510490000001,0.205192974,0.188777536,0]
[474,"Statewide Totals",2012,"Annual","T7 NNOOS","DSL","T7 NNOOS_DSL","AllMYr",5,"T7 NNOOS_DSL_5",19394.94772,0,4.6430095720000004,5.2857129650000001,8.7895155710000008,19.533246810000001,4002.4298250000002,3982.417676,0.38736179399999998,0.35637285099999999,0]
[483,"Statewide Totals",2012,"Annual","T7 NNOOS","DSL","T7 NNOOS_DSL","AllMYr",50,"T7 NNOOS_DSL_50",965384.99179999996,0,0.25810282699999998,0.29383042199999998,1.530299007,5.2629666159999999,1593.848205,1585.878964,0.23011219999999999,0.211703224,0]
[484,"Statewide Totals",2012,"Annual","T7 NNOOS","DSL","T7 NNOOS_DSL","AllMYr",55,"T7 NNOOS_DSL_55",1177593.926,0,0.24247497400000001,0.27603929999999999,1.5889643099999999,5.1953162810000002,1575.535736,1567.6580570000001,0.26314408099999997,0.24209255499999999,0]
[485,"Statewide Totals",2012,"Annual","T7 NNOOS","DSL","T7 NNOOS_DSL","AllMYr",60,"T7 NNOOS_DSL_60",696574.46900000004,0,0.237836415,0.27075865399999999,1.682845726,5.2268349809999997,1578.0787230000001,1570.1883290000001,0.30428862000000001,0.27994553,0]
[486,"Statewide Totals",2012,"Annual","T7 NNOOS","DSL","T7 NNOOS_DSL","AllMYr",65,"T7 NNOOS_DSL_65",749115.75789999997,0,0.24418715099999999,0.27798848399999998,1.8119432529999999,5.3932796710000002,1601.477165,1593.469779,0.35354581400000001,0.325262149,0]
[487,"Statewide Totals",2012,"Annual","T7 NNOOS","DSL","T7 NNOOS_DSL","AllMYr",70,"T7 NNOOS_DSL_70",759092.83860000002,0,0.261527183,0.29772879000000002,1.976256891,5.6884607750000002,1645.7310620000001,1637.5024069999999,0.41091566600000001,0.37804241199999999,0]
[489,"Statewide Totals",2012,"Annual","T7 NOOS","DSL","T7 NOOS_DSL","AllMYr",10,"T7 NOOS_DSL_10",23104.304499999998,0,4.0167874169999997,4.5728067110000001,8.2719663959999998,23.514990300000001,3321.645536,3305.0373079999999,0.59625208299999999,0.54855191599999997,0]
[490,"Statewide Totals",2012,"Annual","T7 NOOS","DSL","T7 NOOS_DSL","AllMYr",15,"T7 NOOS_DSL_15",31944.415280000001,0,2.0426897340000001,2.3254467700000001,5.0902062240000001,17.260256219999999,2727.358921,2713.7221260000001,0.46674987600000001,0.42940988600000002,0]
[491,"Statewide Totals",2012,"Annual","T7 NOOS","DSL","T7 NOOS_DSL","AllMYr",20,"T7 NOOS_DSL_20",74851.00361,0,0.85898052899999999,0.97788394599999995,2.9674115300000001,13.01118009,2151.6149,2140.8568249999998,0.36083747100000002,0.33197047400000002,0]
[492,"Statewide Totals",2012,"Annual","T7 NOOS","DSL","T7 NOOS_DSL","AllMYr",25,"T7 NOOS_DSL_25",97531.955040000001,0,0.73258869299999996,0.83399646100000002,2.6947802529999998,11.86082255,2007.50479,1997.4672660000001,0.32919657899999999,0.30286085299999999,0]
[493,"Statewide Totals",2012,"Annual","T7 NOOS","DSL","T7 NOOS_DSL","AllMYr",30,"T7 NOOS_DSL_30",159303.65779999999,0,0.62437967800000005,0.710808734,2.4788927090000001,10.90380214,1884.3468069999999,1874.9250730000001,0.31209000199999998,0.28712280200000001,0]
[494,"Statewide Totals",2012,"Annual","T7 NOOS","DSL","T7 NOOS_DSL","AllMYr",35,"T7 NOOS_DSL_35",234031.38269999999,0,0.53435348500000002,0.60832076700000004,2.3197488989999999,10.127514959999999,1782.14095,1773.230245,0.30951773999999999,0.28475632099999998,0]
[495,"Statewide Totals",2012,"Annual","T7 NOOS","DSL","T7 NOOS_DSL","AllMYr",40,"T7 NOOS_DSL_40",226513.7156,0,0.462510113,0.52653255700000001,2.217348823,9.5161646629999996,1700.887219,1692.382783,0.32147979300000001,0.29576141,0]
[496,"Statewide Totals",2012,"Annual","T7 NOOS","DSL","T7 NOOS_DSL","AllMYr",45,"T7 NOOS_DSL_45",305889.67560000002,0,0.408849564,0.46544410600000002,2.1716924799999999,9.0815581420000004,1640.5856140000001,1632.3826859999999,0.34797616100000001,0.320138068,0]
[488,"Statewide Totals",2012,"Annual","T7 NOOS","DSL","T7 NOOS_DSL","AllMYr",5,"T7 NOOS_DSL_5",6278.5616049999999,0,6.8829126179999998,7.8356720790000001,12.754336990000001,32.146466330000003,4020.982203,4000.8772920000001,0.75921475999999999,0.69847757899999996,0]
[497,"Statewide Totals",2012,"Annual","T7 NOOS","DSL","T7 NOOS_DSL","AllMYr",50,"T7 NOOS_DSL_50",312515.87949999998,0,0.37337183600000001,0.42505541400000002,2.1827798710000001,8.8191159339999992,1601.2361350000001,1593.229955,0.38900684499999999,0.35788629700000002,0]
[498,"Statewide Totals",2012,"Annual","T7 NOOS","DSL","T7 NOOS_DSL","AllMYr",55,"T7 NOOS_DSL_55",381212.47440000001,0,0.35607693000000001,0.40536647999999997,2.2506109959999998,8.7327055999999992,1582.8387829999999,1574.924589,0.44457184399999999,0.40900609599999999,0]
[499,"Statewide Totals",2012,"Annual","T7 NOOS","DSL","T7 NOOS_DSL","AllMYr",60,"T7 NOOS_DSL_60",225496.13329999999,0,0.356964846,0.40637730399999999,2.3751858549999998,8.7970434669999999,1585.3935570000001,1577.4665890000001,0.51467115799999996,0.47349746500000001,0]
[500,"Statewide Totals",2012,"Annual","T7 NOOS","DSL","T7 NOOS_DSL","AllMYr",65,"T7 NOOS_DSL_65",242504.87830000001,0,0.37603558300000001,0.428087887,2.556504447,9.0723078400000006,1608.900457,1600.855955,0.59930478700000001,0.55136040399999997,0]
[501,"Statewide Totals",2012,"Annual","T7 NOOS","DSL","T7 NOOS_DSL","AllMYr",70,"T7 NOOS_DSL_70",245734.67379999999,0,0.413289142,0.47049822800000002,2.7945667730000001,9.5479859739999995,1653.3594840000001,1645.0926870000001,0.69847273099999996,0.64259491300000005,0]
[503,"Statewide Totals",2012,"Annual","T7 other port","DSL","T7 other port_DSL","AllMYr",10,"T7 other port_DSL_10",2709.3120319999998,0,1.9690149990000001,2.2415736929999999,3.974775588,35.232816990000003,3354.4228159999998,3337.6507019999999,0.36359735199999998,0.33450956399999998,0]
[504,"Statewide Totals",2012,"Annual","T7 other port","DSL","T7 other port_DSL","AllMYr",15,"T7 other port_DSL_15",3398.7102989999998,0,0.99981252499999995,1.1382104529999999,2.5020602420000002,24.826105590000001,2754.2719090000001,2740.5005500000002,0.27801200700000001,0.255771046,0]
[505,"Statewide Totals",2012,"Annual","T7 other port","DSL","T7 other port_DSL","AllMYr",20,"T7 other port_DSL_20",7554.4689250000001,0,0.415981826,0.47356364400000001,1.492825165,18.625374770000001,2172.846571,2161.9823379999998,0.20912957600000001,0.19239920999999999,0]
[506,"Statewide Totals",2012,"Annual","T7 other port","DSL","T7 other port_DSL","AllMYr",25,"T7 other port_DSL_25",8052.8541180000002,0,0.35048030600000002,0.39899514899999999,1.3355639589999999,17.523466519999999,2027.3144139999999,2017.1778420000001,0.18904425899999999,0.173920718,0]
[507,"Statewide Totals",2012,"Annual","T7 other port","DSL","T7 other port_DSL","AllMYr",30,"T7 other port_DSL_30",13749.0239,0,0.295144297,0.33599931500000002,1.2083467130000001,16.613052440000001,1902.9411339999999,1893.426428,0.17756021399999999,0.16335539700000001,0]
[508,"Statewide Totals",2012,"Annual","T7 other port","DSL","T7 other port_DSL","AllMYr",35,"T7 other port_DSL_35",24149.941220000001,0,0.249973799,0.28457614199999998,1.111173424,15.893780919999999,1799.7267320000001,1790.728098,0.17467744099999999,0.16070324599999999,0]
[509,"Statewide Totals",2012,"Annual","T7 other port","DSL","T7 other port_DSL","AllMYr",40,"T7 other port_DSL_40",22628.86332,0,0.21496881200000001,0.244725628,1.0440440950000001,15.36122396,1717.671206,1709.08285,0.180395942,0.165964266,0]
[510,"Statewide Totals",2012,"Annual","T7 other port","DSL","T7 other port_DSL","AllMYr",45,"T7 other port_DSL_45",31909.453150000001,0,0.19012933500000001,0.21644777500000001,1.0069587229999999,15.019009260000001,1656.7745580000001,1648.4906860000001,0.19471571400000001,0.179138457,0]
[502,"Statewide Totals",2012,"Annual","T7 other port","DSL","T7 other port_DSL","AllMYr",5,"T7 other port_DSL_5",741.47103930000003,0,3.373153206,3.8400781560000001,6.0250245250000001,50.355243919999999,4060.660386,4040.3570840000002,0.47229674799999999,0.43451300799999998,0]
[511,"Statewide Totals",2012,"Annual","T7 other port","DSL","T7 other port_DSL","AllMYr",50,"T7 other port_DSL_50",32030.08066,0,0.17545537,0.199742583,0.99991731100000003,14.86544952,1617.0367879999999,1608.9516040000001,0.21763676000000001,0.200225819,0]
[512,"Statewide Totals",2012,"Annual","T7 other port","DSL","T7 other port_DSL","AllMYr",55,"T7 other port_DSL_55",39225.670639999997,0,0.170946915,0.19461005000000001,1.022919857,14.900083309999999,1598.4578939999999,1590.4656050000001,0.24915907800000001,0.22922635199999999,0]
[513,"Statewide Totals",2012,"Annual","T7 other port","DSL","T7 other port_DSL","AllMYr",60,"T7 other port_DSL_60",13347.06695,0,0.176603971,0.201050178,1.075966362,15.118238119999999,1601.0378780000001,1593.0326889999999,0.28928266899999999,0.26614005499999999,0]
[514,"Statewide Totals",2012,"Annual","T7 other port","DSL","T7 other port_DSL","AllMYr",65,"T7 other port_DSL_65",8900.5386519999993,0,0.19242653800000001,0.219062966,1.159056825,15.52258827,1624.77674,1616.6528559999999,0.338007532,0.31096692999999997,0]
[515,"Statewide Totals",2012,"Annual","T7 other port","DSL","T7 other port_DSL","AllMYr",70,"T7 other port_DSL_70",0,0,0,0,0,0,0,0,0,0,0]
[517,"Statewide Totals",2012,"Annual","T7 POAK","DSL","T7 POAK_DSL","AllMYr",10,"T7 POAK_DSL_10",5110.5411450000001,0,1.882431637,2.1430051250000002,3.7606288480000001,36.699988640000001,3357.3490870000001,3340.5623420000002,0.37022207099999999,0.34060430600000002,0]
[518,"Statewide Totals",2012,"Annual","T7 POAK","DSL","T7 POAK_DSL","AllMYr",15,"T7 POAK_DSL_15",6337.4494850000001,0,0.95567477599999995,1.0879629850000001,2.416599975,25.620736900000001,2756.6746309999999,2742.8912580000001,0.27351681,0.251635465,0]
[519,"Statewide Totals",2012,"Annual","T7 POAK","DSL","T7 POAK_DSL","AllMYr",20,"T7 POAK_DSL_20",14286.768470000001,0,0.39439893799999998,0.44899316900000003,1.473398502,19.199331019999999,2174.7420790000001,2163.8683689999998,0.19715217400000001,0.18138000000000001,0]
[520,"Statewide Totals",2012,"Annual","T7 POAK","DSL","T7 POAK_DSL","AllMYr",25,"T7 POAK_DSL_25",14773.48185,0,0.32918067600000001,0.37474714199999998,1.3026694400000001,18.192172530000001,2029.0829659999999,2018.937551,0.175538209,0.161495152,0]
[521,"Statewide Totals",2012,"Annual","T7 POAK","DSL","T7 POAK_DSL","AllMYr",30,"T7 POAK_DSL_30",24852.954000000002,0,0.27459639600000002,0.31260709399999997,1.1626346910000001,17.367328189999999,1904.601187,1895.0781810000001,0.16215313200000001,0.14918088099999999,0]
[522,"Statewide Totals",2012,"Annual","T7 POAK","DSL","T7 POAK_DSL","AllMYr",35,"T7 POAK_DSL_35",45440.440110000003,0,0.23064609699999999,0.26257302500000002,1.053294255,16.721484289999999,1801.2967450000001,1792.2902610000001,0.156996943,0.14443718799999999,0]
[523,"Statewide Totals",2012,"Annual","T7 POAK","DSL","T7 POAK_DSL","AllMYr",40,"T7 POAK_DSL_40",41026.066070000001,0,0.19732978000000001,0.22464493399999999,0.97464813299999997,16.258100979999998,1719.169637,1710.573789,0.16006964300000001,0.147264072,0]
[524,"Statewide Totals",2012,"Annual","T7 POAK","DSL","T7 POAK_DSL","AllMYr",45,"T7 POAK_DSL_45",59719.401169999997,0,0.17464744500000001,0.19882282200000001,0.92669632400000002,15.971995229999999,1658.219865,1649.928766,0.17137123100000001,0.15766153299999999,0]
[516,"Statewide Totals",2012,"Annual","T7 POAK","DSL","T7 POAK_DSL","AllMYr",5,"T7 POAK_DSL_5",1445.103177,0,3.2221406629999998,3.6681618710000001,5.6111035830000002,52.94498462,4064.2027520000001,4043.881738,0.49437361299999999,0.45482372399999998,0]
[525,"Statewide Totals",2012,"Annual","T7 POAK","DSL","T7 POAK_DSL","AllMYr",50,"T7 POAK_DSL_50",58761.537799999998,0,0.162599091,0.18510668799999999,0.90943882899999995,15.86884762,1618.4474290000001,1610.355192,0.190901708,0.17562957100000001,0]
[526,"Statewide Totals",2012,"Annual","T7 POAK","DSL","T7 POAK_DSL","AllMYr",55,"T7 POAK_DSL_55",72118.656480000005,0,0.161184719,0.18349653299999999,0.92287564799999999,15.943196479999999,1599.8523279999999,1591.853067,0.21866107300000001,0.201168187,0]
[527,"Statewide Totals",2012,"Annual","T7 POAK","DSL","T7 POAK_DSL","AllMYr",60,"T7 POAK_DSL_60",21421.438870000002,0,0.17040432899999999,0.193992357,0.96700677999999995,16.199470300000002,1602.434563,1594.42239,0.25464932600000001,0.23427738000000001,0]
[528,"Statewide Totals",2012,"Annual","T7 POAK","DSL","T7 POAK_DSL","AllMYr",65,"T7 POAK_DSL_65",11784.15157,0,0.19025792,0.21659416000000001,1.0418322250000001,16.634250990000002,1626.194133,1618.0631619999999,0.298866468,0.27495715100000001,0]
[529,"Statewide Totals",2012,"Annual","T7 POAK","DSL","T7 POAK_DSL","AllMYr",70,"T7 POAK_DSL_70",0,0,0,0,0,0,0,0,0,0,0]
[531,"Statewide Totals",2012,"Annual","T7 POLA","DSL","T7 POLA_DSL","AllMYr",10,"T7 POLA_DSL_10",9442.4792219999999,0,2.5636732449999999,2.9185468389999998,5.4346499399999999,20.00347652,3367.2649590000001,3350.4286339999999,0.15738375900000001,0.144793058,0]
[532,"Statewide Totals",2012,"Annual","T7 POLA","DSL","T7 POLA_DSL","AllMYr",15,"T7 POLA_DSL_15",21785.41591,0,1.302657333,1.482976214,3.172513393,14.85874596,2764.8164219999999,2750.9923389999999,0.13822109499999999,0.12716340800000001,0]
[533,"Statewide Totals",2012,"Annual","T7 POLA","DSL","T7 POLA_DSL","AllMYr",20,"T7 POLA_DSL_20",59599.635430000002,0,0.55860147900000001,0.63592526299999996,1.7338767859999999,11.21191355,2181.1651419999998,2170.259317,0.120053194,0.110448939,0]
[534,"Statewide Totals",2012,"Annual","T7 POLA","DSL","T7 POLA_DSL","AllMYr",25,"T7 POLA_DSL_25",117958.226,0,0.48672541899999999,0.55409983900000004,1.629361769,10.13251387,2035.0758269999999,2024.9004480000001,0.11353405900000001,0.10445133500000001,0]
[535,"Statewide Totals",2012,"Annual","T7 POLA","DSL","T7 POLA_DSL","AllMYr",30,"T7 POLA_DSL_30",175203.68119999999,0,0.42335869399999998,0.48196164600000002,1.554497255,9.2228970389999994,1910.226394,1900.675262,0.11172768399999999,0.10278946999999999,0]
[536,"Statewide Totals",2012,"Annual","T7 POLA","DSL","T7 POLA_DSL","AllMYr",35,"T7 POLA_DSL_35",168657.196,0,0.368501303,0.419510683,1.5092832430000001,8.4781608869999996,1806.616843,1797.5837590000001,0.11463407,0.105463344,0]
[537,"Statewide Totals",2012,"Annual","T7 POLA","DSL","T7 POLA_DSL","AllMYr",40,"T7 POLA_DSL_40",161142.92420000001,0,0.32215324699999998,0.36674694899999999,1.493719733,7.8899253979999999,1724.247175,1715.625939,0.122253215,0.112472958,0]
[538,"Statewide Totals",2012,"Annual","T7 POLA","DSL","T7 POLA_DSL","AllMYr",45,"T7 POLA_DSL_45",179134.80929999999,0,0.28431452699999998,0.323670446,1.5078067260000001,7.4647324460000002,1663.117389,1654.801802,0.134585121,0.123818311,0]
[530,"Statewide Totals",2012,"Annual","T7 POLA","DSL","T7 POLA_DSL","AllMYr",5,"T7 POLA_DSL_5",2862.0922719999999,0,4.4057345080000001,5.0155933670000001,8.6877639910000006,26.965400670000001,4076.2063039999998,4055.825272,0.179235644,0.16489679300000001,0]
[539,"Statewide Totals",2012,"Annual","T7 POLA","DSL","T7 POLA_DSL","AllMYr",50,"T7 POLA_DSL_50",182267.46789999999,0,0.25498514100000003,0.290281173,1.5515442209999999,7.198221717,1623.2274849999999,1615.1113479999999,0.15162978699999999,0.13949940399999999,0]
[540,"Statewide Totals",2012,"Annual","T7 POLA","DSL","T7 POLA_DSL","AllMYr",55,"T7 POLA_DSL_55",201658.30840000001,0,0.23416508999999999,0.26657912900000003,1.6249322180000001,7.096262576,1604.577464,1596.5545770000001,0.17338721300000001,0.15951623600000001,0]
[541,"Statewide Totals",2012,"Annual","T7 POLA","DSL","T7 POLA_DSL","AllMYr",60,"T7 POLA_DSL_60",340725.27429999999,0,0.22185437299999999,0.25256431600000001,1.7279707179999999,7.1409211890000002,1607.1673249999999,1599.1314890000001,0.19985739899999999,0.183868807,0]
[542,"Statewide Totals",2012,"Annual","T7 POLA","DSL","T7 POLA_DSL","AllMYr",65,"T7 POLA_DSL_65",303559.18920000002,0,0.218052992,0.24823673299999999,1.8606597199999999,7.3660115839999998,1630.997069,1622.8420840000001,0.23104034500000001,0.21255711699999999,0]
[543,"Statewide Totals",2012,"Annual","T7 POLA","DSL","T7 POLA_DSL","AllMYr",70,"T7 POLA_DSL_70",81288.413799999995,0,0.22276094499999999,0.25359638000000001,2.022999225,7.7965253959999998,1676.066695,1667.6863619999999,0.26693605100000001,0.24558116699999999,0]
[545,"Statewide Totals",2012,"Annual","T7 Public","DSL","T7 Public_DSL","AllMYr",10,"T7 Public_DSL_10",2934.0153799999998,0,3.589073768,4.0858872799999997,7.7090703659999997,31.223231290000001,3364.0176160000001,3347.1975280000001,1.5290307219999999,1.406708265,0]
[546,"Statewide Totals",2012,"Annual","T7 Public","DSL","T7 Public_DSL","AllMYr",15,"T7 Public_DSL_15",4227.6872659999999,0,1.944799637,2.2140063460000001,5.9579791870000003,22.054409410000002,2760.3657400000002,2746.5639110000002,1.0554337659999999,0.97099906499999999,0]
[547,"Statewide Totals",2012,"Annual","T7 Public","DSL","T7 Public_DSL","AllMYr",20,"T7 Public_DSL_20",10015.22111,0,0.79298689200000005,0.90275521299999995,4.5158291190000002,16.913662670000001,2177.0866110000002,2166.2011779999998,0.68995547700000004,0.63475903899999997,0]
[548,"Statewide Totals",2012,"Annual","T7 Public","DSL","T7 Public_DSL","AllMYr",25,"T7 Public_DSL_25",13774.28326,0,0.650394472,0.74042459800000004,3.7985177029999999,16.112804839999999,2029.421687,2019.2745789999999,0.58229211400000003,0.53570874499999999,0]
[549,"Statewide Totals",2012,"Annual","T7 Public","DSL","T7 Public_DSL","AllMYr",30,"T7 Public_DSL_30",21923.19022,0,0.53938754099999997,0.61405165699999997,3.228416068,15.508113760000001,1905.223444,1895.6973270000001,0.50401504900000005,0.46369384499999999,0]
[550,"Statewide Totals",2012,"Annual","T7 Public","DSL","T7 Public_DSL","AllMYr",35,"T7 Public_DSL_35",30576.175179999998,0,0.45711635499999997,0.52039217400000004,2.7735616150000002,15.04483651,1803.3444139999999,1794.3276920000001,0.45167828900000001,0.41554402600000001,0]
[551,"Statewide Totals",2012,"Annual","T7 Public","DSL","T7 Public_DSL","AllMYr",40,"T7 Public_DSL_40",28850.39588,0,0.39386584400000002,0.448386281,2.373259971,14.727838670000001,1721.146056,1712.5403260000001,0.412133097,0.37916244900000001,0]
[552,"Statewide Totals",2012,"Annual","T7 Public","DSL","T7 Public_DSL","AllMYr",45,"T7 Public_DSL_45",37796.954769999997,0,0.35619456500000002,0.40550039799999998,2.0699188350000002,14.550019430000001,1660.573024,1652.270158,0.39453951799999998,0.36297635700000003,0]
[544,"Statewide Totals",2012,"Annual","T7 Public","DSL","T7 Public_DSL","AllMYr",5,"T7 Public_DSL_5",808.14336479999997,0,5.8273609979999996,6.6340069100000001,9.8092653100000007,44.766624800000002,4071.366325,4051.0094939999999,2.1363665260000002,1.965457204,0]
[553,"Statewide Totals",2012,"Annual","T7 Public","DSL","T7 Public_DSL","AllMYr",50,"T7 Public_DSL_50",38454.555699999997,0,0.34187356899999999,0.38919703500000002,1.8510499220000001,14.53958645,1620.911306,1612.80675,0.39536449200000001,0.36373533299999999,0]
[554,"Statewide Totals",2012,"Annual","T7 Public","DSL","T7 Public_DSL","AllMYr",55,"T7 Public_DSL_55",45835.749389999997,0,0.351086022,0.39968471100000003,1.7183266319999999,14.66302761,1602.408854,1594.3968090000001,0.41541804700000001,0.38218460300000001,0]
[555,"Statewide Totals",2012,"Annual","T7 Public","DSL","T7 Public_DSL","AllMYr",60,"T7 Public_DSL_60",31126.49883,0,0.37682099600000002,0.42898202000000002,1.616791044,15.032847050000001,1601.413155,1593.4060890000001,0.43870279499999998,0.40360657100000003,0]
[556,"Statewide Totals",2012,"Annual","T7 Public","DSL","T7 Public_DSL","AllMYr",65,"T7 Public_DSL_65",24903.984530000002,0,0.43350002799999998,0.49350678399999998,1.648370721,15.44106874,1624.2171330000001,1616.0960480000001,0.494493715,0.454934218,0]
[557,"Statewide Totals",2012,"Annual","T7 Public","DSL","T7 Public_DSL","AllMYr",70,"T7 Public_DSL_70",4040.8514110000001,0,0.52087733400000003,0.59297919499999996,1.7942599779999999,16.142895060000001,1669.904464,1661.554942,0.57706076699999997,0.53089590600000003,0]
[573,"Statewide Totals",2012,"Annual","T7 single construction","DSL","T7 single construction_DSL","AllMYr",10,"T7 single construction_DSL_10",7385.5992759999999,0,3.8888747229999998,4.4271878459999998,7.8756886609999999,26.788745200000001,3315.760241,3299.1814399999998,1.130723036,1.0402651940000001,0]
[574,"Statewide Totals",2012,"Annual","T7 single construction","DSL","T7 single construction_DSL","AllMYr",15,"T7 single construction_DSL_15",10971.2647,0,2.016249776,2.2953468909999999,5.6173517549999996,18.703259989999999,2722.8904870000001,2709.2760349999999,0.76185046899999997,0.70090243200000002,0]
[575,"Statewide Totals",2012,"Annual","T7 single construction","DSL","T7 single construction_DSL","AllMYr",20,"T7 single construction_DSL_20",26416.461380000001,0,0.81571746199999995,0.92863223800000005,3.8314959470000001,14.08932497,2148.2108239999998,2137.4697700000002,0.47553210000000001,0.43748953200000001,0]
[576,"Statewide Totals",2012,"Annual","T7 single construction","DSL","T7 single construction_DSL","AllMYr",25,"T7 single construction_DSL_25",37636.964529999997,0,0.669781654,0.762495429,3.3112447399999998,13.47874487,2004.6437960000001,1994.6205769999999,0.404225738,0.37188767900000003,0]
[577,"Statewide Totals",2012,"Annual","T7 single construction","DSL","T7 single construction_DSL","AllMYr",30,"T7 single construction_DSL_30",59566.59938,0,0.54349594999999995,0.61872876799999998,2.8189460880000001,12.926471830000001,1881.5301569999999,1872.1225059999999,0.34397644300000002,0.31645832699999998,0]
[578,"Statewide Totals",2012,"Annual","T7 single construction","DSL","T7 single construction_DSL","AllMYr",35,"T7 single construction_DSL_35",80562.305429999993,0,0.44289060400000002,0.50419723999999999,2.3951970789999999,12.45801526,1779.2302440000001,1770.3340929999999,0.30030250200000003,0.27627830199999998,0]
[579,"Statewide Totals",2012,"Annual","T7 single construction","DSL","T7 single construction_DSL","AllMYr",40,"T7 single construction_DSL_40",75870.142200000002,0,0.373745243,0.42548050900000001,2.0822507350000001,12.168454990000001,1697.98965,1689.4997020000001,0.27858661899999998,0.256299689,0]
[580,"Statewide Totals",2012,"Annual","T7 single construction","DSL","T7 single construction_DSL","AllMYr",45,"T7 single construction_DSL_45",99010.097169999994,0,0.33200398800000003,0.37796126800000002,1.850302415,11.983599630000001,1637.71207,1629.52351,0.27539583899999998,0.253364172,0]
[572,"Statewide Totals",2012,"Annual","T7 single construction","DSL","T7 single construction_DSL","AllMYr",5,"T7 single construction_DSL_5",2072.693581,0,6.5845090050000001,7.4959622809999997,10.88910634,38.84822862,4014.180335,3994.109434,1.6281960470000001,1.4979403630000001,0]
[581,"Statewide Totals",2012,"Annual","T7 single construction","DSL","T7 single construction_DSL","AllMYr",50,"T7 single construction_DSL_50",99829.32991,0,0.318565247,0.362662284,1.7063267499999999,11.92874799,1598.3795190000001,1590.3876210000001,0.29132381200000002,0.268017907,0]
[582,"Statewide Totals",2012,"Annual","T7 single construction","DSL","T7 single construction_DSL","AllMYr",55,"T7 single construction_DSL_55",118892.4641,0,0.33309670000000002,0.379205238,1.6469526189999999,12.017489449999999,1579.9223219999999,1572.02271,0.325815356,0.299750128,0]
[583,"Statewide Totals",2012,"Annual","T7 single construction","DSL","T7 single construction_DSL","AllMYr",60,"T7 single construction_DSL_60",88262.167700000005,0,0.38426405499999999,0.43745537600000001,1.702823811,12.373522980000001,1583.053559,1575.138291,0.386768793,0.35582729000000002,0]
[584,"Statewide Totals",2012,"Annual","T7 single construction","DSL","T7 single construction_DSL","AllMYr",65,"T7 single construction_DSL_65",75069.826000000001,0,0.461239132,0.52508564099999999,1.8052051419999999,12.877364740000001,1605.7720469999999,1597.7431859999999,0.45692385099999999,0.42036994300000002,0]
[585,"Statewide Totals",2012,"Annual","T7 single construction","DSL","T7 single construction_DSL","AllMYr",70,"T7 single construction_DSL_70",21352.494739999998,0,0.60454971000000002,0.68823382600000005,1.9620628879999999,14.236639690000001,1645.149013,1636.923268,0.53589092500000002,0.493019651,0]
[559,"Statewide Totals",2012,"Annual","T7 Single","DSL","T7 Single_DSL","AllMYr",10,"T7 Single_DSL_10",17000.818060000001,0,3.9244895980000001,4.4677326700000002,7.9708639080000001,26.731706209999999,3316.5905229999998,3300.0075710000001,1.1514561489999999,1.059339657,0]
[560,"Statewide Totals",2012,"Annual","T7 Single","DSL","T7 Single_DSL","AllMYr",15,"T7 Single_DSL_15",25819.806270000001,0,2.0319036929999998,2.3131676840000002,5.684257261,18.630567419999998,2723.3684079999998,2709.7515659999999,0.77277795999999999,0.71095572299999998,0]
[561,"Statewide Totals",2012,"Annual","T7 Single","DSL","T7 Single_DSL","AllMYr",20,"T7 Single_DSL_20",62564.871950000001,0,0.82111684399999996,0.93477902300000004,3.8869304589999998,14.02973967,2148.528006,2137.7853660000001,0.48228992599999998,0.44370673199999999,0]
[562,"Statewide Totals",2012,"Annual","T7 Single","DSL","T7 Single_DSL","AllMYr",25,"T7 Single_DSL_25",91519.135639999993,0,0.67113356199999996,0.76403447300000005,3.333043161,13.37905091,2004.7733390000001,1994.7494730000001,0.40698109799999999,0.37442261100000002,0]
[563,"Statewide Totals",2012,"Annual","T7 Single","DSL","T7 Single_DSL","AllMYr",30,"T7 Single_DSL_30",143665.18599999999,0,0.54570264300000004,0.62124091999999997,2.8424257179999999,12.83759614,1881.7157629999999,1872.307184,0.34727721700000003,0.31949504000000001,0]
[564,"Statewide Totals",2012,"Annual","T7 Single","DSL","T7 Single_DSL","AllMYr",35,"T7 Single_DSL_35",189481.14749999999,0,0.447242629,0.50915168799999999,2.430396096,12.40930466,1779.5460949999999,1770.648365,0.30542698899999998,0.28099283000000003,0]
[565,"Statewide Totals",2012,"Annual","T7 Single","DSL","T7 Single_DSL","AllMYr",40,"T7 Single_DSL_40",177676.48920000001,0,0.377977491,0.43029860199999997,2.1128601319999998,12.11964145,1698.3340149999999,1689.842345,0.28336767099999999,0.26069825699999999,0]
[566,"Statewide Totals",2012,"Annual","T7 Single","DSL","T7 Single_DSL","AllMYr",45,"T7 Single_DSL_45",229164.11499999999,0,0.33645849100000003,0.38303238000000001,1.8790674060000001,11.946811159999999,1638.090111,1629.89966,0.28007172699999999,0.25766598899999998,0]
[558,"Statewide Totals",2012,"Annual","T7 Single","DSL","T7 Single_DSL","AllMYr",5,"T7 Single_DSL_5",4797.3751730000004,0,6.6262054509999997,7.5434305110000004,10.96825619,38.728098899999999,4015.0622659999999,3994.9869549999999,1.6527017669999999,1.5204856259999999,0]
[567,"Statewide Totals",2012,"Annual","T7 Single","DSL","T7 Single_DSL","AllMYr",50,"T7 Single_DSL_50",230785.1355,0,0.32295622400000001,0.367661077,1.73147242,11.897977709999999,1598.7628749999999,1590.769061,0.295507884,0.27186725299999998,0]
[568,"Statewide Totals",2012,"Annual","T7 Single","DSL","T7 Single_DSL","AllMYr",55,"T7 Single_DSL_55",272360.90669999999,0,0.33751908400000002,0.384239785,1.669777895,11.985137910000001,1580.3548800000001,1572.4531050000001,0.32977324899999999,0.30339138900000001,0]
[569,"Statewide Totals",2012,"Annual","T7 Single","DSL","T7 Single_DSL","AllMYr",60,"T7 Single_DSL_60",215010.24,0,0.38335739899999999,0.43642321699999997,1.7050347560000001,12.230119589999999,1583.1886219999999,1575.2726789999999,0.38605083400000001,0.35516676699999999,0]
[570,"Statewide Totals",2012,"Annual","T7 Single","DSL","T7 Single_DSL","AllMYr",65,"T7 Single_DSL_65",172462.36689999999,0,0.45668236600000001,0.51989811100000005,1.810387803,12.6386372,1606.3173529999999,1598.285766,0.45698322400000002,0.420424566,0]
[571,"Statewide Totals",2012,"Annual","T7 Single","DSL","T7 Single_DSL","AllMYr",70,"T7 Single_DSL_70",29233.66661,0,0.59115098899999996,0.67298040199999998,1.961878904,13.87719294,1645.9834410000001,1637.753524,0.53390672800000005,0.49119418999999997,0]
[587,"Statewide Totals",2012,"Annual","T7 SWCV","DSL","T7 SWCV_DSL","AllMYr",10,"T7 SWCV_DSL_10",4685.8049389999996,0,0.792894345,0.90264985499999995,1.663965409,28.278605930000001,3385.8426450000002,3368.9134319999998,0.21028928199999999,0.19346613900000001,0]
[588,"Statewide Totals",2012,"Annual","T7 SWCV","DSL","T7 SWCV_DSL","AllMYr",15,"T7 SWCV_DSL_15",7443.4645410000003,0,0.42368245999999998,0.48233023000000003,1.1950638520000001,20.174177010000001,2785.725207,2771.7965810000001,0.15264355199999999,0.14043206699999999,0]
[589,"Statewide Totals",2012,"Annual","T7 SWCV","DSL","T7 SWCV_DSL","AllMYr",20,"T7 SWCV_DSL_20",18336.729009999999,0,0.17632226300000001,0.20072947499999999,0.83759044699999996,15.458265430000001,2199.2066970000001,2188.2106629999998,0.10301183699999999,9.4770889999999997E-2,0]
[590,"Statewide Totals",2012,"Annual","T7 SWCV","DSL","T7 SWCV_DSL","AllMYr",25,"T7 SWCV_DSL_25",28121.653770000001,0,0.15102253299999999,0.17192765800000001,0.75863536300000001,14.91458364,2056.1299509999999,2045.849301,9.3714089E-2,8.6216961999999994E-2,0]
[591,"Statewide Totals",2012,"Annual","T7 SWCV","DSL","T7 SWCV_DSL","AllMYr",30,"T7 SWCV_DSL_30",43695.70246,0,0.12630165700000001,0.14378482200000001,0.65494117699999999,14.22597697,1929.1471819999999,1919.501446,8.1276116999999995E-2,7.4774027000000007E-2,0]
[592,"Statewide Totals",2012,"Annual","T7 SWCV","DSL","T7 SWCV_DSL","AllMYr",35,"T7 SWCV_DSL_35",54982.250160000003,0,0.104428274,0.118883641,0.55307282499999999,13.53092756,1820.7424579999999,1811.6387460000001,6.9031884000000002E-2,6.3509333000000001E-2,0]
[593,"Statewide Totals",2012,"Annual","T7 SWCV","DSL","T7 SWCV_DSL","AllMYr",40,"T7 SWCV_DSL_40",51576.519410000001,0,9.0163404000000003E-2,0.10264417200000001,0.494074605,13.203752379999999,1737.8156650000001,1729.126587,6.4650698000000006E-2,5.9478641999999998E-2,0]
[594,"Statewide Totals",2012,"Annual","T7 SWCV","DSL","T7 SWCV_DSL","AllMYr",45,"T7 SWCV_DSL_45",65314.431129999997,0,7.9584685000000002E-2,9.0601106000000001E-2,0.44470700400000002,12.93142666,1674.7534410000001,1666.379674,6.1944841E-2,5.6989252999999997E-2,0]
[586,"Statewide Totals",2012,"Annual","T7 SWCV","DSL","T7 SWCV_DSL","AllMYr",5,"T7 SWCV_DSL_5",1334.173323,0,1.329317812,1.513327139,2.34183976,40.696628760000003,4100.0390379999999,4079.5388429999998,0.29612256199999998,0.27243275700000003,0]
[595,"Statewide Totals",2012,"Annual","T7 SWCV","DSL","T7 SWCV_DSL","AllMYr",50,"T7 SWCV_DSL_50",65763.917239999995,0,7.4731556000000005E-2,8.5076187999999997E-2,0.41928067200000002,12.88487361,1634.6548809999999,1626.4816060000001,6.4089007000000003E-2,5.8961885999999998E-2,0]
[596,"Statewide Totals",2012,"Annual","T7 SWCV","DSL","T7 SWCV_DSL","AllMYr",55,"T7 SWCV_DSL_55",76924.599499999997,0,7.4049996000000007E-2,8.4300284000000003E-2,0.40757837099999999,12.947811720000001,1615.217594,1607.1415059999999,6.8796388999999999E-2,6.3292678000000005E-2,0]
[597,"Statewide Totals",2012,"Annual","T7 SWCV","DSL","T7 SWCV_DSL","AllMYr",60,"T7 SWCV_DSL_60",68497.242570000002,0,8.3633961000000007E-2,9.5210898000000002E-2,0.43275836099999998,13.647586179999999,1626.2413079999999,1618.1101020000001,8.3849438999999998E-2,7.7141482999999997E-2,0]
[598,"Statewide Totals",2012,"Annual","T7 SWCV","DSL","T7 SWCV_DSL","AllMYr",65,"T7 SWCV_DSL_65",55278.12629,0,9.3208976999999998E-2,0.10611132500000001,0.45242158999999998,14.116273700000001,1650.8008239999999,1642.54682,9.5446401E-2,8.7810688999999997E-2,0]
[599,"Statewide Totals",2012,"Annual","T7 SWCV","DSL","T7 SWCV_DSL","AllMYr",70,"T7 SWCV_DSL_70",8223.5875230000001,0,0.10340480000000001,0.11771849400000001,0.47930429899999999,14.347113970000001,1688.763297,1680.3194800000001,0.104324536,9.5978572999999998E-2,0]
[615,"Statewide Totals",2012,"Annual","T7 tractor construction","DSL","T7 tractor construction_DSL","AllMYr",10,"T7 tractor construction_DSL_10",5506.5101299999997,0,5.815678567,6.6207073510000001,11.81019886,28.986381770000001,3322.346955,3305.73522,1.413640343,1.3005491149999999,0]
[616,"Statewide Totals",2012,"Annual","T7 tractor construction","DSL","T7 tractor construction_DSL","AllMYr",15,"T7 tractor construction_DSL_15",8179.888723,0,2.9997457110000001,3.414982148,8.2283637699999996,20.514781790000001,2727.882282,2714.24287,0.97116452600000003,0.89347136299999996,0]
[617,"Statewide Totals",2012,"Annual","T7 tractor construction","DSL","T7 tractor construction_DSL","AllMYr",20,"T7 tractor construction_DSL_20",19695.4244,0,1.220250214,1.389161981,5.5265276820000002,15.47776328,2152.0143520000001,2141.254281,0.63360398100000004,0.582915662,0]
[618,"Statewide Totals",2012,"Annual","T7 tractor construction","DSL","T7 tractor construction_DSL","AllMYr",25,"T7 tractor construction_DSL_25",28061.13881,0,1.003153521,1.1420139220000001,4.7578102619999996,14.536470080000001,2007.8796729999999,1997.840275,0.54241659099999995,0.49902326299999999,0]
[619,"Statewide Totals",2012,"Annual","T7 tractor construction","DSL","T7 tractor construction_DSL","AllMYr",30,"T7 tractor construction_DSL_30",44411.3024,0,0.82571508599999999,0.94001377100000005,4.1160250019999998,13.79443043,1884.739026,1875.315331,0.47618847600000003,0.43809339800000002,0]
[620,"Statewide Totals",2012,"Annual","T7 tractor construction","DSL","T7 tractor construction_DSL","AllMYr",35,"T7 tractor construction_DSL_35",60065.153050000001,0,0.685374912,0.78024716599999999,3.5833033470000002,13.210329870000001,1782.526535,1773.6139029999999,0.43291495000000002,0.39828175399999999,0]
[621,"Statewide Totals",2012,"Annual","T7 tractor construction","DSL","T7 tractor construction_DSL","AllMYr",40,"T7 tractor construction_DSL_40",56566.798569999999,0,0.58399385299999995,0.66483254800000002,3.171830189,12.785925880000001,1701.293903,1692.787433,0.41402999200000001,0.38090759200000002,0]
[622,"Statewide Totals",2012,"Annual","T7 tractor construction","DSL","T7 tractor construction_DSL","AllMYr",45,"T7 tractor construction_DSL_45",73819.345270000005,0,0.52008001599999998,0.59207150900000005,2.8709167710000001,12.50681754,1640.981329,1632.7764219999999,0.41825584700000001,0.38479537899999999,0]
[614,"Statewide Totals",2012,"Annual","T7 tractor construction","DSL","T7 tractor construction_DSL","AllMYr",5,"T7 tractor construction_DSL_5",1545.3462569999999,0,9.8125372770000006,11.17082675,16.509616680000001,41.204846750000002,4021.8020999999999,4001.6930900000002,1.985186863,1.8263719140000001,0]
[623,"Statewide Totals",2012,"Annual","T7 tractor construction","DSL","T7 tractor construction_DSL","AllMYr",50,"T7 tractor construction_DSL_50",74430.143830000001,0,0.49448389399999998,0.56293227300000004,2.6870465870000002,12.377411459999999,1601.614967,1593.606892,0.446305014,0.410600613,0]
[624,"Statewide Totals",2012,"Annual","T7 tractor construction","DSL","T7 tractor construction_DSL","AllMYr",55,"T7 tractor construction_DSL_55",88643.119349999994,0,0.50924173299999997,0.57973294900000005,2.628654628,12.44798982,1583.2683199999999,1575.351979,0.49957678500000002,0.45961064299999999,0]
[625,"Statewide Totals",2012,"Annual","T7 tractor construction","DSL","T7 tractor construction_DSL","AllMYr",60,"T7 tractor construction_DSL_60",65805.969469999996,0,0.56195395000000004,0.63974179499999995,2.6842189479999998,12.62310898,1585.842261,1577.913049,0.57628700300000002,0.53018404299999999,0]
[626,"Statewide Totals",2012,"Annual","T7 tractor construction","DSL","T7 tractor construction_DSL","AllMYr",65,"T7 tractor construction_DSL_65",55970.103690000004,0,0.67466858699999999,0.768058829,2.9057586020000001,13.30900991,1609.865325,1601.8159989999999,0.68842193600000001,0.63334818100000001,0]
[627,"Statewide Totals",2012,"Annual","T7 tractor construction","DSL","T7 tractor construction_DSL","AllMYr",70,"T7 tractor construction_DSL_70",15919.86299,0,0.88208395699999997,1.0041854400000001,3.3423610840000002,14.772344929999999,1655.7192419999999,1647.440646,0.85119105399999995,0.783095769,0]
[601,"Statewide Totals",2012,"Annual","T7 tractor","DSL","T7 tractor_DSL","AllMYr",10,"T7 tractor_DSL_10",76118.783349999998,0,5.5092900650000001,6.2719073649999997,11.20954961,28.321313570000001,3322.6884789999999,3306.0750360000002,1.2994525589999999,1.1954963540000001,0]
[602,"Statewide Totals",2012,"Annual","T7 tractor","DSL","T7 tractor_DSL","AllMYr",15,"T7 tractor_DSL_15",107181.8058,0,2.8421474760000001,3.2355685539999999,7.7395785799999999,20.13664558,2728.1748929999999,2714.5340190000002,0.90277670200000004,0.83055456500000002,0]
[603,"Statewide Totals",2012,"Annual","T7 tractor","DSL","T7 tractor_DSL","AllMYr",20,"T7 tractor_DSL_20",252940.03529999999,0,1.1603223030000001,1.3209386160000001,5.155527942,15.19698625,2152.2467230000002,2141.48549,0.59859183199999999,0.55070448599999999,0]
[604,"Statewide Totals",2012,"Annual","T7 tractor","DSL","T7 tractor_DSL","AllMYr",25,"T7 tractor_DSL_25",328817.82659999997,0,0.95797374099999999,1.0905801820000001,4.4574042470000004,14.223818769999999,2008.097352,1998.056865,0.51591148499999995,0.47463856599999998,0]
[605,"Statewide Totals",2012,"Annual","T7 tractor","DSL","T7 tractor_DSL","AllMYr",30,"T7 tractor_DSL_30",530006.02249999996,0,0.791783613,0.90138537200000002,3.8748723740000002,13.45064852,1884.936696,1875.512013,0.456517065,0.41999570000000003,0]
[606,"Statewide Totals",2012,"Annual","T7 tractor","DSL","T7 tractor_DSL","AllMYr",35,"T7 tractor_DSL_35",772393.98990000004,0,0.65966998499999996,0.75098406299999998,3.3933874409999998,12.83819441,1782.7082740000001,1773.794733,0.41875770299999998,0.385257087,0]
[607,"Statewide Totals",2012,"Annual","T7 tractor","DSL","T7 tractor_DSL","AllMYr",40,"T7 tractor_DSL_40",732560.12009999994,0,0.56322416900000005,0.64118784299999998,3.0234453129999999,12.38530235,1701.4576890000001,1692.9504010000001,0.40387678799999999,0.37156664499999997,0]
[608,"Statewide Totals",2012,"Annual","T7 tractor","DSL","T7 tractor_DSL","AllMYr",45,"T7 tractor_DSL_45",982851.53810000001,0,0.501241932,0.57062578399999997,2.756533761,12.08292363,1641.135794,1632.9301149999999,0.41083535399999999,0.377968525,0]
[600,"Statewide Totals",2012,"Annual","T7 tractor","DSL","T7 tractor_DSL","AllMYr",5,"T7 tractor_DSL_5",20891.470689999998,0,9.3025208369999994,10.590211849999999,15.804209030000001,40.08258781,4022.223911,4002.112791,1.8117586020000001,1.6668179139999999,0]
[609,"Statewide Totals",2012,"Annual","T7 tractor","DSL","T7 tractor_DSL","AllMYr",50,"T7 tractor_DSL_50",1003540.998,0,0.47443717099999999,0.54011060399999999,2.5980240380000001,11.93580208,1601.7663769999999,1593.7575449999999,0.44023936200000002,0.40502021300000002,0]
[610,"Statewide Totals",2012,"Annual","T7 tractor","DSL","T7 tractor_DSL","AllMYr",55,"T7 tractor_DSL_55",1200947.5449999999,0,0.48426760600000002,0.55130180699999998,2.5538682499999998,11.98085556,1583.404088,1575.487067,0.49311211100000002,0.45366314299999999,0]
[611,"Statewide Totals",2012,"Annual","T7 tractor","DSL","T7 tractor_DSL","AllMYr",60,"T7 tractor_DSL_60",724351.69669999997,0,0.52982686300000004,0.60316755300000002,2.6179643430000001,12.153257440000001,1585.9993609999999,1578.069364,0.56862590700000004,0.52313583399999997,0]
[612,"Statewide Totals",2012,"Annual","T7 tractor","DSL","T7 tractor_DSL","AllMYr",65,"T7 tractor_DSL_65",595735.26839999994,0,0.62973857700000002,0.71690943299999998,2.8328029360000002,12.805185270000001,1610.0006100000001,1601.950607,0.67702532999999998,0.62286330400000001,0]
[613,"Statewide Totals",2012,"Annual","T7 tractor","DSL","T7 tractor_DSL","AllMYr",70,"T7 tractor_DSL_70",220171.7965,0,0.79132772900000004,0.90086638200000002,3.1968265310000001,13.89325627,1655.299344,1647.022847,0.82008332500000003,0.75447665900000005,0]
[629,"Statewide Totals",2012,"Annual","T7 utility","DSL","T7 utility_DSL","AllMYr",10,"T7 utility_DSL_10",282.844899,0,2.02937806,2.3102924429999998,4.1303622190000002,25.025662780000001,3317.4296939999999,3300.8425459999999,0.68459299900000004,0.62982555900000003,0]
[630,"Statewide Totals",2012,"Annual","T7 utility","DSL","T7 utility_DSL","AllMYr",15,"T7 utility_DSL_15",421.93395629999998,0,1.03743743,1.1810435429999999,2.8172770140000001,17.463398949999998,2723.8973489999998,2710.2778619999999,0.46147455700000001,0.42455659200000001,0]
[631,"Statewide Totals",2012,"Annual","T7 utility","DSL","T7 utility_DSL","AllMYr",20,"T7 utility_DSL_20",1016.354228,0,0.42176629599999998,0.480148823,1.8348531800000001,13.12219189,2148.8840639999999,2138.1396439999999,0.29134571999999997,0.26803806200000002,0]
[632,"Statewide Totals",2012,"Annual","T7 utility","DSL","T7 utility_DSL","AllMYr",25,"T7 utility_DSL_25",1453.123096,0,0.34597382799999998,0.39386486700000001,1.5826017429999999,12.441059750000001,2004.95686,1994.9320749999999,0.24591077,0.22623790799999999,0]
[633,"Statewide Totals",2012,"Annual","T7 utility","DSL","T7 utility_DSL","AllMYr",30,"T7 utility_DSL_30",2292.445021,0,0.283561589,0.32281328399999998,1.3703804900000001,11.900436239999999,1881.955189,1872.5454130000001,0.21263374600000001,0.19562304599999999,0]
[634,"Statewide Totals",2012,"Annual","T7 utility","DSL","T7 utility_DSL","AllMYr",35,"T7 utility_DSL_35",3088.4138889999999,0,0.23452957999999999,0.26699407400000003,1.198189419,11.48999027,1779.8790509999999,1770.979656,0.19151464700000001,0.17619347499999999,0]
[635,"Statewide Totals",2012,"Annual","T7 utility","DSL","T7 utility_DSL","AllMYr",40,"T7 utility_DSL_40",2899.0794019999998,0,0.19887779999999999,0.22640723700000001,1.0660285300000001,11.1880063,1698.7284480000001,1690.2348059999999,0.18255347299999999,0.167949195,0]
[636,"Statewide Totals",2012,"Annual","T7 utility","DSL","T7 utility_DSL","AllMYr",45,"T7 utility_DSL_45",3773.7217690000002,0,0.17660624999999999,0.20105277199999999,0.97389782499999999,11.011015739999999,1638.5033780000001,1630.3108609999999,0.18575022499999999,0.17089020699999999,0]
[628,"Statewide Totals",2012,"Annual","T7 utility","DSL","T7 utility_DSL","AllMYr",5,"T7 utility_DSL_5",79.476890420000004,0,3.4511836219999998,3.9289098459999998,5.8792396099999999,36.114299240000001,4015.8787609999999,3995.7993670000001,0.97656207399999995,0.89843710799999998,0]
[637,"Statewide Totals",2012,"Annual","T7 utility","DSL","T7 utility_DSL","AllMYr",50,"T7 utility_DSL_50",3805.041659,0,0.16771493000000001,0.19093068099999999,0.92179730199999999,10.95160343,1599.2038419999999,1591.207823,0.201104903,0.18501651,0]
[638,"Statewide Totals",2012,"Annual","T7 utility","DSL","T7 utility_DSL","AllMYr",55,"T7 utility_DSL_55",4508.1035709999996,0,0.172203839,0.19604096300000001,0.90972696099999995,11.015169670000001,1580.8298400000001,1572.9256909999999,0.228617506,0.21032810499999999,0]
[639,"Statewide Totals",2012,"Annual","T7 utility","DSL","T7 utility_DSL","AllMYr",60,"T7 utility_DSL_60",3365.4642180000001,0,0.190072978,0.216383617,0.93768680400000004,11.167398009999999,1583.3813709999999,1575.464465,0.26828803400000001,0.24682499099999999,0]
[640,"Statewide Totals",2012,"Annual","T7 utility","DSL","T7 utility_DSL","AllMYr",65,"T7 utility_DSL_65",2721.7306880000001,0,0.221322347,0.25195864400000001,1.005676829,11.473570349999999,1606.8584370000001,1598.8241439999999,0.32011648799999998,0.29450716900000001,0]
[641,"Statewide Totals",2012,"Annual","T7 utility","DSL","T7 utility_DSL","AllMYr",70,"T7 utility_DSL_70",603.81238900000005,0,0.26595194500000002,0.30276604499999998,1.113697036,11.97056117,1651.2610360000001,1643.0047300000001,0.38410286700000001,0.35337463800000002,0]
[643,"Statewide Totals",2012,"Annual","T7IS","GAS","T7IS_GAS","AllMYr",10,"T7IS_GAS_10",5669.3513810000004,0,6.6155176139999998,7.3653239519999998,149.7724757,4.9081972440000001,2036.128068,2025.9474279999999,8.5514340000000001E-3,7.1045650000000002E-3,0]
[644,"Statewide Totals",2012,"Annual","T7IS","GAS","T7IS_GAS","AllMYr",15,"T7IS_GAS_15",8377.6536489999999,0,4.0528500379999999,4.5326663659999999,96.049361239999996,4.9036531009999997,1392.429523,1385.4673760000001,5.2117079999999998E-3,4.338705E-3,0]
[645,"Statewide Totals",2012,"Annual","T7IS","GAS","T7IS_GAS","AllMYr",20,"T7IS_GAS_20",18254.30789,0,2.6907319080000001,3.0186080500000001,67.082175969999994,5.022133052,1006.068516,1001.038173,3.4305889999999999E-3,2.8601059999999998E-3,0]
[646,"Statewide Totals",2012,"Annual","T7IS","GAS","T7IS_GAS","AllMYr",25,"T7IS_GAS_25",31290.91272,0,1.8708085880000001,2.1066821240000002,49.522648259999997,5.1289911960000003,768.01206679999996,764.17200649999995,2.3649299999999999E-3,1.975039E-3,0]
[647,"Statewide Totals",2012,"Annual","T7IS","GAS","T7IS_GAS","AllMYr",30,"T7IS_GAS_30",45907.72739,0,1.478117771,1.6635458510000001,41.038846710000001,5.4702752390000002,619.43360559999996,616.33643759999995,1.8752269999999999E-3,1.565117E-3,0]
[648,"Statewide Totals",2012,"Annual","T7IS","GAS","T7IS_GAS","AllMYr",35,"T7IS_GAS_35",56450.256800000003,0,1.276066251,1.430510079,37.249245559999999,5.9776031979999997,527.84656229999996,525.20732950000001,1.630023E-3,1.3577839999999999E-3,0]
[649,"Statewide Totals",2012,"Annual","T7IS","GAS","T7IS_GAS","AllMYr",40,"T7IS_GAS_40",51374.041550000002,0,1.0431943880000001,1.171890417,33.367725069999999,6.2049815439999998,475.23320269999999,472.85703669999998,1.318479E-3,1.0990869999999999E-3,0]
[650,"Statewide Totals",2012,"Annual","T7IS","GAS","T7IS_GAS","AllMYr",45,"T7IS_GAS_45",55808.056689999998,0,0.89357066100000004,1.00538145,31.70851356,6.454122999,452.05583799999999,449.79555879999998,1.131815E-3,9.4399999999999996E-4,0]
[642,"Statewide Totals",2012,"Annual","T7IS","GAS","T7IS_GAS","AllMYr",5,"T7IS_GAS_5",1286.9041010000001,0,8.0901639470000006,9.0336072929999993,181.83082490000001,4.7849169829999996,2513.4971329999998,2500.9296469999999,1.0449028000000001E-2,8.6936229999999993E-3,0]
[651,"Statewide Totals",2012,"Annual","T7IS","GAS","T7IS_GAS","AllMYr",50,"T7IS_GAS_50",53210.676820000001,0,0.80087296299999999,0.90248368199999995,32.021814200000001,6.6817468599999996,454.32180879999999,452.05019970000001,1.0270170000000001E-3,8.5599999999999999E-4,0]
[652,"Statewide Totals",2012,"Annual","T7IS","GAS","T7IS_GAS","AllMYr",55,"T7IS_GAS_55",67833.606239999994,0,0.78246290500000004,0.87977769400000005,35.128664659999998,7.0834288819999998,482.41552289999998,480.00344530000001,1.002672E-3,8.34E-4,0]
[653,"Statewide Totals",2012,"Annual","T7IS","GAS","T7IS_GAS","AllMYr",60,"T7IS_GAS_60",39695.69814,0,0.64835461299999997,0.74184141100000001,34.833287660000003,6.8638060870000004,541.20920579999995,538.50315969999997,7.9600000000000005E-4,6.6699999999999995E-4,0]
[654,"Statewide Totals",2012,"Annual","T7IS","GAS","T7IS_GAS","AllMYr",65,"T7IS_GAS_65",32914.056660000002,0,0.70837160499999996,0.80824157299999999,43.190032729999999,7.4745099599999998,641.49787530000003,638.29038600000001,7.9500000000000003E-4,6.6799999999999997E-4,0]
[655,"Statewide Totals",2012,"Annual","T7IS","GAS","T7IS_GAS","AllMYr",70,"T7IS_GAS_70",8444.4533049999991,0,1.223826238,1.3706799030000001,75.522118180000007,10.872180009999999,803.36245589999999,799.34564360000002,9.5799999999999998E-4,8.1999999999999998E-4,0]
[659,"Statewide Totals",2012,"Annual","UBUS","DSL","UBUS_DSL","AllMYr",10,"UBUS_DSL_10",64028.606529999997,0,1.594927805,1.815719238,9.5637454389999998,28.48870733,2602.1451179999999,2589.1343919999999,0.688251532,0.63319143700000002,0]
[661,"Statewide Totals",2012,"Annual","UBUS","DSL","UBUS_DSL","AllMYr",15,"UBUS_DSL_15",128057.212,0,1.177423377,1.3404181909999999,6.2026676939999996,22.342882329999998,2602.1451940000002,2589.1344680000002,0.50808785300000003,0.46744084899999999,0]
[663,"Statewide Totals",2012,"Annual","UBUS","DSL","UBUS_DSL","AllMYr",20,"UBUS_DSL_20",168990.8768,0,0.90017006600000005,1.0247837479999999,4.2715615360000001,18.421302959999998,2602.1451900000002,2589.1344640000002,0.38844606199999998,0.35737038999999998,0]
[665,"Statewide Totals",2012,"Annual","UBUS","DSL","UBUS_DSL","AllMYr",25,"UBUS_DSL_25",254512.38190000001,0,0.71271650900000005,0.81138033700000001,3.123579195,15.9667402,2602.1451969999998,2589.1344709999998,0.30755512899999998,0.28295073300000001,0]
[667,"Statewide Totals",2012,"Annual","UBUS","DSL","UBUS_DSL","AllMYr",30,"UBUS_DSL_30",318540.95559999999,0,0.58439887499999998,0.66529924100000004,2.4253586390000001,14.548789230000001,2602.1452439999998,2589.1345179999998,0.25218283400000002,0.23200822199999999,0]
[669,"Statewide Totals",2012,"Annual","UBUS","DSL","UBUS_DSL","AllMYr",35,"UBUS_DSL_35",312168.70380000002,0,0.49625197599999998,0.56494985600000003,1.999664707,13.936452429999999,2602.1451259999999,2589.1344009999998,0.21414522799999999,0.197013619,0]
[671,"Statewide Totals",2012,"Annual","UBUS","DSL","UBUS_DSL","AllMYr",40,"UBUS_DSL_40",225045.1624,0,0.43641066000000001,0.49682451599999999,1.750636549,14.034349600000001,2602.145113,2589.1343879999999,0.188322195,0.17325642899999999,0]
[673,"Statewide Totals",2012,"Annual","UBUS","DSL","UBUS_DSL","AllMYr",45,"UBUS_DSL_45",98103.994399999996,0,0.397455797,0.45247698200000003,1.627393106,14.85754545,2602.145156,2589.1344300000001,0.17151218700000001,0.15779122100000001,0]
[657,"Statewide Totals",2012,"Annual","UBUS","DSL","UBUS_DSL","AllMYr",5,"UBUS_DSL_5",17838.72741,0,1.880811537,2.1411788110000001,12.14575149,32.778009189999999,2602.1451780000002,2589.1344519999998,0.81161754699999999,0.74668819600000003,0]
[675,"Statewide Totals",2012,"Annual","UBUS","DSL","UBUS_DSL","AllMYr",50,"UBUS_DSL_50",49844.032330000002,0,0.37487165500000003,0.42676644800000002,1.6063740399999999,16.535472670000001,2602.1451480000001,2589.1344220000001,0.161766566,0.14882524499999999,0]
[677,"Statewide Totals",2012,"Annual","UBUS","DSL","UBUS_DSL","AllMYr",55,"UBUS_DSL_55",61796.522120000001,0,0.36616490200000001,0.416854383,1.6836761309999999,19.346431500000001,2602.1451350000002,2589.1344089999998,0.15800937900000001,0.14536863699999999,0]
[679,"Statewide Totals",2012,"Annual","UBUS","DSL","UBUS_DSL","AllMYr",60,"UBUS_DSL_60",101146.1203,0,0.37040010499999998,0.42167588099999997,1.873820797,23.79577462,2602.145235,2589.134509,0.15983697599999999,0.147050025,0]
[658,"Statewide Totals",2012,"Annual","UBUS","GAS","UBUS_GAS","AllMYr",10,"UBUS_GAS_10",15790.074119999999,0,5.9730349289999998,6.4319420450000004,54.886359689999999,3.3313635119999998,2036.1282389999999,2025.947598,1.296514E-2,1.1282598E-2,0]
[660,"Statewide Totals",2012,"Annual","UBUS","GAS","UBUS_GAS","AllMYr",15,"UBUS_GAS_15",31580.148359999999,0,3.9958452860000002,4.3028454290000004,37.534664300000003,3.49606043,1392.4295609999999,1385.4674130000001,8.6734289999999999E-3,7.5478409999999996E-3,0]
[662,"Statewide Totals",2012,"Annual","UBUS","GAS","UBUS_GAS","AllMYr",20,"UBUS_GAS_20",41674.786,0,2.7864129879999999,3.0004925880000002,27.119825720000001,3.6607571050000001,1006.068579,1001.038236,6.04822E-3,5.263317E-3,0]
[664,"Statewide Totals",2012,"Annual","UBUS","GAS","UBUS_GAS","AllMYr",25,"UBUS_GAS_25",62765.218379999998,0,2.0253753880000001,2.1809845879999998,20.702717029999999,3.8254535180000002,768.01207109999996,764.17201069999999,4.3963029999999998E-3,3.8257769999999998E-3,0]
[666,"Statewide Totals",2012,"Annual","UBUS","GAS","UBUS_GAS","AllMYr",30,"UBUS_GAS_30",78555.28297,0,1.534577592,1.652478924,16.697601120000002,3.990149996,619.43362769999999,616.33645950000005,3.3309720000000002E-3,2.8986979999999999E-3,0]
[668,"Statewide Totals",2012,"Annual","UBUS","GAS","UBUS_GAS","AllMYr",35,"UBUS_GAS_35",76983.823149999997,0,1.21197964,1.3050958210000001,14.22875807,4.1548469570000002,527.8465539,525.20732120000002,2.6307370000000002E-3,2.289335E-3,0]
[670,"Statewide Totals",2012,"Annual","UBUS","GAS","UBUS_GAS","AllMYr",40,"UBUS_GAS_40",55498.315840000003,0,0.99775758000000003,1.0744151070000001,12.81049894,4.3195435629999999,475.23316260000001,472.85699679999999,2.1657439999999998E-3,1.884686E-3,0]
[672,"Statewide Totals",2012,"Annual","UBUS","GAS","UBUS_GAS","AllMYr",45,"UBUS_GAS_45",24193.394769999999,0,0.85620540499999997,0.921987522,12.185725420000001,4.4842398650000002,452.05583530000001,449.7955561,1.8584890000000001E-3,1.6173050000000001E-3,0]
[656,"Statewide Totals",2012,"Annual","UBUS","GAS","UBUS_GAS","AllMYr",5,"UBUS_GAS_5",4399.2027680000001,0,7.4173194240000004,7.9871910120000003,67.754430670000005,3.2490156520000002,2513.4971420000002,2500.9296559999998,1.6100120999999998E-2,1.4010740000000001E-2,0]
[674,"Statewide Totals",2012,"Annual","UBUS","GAS","UBUS_GAS","AllMYr",50,"UBUS_GAS_50",12292.02095,0,0.76586834100000001,0.82470986899999998,12.246806960000001,4.6489367909999997,454.32178850000003,452.05017959999998,1.662403E-3,1.4466660000000001E-3,0]
[676,"Statewide Totals",2012,"Annual","UBUS","GAS","UBUS_GAS","AllMYr",55,"UBUS_GAS_55",15239.62081,0,0.71409085000000005,0.76895433400000002,13.00410793,4.8136334290000002,482.41550519999998,480.00342769999997,1.5500139999999999E-3,1.3488619999999999E-3,0]
[678,"Statewide Totals",2012,"Annual","UBUS","GAS","UBUS_GAS","AllMYr",60,"UBUS_GAS_60",24943.613850000002,0,0.69402654900000005,0.74734847800000004,14.58896442,4.978330004,541.20919240000001,538.50314639999999,1.5064620000000001E-3,1.3109619999999999E-3,0]

{"sheet":"By Population","index":9,"n_rows":15,"n_cols":62,"rows_kept":15,"cut":false,"hidden":false,"merged":[]}
["SortOrder","Area","CalYr","Season","Veh","Fuel","VehK","MdlYr","Speed","Pop","Fraction of Pop","VMT","Trips","ROG_RUNEX","ROG_IDLEX","ROG_STREX","ROG_DIURN","ROG_HTSK","ROG_RUNLS","ROG_RESTL","TOG_RUNEX","TOG_IDLEX","TOG_STREX","TOG_DIURN","TOG_HTSK","TOG_RUNLS","TOG_RESTL","CO_RUNEX","CO_IDLEX","CO_STREX","NOX_RUNEX","NOX_IDLEX","NOX_STREX","CO2_RUNEX","CO2_IDLEX","CO2_STREX","CO2_RUNEX(Pavley I+LCFS)","CO2_IDLEX(Pavley I+LCFS)","CO2_STREX(Pavley I+LCFS)","PM10_RUNEX","PM10_IDLEX","PM10_STREX","PM10_PMTW","PM10_PMBW","PM2_5_RUNEX","PM2_5_IDLEX","PM2_5_STREX","PM2_5_PMTW","PM2_5_PMBW","SOX_RUNEX","SOX_IDLEX","SOX_STREX","ROG_STREX_TRIP","ROG_HTSK_TRIP","TOG_STREX_TRIP","TOG_HTSK_TRIP","CO_STREX_TRIP","NOX_STREX_TRIP","CO2_STREX_TRIP","PM10_STREX_TRIP","PM2_5_STREX_TRIP","SOX_STREX_TRIP"]
[1,"Statewide Totals",2012,"Annual","LDA","GAS","LDA_GAS","AllMYr","AllSpeeds",13300000,{"$f":"J2/$J$15","v":0.52553686598901728},481000000,83400000,6.7428409999999994E-2,0,2.216802205,0.56999183099999995,1.2275804619999999,8.6154090000000003E-2,0.40878100499999998,8.8087782000000003E-2,0,2.3705028970000002,0.56999183099999995,1.2275804619999999,8.6154090000000003E-2,0.40878100499999998,1.9206383570000001,0,25.23230762,0.18109719699999999,0,1.6968428680000001,348.77225120000003,0,462.23413829999998,329.91722570000002,0,444.08963369999998,2.5888399999999998E-3,0,2.2901622999999999E-2,7.9999589999999992E-3,3.6749814999999998E-2,2.3430310000000002E-3,0,2.0701820999999999E-2,1.9999900000000001E-3,1.5749920000000001E-2,3.5140750000000002E-3,0,5.0802210000000002E-3,2.658036217026379E-8,1.4719190191846522E-8,2.8423296127098324E-8,1.4719190191846522E-8,3.0254565491606717E-7,2.0345837745803358E-8,5.5423757589928056E-6,2.7459979616306953E-10,2.4822327338129497E-10,6.0913920863309355E-11]
[2,"Statewide Totals",2012,"Annual","LDA","DSL","LDA_DSL","AllMYr","AllSpeeds",55697.907039999998,2.200849887815731E-3,1805656.8060000001,321452.0012,6.8809229999999999E-2,0,0,0,0,0,0,7.8334731000000005E-2,0,0,0,0,0,0,0.34239441799999998,0,0,0.760583919,0,0,350.98463290000001,0,0,327.39884810000001,0,0,5.1513119000000003E-2,0,0,7.9999589999999992E-3,3.6749814999999998E-2,4.7392070000000001E-2,0,0,1.9999900000000001E-3,1.5749920000000001E-2,3.350717E-3,0,0,0,0,0,0,0,0,0,0,0,0]
[3,"Statewide Totals",2012,"Annual","LDT1","GAS","LDT1_GAS","AllMYr","AllSpeeds",1714508.8689999999,6.7747189302604108E-2,61600000,10400000,0.174443654,0,4.1755435700000003,1.242952219,2.266044918,0.238660549,0.82800865499999998,0.21508200399999999,0,4.465316316,1.242952219,2.266044918,0.238660549,0.82800865499999998,4.6367560860000001,0,51.128608900000003,0.46164279600000002,0,2.7371616329999999,401.05002639999998,0,515.59389199999998,382.69415309999999,0,498.60351830000002,5.818279E-3,0,4.2470598999999998E-2,7.9999589999999992E-3,3.6749814999999998E-2,5.2582310000000004E-3,0,3.8366921999999998E-2,1.9999900000000001E-3,1.5749920000000001E-2,4.0822580000000001E-3,0,6.0813660000000004E-3,4.014945740384616E-7,2.1788893442307692E-7,4.2935733807692309E-7,2.1788893442307692E-7,4.9162123942307694E-6,2.631886185576923E-7,4.9576335769230766E-5,4.083711442307692E-9,3.6891271153846151E-9,5.847467307692308E-10]
[4,"Statewide Totals",2012,"Annual","LDT1","DSL","LDT1_DSL","AllMYr","AllSpeeds",2365.7800579999998,9.348155167673951E-5,72078.810209999996,12392.11332,0.113720449,0,0,0,0,0,0,0.12946316599999999,0,0,0,0,0,0,0.50186501800000005,0,0,0.94795054599999995,0,0,363.2836001,0,0,341.84384879999999,0,0,9.5850880999999999E-2,0,0,7.9999579999999997E-3,3.6749814999999998E-2,8.8182809000000001E-2,0,0,1.9999900000000001E-3,1.5749920000000001E-2,3.4681299999999998E-3,0,0,0,0,0,0,0,0,0,0,0,0]
[5,"Statewide Totals",2012,"Annual","LDT2","GAS","LDT2_GAS","AllMYr","AllSpeeds",4549078.6749999998,0.17975252255616325,175000000,28600000,7.8305441000000003E-2,0,2.7560204920000002,0.57447014500000004,1.220530082,0.116277485,0.42009370600000001,0.105536202,0,2.945124329,0.57447014500000004,1.220530082,0.116277485,0.42009370600000001,2.5522422360000001,0,34.747184609999998,0.33932089500000001,0,3.2876494630000002,475.93640069999998,0,628.62532329999999,457.96820400000001,0,610.43610109999997,2.6664029999999999E-3,0,2.2224730000000002E-2,7.9999589999999992E-3,3.6749814999999998E-2,2.4255610000000001E-3,0,2.0242634999999998E-2,1.9999900000000001E-3,1.5749920000000001E-2,4.7938089999999996E-3,0,6.9074469999999997E-3,9.6364352867132875E-8,4.2675876993006997E-8,1.0297637513986014E-7,4.2675876993006997E-8,1.2149365248251748E-6,1.1495277842657343E-7,2.1979906409090909E-5,7.7708846153846155E-10,7.0778444055944049E-10,2.4151912587412584E-10]
[6,"Statewide Totals",2012,"Annual","LDT2","DSL","LDT2_DSL","AllMYr","AllSpeeds",2106.1331420000001,8.3221850436261799E-5,69077.674400000004,11507.48976,0.106371487,0,0,0,0,0,0,0.121096862,0,0,0,0,0,0,0.46115353100000001,0,0,1.0394231199999999,0,0,359.50477660000001,0,0,343.63671740000001,0,0,8.6822795999999994E-2,0,0,7.9999579999999997E-3,3.6749814999999998E-2,7.9876972000000004E-2,0,0,1.9999900000000001E-3,1.5749919000000001E-2,3.4320549999999998E-3,0,0,0,0,0,0,0,0,0,0,0,0]
[7,"Statewide Totals",2012,"Annual","LHD1","GAS","LHD1_GAS","AllMYr","AllSpeeds",681852.75809999998,2.6942764026905378E-2,29600000,10200000,0.237489216,0.55208405599999999,11.5428189,6.3812367999999994E-2,1.6554071779999999,0.244435549,3.0636252999999999E-2,0.27388307299999998,0.583889255,12.32987971,6.3812367999999994E-2,1.6554071779999999,0.244435549,3.0636252999999999E-2,3.5541092459999999,3.3723487400000001,135.86552159999999,0.70240688900000003,3.5843436999999999E-2,29.586677269999999,792.78777609999997,116.36445569999999,853.21667969999999,788.82383730000004,115.78263339999999,848.95059630000003,3.1977809999999998E-3,0,3.610944E-2,7.9999589999999992E-3,3.6749814999999998E-2,2.9481860000000002E-3,0,3.2977133999999998E-2,1.9999900000000001E-3,1.5749920000000001E-2,7.9772899999999997E-3,1.2318699999999999E-3,1.1014614000000001E-2,1.131648911764706E-6,1.6229482137254902E-7,1.2088117362745098E-6,1.6229482137254902E-7,1.3320149176470587E-5,2.9006546343137253E-6,8.3648694088235288E-5,3.5401411764705883E-9,3.2330523529411764E-9,1.0798641176470589E-9]
[8,"Statewide Totals",2012,"Annual","LHD1","DSL","LHD1_DSL","AllMYr","AllSpeeds",358209.9792,1.4154327055245042E-2,15400000,4505830.7929999996,0.22452028099999999,0.109759106,0,0,0,0,0,0.255601405,0.124953445,0,0,0,0,0,1.0906457329999999,0.90973995699999999,0,5.2010754429999997,2.5960802169999999,0,525.45878619999996,141.75341169999999,0,522.83149219999996,141.04464469999999,0,5.1287296000000003E-2,3.0532073999999999E-2,0,1.1999938E-2,7.6439598999999997E-2,4.7184313999999998E-2,2.8089510000000002E-2,0,2.9999850000000002E-3,3.2759826999999998E-2,5.0163550000000001E-3,1.3532660000000001E-3,0,0,0,0,0,0,0,0,0,0,0]
[9,"Statewide Totals",2012,"Annual","LHD2","GAS","LHD2_GAS","AllMYr","AllSpeeds",62419.25159,2.4664374329314725E-3,2681626.696,929953.80299999996,0.21769029200000001,0.55406334000000002,11.92589298,6.5823693000000003E-2,1.87131161,0.24652595899999999,3.2358404E-2,0.25156379699999998,0.58597241799999999,12.760172349999999,6.5823693000000003E-2,1.87131161,0.24652595899999999,3.2358404E-2,3.7560918810000001,3.379778902,132.16003029999999,0.65784551000000002,3.5984413E-2,28.78513641,770.96147110000004,116.36445380000001,893.35742210000001,767.10666370000001,115.7826316,888.89063499999997,3.0549489999999999E-3,0,4.3522331999999997E-2,7.9999589999999992E-3,3.6749814999999998E-2,2.7513749999999999E-3,0,3.7917271000000002E-2,1.9999900000000001E-3,1.5749920000000001E-2,7.7619300000000002E-3,1.232049E-3,1.1369895E-2,1.2824177869403262E-5,2.0122629790460678E-6,1.3721297024471655E-5,2.0122629790460678E-6,1.4211461889145045E-4,3.0953297160719283E-5,9.60647097972027E-4,4.6800531230259404E-8,4.0773284519811793E-8,1.2226300880023393E-8]
[10,"Statewide Totals",2012,"Annual","LHD2","DSL","LHD2_DSL","AllMYr","AllSpeeds",93333.205530000007,3.6879729569131593E-3,4068357.55,1174014.2879999999,0.197483985,0.109759103,0,0,0,0,0,0.22482237999999999,0.124953441,0,0,0,0,0,0.99478413600000004,0.90973992599999998,0,4.8809860389999997,2.596080127,0,524.78304330000003,141.7534058,0,522.15912809999998,141.04463870000001,0,4.613503E-2,2.9316015000000001E-2,0,1.1999938E-2,8.9179534000000005E-2,4.2444228000000001E-2,2.6970735999999999E-2,0,2.9999850000000002E-3,3.8219796E-2,5.0099039999999999E-3,1.3532660000000001E-3,0,0,0,0,0,0,0,0,0,0,0]
[11,"Statewide Totals",2012,"Annual","MCY","GAS","MCY_GAS","AllMYr","AllSpeeds",666767.42709999997,2.6346681502383049E-2,5723532.3159999996,2670948.196,3.0195181359999999,0,9.6488067569999991,1.8933424919999999,2.3097589690000002,1.107908399,1.080999673,3.2904452759999998,0,10.38960915,1.8933424919999999,2.3097589690000002,1.107908399,1.080999673,34.170346189999997,0,40.642244910000002,1.3048640490000001,0,1.262884712,143.86175929999999,0,197.120237,143.14245059999999,0,196.13463580000001,1.1975079999999999E-3,0,1.3143317E-2,7.9988190000000008E-3,3.6742697999999997E-2,9.4499999999999998E-4,0,1.0207837000000001E-2,1.9997050000000001E-3,1.5746869E-2,2.0700359999999999E-3,0,2.9139529999999999E-3,3.6125023957596814E-6,8.6477115971739355E-7,3.8898579783611796E-6,8.6477115971739355E-7,1.5216410775343995E-5,4.72822615538291E-7,7.3801594989826607E-5,4.920843099721429E-9,3.821802689878902E-9,1.0909807252585141E-9]
[12,"Statewide Totals",2012,"Annual","MDV","GAS","MDV_GAS","AllMYr","AllSpeeds",3817382.1860000002,0.15084023085058226,145000000,24000000,0.100178449,0,4.0225596829999999,0.55157927500000004,1.1550600070000001,0.106569277,0.42593657400000001,0.13817531799999999,0,4.2969096450000004,0.55157927500000004,1.1550600070000001,0.106569277,0.42593657400000001,3.1977566309999998,0,45.962419679999996,0.473297156,0,4.3623333420000003,600.66154059999997,0,790.04344609999998,585.42104200000006,0,774.81263620000004,2.670581E-3,0,2.4662386000000001E-2,7.9999579999999997E-3,3.6749813999999999E-2,2.4458190000000001E-3,0,2.2636705E-2,1.9999900000000001E-3,1.5749920000000001E-2,6.0498590000000003E-3,0,8.7348289999999995E-3,1.6760665345833332E-7,4.8127500291666669E-8,1.7903790187500002E-7,4.8127500291666669E-8,1.9151008199999997E-6,1.8176388925000001E-7,3.291847692083333E-5,1.0275994166666668E-9,9.4319604166666672E-10,3.6395120833333331E-10]
[13,"Statewide Totals",2012,"Annual","MDV","DSL","MDV_DSL","AllMYr","AllSpeeds",3731.7115570000001,1.4745503732637415E-4,140129.1704,21731.61609,5.3616380999999998E-2,0,0,0,0,0,0,6.1038681999999997E-2,0,0,0,0,0,0,0.271150367,0,0,0.54923853099999997,0,0,351.86903169999999,0,0,338.93566759999999,0,0,4.4366242E-2,0,0,7.9999589999999992E-3,3.6749814999999998E-2,4.0816943000000001E-2,0,0,1.9999900000000001E-3,1.5749920000000001E-2,3.3591599999999999E-3,0,0,0,0,0,0,0,0,0,0,0,0]
[null,null,null,null,null,null,null,null,null,{"$f":"SUM(J2:J14)","v":25307453.883316997}]

{"sheet":"ChangeLog","index":10,"n_rows":23,"n_cols":5,"rows_kept":23,"cut":false,"hidden":false,"merged":[]}
["Date","Version","ET Version","Tab","Note"]
["2014-04-14","3.4.0",3.4,"Travel App Inputs","Fixed percent 4 way intersections calculation"]
["2014-11-26","3.6.0","3.6","HH Travel Model","Updated model coefficients based on Ewing et al. (2014)"]
[]
[]
[]
[]
[]
[]
[]
[]
[]
[]
[]
[]
[]
[]
[]
[]
[]
[]
[]
["Latest:",{"$f":"INDEX(B2:B22, COUNTA(B2:B22), 1)","v":"3.6.0"}]